{"text_format":"1","workbook":"xlsx","n_sheets":5,"sheets":["Introduction","Conversion 1","Formula Sheet 1","Conversion 2 ","Formula Sheet2"],"not_rendered":{"charts":0,"images":1,"macros":0,"external_links":1,"defined_names":200,"comments":0,"pivot_tables":0},"unopened":[],"bounds":{"document_bytes":16777216,"sheet_cells":100000,"rows_first":2000,"rows_last":500,"rows_between":2000,"halvings":0,"cell_chars":16384,"cell_head_chars":4096},"cells_cut":0,"cells_raw":0,"read":"whole","date_system":"1900"}

{"sheet":"Introduction","index":0,"n_rows":0,"n_cols":0,"rows_kept":0,"cut":false,"hidden":false,"merged":[[5,5,5,11]]}

{"sheet":"Conversion 1","index":1,"n_rows":1005,"n_cols":5,"rows_kept":1005,"cut":false,"hidden":false,"merged":[]}
[]
[]
[null,"User input value","User input type","Output in mg/L CaCO3","Output in mg/L Ca"]
[null,0,"mg/L CaCO3",{"$f":"HLOOKUP(C4,'Formula Sheet 1'!$E$2:$P4,'Formula Sheet 1'!$D4,FALSE)","v":0},{"$f":"IF('Formula Sheet 1'!B4>10, (0.00005*(D4^2))+(0.3389*D4)-1.431, 0.1423*(D4^1.2528))","v":0}]
[null,0,{"$f":"C4","v":"mg/L CaCO3"},{"$f":"HLOOKUP(C5,'Formula Sheet 1'!$E$2:$P5,'Formula Sheet 1'!$D5,FALSE)","v":0},{"$f":"IF('Formula Sheet 1'!B5>10, (0.00005*(D5^2))+(0.3389*D5)-1.431, 0.1423*(D5^1.2528))","v":0}]
[null,0,"mg/L CaCO3",{"$f":"HLOOKUP(C6,'Formula Sheet 1'!$E$2:$P6,'Formula Sheet 1'!$D6,FALSE)","v":0},{"$f":"IF('Formula Sheet 1'!B6>10, (0.00005*(D6^2))+(0.3389*D6)-1.431, 0.1423*(D6^1.2528))","v":0}]
[null,0,"mg/L CaCO3",{"$f":"HLOOKUP(C7,'Formula Sheet 1'!$E$2:$P7,'Formula Sheet 1'!$D7,FALSE)","v":0},{"$f":"IF('Formula Sheet 1'!B7>10, (0.00005*(D7^2))+(0.3389*D7)-1.431, 0.1423*(D7^1.2528))","v":0}]
[null,0,"mg/L CaCO3",{"$f":"HLOOKUP(C8,'Formula Sheet 1'!$E$2:$P8,'Formula Sheet 1'!$D8,FALSE)","v":0},{"$f":"IF('Formula Sheet 1'!B8>10, (0.00005*(D8^2))+(0.3389*D8)-1.431, 0.1423*(D8^1.2528))","v":0}]
[null,0,"mg/L CaCO3",{"$f":"HLOOKUP(C9,'Formula Sheet 1'!$E$2:$P9,'Formula Sheet 1'!$D9,FALSE)","v":0},{"$f":"IF('Formula Sheet 1'!B9>10, (0.00005*(D9^2))+(0.3389*D9)-1.431, 0.1423*(D9^1.2528))","v":0}]
[null,0,"mg/L CaCO3",{"$f":"HLOOKUP(C10,'Formula Sheet 1'!$E$2:$P10,'Formula Sheet 1'!$D10,FALSE)","v":0},{"$f":"IF('Formula Sheet 1'!B10>10, (0.00005*(D10^2))+(0.3389*D10)-1.431, 0.1423*(D10^1.2528))","v":0}]
[null,0,"mg/L CaCO3",{"$f":"HLOOKUP(C11,'Formula Sheet 1'!$E$2:$P11,'Formula Sheet 1'!$D11,FALSE)","v":0},{"$f":"IF('Formula Sheet 1'!B11>10, (0.00005*(D11^2))+(0.3389*D11)-1.431, 0.1423*(D11^1.2528))","v":0}]
[null,0,"mg/L CaCO3",{"$f":"HLOOKUP(C12,'Formula Sheet 1'!$E$2:$P12,'Formula Sheet 1'!$D12,FALSE)","v":0},{"$f":"IF('Formula Sheet 1'!B12>10, (0.00005*(D12^2))+(0.3389*D12)-1.431, 0.1423*(D12^1.2528))","v":0}]
[null,0,"mg/L CaCO3",{"$f":"HLOOKUP(C13,'Formula Sheet 1'!$E$2:$P13,'Formula Sheet 1'!$D13,FALSE)","v":0},{"$f":"IF('Formula Sheet 1'!B13>10, (0.00005*(D13^2))+(0.3389*D13)-1.431, 0.1423*(D13^1.2528))","v":0}]
[null,0,"mg/L CaCO3",{"$f":"HLOOKUP(C14,'Formula Sheet 1'!$E$2:$P14,'Formula Sheet 1'!$D14,FALSE)","v":0},{"$f":"IF('Formula Sheet 1'!B14>10, (0.00005*(D14^2))+(0.3389*D14)-1.431, 0.1423*(D14^1.2528))","v":0}]
[null,0,"mg/L CaCO3",{"$f":"HLOOKUP(C15,'Formula Sheet 1'!$E$2:$P15,'Formula Sheet 1'!$D15,FALSE)","v":0},{"$f":"IF('Formula Sheet 1'!B15>10, (0.00005*(D15^2))+(0.3389*D15)-1.431, 0.1423*(D15^1.2528))","v":0}]
[null,0,"mg/L CaCO3",{"$f":"HLOOKUP(C16,'Formula Sheet 1'!$E$2:$P16,'Formula Sheet 1'!$D16,FALSE)","v":0},{"$f":"IF('Formula Sheet 1'!B16>10, (0.00005*(D16^2))+(0.3389*D16)-1.431, 0.1423*(D16^1.2528))","v":0}]
[null,0,"mg/L CaCO3",{"$f":"HLOOKUP(C17,'Formula Sheet 1'!$E$2:$P17,'Formula Sheet 1'!$D17,FALSE)","v":0},{"$f":"IF('Formula Sheet 1'!B17>10, (0.00005*(D17^2))+(0.3389*D17)-1.431, 0.1423*(D17^1.2528))","v":0}]
[null,0,"mg/L CaCO3",{"$f":"HLOOKUP(C18,'Formula Sheet 1'!$E$2:$P18,'Formula Sheet 1'!$D18,FALSE)","v":0},{"$f":"IF('Formula Sheet 1'!B18>10, (0.00005*(D18^2))+(0.3389*D18)-1.431, 0.1423*(D18^1.2528))","v":0}]
[null,0,"mg/L CaCO3",{"$f":"HLOOKUP(C19,'Formula Sheet 1'!$E$2:$P19,'Formula Sheet 1'!$D19,FALSE)","v":0},{"$f":"IF('Formula Sheet 1'!B19>10, (0.00005*(D19^2))+(0.3389*D19)-1.431, 0.1423*(D19^1.2528))","v":0}]
[null,0,"mg/L CaCO3",{"$f":"HLOOKUP(C20,'Formula Sheet 1'!$E$2:$P20,'Formula Sheet 1'!$D20,FALSE)","v":0},{"$f":"IF('Formula Sheet 1'!B20>10, (0.00005*(D20^2))+(0.3389*D20)-1.431, 0.1423*(D20^1.2528))","v":0}]
[null,0,"mg/L CaCO3",{"$f":"HLOOKUP(C21,'Formula Sheet 1'!$E$2:$P21,'Formula Sheet 1'!$D21,FALSE)","v":0},{"$f":"IF('Formula Sheet 1'!B21>10, (0.00005*(D21^2))+(0.3389*D21)-1.431, 0.1423*(D21^1.2528))","v":0}]
[null,0,"mg/L CaCO3",{"$f":"HLOOKUP(C22,'Formula Sheet 1'!$E$2:$P22,'Formula Sheet 1'!$D22,FALSE)","v":0},{"$f":"IF('Formula Sheet 1'!B22>10, (0.00005*(D22^2))+(0.3389*D22)-1.431, 0.1423*(D22^1.2528))","v":0}]
[null,0,"mg/L CaCO3",{"$f":"HLOOKUP(C23,'Formula Sheet 1'!$E$2:$P23,'Formula Sheet 1'!$D23,FALSE)","v":0},{"$f":"IF('Formula Sheet 1'!B23>10, (0.00005*(D23^2))+(0.3389*D23)-1.431, 0.1423*(D23^1.2528))","v":0}]
[null,0,"mg/L CaCO3",{"$f":"HLOOKUP(C24,'Formula Sheet 1'!$E$2:$P24,'Formula Sheet 1'!$D24,FALSE)","v":0},{"$f":"IF('Formula Sheet 1'!B24>10, (0.00005*(D24^2))+(0.3389*D24)-1.431, 0.1423*(D24^1.2528))","v":0}]
[null,0,"mg/L CaCO3",{"$f":"HLOOKUP(C25,'Formula Sheet 1'!$E$2:$P25,'Formula Sheet 1'!$D25,FALSE)","v":0},{"$f":"IF('Formula Sheet 1'!B25>10, (0.00005*(D25^2))+(0.3389*D25)-1.431, 0.1423*(D25^1.2528))","v":0}]
[null,0,"mg/L CaCO3",{"$f":"HLOOKUP(C26,'Formula Sheet 1'!$E$2:$P26,'Formula Sheet 1'!$D26,FALSE)","v":0},{"$f":"IF('Formula Sheet 1'!B26>10, (0.00005*(D26^2))+(0.3389*D26)-1.431, 0.1423*(D26^1.2528))","v":0}]
[null,0,"mg/L CaCO3",{"$f":"HLOOKUP(C27,'Formula Sheet 1'!$E$2:$P27,'Formula Sheet 1'!$D27,FALSE)","v":0},{"$f":"IF('Formula Sheet 1'!B27>10, (0.00005*(D27^2))+(0.3389*D27)-1.431, 0.1423*(D27^1.2528))","v":0}]
[null,0,"mg/L CaCO3",{"$f":"HLOOKUP(C28,'Formula Sheet 1'!$E$2:$P28,'Formula Sheet 1'!$D28,FALSE)","v":0},{"$f":"IF('Formula Sheet 1'!B28>10, (0.00005*(D28^2))+(0.3389*D28)-1.431, 0.1423*(D28^1.2528))","v":0}]
[null,0,"mg/L CaCO3",{"$f":"HLOOKUP(C29,'Formula Sheet 1'!$E$2:$P29,'Formula Sheet 1'!$D29,FALSE)","v":0},{"$f":"IF('Formula Sheet 1'!B29>10, (0.00005*(D29^2))+(0.3389*D29)-1.431, 0.1423*(D29^1.2528))","v":0}]
[null,0,"mg/L CaCO3",{"$f":"HLOOKUP(C30,'Formula Sheet 1'!$E$2:$P30,'Formula Sheet 1'!$D30,FALSE)","v":0},{"$f":"IF('Formula Sheet 1'!B30>10, (0.00005*(D30^2))+(0.3389*D30)-1.431, 0.1423*(D30^1.2528))","v":0}]
[null,0,"mg/L CaCO3",{"$f":"HLOOKUP(C31,'Formula Sheet 1'!$E$2:$P31,'Formula Sheet 1'!$D31,FALSE)","v":0},{"$f":"IF('Formula Sheet 1'!B31>10, (0.00005*(D31^2))+(0.3389*D31)-1.431, 0.1423*(D31^1.2528))","v":0}]
[null,0,"mg/L CaCO3",{"$f":"HLOOKUP(C32,'Formula Sheet 1'!$E$2:$P32,'Formula Sheet 1'!$D32,FALSE)","v":0},{"$f":"IF('Formula Sheet 1'!B32>10, (0.00005*(D32^2))+(0.3389*D32)-1.431, 0.1423*(D32^1.2528))","v":0}]
[null,0,"mg/L CaCO3",{"$f":"HLOOKUP(C33,'Formula Sheet 1'!$E$2:$P33,'Formula Sheet 1'!$D33,FALSE)","v":0},{"$f":"IF('Formula Sheet 1'!B33>10, (0.00005*(D33^2))+(0.3389*D33)-1.431, 0.1423*(D33^1.2528))","v":0}]
[null,0,"mg/L CaCO3",{"$f":"HLOOKUP(C34,'Formula Sheet 1'!$E$2:$P34,'Formula Sheet 1'!$D34,FALSE)","v":0},{"$f":"IF('Formula Sheet 1'!B34>10, (0.00005*(D34^2))+(0.3389*D34)-1.431, 0.1423*(D34^1.2528))","v":0}]
[null,0,"mg/L CaCO3",{"$f":"HLOOKUP(C35,'Formula Sheet 1'!$E$2:$P35,'Formula Sheet 1'!$D35,FALSE)","v":0},{"$f":"IF('Formula Sheet 1'!B35>10, (0.00005*(D35^2))+(0.3389*D35)-1.431, 0.1423*(D35^1.2528))","v":0}]
[null,0,"mg/L CaCO3",{"$f":"HLOOKUP(C36,'Formula Sheet 1'!$E$2:$P36,'Formula Sheet 1'!$D36,FALSE)","v":0},{"$f":"IF('Formula Sheet 1'!B36>10, (0.00005*(D36^2))+(0.3389*D36)-1.431, 0.1423*(D36^1.2528))","v":0}]
[null,0,"mg/L CaCO3",{"$f":"HLOOKUP(C37,'Formula Sheet 1'!$E$2:$P37,'Formula Sheet 1'!$D37,FALSE)","v":0},{"$f":"IF('Formula Sheet 1'!B37>10, (0.00005*(D37^2))+(0.3389*D37)-1.431, 0.1423*(D37^1.2528))","v":0}]
[null,0,"mg/L CaCO3",{"$f":"HLOOKUP(C38,'Formula Sheet 1'!$E$2:$P38,'Formula Sheet 1'!$D38,FALSE)","v":0},{"$f":"IF('Formula Sheet 1'!B38>10, (0.00005*(D38^2))+(0.3389*D38)-1.431, 0.1423*(D38^1.2528))","v":0}]
[null,0,"mg/L CaCO3",{"$f":"HLOOKUP(C39,'Formula Sheet 1'!$E$2:$P39,'Formula Sheet 1'!$D39,FALSE)","v":0},{"$f":"IF('Formula Sheet 1'!B39>10, (0.00005*(D39^2))+(0.3389*D39)-1.431, 0.1423*(D39^1.2528))","v":0}]
[null,0,"mg/L CaCO3",{"$f":"HLOOKUP(C40,'Formula Sheet 1'!$E$2:$P40,'Formula Sheet 1'!$D40,FALSE)","v":0},{"$f":"IF('Formula Sheet 1'!B40>10, (0.00005*(D40^2))+(0.3389*D40)-1.431, 0.1423*(D40^1.2528))","v":0}]
[null,0,"mg/L CaCO3",{"$f":"HLOOKUP(C41,'Formula Sheet 1'!$E$2:$P41,'Formula Sheet 1'!$D41,FALSE)","v":0},{"$f":"IF('Formula Sheet 1'!B41>10, (0.00005*(D41^2))+(0.3389*D41)-1.431, 0.1423*(D41^1.2528))","v":0}]
[null,0,"mg/L CaCO3",{"$f":"HLOOKUP(C42,'Formula Sheet 1'!$E$2:$P42,'Formula Sheet 1'!$D42,FALSE)","v":0},{"$f":"IF('Formula Sheet 1'!B42>10, (0.00005*(D42^2))+(0.3389*D42)-1.431, 0.1423*(D42^1.2528))","v":0}]
[null,0,"mg/L CaCO3",{"$f":"HLOOKUP(C43,'Formula Sheet 1'!$E$2:$P43,'Formula Sheet 1'!$D43,FALSE)","v":0},{"$f":"IF('Formula Sheet 1'!B43>10, (0.00005*(D43^2))+(0.3389*D43)-1.431, 0.1423*(D43^1.2528))","v":0}]
[null,0,"mg/L CaCO3",{"$f":"HLOOKUP(C44,'Formula Sheet 1'!$E$2:$P44,'Formula Sheet 1'!$D44,FALSE)","v":0},{"$f":"IF('Formula Sheet 1'!B44>10, (0.00005*(D44^2))+(0.3389*D44)-1.431, 0.1423*(D44^1.2528))","v":0}]
[null,0,"mg/L CaCO3",{"$f":"HLOOKUP(C45,'Formula Sheet 1'!$E$2:$P45,'Formula Sheet 1'!$D45,FALSE)","v":0},{"$f":"IF('Formula Sheet 1'!B45>10, (0.00005*(D45^2))+(0.3389*D45)-1.431, 0.1423*(D45^1.2528))","v":0}]
[null,0,"mg/L CaCO3",{"$f":"HLOOKUP(C46,'Formula Sheet 1'!$E$2:$P46,'Formula Sheet 1'!$D46,FALSE)","v":0},{"$f":"IF('Formula Sheet 1'!B46>10, (0.00005*(D46^2))+(0.3389*D46)-1.431, 0.1423*(D46^1.2528))","v":0}]
[null,0,"mg/L CaCO3",{"$f":"HLOOKUP(C47,'Formula Sheet 1'!$E$2:$P47,'Formula Sheet 1'!$D47,FALSE)","v":0},{"$f":"IF('Formula Sheet 1'!B47>10, (0.00005*(D47^2))+(0.3389*D47)-1.431, 0.1423*(D47^1.2528))","v":0}]
[null,0,"mg/L CaCO3",{"$f":"HLOOKUP(C48,'Formula Sheet 1'!$E$2:$P48,'Formula Sheet 1'!$D48,FALSE)","v":0},{"$f":"IF('Formula Sheet 1'!B48>10, (0.00005*(D48^2))+(0.3389*D48)-1.431, 0.1423*(D48^1.2528))","v":0}]
[null,0,"mg/L CaCO3",{"$f":"HLOOKUP(C49,'Formula Sheet 1'!$E$2:$P49,'Formula Sheet 1'!$D49,FALSE)","v":0},{"$f":"IF('Formula Sheet 1'!B49>10, (0.00005*(D49^2))+(0.3389*D49)-1.431, 0.1423*(D49^1.2528))","v":0}]
[null,0,"mg/L CaCO3",{"$f":"HLOOKUP(C50,'Formula Sheet 1'!$E$2:$P50,'Formula Sheet 1'!$D50,FALSE)","v":0},{"$f":"IF('Formula Sheet 1'!B50>10, (0.00005*(D50^2))+(0.3389*D50)-1.431, 0.1423*(D50^1.2528))","v":0}]
[null,0,"mg/L CaCO3",{"$f":"HLOOKUP(C51,'Formula Sheet 1'!$E$2:$P51,'Formula Sheet 1'!$D51,FALSE)","v":0},{"$f":"IF('Formula Sheet 1'!B51>10, (0.00005*(D51^2))+(0.3389*D51)-1.431, 0.1423*(D51^1.2528))","v":0}]
[null,0,"mg/L CaCO3",{"$f":"HLOOKUP(C52,'Formula Sheet 1'!$E$2:$P52,'Formula Sheet 1'!$D52,FALSE)","v":0},{"$f":"IF('Formula Sheet 1'!B52>10, (0.00005*(D52^2))+(0.3389*D52)-1.431, 0.1423*(D52^1.2528))","v":0}]
[null,0,"mg/L CaCO3",{"$f":"HLOOKUP(C53,'Formula Sheet 1'!$E$2:$P53,'Formula Sheet 1'!$D53,FALSE)","v":0},{"$f":"IF('Formula Sheet 1'!B53>10, (0.00005*(D53^2))+(0.3389*D53)-1.431, 0.1423*(D53^1.2528))","v":0}]
[null,0,"mg/L CaCO3",{"$f":"HLOOKUP(C54,'Formula Sheet 1'!$E$2:$P54,'Formula Sheet 1'!$D54,FALSE)","v":0},{"$f":"IF('Formula Sheet 1'!B54>10, (0.00005*(D54^2))+(0.3389*D54)-1.431, 0.1423*(D54^1.2528))","v":0}]
[null,0,"mg/L CaCO3",{"$f":"HLOOKUP(C55,'Formula Sheet 1'!$E$2:$P55,'Formula Sheet 1'!$D55,FALSE)","v":0},{"$f":"IF('Formula Sheet 1'!B55>10, (0.00005*(D55^2))+(0.3389*D55)-1.431, 0.1423*(D55^1.2528))","v":0}]
[null,0,"mg/L CaCO3",{"$f":"HLOOKUP(C56,'Formula Sheet 1'!$E$2:$P56,'Formula Sheet 1'!$D56,FALSE)","v":0},{"$f":"IF('Formula Sheet 1'!B56>10, (0.00005*(D56^2))+(0.3389*D56)-1.431, 0.1423*(D56^1.2528))","v":0}]
[null,0,"mg/L CaCO3",{"$f":"HLOOKUP(C57,'Formula Sheet 1'!$E$2:$P57,'Formula Sheet 1'!$D57,FALSE)","v":0},{"$f":"IF('Formula Sheet 1'!B57>10, (0.00005*(D57^2))+(0.3389*D57)-1.431, 0.1423*(D57^1.2528))","v":0}]
[null,0,"mg/L CaCO3",{"$f":"HLOOKUP(C58,'Formula Sheet 1'!$E$2:$P58,'Formula Sheet 1'!$D58,FALSE)","v":0},{"$f":"IF('Formula Sheet 1'!B58>10, (0.00005*(D58^2))+(0.3389*D58)-1.431, 0.1423*(D58^1.2528))","v":0}]
[null,0,"mg/L CaCO3",{"$f":"HLOOKUP(C59,'Formula Sheet 1'!$E$2:$P59,'Formula Sheet 1'!$D59,FALSE)","v":0},{"$f":"IF('Formula Sheet 1'!B59>10, (0.00005*(D59^2))+(0.3389*D59)-1.431, 0.1423*(D59^1.2528))","v":0}]
[null,0,"mg/L CaCO3",{"$f":"HLOOKUP(C60,'Formula Sheet 1'!$E$2:$P60,'Formula Sheet 1'!$D60,FALSE)","v":0},{"$f":"IF('Formula Sheet 1'!B60>10, (0.00005*(D60^2))+(0.3389*D60)-1.431, 0.1423*(D60^1.2528))","v":0}]
[null,0,"mg/L CaCO3",{"$f":"HLOOKUP(C61,'Formula Sheet 1'!$E$2:$P61,'Formula Sheet 1'!$D61,FALSE)","v":0},{"$f":"IF('Formula Sheet 1'!B61>10, (0.00005*(D61^2))+(0.3389*D61)-1.431, 0.1423*(D61^1.2528))","v":0}]
[null,0,"mg/L CaCO3",{"$f":"HLOOKUP(C62,'Formula Sheet 1'!$E$2:$P62,'Formula Sheet 1'!$D62,FALSE)","v":0},{"$f":"IF('Formula Sheet 1'!B62>10, (0.00005*(D62^2))+(0.3389*D62)-1.431, 0.1423*(D62^1.2528))","v":0}]
[null,0,"mg/L CaCO3",{"$f":"HLOOKUP(C63,'Formula Sheet 1'!$E$2:$P63,'Formula Sheet 1'!$D63,FALSE)","v":0},{"$f":"IF('Formula Sheet 1'!B63>10, (0.00005*(D63^2))+(0.3389*D63)-1.431, 0.1423*(D63^1.2528))","v":0}]
[null,0,"mg/L CaCO3",{"$f":"HLOOKUP(C64,'Formula Sheet 1'!$E$2:$P64,'Formula Sheet 1'!$D64,FALSE)","v":0},{"$f":"IF('Formula Sheet 1'!B64>10, (0.00005*(D64^2))+(0.3389*D64)-1.431, 0.1423*(D64^1.2528))","v":0}]
[null,0,"mg/L CaCO3",{"$f":"HLOOKUP(C65,'Formula Sheet 1'!$E$2:$P65,'Formula Sheet 1'!$D65,FALSE)","v":0},{"$f":"IF('Formula Sheet 1'!B65>10, (0.00005*(D65^2))+(0.3389*D65)-1.431, 0.1423*(D65^1.2528))","v":0}]
[null,0,"mg/L CaCO3",{"$f":"HLOOKUP(C66,'Formula Sheet 1'!$E$2:$P66,'Formula Sheet 1'!$D66,FALSE)","v":0},{"$f":"IF('Formula Sheet 1'!B66>10, (0.00005*(D66^2))+(0.3389*D66)-1.431, 0.1423*(D66^1.2528))","v":0}]
[null,0,"mg/L CaCO3",{"$f":"HLOOKUP(C67,'Formula Sheet 1'!$E$2:$P67,'Formula Sheet 1'!$D67,FALSE)","v":0},{"$f":"IF('Formula Sheet 1'!B67>10, (0.00005*(D67^2))+(0.3389*D67)-1.431, 0.1423*(D67^1.2528))","v":0}]
[null,0,"mg/L CaCO3",{"$f":"HLOOKUP(C68,'Formula Sheet 1'!$E$2:$P68,'Formula Sheet 1'!$D68,FALSE)","v":0},{"$f":"IF('Formula Sheet 1'!B68>10, (0.00005*(D68^2))+(0.3389*D68)-1.431, 0.1423*(D68^1.2528))","v":0}]
[null,0,{"$f":"C68","v":"mg/L CaCO3"},{"$f":"HLOOKUP(C69,'Formula Sheet 1'!$E$2:$P69,'Formula Sheet 1'!$D69,FALSE)","v":0},{"$f":"IF('Formula Sheet 1'!B69>10, (0.00005*(D69^2))+(0.3389*D69)-1.431, 0.1423*(D69^1.2528))","v":0}]
[null,0,"mg/L CaCO3",{"$f":"HLOOKUP(C70,'Formula Sheet 1'!$E$2:$P70,'Formula Sheet 1'!$D70,FALSE)","v":0},{"$f":"IF('Formula Sheet 1'!B70>10, (0.00005*(D70^2))+(0.3389*D70)-1.431, 0.1423*(D70^1.2528))","v":0}]
[null,0,"mg/L CaCO3",{"$f":"HLOOKUP(C71,'Formula Sheet 1'!$E$2:$P71,'Formula Sheet 1'!$D71,FALSE)","v":0},{"$f":"IF('Formula Sheet 1'!B71>10, (0.00005*(D71^2))+(0.3389*D71)-1.431, 0.1423*(D71^1.2528))","v":0}]
[null,0,"mg/L CaCO3",{"$f":"HLOOKUP(C72,'Formula Sheet 1'!$E$2:$P72,'Formula Sheet 1'!$D72,FALSE)","v":0},{"$f":"IF('Formula Sheet 1'!B72>10, (0.00005*(D72^2))+(0.3389*D72)-1.431, 0.1423*(D72^1.2528))","v":0}]
[null,0,"mg/L CaCO3",{"$f":"HLOOKUP(C73,'Formula Sheet 1'!$E$2:$P73,'Formula Sheet 1'!$D73,FALSE)","v":0},{"$f":"IF('Formula Sheet 1'!B73>10, (0.00005*(D73^2))+(0.3389*D73)-1.431, 0.1423*(D73^1.2528))","v":0}]
[null,0,"mg/L CaCO3",{"$f":"HLOOKUP(C74,'Formula Sheet 1'!$E$2:$P74,'Formula Sheet 1'!$D74,FALSE)","v":0},{"$f":"IF('Formula Sheet 1'!B74>10, (0.00005*(D74^2))+(0.3389*D74)-1.431, 0.1423*(D74^1.2528))","v":0}]
[null,0,"mg/L CaCO3",{"$f":"HLOOKUP(C75,'Formula Sheet 1'!$E$2:$P75,'Formula Sheet 1'!$D75,FALSE)","v":0},{"$f":"IF('Formula Sheet 1'!B75>10, (0.00005*(D75^2))+(0.3389*D75)-1.431, 0.1423*(D75^1.2528))","v":0}]
[null,0,"mg/L CaCO3",{"$f":"HLOOKUP(C76,'Formula Sheet 1'!$E$2:$P76,'Formula Sheet 1'!$D76,FALSE)","v":0},{"$f":"IF('Formula Sheet 1'!B76>10, (0.00005*(D76^2))+(0.3389*D76)-1.431, 0.1423*(D76^1.2528))","v":0}]
[null,0,"mg/L CaCO3",{"$f":"HLOOKUP(C77,'Formula Sheet 1'!$E$2:$P77,'Formula Sheet 1'!$D77,FALSE)","v":0},{"$f":"IF('Formula Sheet 1'!B77>10, (0.00005*(D77^2))+(0.3389*D77)-1.431, 0.1423*(D77^1.2528))","v":0}]
[null,0,"mg/L CaCO3",{"$f":"HLOOKUP(C78,'Formula Sheet 1'!$E$2:$P78,'Formula Sheet 1'!$D78,FALSE)","v":0},{"$f":"IF('Formula Sheet 1'!B78>10, (0.00005*(D78^2))+(0.3389*D78)-1.431, 0.1423*(D78^1.2528))","v":0}]
[null,0,"mg/L CaCO3",{"$f":"HLOOKUP(C79,'Formula Sheet 1'!$E$2:$P79,'Formula Sheet 1'!$D79,FALSE)","v":0},{"$f":"IF('Formula Sheet 1'!B79>10, (0.00005*(D79^2))+(0.3389*D79)-1.431, 0.1423*(D79^1.2528))","v":0}]
[null,0,"mg/L CaCO3",{"$f":"HLOOKUP(C80,'Formula Sheet 1'!$E$2:$P80,'Formula Sheet 1'!$D80,FALSE)","v":0},{"$f":"IF('Formula Sheet 1'!B80>10, (0.00005*(D80^2))+(0.3389*D80)-1.431, 0.1423*(D80^1.2528))","v":0}]
[null,0,"mg/L CaCO3",{"$f":"HLOOKUP(C81,'Formula Sheet 1'!$E$2:$P81,'Formula Sheet 1'!$D81,FALSE)","v":0},{"$f":"IF('Formula Sheet 1'!B81>10, (0.00005*(D81^2))+(0.3389*D81)-1.431, 0.1423*(D81^1.2528))","v":0}]
[null,0,"mg/L CaCO3",{"$f":"HLOOKUP(C82,'Formula Sheet 1'!$E$2:$P82,'Formula Sheet 1'!$D82,FALSE)","v":0},{"$f":"IF('Formula Sheet 1'!B82>10, (0.00005*(D82^2))+(0.3389*D82)-1.431, 0.1423*(D82^1.2528))","v":0}]
[null,0,"mg/L CaCO3",{"$f":"HLOOKUP(C83,'Formula Sheet 1'!$E$2:$P83,'Formula Sheet 1'!$D83,FALSE)","v":0},{"$f":"IF('Formula Sheet 1'!B83>10, (0.00005*(D83^2))+(0.3389*D83)-1.431, 0.1423*(D83^1.2528))","v":0}]
[null,0,"mg/L CaCO3",{"$f":"HLOOKUP(C84,'Formula Sheet 1'!$E$2:$P84,'Formula Sheet 1'!$D84,FALSE)","v":0},{"$f":"IF('Formula Sheet 1'!B84>10, (0.00005*(D84^2))+(0.3389*D84)-1.431, 0.1423*(D84^1.2528))","v":0}]
[null,0,"mg/L CaCO3",{"$f":"HLOOKUP(C85,'Formula Sheet 1'!$E$2:$P85,'Formula Sheet 1'!$D85,FALSE)","v":0},{"$f":"IF('Formula Sheet 1'!B85>10, (0.00005*(D85^2))+(0.3389*D85)-1.431, 0.1423*(D85^1.2528))","v":0}]
[null,0,"mg/L CaCO3",{"$f":"HLOOKUP(C86,'Formula Sheet 1'!$E$2:$P86,'Formula Sheet 1'!$D86,FALSE)","v":0},{"$f":"IF('Formula Sheet 1'!B86>10, (0.00005*(D86^2))+(0.3389*D86)-1.431, 0.1423*(D86^1.2528))","v":0}]
[null,0,"mg/L CaCO3",{"$f":"HLOOKUP(C87,'Formula Sheet 1'!$E$2:$P87,'Formula Sheet 1'!$D87,FALSE)","v":0},{"$f":"IF('Formula Sheet 1'!B87>10, (0.00005*(D87^2))+(0.3389*D87)-1.431, 0.1423*(D87^1.2528))","v":0}]
[null,0,"mg/L CaCO3",{"$f":"HLOOKUP(C88,'Formula Sheet 1'!$E$2:$P88,'Formula Sheet 1'!$D88,FALSE)","v":0},{"$f":"IF('Formula Sheet 1'!B88>10, (0.00005*(D88^2))+(0.3389*D88)-1.431, 0.1423*(D88^1.2528))","v":0}]
[null,0,"mg/L CaCO3",{"$f":"HLOOKUP(C89,'Formula Sheet 1'!$E$2:$P89,'Formula Sheet 1'!$D89,FALSE)","v":0},{"$f":"IF('Formula Sheet 1'!B89>10, (0.00005*(D89^2))+(0.3389*D89)-1.431, 0.1423*(D89^1.2528))","v":0}]
[null,0,"mg/L CaCO3",{"$f":"HLOOKUP(C90,'Formula Sheet 1'!$E$2:$P90,'Formula Sheet 1'!$D90,FALSE)","v":0},{"$f":"IF('Formula Sheet 1'!B90>10, (0.00005*(D90^2))+(0.3389*D90)-1.431, 0.1423*(D90^1.2528))","v":0}]
[null,0,"mg/L CaCO3",{"$f":"HLOOKUP(C91,'Formula Sheet 1'!$E$2:$P91,'Formula Sheet 1'!$D91,FALSE)","v":0},{"$f":"IF('Formula Sheet 1'!B91>10, (0.00005*(D91^2))+(0.3389*D91)-1.431, 0.1423*(D91^1.2528))","v":0}]
[null,0,"mg/L CaCO3",{"$f":"HLOOKUP(C92,'Formula Sheet 1'!$E$2:$P92,'Formula Sheet 1'!$D92,FALSE)","v":0},{"$f":"IF('Formula Sheet 1'!B92>10, (0.00005*(D92^2))+(0.3389*D92)-1.431, 0.1423*(D92^1.2528))","v":0}]
[null,0,"mg/L CaCO3",{"$f":"HLOOKUP(C93,'Formula Sheet 1'!$E$2:$P93,'Formula Sheet 1'!$D93,FALSE)","v":0},{"$f":"IF('Formula Sheet 1'!B93>10, (0.00005*(D93^2))+(0.3389*D93)-1.431, 0.1423*(D93^1.2528))","v":0}]
[null,0,"mg/L CaCO3",{"$f":"HLOOKUP(C94,'Formula Sheet 1'!$E$2:$P94,'Formula Sheet 1'!$D94,FALSE)","v":0},{"$f":"IF('Formula Sheet 1'!B94>10, (0.00005*(D94^2))+(0.3389*D94)-1.431, 0.1423*(D94^1.2528))","v":0}]
[null,0,"mg/L CaCO3",{"$f":"HLOOKUP(C95,'Formula Sheet 1'!$E$2:$P95,'Formula Sheet 1'!$D95,FALSE)","v":0},{"$f":"IF('Formula Sheet 1'!B95>10, (0.00005*(D95^2))+(0.3389*D95)-1.431, 0.1423*(D95^1.2528))","v":0}]
[null,0,"mg/L CaCO3",{"$f":"HLOOKUP(C96,'Formula Sheet 1'!$E$2:$P96,'Formula Sheet 1'!$D96,FALSE)","v":0},{"$f":"IF('Formula Sheet 1'!B96>10, (0.00005*(D96^2))+(0.3389*D96)-1.431, 0.1423*(D96^1.2528))","v":0}]
[null,0,"mg/L CaCO3",{"$f":"HLOOKUP(C97,'Formula Sheet 1'!$E$2:$P97,'Formula Sheet 1'!$D97,FALSE)","v":0},{"$f":"IF('Formula Sheet 1'!B97>10, (0.00005*(D97^2))+(0.3389*D97)-1.431, 0.1423*(D97^1.2528))","v":0}]
[null,0,"mg/L CaCO3",{"$f":"HLOOKUP(C98,'Formula Sheet 1'!$E$2:$P98,'Formula Sheet 1'!$D98,FALSE)","v":0},{"$f":"IF('Formula Sheet 1'!B98>10, (0.00005*(D98^2))+(0.3389*D98)-1.431, 0.1423*(D98^1.2528))","v":0}]
[null,0,"mg/L CaCO3",{"$f":"HLOOKUP(C99,'Formula Sheet 1'!$E$2:$P99,'Formula Sheet 1'!$D99,FALSE)","v":0},{"$f":"IF('Formula Sheet 1'!B99>10, (0.00005*(D99^2))+(0.3389*D99)-1.431, 0.1423*(D99^1.2528))","v":0}]
[null,0,"mg/L CaCO3",{"$f":"HLOOKUP(C100,'Formula Sheet 1'!$E$2:$P100,'Formula Sheet 1'!$D100,FALSE)","v":0},{"$f":"IF('Formula Sheet 1'!B100>10, (0.00005*(D100^2))+(0.3389*D100)-1.431, 0.1423*(D100^1.2528))","v":0}]
[null,0,"mg/L CaCO3",{"$f":"HLOOKUP(C101,'Formula Sheet 1'!$E$2:$P101,'Formula Sheet 1'!$D101,FALSE)","v":0},{"$f":"IF('Formula Sheet 1'!B101>10, (0.00005*(D101^2))+(0.3389*D101)-1.431, 0.1423*(D101^1.2528))","v":0}]
[null,0,"mg/L CaCO3",{"$f":"HLOOKUP(C102,'Formula Sheet 1'!$E$2:$P102,'Formula Sheet 1'!$D102,FALSE)","v":0},{"$f":"IF('Formula Sheet 1'!B102>10, (0.00005*(D102^2))+(0.3389*D102)-1.431, 0.1423*(D102^1.2528))","v":0}]
[null,0,"mg/L CaCO3",{"$f":"HLOOKUP(C103,'Formula Sheet 1'!$E$2:$P103,'Formula Sheet 1'!$D103,FALSE)","v":0},{"$f":"IF('Formula Sheet 1'!B103>10, (0.00005*(D103^2))+(0.3389*D103)-1.431, 0.1423*(D103^1.2528))","v":0}]
[null,0,"mg/L CaCO3",{"$f":"HLOOKUP(C104,'Formula Sheet 1'!$E$2:$P104,'Formula Sheet 1'!$D104,FALSE)","v":0},{"$f":"IF('Formula Sheet 1'!B104>10, (0.00005*(D104^2))+(0.3389*D104)-1.431, 0.1423*(D104^1.2528))","v":0}]
[null,0,"mg/L CaCO3",{"$f":"HLOOKUP(C105,'Formula Sheet 1'!$E$2:$P105,'Formula Sheet 1'!$D105,FALSE)","v":0},{"$f":"IF('Formula Sheet 1'!B105>10, (0.00005*(D105^2))+(0.3389*D105)-1.431, 0.1423*(D105^1.2528))","v":0}]
[null,0,"mg/L CaCO3",{"$f":"HLOOKUP(C106,'Formula Sheet 1'!$E$2:$P106,'Formula Sheet 1'!$D106,FALSE)","v":0},{"$f":"IF('Formula Sheet 1'!B106>10, (0.00005*(D106^2))+(0.3389*D106)-1.431, 0.1423*(D106^1.2528))","v":0}]
[null,0,"mg/L CaCO3",{"$f":"HLOOKUP(C107,'Formula Sheet 1'!$E$2:$P107,'Formula Sheet 1'!$D107,FALSE)","v":0},{"$f":"IF('Formula Sheet 1'!B107>10, (0.00005*(D107^2))+(0.3389*D107)-1.431, 0.1423*(D107^1.2528))","v":0}]
[null,0,"mg/L CaCO3",{"$f":"HLOOKUP(C108,'Formula Sheet 1'!$E$2:$P108,'Formula Sheet 1'!$D108,FALSE)","v":0},{"$f":"IF('Formula Sheet 1'!B108>10, (0.00005*(D108^2))+(0.3389*D108)-1.431, 0.1423*(D108^1.2528))","v":0}]
[null,0,"mg/L CaCO3",{"$f":"HLOOKUP(C109,'Formula Sheet 1'!$E$2:$P109,'Formula Sheet 1'!$D109,FALSE)","v":0},{"$f":"IF('Formula Sheet 1'!B109>10, (0.00005*(D109^2))+(0.3389*D109)-1.431, 0.1423*(D109^1.2528))","v":0}]
[null,0,"mg/L CaCO3",{"$f":"HLOOKUP(C110,'Formula Sheet 1'!$E$2:$P110,'Formula Sheet 1'!$D110,FALSE)","v":0},{"$f":"IF('Formula Sheet 1'!B110>10, (0.00005*(D110^2))+(0.3389*D110)-1.431, 0.1423*(D110^1.2528))","v":0}]
[null,0,"mg/L CaCO3",{"$f":"HLOOKUP(C111,'Formula Sheet 1'!$E$2:$P111,'Formula Sheet 1'!$D111,FALSE)","v":0},{"$f":"IF('Formula Sheet 1'!B111>10, (0.00005*(D111^2))+(0.3389*D111)-1.431, 0.1423*(D111^1.2528))","v":0}]
[null,0,"mg/L CaCO3",{"$f":"HLOOKUP(C112,'Formula Sheet 1'!$E$2:$P112,'Formula Sheet 1'!$D112,FALSE)","v":0},{"$f":"IF('Formula Sheet 1'!B112>10, (0.00005*(D112^2))+(0.3389*D112)-1.431, 0.1423*(D112^1.2528))","v":0}]
[null,0,"mg/L CaCO3",{"$f":"HLOOKUP(C113,'Formula Sheet 1'!$E$2:$P113,'Formula Sheet 1'!$D113,FALSE)","v":0},{"$f":"IF('Formula Sheet 1'!B113>10, (0.00005*(D113^2))+(0.3389*D113)-1.431, 0.1423*(D113^1.2528))","v":0}]
[null,0,"mg/L CaCO3",{"$f":"HLOOKUP(C114,'Formula Sheet 1'!$E$2:$P114,'Formula Sheet 1'!$D114,FALSE)","v":0},{"$f":"IF('Formula Sheet 1'!B114>10, (0.00005*(D114^2))+(0.3389*D114)-1.431, 0.1423*(D114^1.2528))","v":0}]
[null,0,"mg/L CaCO3",{"$f":"HLOOKUP(C115,'Formula Sheet 1'!$E$2:$P115,'Formula Sheet 1'!$D115,FALSE)","v":0},{"$f":"IF('Formula Sheet 1'!B115>10, (0.00005*(D115^2))+(0.3389*D115)-1.431, 0.1423*(D115^1.2528))","v":0}]
[null,0,"mg/L CaCO3",{"$f":"HLOOKUP(C116,'Formula Sheet 1'!$E$2:$P116,'Formula Sheet 1'!$D116,FALSE)","v":0},{"$f":"IF('Formula Sheet 1'!B116>10, (0.00005*(D116^2))+(0.3389*D116)-1.431, 0.1423*(D116^1.2528))","v":0}]
[null,0,"mg/L CaCO3",{"$f":"HLOOKUP(C117,'Formula Sheet 1'!$E$2:$P117,'Formula Sheet 1'!$D117,FALSE)","v":0},{"$f":"IF('Formula Sheet 1'!B117>10, (0.00005*(D117^2))+(0.3389*D117)-1.431, 0.1423*(D117^1.2528))","v":0}]
[null,0,"mg/L CaCO3",{"$f":"HLOOKUP(C118,'Formula Sheet 1'!$E$2:$P118,'Formula Sheet 1'!$D118,FALSE)","v":0},{"$f":"IF('Formula Sheet 1'!B118>10, (0.00005*(D118^2))+(0.3389*D118)-1.431, 0.1423*(D118^1.2528))","v":0}]
[null,0,"mg/L CaCO3",{"$f":"HLOOKUP(C119,'Formula Sheet 1'!$E$2:$P119,'Formula Sheet 1'!$D119,FALSE)","v":0},{"$f":"IF('Formula Sheet 1'!B119>10, (0.00005*(D119^2))+(0.3389*D119)-1.431, 0.1423*(D119^1.2528))","v":0}]
[null,0,"mg/L CaCO3",{"$f":"HLOOKUP(C120,'Formula Sheet 1'!$E$2:$P120,'Formula Sheet 1'!$D120,FALSE)","v":0},{"$f":"IF('Formula Sheet 1'!B120>10, (0.00005*(D120^2))+(0.3389*D120)-1.431, 0.1423*(D120^1.2528))","v":0}]
[null,0,"mg/L CaCO3",{"$f":"HLOOKUP(C121,'Formula Sheet 1'!$E$2:$P121,'Formula Sheet 1'!$D121,FALSE)","v":0},{"$f":"IF('Formula Sheet 1'!B121>10, (0.00005*(D121^2))+(0.3389*D121)-1.431, 0.1423*(D121^1.2528))","v":0}]
[null,0,"mg/L CaCO3",{"$f":"HLOOKUP(C122,'Formula Sheet 1'!$E$2:$P122,'Formula Sheet 1'!$D122,FALSE)","v":0},{"$f":"IF('Formula Sheet 1'!B122>10, (0.00005*(D122^2))+(0.3389*D122)-1.431, 0.1423*(D122^1.2528))","v":0}]
[null,0,"mg/L CaCO3",{"$f":"HLOOKUP(C123,'Formula Sheet 1'!$E$2:$P123,'Formula Sheet 1'!$D123,FALSE)","v":0},{"$f":"IF('Formula Sheet 1'!B123>10, (0.00005*(D123^2))+(0.3389*D123)-1.431, 0.1423*(D123^1.2528))","v":0}]
[null,0,"mg/L CaCO3",{"$f":"HLOOKUP(C124,'Formula Sheet 1'!$E$2:$P124,'Formula Sheet 1'!$D124,FALSE)","v":0},{"$f":"IF('Formula Sheet 1'!B124>10, (0.00005*(D124^2))+(0.3389*D124)-1.431, 0.1423*(D124^1.2528))","v":0}]
[null,0,"mg/L CaCO3",{"$f":"HLOOKUP(C125,'Formula Sheet 1'!$E$2:$P125,'Formula Sheet 1'!$D125,FALSE)","v":0},{"$f":"IF('Formula Sheet 1'!B125>10, (0.00005*(D125^2))+(0.3389*D125)-1.431, 0.1423*(D125^1.2528))","v":0}]
[null,0,"mg/L CaCO3",{"$f":"HLOOKUP(C126,'Formula Sheet 1'!$E$2:$P126,'Formula Sheet 1'!$D126,FALSE)","v":0},{"$f":"IF('Formula Sheet 1'!B126>10, (0.00005*(D126^2))+(0.3389*D126)-1.431, 0.1423*(D126^1.2528))","v":0}]
[null,0,"mg/L CaCO3",{"$f":"HLOOKUP(C127,'Formula Sheet 1'!$E$2:$P127,'Formula Sheet 1'!$D127,FALSE)","v":0},{"$f":"IF('Formula Sheet 1'!B127>10, (0.00005*(D127^2))+(0.3389*D127)-1.431, 0.1423*(D127^1.2528))","v":0}]
[null,0,"mg/L CaCO3",{"$f":"HLOOKUP(C128,'Formula Sheet 1'!$E$2:$P128,'Formula Sheet 1'!$D128,FALSE)","v":0},{"$f":"IF('Formula Sheet 1'!B128>10, (0.00005*(D128^2))+(0.3389*D128)-1.431, 0.1423*(D128^1.2528))","v":0}]
[null,0,"mg/L CaCO3",{"$f":"HLOOKUP(C129,'Formula Sheet 1'!$E$2:$P129,'Formula Sheet 1'!$D129,FALSE)","v":0},{"$f":"IF('Formula Sheet 1'!B129>10, (0.00005*(D129^2))+(0.3389*D129)-1.431, 0.1423*(D129^1.2528))","v":0}]
[null,0,"mg/L CaCO3",{"$f":"HLOOKUP(C130,'Formula Sheet 1'!$E$2:$P130,'Formula Sheet 1'!$D130,FALSE)","v":0},{"$f":"IF('Formula Sheet 1'!B130>10, (0.00005*(D130^2))+(0.3389*D130)-1.431, 0.1423*(D130^1.2528))","v":0}]
[null,0,"mg/L CaCO3",{"$f":"HLOOKUP(C131,'Formula Sheet 1'!$E$2:$P131,'Formula Sheet 1'!$D131,FALSE)","v":0},{"$f":"IF('Formula Sheet 1'!B131>10, (0.00005*(D131^2))+(0.3389*D131)-1.431, 0.1423*(D131^1.2528))","v":0}]
[null,0,"mg/L CaCO3",{"$f":"HLOOKUP(C132,'Formula Sheet 1'!$E$2:$P132,'Formula Sheet 1'!$D132,FALSE)","v":0},{"$f":"IF('Formula Sheet 1'!B132>10, (0.00005*(D132^2))+(0.3389*D132)-1.431, 0.1423*(D132^1.2528))","v":0}]
[null,0,{"$f":"C132","v":"mg/L CaCO3"},{"$f":"HLOOKUP(C133,'Formula Sheet 1'!$E$2:$P133,'Formula Sheet 1'!$D133,FALSE)","v":0},{"$f":"IF('Formula Sheet 1'!B133>10, (0.00005*(D133^2))+(0.3389*D133)-1.431, 0.1423*(D133^1.2528))","v":0}]
[null,0,"mg/L CaCO3",{"$f":"HLOOKUP(C134,'Formula Sheet 1'!$E$2:$P134,'Formula Sheet 1'!$D134,FALSE)","v":0},{"$f":"IF('Formula Sheet 1'!B134>10, (0.00005*(D134^2))+(0.3389*D134)-1.431, 0.1423*(D134^1.2528))","v":0}]
[null,0,"mg/L CaCO3",{"$f":"HLOOKUP(C135,'Formula Sheet 1'!$E$2:$P135,'Formula Sheet 1'!$D135,FALSE)","v":0},{"$f":"IF('Formula Sheet 1'!B135>10, (0.00005*(D135^2))+(0.3389*D135)-1.431, 0.1423*(D135^1.2528))","v":0}]
[null,0,"mg/L CaCO3",{"$f":"HLOOKUP(C136,'Formula Sheet 1'!$E$2:$P136,'Formula Sheet 1'!$D136,FALSE)","v":0},{"$f":"IF('Formula Sheet 1'!B136>10, (0.00005*(D136^2))+(0.3389*D136)-1.431, 0.1423*(D136^1.2528))","v":0}]
[null,0,"mg/L CaCO3",{"$f":"HLOOKUP(C137,'Formula Sheet 1'!$E$2:$P137,'Formula Sheet 1'!$D137,FALSE)","v":0},{"$f":"IF('Formula Sheet 1'!B137>10, (0.00005*(D137^2))+(0.3389*D137)-1.431, 0.1423*(D137^1.2528))","v":0}]
[null,0,"mg/L CaCO3",{"$f":"HLOOKUP(C138,'Formula Sheet 1'!$E$2:$P138,'Formula Sheet 1'!$D138,FALSE)","v":0},{"$f":"IF('Formula Sheet 1'!B138>10, (0.00005*(D138^2))+(0.3389*D138)-1.431, 0.1423*(D138^1.2528))","v":0}]
[null,0,"mg/L CaCO3",{"$f":"HLOOKUP(C139,'Formula Sheet 1'!$E$2:$P139,'Formula Sheet 1'!$D139,FALSE)","v":0},{"$f":"IF('Formula Sheet 1'!B139>10, (0.00005*(D139^2))+(0.3389*D139)-1.431, 0.1423*(D139^1.2528))","v":0}]
[null,0,"mg/L CaCO3",{"$f":"HLOOKUP(C140,'Formula Sheet 1'!$E$2:$P140,'Formula Sheet 1'!$D140,FALSE)","v":0},{"$f":"IF('Formula Sheet 1'!B140>10, (0.00005*(D140^2))+(0.3389*D140)-1.431, 0.1423*(D140^1.2528))","v":0}]
[null,0,"mg/L CaCO3",{"$f":"HLOOKUP(C141,'Formula Sheet 1'!$E$2:$P141,'Formula Sheet 1'!$D141,FALSE)","v":0},{"$f":"IF('Formula Sheet 1'!B141>10, (0.00005*(D141^2))+(0.3389*D141)-1.431, 0.1423*(D141^1.2528))","v":0}]
[null,0,"mg/L CaCO3",{"$f":"HLOOKUP(C142,'Formula Sheet 1'!$E$2:$P142,'Formula Sheet 1'!$D142,FALSE)","v":0},{"$f":"IF('Formula Sheet 1'!B142>10, (0.00005*(D142^2))+(0.3389*D142)-1.431, 0.1423*(D142^1.2528))","v":0}]
[null,0,"mg/L CaCO3",{"$f":"HLOOKUP(C143,'Formula Sheet 1'!$E$2:$P143,'Formula Sheet 1'!$D143,FALSE)","v":0},{"$f":"IF('Formula Sheet 1'!B143>10, (0.00005*(D143^2))+(0.3389*D143)-1.431, 0.1423*(D143^1.2528))","v":0}]
[null,0,"mg/L CaCO3",{"$f":"HLOOKUP(C144,'Formula Sheet 1'!$E$2:$P144,'Formula Sheet 1'!$D144,FALSE)","v":0},{"$f":"IF('Formula Sheet 1'!B144>10, (0.00005*(D144^2))+(0.3389*D144)-1.431, 0.1423*(D144^1.2528))","v":0}]
[null,0,"mg/L CaCO3",{"$f":"HLOOKUP(C145,'Formula Sheet 1'!$E$2:$P145,'Formula Sheet 1'!$D145,FALSE)","v":0},{"$f":"IF('Formula Sheet 1'!B145>10, (0.00005*(D145^2))+(0.3389*D145)-1.431, 0.1423*(D145^1.2528))","v":0}]
[null,0,"mg/L CaCO3",{"$f":"HLOOKUP(C146,'Formula Sheet 1'!$E$2:$P146,'Formula Sheet 1'!$D146,FALSE)","v":0},{"$f":"IF('Formula Sheet 1'!B146>10, (0.00005*(D146^2))+(0.3389*D146)-1.431, 0.1423*(D146^1.2528))","v":0}]
[null,0,"mg/L CaCO3",{"$f":"HLOOKUP(C147,'Formula Sheet 1'!$E$2:$P147,'Formula Sheet 1'!$D147,FALSE)","v":0},{"$f":"IF('Formula Sheet 1'!B147>10, (0.00005*(D147^2))+(0.3389*D147)-1.431, 0.1423*(D147^1.2528))","v":0}]
[null,0,"mg/L CaCO3",{"$f":"HLOOKUP(C148,'Formula Sheet 1'!$E$2:$P148,'Formula Sheet 1'!$D148,FALSE)","v":0},{"$f":"IF('Formula Sheet 1'!B148>10, (0.00005*(D148^2))+(0.3389*D148)-1.431, 0.1423*(D148^1.2528))","v":0}]
[null,0,"mg/L CaCO3",{"$f":"HLOOKUP(C149,'Formula Sheet 1'!$E$2:$P149,'Formula Sheet 1'!$D149,FALSE)","v":0},{"$f":"IF('Formula Sheet 1'!B149>10, (0.00005*(D149^2))+(0.3389*D149)-1.431, 0.1423*(D149^1.2528))","v":0}]
[null,0,"mg/L CaCO3",{"$f":"HLOOKUP(C150,'Formula Sheet 1'!$E$2:$P150,'Formula Sheet 1'!$D150,FALSE)","v":0},{"$f":"IF('Formula Sheet 1'!B150>10, (0.00005*(D150^2))+(0.3389*D150)-1.431, 0.1423*(D150^1.2528))","v":0}]
[null,0,"mg/L CaCO3",{"$f":"HLOOKUP(C151,'Formula Sheet 1'!$E$2:$P151,'Formula Sheet 1'!$D151,FALSE)","v":0},{"$f":"IF('Formula Sheet 1'!B151>10, (0.00005*(D151^2))+(0.3389*D151)-1.431, 0.1423*(D151^1.2528))","v":0}]
[null,0,"mg/L CaCO3",{"$f":"HLOOKUP(C152,'Formula Sheet 1'!$E$2:$P152,'Formula Sheet 1'!$D152,FALSE)","v":0},{"$f":"IF('Formula Sheet 1'!B152>10, (0.00005*(D152^2))+(0.3389*D152)-1.431, 0.1423*(D152^1.2528))","v":0}]
[null,0,"mg/L CaCO3",{"$f":"HLOOKUP(C153,'Formula Sheet 1'!$E$2:$P153,'Formula Sheet 1'!$D153,FALSE)","v":0},{"$f":"IF('Formula Sheet 1'!B153>10, (0.00005*(D153^2))+(0.3389*D153)-1.431, 0.1423*(D153^1.2528))","v":0}]
[null,0,"mg/L CaCO3",{"$f":"HLOOKUP(C154,'Formula Sheet 1'!$E$2:$P154,'Formula Sheet 1'!$D154,FALSE)","v":0},{"$f":"IF('Formula Sheet 1'!B154>10, (0.00005*(D154^2))+(0.3389*D154)-1.431, 0.1423*(D154^1.2528))","v":0}]
[null,0,"mg/L CaCO3",{"$f":"HLOOKUP(C155,'Formula Sheet 1'!$E$2:$P155,'Formula Sheet 1'!$D155,FALSE)","v":0},{"$f":"IF('Formula Sheet 1'!B155>10, (0.00005*(D155^2))+(0.3389*D155)-1.431, 0.1423*(D155^1.2528))","v":0}]
[null,0,"mg/L CaCO3",{"$f":"HLOOKUP(C156,'Formula Sheet 1'!$E$2:$P156,'Formula Sheet 1'!$D156,FALSE)","v":0},{"$f":"IF('Formula Sheet 1'!B156>10, (0.00005*(D156^2))+(0.3389*D156)-1.431, 0.1423*(D156^1.2528))","v":0}]
[null,0,"mg/L CaCO3",{"$f":"HLOOKUP(C157,'Formula Sheet 1'!$E$2:$P157,'Formula Sheet 1'!$D157,FALSE)","v":0},{"$f":"IF('Formula Sheet 1'!B157>10, (0.00005*(D157^2))+(0.3389*D157)-1.431, 0.1423*(D157^1.2528))","v":0}]
[null,0,"mg/L CaCO3",{"$f":"HLOOKUP(C158,'Formula Sheet 1'!$E$2:$P158,'Formula Sheet 1'!$D158,FALSE)","v":0},{"$f":"IF('Formula Sheet 1'!B158>10, (0.00005*(D158^2))+(0.3389*D158)-1.431, 0.1423*(D158^1.2528))","v":0}]
[null,0,"mg/L CaCO3",{"$f":"HLOOKUP(C159,'Formula Sheet 1'!$E$2:$P159,'Formula Sheet 1'!$D159,FALSE)","v":0},{"$f":"IF('Formula Sheet 1'!B159>10, (0.00005*(D159^2))+(0.3389*D159)-1.431, 0.1423*(D159^1.2528))","v":0}]
[null,0,"mg/L CaCO3",{"$f":"HLOOKUP(C160,'Formula Sheet 1'!$E$2:$P160,'Formula Sheet 1'!$D160,FALSE)","v":0},{"$f":"IF('Formula Sheet 1'!B160>10, (0.00005*(D160^2))+(0.3389*D160)-1.431, 0.1423*(D160^1.2528))","v":0}]
[null,0,"mg/L CaCO3",{"$f":"HLOOKUP(C161,'Formula Sheet 1'!$E$2:$P161,'Formula Sheet 1'!$D161,FALSE)","v":0},{"$f":"IF('Formula Sheet 1'!B161>10, (0.00005*(D161^2))+(0.3389*D161)-1.431, 0.1423*(D161^1.2528))","v":0}]
[null,0,"mg/L CaCO3",{"$f":"HLOOKUP(C162,'Formula Sheet 1'!$E$2:$P162,'Formula Sheet 1'!$D162,FALSE)","v":0},{"$f":"IF('Formula Sheet 1'!B162>10, (0.00005*(D162^2))+(0.3389*D162)-1.431, 0.1423*(D162^1.2528))","v":0}]
[null,0,"mg/L CaCO3",{"$f":"HLOOKUP(C163,'Formula Sheet 1'!$E$2:$P163,'Formula Sheet 1'!$D163,FALSE)","v":0},{"$f":"IF('Formula Sheet 1'!B163>10, (0.00005*(D163^2))+(0.3389*D163)-1.431, 0.1423*(D163^1.2528))","v":0}]
[null,0,"mg/L CaCO3",{"$f":"HLOOKUP(C164,'Formula Sheet 1'!$E$2:$P164,'Formula Sheet 1'!$D164,FALSE)","v":0},{"$f":"IF('Formula Sheet 1'!B164>10, (0.00005*(D164^2))+(0.3389*D164)-1.431, 0.1423*(D164^1.2528))","v":0}]
[null,0,"mg/L CaCO3",{"$f":"HLOOKUP(C165,'Formula Sheet 1'!$E$2:$P165,'Formula Sheet 1'!$D165,FALSE)","v":0},{"$f":"IF('Formula Sheet 1'!B165>10, (0.00005*(D165^2))+(0.3389*D165)-1.431, 0.1423*(D165^1.2528))","v":0}]
[null,0,"mg/L CaCO3",{"$f":"HLOOKUP(C166,'Formula Sheet 1'!$E$2:$P166,'Formula Sheet 1'!$D166,FALSE)","v":0},{"$f":"IF('Formula Sheet 1'!B166>10, (0.00005*(D166^2))+(0.3389*D166)-1.431, 0.1423*(D166^1.2528))","v":0}]
[null,0,"mg/L CaCO3",{"$f":"HLOOKUP(C167,'Formula Sheet 1'!$E$2:$P167,'Formula Sheet 1'!$D167,FALSE)","v":0},{"$f":"IF('Formula Sheet 1'!B167>10, (0.00005*(D167^2))+(0.3389*D167)-1.431, 0.1423*(D167^1.2528))","v":0}]
[null,0,"mg/L CaCO3",{"$f":"HLOOKUP(C168,'Formula Sheet 1'!$E$2:$P168,'Formula Sheet 1'!$D168,FALSE)","v":0},{"$f":"IF('Formula Sheet 1'!B168>10, (0.00005*(D168^2))+(0.3389*D168)-1.431, 0.1423*(D168^1.2528))","v":0}]
[null,0,"mg/L CaCO3",{"$f":"HLOOKUP(C169,'Formula Sheet 1'!$E$2:$P169,'Formula Sheet 1'!$D169,FALSE)","v":0},{"$f":"IF('Formula Sheet 1'!B169>10, (0.00005*(D169^2))+(0.3389*D169)-1.431, 0.1423*(D169^1.2528))","v":0}]
[null,0,"mg/L CaCO3",{"$f":"HLOOKUP(C170,'Formula Sheet 1'!$E$2:$P170,'Formula Sheet 1'!$D170,FALSE)","v":0},{"$f":"IF('Formula Sheet 1'!B170>10, (0.00005*(D170^2))+(0.3389*D170)-1.431, 0.1423*(D170^1.2528))","v":0}]
[null,0,"mg/L CaCO3",{"$f":"HLOOKUP(C171,'Formula Sheet 1'!$E$2:$P171,'Formula Sheet 1'!$D171,FALSE)","v":0},{"$f":"IF('Formula Sheet 1'!B171>10, (0.00005*(D171^2))+(0.3389*D171)-1.431, 0.1423*(D171^1.2528))","v":0}]
[null,0,"mg/L CaCO3",{"$f":"HLOOKUP(C172,'Formula Sheet 1'!$E$2:$P172,'Formula Sheet 1'!$D172,FALSE)","v":0},{"$f":"IF('Formula Sheet 1'!B172>10, (0.00005*(D172^2))+(0.3389*D172)-1.431, 0.1423*(D172^1.2528))","v":0}]
[null,0,"mg/L CaCO3",{"$f":"HLOOKUP(C173,'Formula Sheet 1'!$E$2:$P173,'Formula Sheet 1'!$D173,FALSE)","v":0},{"$f":"IF('Formula Sheet 1'!B173>10, (0.00005*(D173^2))+(0.3389*D173)-1.431, 0.1423*(D173^1.2528))","v":0}]
[null,0,"mg/L CaCO3",{"$f":"HLOOKUP(C174,'Formula Sheet 1'!$E$2:$P174,'Formula Sheet 1'!$D174,FALSE)","v":0},{"$f":"IF('Formula Sheet 1'!B174>10, (0.00005*(D174^2))+(0.3389*D174)-1.431, 0.1423*(D174^1.2528))","v":0}]
[null,0,"mg/L CaCO3",{"$f":"HLOOKUP(C175,'Formula Sheet 1'!$E$2:$P175,'Formula Sheet 1'!$D175,FALSE)","v":0},{"$f":"IF('Formula Sheet 1'!B175>10, (0.00005*(D175^2))+(0.3389*D175)-1.431, 0.1423*(D175^1.2528))","v":0}]
[null,0,"mg/L CaCO3",{"$f":"HLOOKUP(C176,'Formula Sheet 1'!$E$2:$P176,'Formula Sheet 1'!$D176,FALSE)","v":0},{"$f":"IF('Formula Sheet 1'!B176>10, (0.00005*(D176^2))+(0.3389*D176)-1.431, 0.1423*(D176^1.2528))","v":0}]
[null,0,"mg/L CaCO3",{"$f":"HLOOKUP(C177,'Formula Sheet 1'!$E$2:$P177,'Formula Sheet 1'!$D177,FALSE)","v":0},{"$f":"IF('Formula Sheet 1'!B177>10, (0.00005*(D177^2))+(0.3389*D177)-1.431, 0.1423*(D177^1.2528))","v":0}]
[null,0,"mg/L CaCO3",{"$f":"HLOOKUP(C178,'Formula Sheet 1'!$E$2:$P178,'Formula Sheet 1'!$D178,FALSE)","v":0},{"$f":"IF('Formula Sheet 1'!B178>10, (0.00005*(D178^2))+(0.3389*D178)-1.431, 0.1423*(D178^1.2528))","v":0}]
[null,0,"mg/L CaCO3",{"$f":"HLOOKUP(C179,'Formula Sheet 1'!$E$2:$P179,'Formula Sheet 1'!$D179,FALSE)","v":0},{"$f":"IF('Formula Sheet 1'!B179>10, (0.00005*(D179^2))+(0.3389*D179)-1.431, 0.1423*(D179^1.2528))","v":0}]
[null,0,"mg/L CaCO3",{"$f":"HLOOKUP(C180,'Formula Sheet 1'!$E$2:$P180,'Formula Sheet 1'!$D180,FALSE)","v":0},{"$f":"IF('Formula Sheet 1'!B180>10, (0.00005*(D180^2))+(0.3389*D180)-1.431, 0.1423*(D180^1.2528))","v":0}]
[null,0,"mg/L CaCO3",{"$f":"HLOOKUP(C181,'Formula Sheet 1'!$E$2:$P181,'Formula Sheet 1'!$D181,FALSE)","v":0},{"$f":"IF('Formula Sheet 1'!B181>10, (0.00005*(D181^2))+(0.3389*D181)-1.431, 0.1423*(D181^1.2528))","v":0}]
[null,0,"mg/L CaCO3",{"$f":"HLOOKUP(C182,'Formula Sheet 1'!$E$2:$P182,'Formula Sheet 1'!$D182,FALSE)","v":0},{"$f":"IF('Formula Sheet 1'!B182>10, (0.00005*(D182^2))+(0.3389*D182)-1.431, 0.1423*(D182^1.2528))","v":0}]
[null,0,"mg/L CaCO3",{"$f":"HLOOKUP(C183,'Formula Sheet 1'!$E$2:$P183,'Formula Sheet 1'!$D183,FALSE)","v":0},{"$f":"IF('Formula Sheet 1'!B183>10, (0.00005*(D183^2))+(0.3389*D183)-1.431, 0.1423*(D183^1.2528))","v":0}]
[null,0,"mg/L CaCO3",{"$f":"HLOOKUP(C184,'Formula Sheet 1'!$E$2:$P184,'Formula Sheet 1'!$D184,FALSE)","v":0},{"$f":"IF('Formula Sheet 1'!B184>10, (0.00005*(D184^2))+(0.3389*D184)-1.431, 0.1423*(D184^1.2528))","v":0}]
[null,0,"mg/L CaCO3",{"$f":"HLOOKUP(C185,'Formula Sheet 1'!$E$2:$P185,'Formula Sheet 1'!$D185,FALSE)","v":0},{"$f":"IF('Formula Sheet 1'!B185>10, (0.00005*(D185^2))+(0.3389*D185)-1.431, 0.1423*(D185^1.2528))","v":0}]
[null,0,"mg/L CaCO3",{"$f":"HLOOKUP(C186,'Formula Sheet 1'!$E$2:$P186,'Formula Sheet 1'!$D186,FALSE)","v":0},{"$f":"IF('Formula Sheet 1'!B186>10, (0.00005*(D186^2))+(0.3389*D186)-1.431, 0.1423*(D186^1.2528))","v":0}]
[null,0,"mg/L CaCO3",{"$f":"HLOOKUP(C187,'Formula Sheet 1'!$E$2:$P187,'Formula Sheet 1'!$D187,FALSE)","v":0},{"$f":"IF('Formula Sheet 1'!B187>10, (0.00005*(D187^2))+(0.3389*D187)-1.431, 0.1423*(D187^1.2528))","v":0}]
[null,0,"mg/L CaCO3",{"$f":"HLOOKUP(C188,'Formula Sheet 1'!$E$2:$P188,'Formula Sheet 1'!$D188,FALSE)","v":0},{"$f":"IF('Formula Sheet 1'!B188>10, (0.00005*(D188^2))+(0.3389*D188)-1.431, 0.1423*(D188^1.2528))","v":0}]
[null,0,"mg/L CaCO3",{"$f":"HLOOKUP(C189,'Formula Sheet 1'!$E$2:$P189,'Formula Sheet 1'!$D189,FALSE)","v":0},{"$f":"IF('Formula Sheet 1'!B189>10, (0.00005*(D189^2))+(0.3389*D189)-1.431, 0.1423*(D189^1.2528))","v":0}]
[null,0,"mg/L CaCO3",{"$f":"HLOOKUP(C190,'Formula Sheet 1'!$E$2:$P190,'Formula Sheet 1'!$D190,FALSE)","v":0},{"$f":"IF('Formula Sheet 1'!B190>10, (0.00005*(D190^2))+(0.3389*D190)-1.431, 0.1423*(D190^1.2528))","v":0}]
[null,0,"mg/L CaCO3",{"$f":"HLOOKUP(C191,'Formula Sheet 1'!$E$2:$P191,'Formula Sheet 1'!$D191,FALSE)","v":0},{"$f":"IF('Formula Sheet 1'!B191>10, (0.00005*(D191^2))+(0.3389*D191)-1.431, 0.1423*(D191^1.2528))","v":0}]
[null,0,"mg/L CaCO3",{"$f":"HLOOKUP(C192,'Formula Sheet 1'!$E$2:$P192,'Formula Sheet 1'!$D192,FALSE)","v":0},{"$f":"IF('Formula Sheet 1'!B192>10, (0.00005*(D192^2))+(0.3389*D192)-1.431, 0.1423*(D192^1.2528))","v":0}]
[null,0,"mg/L CaCO3",{"$f":"HLOOKUP(C193,'Formula Sheet 1'!$E$2:$P193,'Formula Sheet 1'!$D193,FALSE)","v":0},{"$f":"IF('Formula Sheet 1'!B193>10, (0.00005*(D193^2))+(0.3389*D193)-1.431, 0.1423*(D193^1.2528))","v":0}]
[null,0,"mg/L CaCO3",{"$f":"HLOOKUP(C194,'Formula Sheet 1'!$E$2:$P194,'Formula Sheet 1'!$D194,FALSE)","v":0},{"$f":"IF('Formula Sheet 1'!B194>10, (0.00005*(D194^2))+(0.3389*D194)-1.431, 0.1423*(D194^1.2528))","v":0}]
[null,0,"mg/L CaCO3",{"$f":"HLOOKUP(C195,'Formula Sheet 1'!$E$2:$P195,'Formula Sheet 1'!$D195,FALSE)","v":0},{"$f":"IF('Formula Sheet 1'!B195>10, (0.00005*(D195^2))+(0.3389*D195)-1.431, 0.1423*(D195^1.2528))","v":0}]
[null,0,"mg/L CaCO3",{"$f":"HLOOKUP(C196,'Formula Sheet 1'!$E$2:$P196,'Formula Sheet 1'!$D196,FALSE)","v":0},{"$f":"IF('Formula Sheet 1'!B196>10, (0.00005*(D196^2))+(0.3389*D196)-1.431, 0.1423*(D196^1.2528))","v":0}]
[null,0,{"$f":"C196","v":"mg/L CaCO3"},{"$f":"HLOOKUP(C197,'Formula Sheet 1'!$E$2:$P197,'Formula Sheet 1'!$D197,FALSE)","v":0},{"$f":"IF('Formula Sheet 1'!B197>10, (0.00005*(D197^2))+(0.3389*D197)-1.431, 0.1423*(D197^1.2528))","v":0}]
[null,0,"mg/L CaCO3",{"$f":"HLOOKUP(C198,'Formula Sheet 1'!$E$2:$P198,'Formula Sheet 1'!$D198,FALSE)","v":0},{"$f":"IF('Formula Sheet 1'!B198>10, (0.00005*(D198^2))+(0.3389*D198)-1.431, 0.1423*(D198^1.2528))","v":0}]
[null,0,"mg/L CaCO3",{"$f":"HLOOKUP(C199,'Formula Sheet 1'!$E$2:$P199,'Formula Sheet 1'!$D199,FALSE)","v":0},{"$f":"IF('Formula Sheet 1'!B199>10, (0.00005*(D199^2))+(0.3389*D199)-1.431, 0.1423*(D199^1.2528))","v":0}]
[null,0,"mg/L CaCO3",{"$f":"HLOOKUP(C200,'Formula Sheet 1'!$E$2:$P200,'Formula Sheet 1'!$D200,FALSE)","v":0},{"$f":"IF('Formula Sheet 1'!B200>10, (0.00005*(D200^2))+(0.3389*D200)-1.431, 0.1423*(D200^1.2528))","v":0}]
[null,0,"mg/L CaCO3",{"$f":"HLOOKUP(C201,'Formula Sheet 1'!$E$2:$P201,'Formula Sheet 1'!$D201,FALSE)","v":0},{"$f":"IF('Formula Sheet 1'!B201>10, (0.00005*(D201^2))+(0.3389*D201)-1.431, 0.1423*(D201^1.2528))","v":0}]
[null,0,"mg/L CaCO3",{"$f":"HLOOKUP(C202,'Formula Sheet 1'!$E$2:$P202,'Formula Sheet 1'!$D202,FALSE)","v":0},{"$f":"IF('Formula Sheet 1'!B202>10, (0.00005*(D202^2))+(0.3389*D202)-1.431, 0.1423*(D202^1.2528))","v":0}]
[null,0,"mg/L CaCO3",{"$f":"HLOOKUP(C203,'Formula Sheet 1'!$E$2:$P203,'Formula Sheet 1'!$D203,FALSE)","v":0},{"$f":"IF('Formula Sheet 1'!B203>10, (0.00005*(D203^2))+(0.3389*D203)-1.431, 0.1423*(D203^1.2528))","v":0}]
[null,0,"mg/L CaCO3",{"$f":"HLOOKUP(C204,'Formula Sheet 1'!$E$2:$P204,'Formula Sheet 1'!$D204,FALSE)","v":0},{"$f":"IF('Formula Sheet 1'!B204>10, (0.00005*(D204^2))+(0.3389*D204)-1.431, 0.1423*(D204^1.2528))","v":0}]
[null,0,"mg/L CaCO3",{"$f":"HLOOKUP(C205,'Formula Sheet 1'!$E$2:$P205,'Formula Sheet 1'!$D205,FALSE)","v":0},{"$f":"IF('Formula Sheet 1'!B205>10, (0.00005*(D205^2))+(0.3389*D205)-1.431, 0.1423*(D205^1.2528))","v":0}]
[null,0,"mg/L CaCO3",{"$f":"HLOOKUP(C206,'Formula Sheet 1'!$E$2:$P206,'Formula Sheet 1'!$D206,FALSE)","v":0},{"$f":"IF('Formula Sheet 1'!B206>10, (0.00005*(D206^2))+(0.3389*D206)-1.431, 0.1423*(D206^1.2528))","v":0}]
[null,0,"mg/L CaCO3",{"$f":"HLOOKUP(C207,'Formula Sheet 1'!$E$2:$P207,'Formula Sheet 1'!$D207,FALSE)","v":0},{"$f":"IF('Formula Sheet 1'!B207>10, (0.00005*(D207^2))+(0.3389*D207)-1.431, 0.1423*(D207^1.2528))","v":0}]
[null,0,"mg/L CaCO3",{"$f":"HLOOKUP(C208,'Formula Sheet 1'!$E$2:$P208,'Formula Sheet 1'!$D208,FALSE)","v":0},{"$f":"IF('Formula Sheet 1'!B208>10, (0.00005*(D208^2))+(0.3389*D208)-1.431, 0.1423*(D208^1.2528))","v":0}]
[null,0,"mg/L CaCO3",{"$f":"HLOOKUP(C209,'Formula Sheet 1'!$E$2:$P209,'Formula Sheet 1'!$D209,FALSE)","v":0},{"$f":"IF('Formula Sheet 1'!B209>10, (0.00005*(D209^2))+(0.3389*D209)-1.431, 0.1423*(D209^1.2528))","v":0}]
[null,0,"mg/L CaCO3",{"$f":"HLOOKUP(C210,'Formula Sheet 1'!$E$2:$P210,'Formula Sheet 1'!$D210,FALSE)","v":0},{"$f":"IF('Formula Sheet 1'!B210>10, (0.00005*(D210^2))+(0.3389*D210)-1.431, 0.1423*(D210^1.2528))","v":0}]
[null,0,"mg/L CaCO3",{"$f":"HLOOKUP(C211,'Formula Sheet 1'!$E$2:$P211,'Formula Sheet 1'!$D211,FALSE)","v":0},{"$f":"IF('Formula Sheet 1'!B211>10, (0.00005*(D211^2))+(0.3389*D211)-1.431, 0.1423*(D211^1.2528))","v":0}]
[null,0,"mg/L CaCO3",{"$f":"HLOOKUP(C212,'Formula Sheet 1'!$E$2:$P212,'Formula Sheet 1'!$D212,FALSE)","v":0},{"$f":"IF('Formula Sheet 1'!B212>10, (0.00005*(D212^2))+(0.3389*D212)-1.431, 0.1423*(D212^1.2528))","v":0}]
[null,0,"mg/L CaCO3",{"$f":"HLOOKUP(C213,'Formula Sheet 1'!$E$2:$P213,'Formula Sheet 1'!$D213,FALSE)","v":0},{"$f":"IF('Formula Sheet 1'!B213>10, (0.00005*(D213^2))+(0.3389*D213)-1.431, 0.1423*(D213^1.2528))","v":0}]
[null,0,"mg/L CaCO3",{"$f":"HLOOKUP(C214,'Formula Sheet 1'!$E$2:$P214,'Formula Sheet 1'!$D214,FALSE)","v":0},{"$f":"IF('Formula Sheet 1'!B214>10, (0.00005*(D214^2))+(0.3389*D214)-1.431, 0.1423*(D214^1.2528))","v":0}]
[null,0,"mg/L CaCO3",{"$f":"HLOOKUP(C215,'Formula Sheet 1'!$E$2:$P215,'Formula Sheet 1'!$D215,FALSE)","v":0},{"$f":"IF('Formula Sheet 1'!B215>10, (0.00005*(D215^2))+(0.3389*D215)-1.431, 0.1423*(D215^1.2528))","v":0}]
[null,0,"mg/L CaCO3",{"$f":"HLOOKUP(C216,'Formula Sheet 1'!$E$2:$P216,'Formula Sheet 1'!$D216,FALSE)","v":0},{"$f":"IF('Formula Sheet 1'!B216>10, (0.00005*(D216^2))+(0.3389*D216)-1.431, 0.1423*(D216^1.2528))","v":0}]
[null,0,"mg/L CaCO3",{"$f":"HLOOKUP(C217,'Formula Sheet 1'!$E$2:$P217,'Formula Sheet 1'!$D217,FALSE)","v":0},{"$f":"IF('Formula Sheet 1'!B217>10, (0.00005*(D217^2))+(0.3389*D217)-1.431, 0.1423*(D217^1.2528))","v":0}]
[null,0,"mg/L CaCO3",{"$f":"HLOOKUP(C218,'Formula Sheet 1'!$E$2:$P218,'Formula Sheet 1'!$D218,FALSE)","v":0},{"$f":"IF('Formula Sheet 1'!B218>10, (0.00005*(D218^2))+(0.3389*D218)-1.431, 0.1423*(D218^1.2528))","v":0}]
[null,0,"mg/L CaCO3",{"$f":"HLOOKUP(C219,'Formula Sheet 1'!$E$2:$P219,'Formula Sheet 1'!$D219,FALSE)","v":0},{"$f":"IF('Formula Sheet 1'!B219>10, (0.00005*(D219^2))+(0.3389*D219)-1.431, 0.1423*(D219^1.2528))","v":0}]
[null,0,"mg/L CaCO3",{"$f":"HLOOKUP(C220,'Formula Sheet 1'!$E$2:$P220,'Formula Sheet 1'!$D220,FALSE)","v":0},{"$f":"IF('Formula Sheet 1'!B220>10, (0.00005*(D220^2))+(0.3389*D220)-1.431, 0.1423*(D220^1.2528))","v":0}]
[null,0,"mg/L CaCO3",{"$f":"HLOOKUP(C221,'Formula Sheet 1'!$E$2:$P221,'Formula Sheet 1'!$D221,FALSE)","v":0},{"$f":"IF('Formula Sheet 1'!B221>10, (0.00005*(D221^2))+(0.3389*D221)-1.431, 0.1423*(D221^1.2528))","v":0}]
[null,0,"mg/L CaCO3",{"$f":"HLOOKUP(C222,'Formula Sheet 1'!$E$2:$P222,'Formula Sheet 1'!$D222,FALSE)","v":0},{"$f":"IF('Formula Sheet 1'!B222>10, (0.00005*(D222^2))+(0.3389*D222)-1.431, 0.1423*(D222^1.2528))","v":0}]
[null,0,"mg/L CaCO3",{"$f":"HLOOKUP(C223,'Formula Sheet 1'!$E$2:$P223,'Formula Sheet 1'!$D223,FALSE)","v":0},{"$f":"IF('Formula Sheet 1'!B223>10, (0.00005*(D223^2))+(0.3389*D223)-1.431, 0.1423*(D223^1.2528))","v":0}]
[null,0,"mg/L CaCO3",{"$f":"HLOOKUP(C224,'Formula Sheet 1'!$E$2:$P224,'Formula Sheet 1'!$D224,FALSE)","v":0},{"$f":"IF('Formula Sheet 1'!B224>10, (0.00005*(D224^2))+(0.3389*D224)-1.431, 0.1423*(D224^1.2528))","v":0}]
[null,0,"mg/L CaCO3",{"$f":"HLOOKUP(C225,'Formula Sheet 1'!$E$2:$P225,'Formula Sheet 1'!$D225,FALSE)","v":0},{"$f":"IF('Formula Sheet 1'!B225>10, (0.00005*(D225^2))+(0.3389*D225)-1.431, 0.1423*(D225^1.2528))","v":0}]
[null,0,"mg/L CaCO3",{"$f":"HLOOKUP(C226,'Formula Sheet 1'!$E$2:$P226,'Formula Sheet 1'!$D226,FALSE)","v":0},{"$f":"IF('Formula Sheet 1'!B226>10, (0.00005*(D226^2))+(0.3389*D226)-1.431, 0.1423*(D226^1.2528))","v":0}]
[null,0,"mg/L CaCO3",{"$f":"HLOOKUP(C227,'Formula Sheet 1'!$E$2:$P227,'Formula Sheet 1'!$D227,FALSE)","v":0},{"$f":"IF('Formula Sheet 1'!B227>10, (0.00005*(D227^2))+(0.3389*D227)-1.431, 0.1423*(D227^1.2528))","v":0}]
[null,0,"mg/L CaCO3",{"$f":"HLOOKUP(C228,'Formula Sheet 1'!$E$2:$P228,'Formula Sheet 1'!$D228,FALSE)","v":0},{"$f":"IF('Formula Sheet 1'!B228>10, (0.00005*(D228^2))+(0.3389*D228)-1.431, 0.1423*(D228^1.2528))","v":0}]
[null,0,"mg/L CaCO3",{"$f":"HLOOKUP(C229,'Formula Sheet 1'!$E$2:$P229,'Formula Sheet 1'!$D229,FALSE)","v":0},{"$f":"IF('Formula Sheet 1'!B229>10, (0.00005*(D229^2))+(0.3389*D229)-1.431, 0.1423*(D229^1.2528))","v":0}]
[null,0,"mg/L CaCO3",{"$f":"HLOOKUP(C230,'Formula Sheet 1'!$E$2:$P230,'Formula Sheet 1'!$D230,FALSE)","v":0},{"$f":"IF('Formula Sheet 1'!B230>10, (0.00005*(D230^2))+(0.3389*D230)-1.431, 0.1423*(D230^1.2528))","v":0}]
[null,0,"mg/L CaCO3",{"$f":"HLOOKUP(C231,'Formula Sheet 1'!$E$2:$P231,'Formula Sheet 1'!$D231,FALSE)","v":0},{"$f":"IF('Formula Sheet 1'!B231>10, (0.00005*(D231^2))+(0.3389*D231)-1.431, 0.1423*(D231^1.2528))","v":0}]
[null,0,"mg/L CaCO3",{"$f":"HLOOKUP(C232,'Formula Sheet 1'!$E$2:$P232,'Formula Sheet 1'!$D232,FALSE)","v":0},{"$f":"IF('Formula Sheet 1'!B232>10, (0.00005*(D232^2))+(0.3389*D232)-1.431, 0.1423*(D232^1.2528))","v":0}]
[null,0,"mg/L CaCO3",{"$f":"HLOOKUP(C233,'Formula Sheet 1'!$E$2:$P233,'Formula Sheet 1'!$D233,FALSE)","v":0},{"$f":"IF('Formula Sheet 1'!B233>10, (0.00005*(D233^2))+(0.3389*D233)-1.431, 0.1423*(D233^1.2528))","v":0}]
[null,0,"mg/L CaCO3",{"$f":"HLOOKUP(C234,'Formula Sheet 1'!$E$2:$P234,'Formula Sheet 1'!$D234,FALSE)","v":0},{"$f":"IF('Formula Sheet 1'!B234>10, (0.00005*(D234^2))+(0.3389*D234)-1.431, 0.1423*(D234^1.2528))","v":0}]
[null,0,"mg/L CaCO3",{"$f":"HLOOKUP(C235,'Formula Sheet 1'!$E$2:$P235,'Formula Sheet 1'!$D235,FALSE)","v":0},{"$f":"IF('Formula Sheet 1'!B235>10, (0.00005*(D235^2))+(0.3389*D235)-1.431, 0.1423*(D235^1.2528))","v":0}]
[null,0,"mg/L CaCO3",{"$f":"HLOOKUP(C236,'Formula Sheet 1'!$E$2:$P236,'Formula Sheet 1'!$D236,FALSE)","v":0},{"$f":"IF('Formula Sheet 1'!B236>10, (0.00005*(D236^2))+(0.3389*D236)-1.431, 0.1423*(D236^1.2528))","v":0}]
[null,0,"mg/L CaCO3",{"$f":"HLOOKUP(C237,'Formula Sheet 1'!$E$2:$P237,'Formula Sheet 1'!$D237,FALSE)","v":0},{"$f":"IF('Formula Sheet 1'!B237>10, (0.00005*(D237^2))+(0.3389*D237)-1.431, 0.1423*(D237^1.2528))","v":0}]
[null,0,"mg/L CaCO3",{"$f":"HLOOKUP(C238,'Formula Sheet 1'!$E$2:$P238,'Formula Sheet 1'!$D238,FALSE)","v":0},{"$f":"IF('Formula Sheet 1'!B238>10, (0.00005*(D238^2))+(0.3389*D238)-1.431, 0.1423*(D238^1.2528))","v":0}]
[null,0,"mg/L CaCO3",{"$f":"HLOOKUP(C239,'Formula Sheet 1'!$E$2:$P239,'Formula Sheet 1'!$D239,FALSE)","v":0},{"$f":"IF('Formula Sheet 1'!B239>10, (0.00005*(D239^2))+(0.3389*D239)-1.431, 0.1423*(D239^1.2528))","v":0}]
[null,0,"mg/L CaCO3",{"$f":"HLOOKUP(C240,'Formula Sheet 1'!$E$2:$P240,'Formula Sheet 1'!$D240,FALSE)","v":0},{"$f":"IF('Formula Sheet 1'!B240>10, (0.00005*(D240^2))+(0.3389*D240)-1.431, 0.1423*(D240^1.2528))","v":0}]
[null,0,"mg/L CaCO3",{"$f":"HLOOKUP(C241,'Formula Sheet 1'!$E$2:$P241,'Formula Sheet 1'!$D241,FALSE)","v":0},{"$f":"IF('Formula Sheet 1'!B241>10, (0.00005*(D241^2))+(0.3389*D241)-1.431, 0.1423*(D241^1.2528))","v":0}]
[null,0,"mg/L CaCO3",{"$f":"HLOOKUP(C242,'Formula Sheet 1'!$E$2:$P242,'Formula Sheet 1'!$D242,FALSE)","v":0},{"$f":"IF('Formula Sheet 1'!B242>10, (0.00005*(D242^2))+(0.3389*D242)-1.431, 0.1423*(D242^1.2528))","v":0}]
[null,0,"mg/L CaCO3",{"$f":"HLOOKUP(C243,'Formula Sheet 1'!$E$2:$P243,'Formula Sheet 1'!$D243,FALSE)","v":0},{"$f":"IF('Formula Sheet 1'!B243>10, (0.00005*(D243^2))+(0.3389*D243)-1.431, 0.1423*(D243^1.2528))","v":0}]
[null,0,"mg/L CaCO3",{"$f":"HLOOKUP(C244,'Formula Sheet 1'!$E$2:$P244,'Formula Sheet 1'!$D244,FALSE)","v":0},{"$f":"IF('Formula Sheet 1'!B244>10, (0.00005*(D244^2))+(0.3389*D244)-1.431, 0.1423*(D244^1.2528))","v":0}]
[null,0,"mg/L CaCO3",{"$f":"HLOOKUP(C245,'Formula Sheet 1'!$E$2:$P245,'Formula Sheet 1'!$D245,FALSE)","v":0},{"$f":"IF('Formula Sheet 1'!B245>10, (0.00005*(D245^2))+(0.3389*D245)-1.431, 0.1423*(D245^1.2528))","v":0}]
[null,0,"mg/L CaCO3",{"$f":"HLOOKUP(C246,'Formula Sheet 1'!$E$2:$P246,'Formula Sheet 1'!$D246,FALSE)","v":0},{"$f":"IF('Formula Sheet 1'!B246>10, (0.00005*(D246^2))+(0.3389*D246)-1.431, 0.1423*(D246^1.2528))","v":0}]
[null,0,"mg/L CaCO3",{"$f":"HLOOKUP(C247,'Formula Sheet 1'!$E$2:$P247,'Formula Sheet 1'!$D247,FALSE)","v":0},{"$f":"IF('Formula Sheet 1'!B247>10, (0.00005*(D247^2))+(0.3389*D247)-1.431, 0.1423*(D247^1.2528))","v":0}]
[null,0,"mg/L CaCO3",{"$f":"HLOOKUP(C248,'Formula Sheet 1'!$E$2:$P248,'Formula Sheet 1'!$D248,FALSE)","v":0},{"$f":"IF('Formula Sheet 1'!B248>10, (0.00005*(D248^2))+(0.3389*D248)-1.431, 0.1423*(D248^1.2528))","v":0}]
[null,0,"mg/L CaCO3",{"$f":"HLOOKUP(C249,'Formula Sheet 1'!$E$2:$P249,'Formula Sheet 1'!$D249,FALSE)","v":0},{"$f":"IF('Formula Sheet 1'!B249>10, (0.00005*(D249^2))+(0.3389*D249)-1.431, 0.1423*(D249^1.2528))","v":0}]
[null,0,"mg/L CaCO3",{"$f":"HLOOKUP(C250,'Formula Sheet 1'!$E$2:$P250,'Formula Sheet 1'!$D250,FALSE)","v":0},{"$f":"IF('Formula Sheet 1'!B250>10, (0.00005*(D250^2))+(0.3389*D250)-1.431, 0.1423*(D250^1.2528))","v":0}]
[null,0,"mg/L CaCO3",{"$f":"HLOOKUP(C251,'Formula Sheet 1'!$E$2:$P251,'Formula Sheet 1'!$D251,FALSE)","v":0},{"$f":"IF('Formula Sheet 1'!B251>10, (0.00005*(D251^2))+(0.3389*D251)-1.431, 0.1423*(D251^1.2528))","v":0}]
[null,0,"mg/L CaCO3",{"$f":"HLOOKUP(C252,'Formula Sheet 1'!$E$2:$P252,'Formula Sheet 1'!$D252,FALSE)","v":0},{"$f":"IF('Formula Sheet 1'!B252>10, (0.00005*(D252^2))+(0.3389*D252)-1.431, 0.1423*(D252^1.2528))","v":0}]
[null,0,"mg/L CaCO3",{"$f":"HLOOKUP(C253,'Formula Sheet 1'!$E$2:$P253,'Formula Sheet 1'!$D253,FALSE)","v":0},{"$f":"IF('Formula Sheet 1'!B253>10, (0.00005*(D253^2))+(0.3389*D253)-1.431, 0.1423*(D253^1.2528))","v":0}]
[null,0,"mg/L CaCO3",{"$f":"HLOOKUP(C254,'Formula Sheet 1'!$E$2:$P254,'Formula Sheet 1'!$D254,FALSE)","v":0},{"$f":"IF('Formula Sheet 1'!B254>10, (0.00005*(D254^2))+(0.3389*D254)-1.431, 0.1423*(D254^1.2528))","v":0}]
[null,0,"mg/L CaCO3",{"$f":"HLOOKUP(C255,'Formula Sheet 1'!$E$2:$P255,'Formula Sheet 1'!$D255,FALSE)","v":0},{"$f":"IF('Formula Sheet 1'!B255>10, (0.00005*(D255^2))+(0.3389*D255)-1.431, 0.1423*(D255^1.2528))","v":0}]
[null,0,"mg/L CaCO3",{"$f":"HLOOKUP(C256,'Formula Sheet 1'!$E$2:$P256,'Formula Sheet 1'!$D256,FALSE)","v":0},{"$f":"IF('Formula Sheet 1'!B256>10, (0.00005*(D256^2))+(0.3389*D256)-1.431, 0.1423*(D256^1.2528))","v":0}]
[null,0,"mg/L CaCO3",{"$f":"HLOOKUP(C257,'Formula Sheet 1'!$E$2:$P257,'Formula Sheet 1'!$D257,FALSE)","v":0},{"$f":"IF('Formula Sheet 1'!B257>10, (0.00005*(D257^2))+(0.3389*D257)-1.431, 0.1423*(D257^1.2528))","v":0}]
[null,0,"mg/L CaCO3",{"$f":"HLOOKUP(C258,'Formula Sheet 1'!$E$2:$P258,'Formula Sheet 1'!$D258,FALSE)","v":0},{"$f":"IF('Formula Sheet 1'!B258>10, (0.00005*(D258^2))+(0.3389*D258)-1.431, 0.1423*(D258^1.2528))","v":0}]
[null,0,"mg/L CaCO3",{"$f":"HLOOKUP(C259,'Formula Sheet 1'!$E$2:$P259,'Formula Sheet 1'!$D259,FALSE)","v":0},{"$f":"IF('Formula Sheet 1'!B259>10, (0.00005*(D259^2))+(0.3389*D259)-1.431, 0.1423*(D259^1.2528))","v":0}]
[null,0,"mg/L CaCO3",{"$f":"HLOOKUP(C260,'Formula Sheet 1'!$E$2:$P260,'Formula Sheet 1'!$D260,FALSE)","v":0},{"$f":"IF('Formula Sheet 1'!B260>10, (0.00005*(D260^2))+(0.3389*D260)-1.431, 0.1423*(D260^1.2528))","v":0}]
[null,0,{"$f":"C260","v":"mg/L CaCO3"},{"$f":"HLOOKUP(C261,'Formula Sheet 1'!$E$2:$P261,'Formula Sheet 1'!$D261,FALSE)","v":0},{"$f":"IF('Formula Sheet 1'!B261>10, (0.00005*(D261^2))+(0.3389*D261)-1.431, 0.1423*(D261^1.2528))","v":0}]
[null,0,"mg/L CaCO3",{"$f":"HLOOKUP(C262,'Formula Sheet 1'!$E$2:$P262,'Formula Sheet 1'!$D262,FALSE)","v":0},{"$f":"IF('Formula Sheet 1'!B262>10, (0.00005*(D262^2))+(0.3389*D262)-1.431, 0.1423*(D262^1.2528))","v":0}]
[null,0,"mg/L CaCO3",{"$f":"HLOOKUP(C263,'Formula Sheet 1'!$E$2:$P263,'Formula Sheet 1'!$D263,FALSE)","v":0},{"$f":"IF('Formula Sheet 1'!B263>10, (0.00005*(D263^2))+(0.3389*D263)-1.431, 0.1423*(D263^1.2528))","v":0}]
[null,0,"mg/L CaCO3",{"$f":"HLOOKUP(C264,'Formula Sheet 1'!$E$2:$P264,'Formula Sheet 1'!$D264,FALSE)","v":0},{"$f":"IF('Formula Sheet 1'!B264>10, (0.00005*(D264^2))+(0.3389*D264)-1.431, 0.1423*(D264^1.2528))","v":0}]
[null,0,"mg/L CaCO3",{"$f":"HLOOKUP(C265,'Formula Sheet 1'!$E$2:$P265,'Formula Sheet 1'!$D265,FALSE)","v":0},{"$f":"IF('Formula Sheet 1'!B265>10, (0.00005*(D265^2))+(0.3389*D265)-1.431, 0.1423*(D265^1.2528))","v":0}]
[null,0,"mg/L CaCO3",{"$f":"HLOOKUP(C266,'Formula Sheet 1'!$E$2:$P266,'Formula Sheet 1'!$D266,FALSE)","v":0},{"$f":"IF('Formula Sheet 1'!B266>10, (0.00005*(D266^2))+(0.3389*D266)-1.431, 0.1423*(D266^1.2528))","v":0}]
[null,0,"mg/L CaCO3",{"$f":"HLOOKUP(C267,'Formula Sheet 1'!$E$2:$P267,'Formula Sheet 1'!$D267,FALSE)","v":0},{"$f":"IF('Formula Sheet 1'!B267>10, (0.00005*(D267^2))+(0.3389*D267)-1.431, 0.1423*(D267^1.2528))","v":0}]
[null,0,"mg/L CaCO3",{"$f":"HLOOKUP(C268,'Formula Sheet 1'!$E$2:$P268,'Formula Sheet 1'!$D268,FALSE)","v":0},{"$f":"IF('Formula Sheet 1'!B268>10, (0.00005*(D268^2))+(0.3389*D268)-1.431, 0.1423*(D268^1.2528))","v":0}]
[null,0,"mg/L CaCO3",{"$f":"HLOOKUP(C269,'Formula Sheet 1'!$E$2:$P269,'Formula Sheet 1'!$D269,FALSE)","v":0},{"$f":"IF('Formula Sheet 1'!B269>10, (0.00005*(D269^2))+(0.3389*D269)-1.431, 0.1423*(D269^1.2528))","v":0}]
[null,0,"mg/L CaCO3",{"$f":"HLOOKUP(C270,'Formula Sheet 1'!$E$2:$P270,'Formula Sheet 1'!$D270,FALSE)","v":0},{"$f":"IF('Formula Sheet 1'!B270>10, (0.00005*(D270^2))+(0.3389*D270)-1.431, 0.1423*(D270^1.2528))","v":0}]
[null,0,"mg/L CaCO3",{"$f":"HLOOKUP(C271,'Formula Sheet 1'!$E$2:$P271,'Formula Sheet 1'!$D271,FALSE)","v":0},{"$f":"IF('Formula Sheet 1'!B271>10, (0.00005*(D271^2))+(0.3389*D271)-1.431, 0.1423*(D271^1.2528))","v":0}]
[null,0,"mg/L CaCO3",{"$f":"HLOOKUP(C272,'Formula Sheet 1'!$E$2:$P272,'Formula Sheet 1'!$D272,FALSE)","v":0},{"$f":"IF('Formula Sheet 1'!B272>10, (0.00005*(D272^2))+(0.3389*D272)-1.431, 0.1423*(D272^1.2528))","v":0}]
[null,0,"mg/L CaCO3",{"$f":"HLOOKUP(C273,'Formula Sheet 1'!$E$2:$P273,'Formula Sheet 1'!$D273,FALSE)","v":0},{"$f":"IF('Formula Sheet 1'!B273>10, (0.00005*(D273^2))+(0.3389*D273)-1.431, 0.1423*(D273^1.2528))","v":0}]
[null,0,"mg/L CaCO3",{"$f":"HLOOKUP(C274,'Formula Sheet 1'!$E$2:$P274,'Formula Sheet 1'!$D274,FALSE)","v":0},{"$f":"IF('Formula Sheet 1'!B274>10, (0.00005*(D274^2))+(0.3389*D274)-1.431, 0.1423*(D274^1.2528))","v":0}]
[null,0,"mg/L CaCO3",{"$f":"HLOOKUP(C275,'Formula Sheet 1'!$E$2:$P275,'Formula Sheet 1'!$D275,FALSE)","v":0},{"$f":"IF('Formula Sheet 1'!B275>10, (0.00005*(D275^2))+(0.3389*D275)-1.431, 0.1423*(D275^1.2528))","v":0}]
[null,0,"mg/L CaCO3",{"$f":"HLOOKUP(C276,'Formula Sheet 1'!$E$2:$P276,'Formula Sheet 1'!$D276,FALSE)","v":0},{"$f":"IF('Formula Sheet 1'!B276>10, (0.00005*(D276^2))+(0.3389*D276)-1.431, 0.1423*(D276^1.2528))","v":0}]
[null,0,"mg/L CaCO3",{"$f":"HLOOKUP(C277,'Formula Sheet 1'!$E$2:$P277,'Formula Sheet 1'!$D277,FALSE)","v":0},{"$f":"IF('Formula Sheet 1'!B277>10, (0.00005*(D277^2))+(0.3389*D277)-1.431, 0.1423*(D277^1.2528))","v":0}]
[null,0,"mg/L CaCO3",{"$f":"HLOOKUP(C278,'Formula Sheet 1'!$E$2:$P278,'Formula Sheet 1'!$D278,FALSE)","v":0},{"$f":"IF('Formula Sheet 1'!B278>10, (0.00005*(D278^2))+(0.3389*D278)-1.431, 0.1423*(D278^1.2528))","v":0}]
[null,0,"mg/L CaCO3",{"$f":"HLOOKUP(C279,'Formula Sheet 1'!$E$2:$P279,'Formula Sheet 1'!$D279,FALSE)","v":0},{"$f":"IF('Formula Sheet 1'!B279>10, (0.00005*(D279^2))+(0.3389*D279)-1.431, 0.1423*(D279^1.2528))","v":0}]
[null,0,"mg/L CaCO3",{"$f":"HLOOKUP(C280,'Formula Sheet 1'!$E$2:$P280,'Formula Sheet 1'!$D280,FALSE)","v":0},{"$f":"IF('Formula Sheet 1'!B280>10, (0.00005*(D280^2))+(0.3389*D280)-1.431, 0.1423*(D280^1.2528))","v":0}]
[null,0,"mg/L CaCO3",{"$f":"HLOOKUP(C281,'Formula Sheet 1'!$E$2:$P281,'Formula Sheet 1'!$D281,FALSE)","v":0},{"$f":"IF('Formula Sheet 1'!B281>10, (0.00005*(D281^2))+(0.3389*D281)-1.431, 0.1423*(D281^1.2528))","v":0}]
[null,0,"mg/L CaCO3",{"$f":"HLOOKUP(C282,'Formula Sheet 1'!$E$2:$P282,'Formula Sheet 1'!$D282,FALSE)","v":0},{"$f":"IF('Formula Sheet 1'!B282>10, (0.00005*(D282^2))+(0.3389*D282)-1.431, 0.1423*(D282^1.2528))","v":0}]
[null,0,"mg/L CaCO3",{"$f":"HLOOKUP(C283,'Formula Sheet 1'!$E$2:$P283,'Formula Sheet 1'!$D283,FALSE)","v":0},{"$f":"IF('Formula Sheet 1'!B283>10, (0.00005*(D283^2))+(0.3389*D283)-1.431, 0.1423*(D283^1.2528))","v":0}]
[null,0,"mg/L CaCO3",{"$f":"HLOOKUP(C284,'Formula Sheet 1'!$E$2:$P284,'Formula Sheet 1'!$D284,FALSE)","v":0},{"$f":"IF('Formula Sheet 1'!B284>10, (0.00005*(D284^2))+(0.3389*D284)-1.431, 0.1423*(D284^1.2528))","v":0}]
[null,0,"mg/L CaCO3",{"$f":"HLOOKUP(C285,'Formula Sheet 1'!$E$2:$P285,'Formula Sheet 1'!$D285,FALSE)","v":0},{"$f":"IF('Formula Sheet 1'!B285>10, (0.00005*(D285^2))+(0.3389*D285)-1.431, 0.1423*(D285^1.2528))","v":0}]
[null,0,"mg/L CaCO3",{"$f":"HLOOKUP(C286,'Formula Sheet 1'!$E$2:$P286,'Formula Sheet 1'!$D286,FALSE)","v":0},{"$f":"IF('Formula Sheet 1'!B286>10, (0.00005*(D286^2))+(0.3389*D286)-1.431, 0.1423*(D286^1.2528))","v":0}]
[null,0,"mg/L CaCO3",{"$f":"HLOOKUP(C287,'Formula Sheet 1'!$E$2:$P287,'Formula Sheet 1'!$D287,FALSE)","v":0},{"$f":"IF('Formula Sheet 1'!B287>10, (0.00005*(D287^2))+(0.3389*D287)-1.431, 0.1423*(D287^1.2528))","v":0}]
[null,0,"mg/L CaCO3",{"$f":"HLOOKUP(C288,'Formula Sheet 1'!$E$2:$P288,'Formula Sheet 1'!$D288,FALSE)","v":0},{"$f":"IF('Formula Sheet 1'!B288>10, (0.00005*(D288^2))+(0.3389*D288)-1.431, 0.1423*(D288^1.2528))","v":0}]
[null,0,"mg/L CaCO3",{"$f":"HLOOKUP(C289,'Formula Sheet 1'!$E$2:$P289,'Formula Sheet 1'!$D289,FALSE)","v":0},{"$f":"IF('Formula Sheet 1'!B289>10, (0.00005*(D289^2))+(0.3389*D289)-1.431, 0.1423*(D289^1.2528))","v":0}]
[null,0,"mg/L CaCO3",{"$f":"HLOOKUP(C290,'Formula Sheet 1'!$E$2:$P290,'Formula Sheet 1'!$D290,FALSE)","v":0},{"$f":"IF('Formula Sheet 1'!B290>10, (0.00005*(D290^2))+(0.3389*D290)-1.431, 0.1423*(D290^1.2528))","v":0}]
[null,0,"mg/L CaCO3",{"$f":"HLOOKUP(C291,'Formula Sheet 1'!$E$2:$P291,'Formula Sheet 1'!$D291,FALSE)","v":0},{"$f":"IF('Formula Sheet 1'!B291>10, (0.00005*(D291^2))+(0.3389*D291)-1.431, 0.1423*(D291^1.2528))","v":0}]
[null,0,"mg/L CaCO3",{"$f":"HLOOKUP(C292,'Formula Sheet 1'!$E$2:$P292,'Formula Sheet 1'!$D292,FALSE)","v":0},{"$f":"IF('Formula Sheet 1'!B292>10, (0.00005*(D292^2))+(0.3389*D292)-1.431, 0.1423*(D292^1.2528))","v":0}]
[null,0,"mg/L CaCO3",{"$f":"HLOOKUP(C293,'Formula Sheet 1'!$E$2:$P293,'Formula Sheet 1'!$D293,FALSE)","v":0},{"$f":"IF('Formula Sheet 1'!B293>10, (0.00005*(D293^2))+(0.3389*D293)-1.431, 0.1423*(D293^1.2528))","v":0}]
[null,0,"mg/L CaCO3",{"$f":"HLOOKUP(C294,'Formula Sheet 1'!$E$2:$P294,'Formula Sheet 1'!$D294,FALSE)","v":0},{"$f":"IF('Formula Sheet 1'!B294>10, (0.00005*(D294^2))+(0.3389*D294)-1.431, 0.1423*(D294^1.2528))","v":0}]
[null,0,"mg/L CaCO3",{"$f":"HLOOKUP(C295,'Formula Sheet 1'!$E$2:$P295,'Formula Sheet 1'!$D295,FALSE)","v":0},{"$f":"IF('Formula Sheet 1'!B295>10, (0.00005*(D295^2))+(0.3389*D295)-1.431, 0.1423*(D295^1.2528))","v":0}]
[null,0,"mg/L CaCO3",{"$f":"HLOOKUP(C296,'Formula Sheet 1'!$E$2:$P296,'Formula Sheet 1'!$D296,FALSE)","v":0},{"$f":"IF('Formula Sheet 1'!B296>10, (0.00005*(D296^2))+(0.3389*D296)-1.431, 0.1423*(D296^1.2528))","v":0}]
[null,0,"mg/L CaCO3",{"$f":"HLOOKUP(C297,'Formula Sheet 1'!$E$2:$P297,'Formula Sheet 1'!$D297,FALSE)","v":0},{"$f":"IF('Formula Sheet 1'!B297>10, (0.00005*(D297^2))+(0.3389*D297)-1.431, 0.1423*(D297^1.2528))","v":0}]
[null,0,"mg/L CaCO3",{"$f":"HLOOKUP(C298,'Formula Sheet 1'!$E$2:$P298,'Formula Sheet 1'!$D298,FALSE)","v":0},{"$f":"IF('Formula Sheet 1'!B298>10, (0.00005*(D298^2))+(0.3389*D298)-1.431, 0.1423*(D298^1.2528))","v":0}]
[null,0,"mg/L CaCO3",{"$f":"HLOOKUP(C299,'Formula Sheet 1'!$E$2:$P299,'Formula Sheet 1'!$D299,FALSE)","v":0},{"$f":"IF('Formula Sheet 1'!B299>10, (0.00005*(D299^2))+(0.3389*D299)-1.431, 0.1423*(D299^1.2528))","v":0}]
[null,0,"mg/L CaCO3",{"$f":"HLOOKUP(C300,'Formula Sheet 1'!$E$2:$P300,'Formula Sheet 1'!$D300,FALSE)","v":0},{"$f":"IF('Formula Sheet 1'!B300>10, (0.00005*(D300^2))+(0.3389*D300)-1.431, 0.1423*(D300^1.2528))","v":0}]
[null,0,"mg/L CaCO3",{"$f":"HLOOKUP(C301,'Formula Sheet 1'!$E$2:$P301,'Formula Sheet 1'!$D301,FALSE)","v":0},{"$f":"IF('Formula Sheet 1'!B301>10, (0.00005*(D301^2))+(0.3389*D301)-1.431, 0.1423*(D301^1.2528))","v":0}]
[null,0,"mg/L CaCO3",{"$f":"HLOOKUP(C302,'Formula Sheet 1'!$E$2:$P302,'Formula Sheet 1'!$D302,FALSE)","v":0},{"$f":"IF('Formula Sheet 1'!B302>10, (0.00005*(D302^2))+(0.3389*D302)-1.431, 0.1423*(D302^1.2528))","v":0}]
[null,0,"mg/L CaCO3",{"$f":"HLOOKUP(C303,'Formula Sheet 1'!$E$2:$P303,'Formula Sheet 1'!$D303,FALSE)","v":0},{"$f":"IF('Formula Sheet 1'!B303>10, (0.00005*(D303^2))+(0.3389*D303)-1.431, 0.1423*(D303^1.2528))","v":0}]
[null,0,"mg/L CaCO3",{"$f":"HLOOKUP(C304,'Formula Sheet 1'!$E$2:$P304,'Formula Sheet 1'!$D304,FALSE)","v":0},{"$f":"IF('Formula Sheet 1'!B304>10, (0.00005*(D304^2))+(0.3389*D304)-1.431, 0.1423*(D304^1.2528))","v":0}]
[null,0,"mg/L CaCO3",{"$f":"HLOOKUP(C305,'Formula Sheet 1'!$E$2:$P305,'Formula Sheet 1'!$D305,FALSE)","v":0},{"$f":"IF('Formula Sheet 1'!B305>10, (0.00005*(D305^2))+(0.3389*D305)-1.431, 0.1423*(D305^1.2528))","v":0}]
[null,0,"mg/L CaCO3",{"$f":"HLOOKUP(C306,'Formula Sheet 1'!$E$2:$P306,'Formula Sheet 1'!$D306,FALSE)","v":0},{"$f":"IF('Formula Sheet 1'!B306>10, (0.00005*(D306^2))+(0.3389*D306)-1.431, 0.1423*(D306^1.2528))","v":0}]
[null,0,"mg/L CaCO3",{"$f":"HLOOKUP(C307,'Formula Sheet 1'!$E$2:$P307,'Formula Sheet 1'!$D307,FALSE)","v":0},{"$f":"IF('Formula Sheet 1'!B307>10, (0.00005*(D307^2))+(0.3389*D307)-1.431, 0.1423*(D307^1.2528))","v":0}]
[null,0,"mg/L CaCO3",{"$f":"HLOOKUP(C308,'Formula Sheet 1'!$E$2:$P308,'Formula Sheet 1'!$D308,FALSE)","v":0},{"$f":"IF('Formula Sheet 1'!B308>10, (0.00005*(D308^2))+(0.3389*D308)-1.431, 0.1423*(D308^1.2528))","v":0}]
[null,0,"mg/L CaCO3",{"$f":"HLOOKUP(C309,'Formula Sheet 1'!$E$2:$P309,'Formula Sheet 1'!$D309,FALSE)","v":0},{"$f":"IF('Formula Sheet 1'!B309>10, (0.00005*(D309^2))+(0.3389*D309)-1.431, 0.1423*(D309^1.2528))","v":0}]
[null,0,"mg/L CaCO3",{"$f":"HLOOKUP(C310,'Formula Sheet 1'!$E$2:$P310,'Formula Sheet 1'!$D310,FALSE)","v":0},{"$f":"IF('Formula Sheet 1'!B310>10, (0.00005*(D310^2))+(0.3389*D310)-1.431, 0.1423*(D310^1.2528))","v":0}]
[null,0,"mg/L CaCO3",{"$f":"HLOOKUP(C311,'Formula Sheet 1'!$E$2:$P311,'Formula Sheet 1'!$D311,FALSE)","v":0},{"$f":"IF('Formula Sheet 1'!B311>10, (0.00005*(D311^2))+(0.3389*D311)-1.431, 0.1423*(D311^1.2528))","v":0}]
[null,0,"mg/L CaCO3",{"$f":"HLOOKUP(C312,'Formula Sheet 1'!$E$2:$P312,'Formula Sheet 1'!$D312,FALSE)","v":0},{"$f":"IF('Formula Sheet 1'!B312>10, (0.00005*(D312^2))+(0.3389*D312)-1.431, 0.1423*(D312^1.2528))","v":0}]
[null,0,"mg/L CaCO3",{"$f":"HLOOKUP(C313,'Formula Sheet 1'!$E$2:$P313,'Formula Sheet 1'!$D313,FALSE)","v":0},{"$f":"IF('Formula Sheet 1'!B313>10, (0.00005*(D313^2))+(0.3389*D313)-1.431, 0.1423*(D313^1.2528))","v":0}]
[null,0,"mg/L CaCO3",{"$f":"HLOOKUP(C314,'Formula Sheet 1'!$E$2:$P314,'Formula Sheet 1'!$D314,FALSE)","v":0},{"$f":"IF('Formula Sheet 1'!B314>10, (0.00005*(D314^2))+(0.3389*D314)-1.431, 0.1423*(D314^1.2528))","v":0}]
[null,0,"mg/L CaCO3",{"$f":"HLOOKUP(C315,'Formula Sheet 1'!$E$2:$P315,'Formula Sheet 1'!$D315,FALSE)","v":0},{"$f":"IF('Formula Sheet 1'!B315>10, (0.00005*(D315^2))+(0.3389*D315)-1.431, 0.1423*(D315^1.2528))","v":0}]
[null,0,"mg/L CaCO3",{"$f":"HLOOKUP(C316,'Formula Sheet 1'!$E$2:$P316,'Formula Sheet 1'!$D316,FALSE)","v":0},{"$f":"IF('Formula Sheet 1'!B316>10, (0.00005*(D316^2))+(0.3389*D316)-1.431, 0.1423*(D316^1.2528))","v":0}]
[null,0,"mg/L CaCO3",{"$f":"HLOOKUP(C317,'Formula Sheet 1'!$E$2:$P317,'Formula Sheet 1'!$D317,FALSE)","v":0},{"$f":"IF('Formula Sheet 1'!B317>10, (0.00005*(D317^2))+(0.3389*D317)-1.431, 0.1423*(D317^1.2528))","v":0}]
[null,0,"mg/L CaCO3",{"$f":"HLOOKUP(C318,'Formula Sheet 1'!$E$2:$P318,'Formula Sheet 1'!$D318,FALSE)","v":0},{"$f":"IF('Formula Sheet 1'!B318>10, (0.00005*(D318^2))+(0.3389*D318)-1.431, 0.1423*(D318^1.2528))","v":0}]
[null,0,"mg/L CaCO3",{"$f":"HLOOKUP(C319,'Formula Sheet 1'!$E$2:$P319,'Formula Sheet 1'!$D319,FALSE)","v":0},{"$f":"IF('Formula Sheet 1'!B319>10, (0.00005*(D319^2))+(0.3389*D319)-1.431, 0.1423*(D319^1.2528))","v":0}]
[null,0,"mg/L CaCO3",{"$f":"HLOOKUP(C320,'Formula Sheet 1'!$E$2:$P320,'Formula Sheet 1'!$D320,FALSE)","v":0},{"$f":"IF('Formula Sheet 1'!B320>10, (0.00005*(D320^2))+(0.3389*D320)-1.431, 0.1423*(D320^1.2528))","v":0}]
[null,0,"mg/L CaCO3",{"$f":"HLOOKUP(C321,'Formula Sheet 1'!$E$2:$P321,'Formula Sheet 1'!$D321,FALSE)","v":0},{"$f":"IF('Formula Sheet 1'!B321>10, (0.00005*(D321^2))+(0.3389*D321)-1.431, 0.1423*(D321^1.2528))","v":0}]
[null,0,"mg/L CaCO3",{"$f":"HLOOKUP(C322,'Formula Sheet 1'!$E$2:$P322,'Formula Sheet 1'!$D322,FALSE)","v":0},{"$f":"IF('Formula Sheet 1'!B322>10, (0.00005*(D322^2))+(0.3389*D322)-1.431, 0.1423*(D322^1.2528))","v":0}]
[null,0,"mg/L CaCO3",{"$f":"HLOOKUP(C323,'Formula Sheet 1'!$E$2:$P323,'Formula Sheet 1'!$D323,FALSE)","v":0},{"$f":"IF('Formula Sheet 1'!B323>10, (0.00005*(D323^2))+(0.3389*D323)-1.431, 0.1423*(D323^1.2528))","v":0}]
[null,0,"mg/L CaCO3",{"$f":"HLOOKUP(C324,'Formula Sheet 1'!$E$2:$P324,'Formula Sheet 1'!$D324,FALSE)","v":0},{"$f":"IF('Formula Sheet 1'!B324>10, (0.00005*(D324^2))+(0.3389*D324)-1.431, 0.1423*(D324^1.2528))","v":0}]
[null,0,{"$f":"C324","v":"mg/L CaCO3"},{"$f":"HLOOKUP(C325,'Formula Sheet 1'!$E$2:$P325,'Formula Sheet 1'!$D325,FALSE)","v":0},{"$f":"IF('Formula Sheet 1'!B325>10, (0.00005*(D325^2))+(0.3389*D325)-1.431, 0.1423*(D325^1.2528))","v":0}]
[null,0,"mg/L CaCO3",{"$f":"HLOOKUP(C326,'Formula Sheet 1'!$E$2:$P326,'Formula Sheet 1'!$D326,FALSE)","v":0},{"$f":"IF('Formula Sheet 1'!B326>10, (0.00005*(D326^2))+(0.3389*D326)-1.431, 0.1423*(D326^1.2528))","v":0}]
[null,0,"mg/L CaCO3",{"$f":"HLOOKUP(C327,'Formula Sheet 1'!$E$2:$P327,'Formula Sheet 1'!$D327,FALSE)","v":0},{"$f":"IF('Formula Sheet 1'!B327>10, (0.00005*(D327^2))+(0.3389*D327)-1.431, 0.1423*(D327^1.2528))","v":0}]
[null,0,"mg/L CaCO3",{"$f":"HLOOKUP(C328,'Formula Sheet 1'!$E$2:$P328,'Formula Sheet 1'!$D328,FALSE)","v":0},{"$f":"IF('Formula Sheet 1'!B328>10, (0.00005*(D328^2))+(0.3389*D328)-1.431, 0.1423*(D328^1.2528))","v":0}]
[null,0,"mg/L CaCO3",{"$f":"HLOOKUP(C329,'Formula Sheet 1'!$E$2:$P329,'Formula Sheet 1'!$D329,FALSE)","v":0},{"$f":"IF('Formula Sheet 1'!B329>10, (0.00005*(D329^2))+(0.3389*D329)-1.431, 0.1423*(D329^1.2528))","v":0}]
[null,0,"mg/L CaCO3",{"$f":"HLOOKUP(C330,'Formula Sheet 1'!$E$2:$P330,'Formula Sheet 1'!$D330,FALSE)","v":0},{"$f":"IF('Formula Sheet 1'!B330>10, (0.00005*(D330^2))+(0.3389*D330)-1.431, 0.1423*(D330^1.2528))","v":0}]
[null,0,"mg/L CaCO3",{"$f":"HLOOKUP(C331,'Formula Sheet 1'!$E$2:$P331,'Formula Sheet 1'!$D331,FALSE)","v":0},{"$f":"IF('Formula Sheet 1'!B331>10, (0.00005*(D331^2))+(0.3389*D331)-1.431, 0.1423*(D331^1.2528))","v":0}]
[null,0,"mg/L CaCO3",{"$f":"HLOOKUP(C332,'Formula Sheet 1'!$E$2:$P332,'Formula Sheet 1'!$D332,FALSE)","v":0},{"$f":"IF('Formula Sheet 1'!B332>10, (0.00005*(D332^2))+(0.3389*D332)-1.431, 0.1423*(D332^1.2528))","v":0}]
[null,0,"mg/L CaCO3",{"$f":"HLOOKUP(C333,'Formula Sheet 1'!$E$2:$P333,'Formula Sheet 1'!$D333,FALSE)","v":0},{"$f":"IF('Formula Sheet 1'!B333>10, (0.00005*(D333^2))+(0.3389*D333)-1.431, 0.1423*(D333^1.2528))","v":0}]
[null,0,"mg/L CaCO3",{"$f":"HLOOKUP(C334,'Formula Sheet 1'!$E$2:$P334,'Formula Sheet 1'!$D334,FALSE)","v":0},{"$f":"IF('Formula Sheet 1'!B334>10, (0.00005*(D334^2))+(0.3389*D334)-1.431, 0.1423*(D334^1.2528))","v":0}]
[null,0,"mg/L CaCO3",{"$f":"HLOOKUP(C335,'Formula Sheet 1'!$E$2:$P335,'Formula Sheet 1'!$D335,FALSE)","v":0},{"$f":"IF('Formula Sheet 1'!B335>10, (0.00005*(D335^2))+(0.3389*D335)-1.431, 0.1423*(D335^1.2528))","v":0}]
[null,0,"mg/L CaCO3",{"$f":"HLOOKUP(C336,'Formula Sheet 1'!$E$2:$P336,'Formula Sheet 1'!$D336,FALSE)","v":0},{"$f":"IF('Formula Sheet 1'!B336>10, (0.00005*(D336^2))+(0.3389*D336)-1.431, 0.1423*(D336^1.2528))","v":0}]
[null,0,"mg/L CaCO3",{"$f":"HLOOKUP(C337,'Formula Sheet 1'!$E$2:$P337,'Formula Sheet 1'!$D337,FALSE)","v":0},{"$f":"IF('Formula Sheet 1'!B337>10, (0.00005*(D337^2))+(0.3389*D337)-1.431, 0.1423*(D337^1.2528))","v":0}]
[null,0,"mg/L CaCO3",{"$f":"HLOOKUP(C338,'Formula Sheet 1'!$E$2:$P338,'Formula Sheet 1'!$D338,FALSE)","v":0},{"$f":"IF('Formula Sheet 1'!B338>10, (0.00005*(D338^2))+(0.3389*D338)-1.431, 0.1423*(D338^1.2528))","v":0}]
[null,0,"mg/L CaCO3",{"$f":"HLOOKUP(C339,'Formula Sheet 1'!$E$2:$P339,'Formula Sheet 1'!$D339,FALSE)","v":0},{"$f":"IF('Formula Sheet 1'!B339>10, (0.00005*(D339^2))+(0.3389*D339)-1.431, 0.1423*(D339^1.2528))","v":0}]
[null,0,"mg/L CaCO3",{"$f":"HLOOKUP(C340,'Formula Sheet 1'!$E$2:$P340,'Formula Sheet 1'!$D340,FALSE)","v":0},{"$f":"IF('Formula Sheet 1'!B340>10, (0.00005*(D340^2))+(0.3389*D340)-1.431, 0.1423*(D340^1.2528))","v":0}]
[null,0,"mg/L CaCO3",{"$f":"HLOOKUP(C341,'Formula Sheet 1'!$E$2:$P341,'Formula Sheet 1'!$D341,FALSE)","v":0},{"$f":"IF('Formula Sheet 1'!B341>10, (0.00005*(D341^2))+(0.3389*D341)-1.431, 0.1423*(D341^1.2528))","v":0}]
[null,0,"mg/L CaCO3",{"$f":"HLOOKUP(C342,'Formula Sheet 1'!$E$2:$P342,'Formula Sheet 1'!$D342,FALSE)","v":0},{"$f":"IF('Formula Sheet 1'!B342>10, (0.00005*(D342^2))+(0.3389*D342)-1.431, 0.1423*(D342^1.2528))","v":0}]
[null,0,"mg/L CaCO3",{"$f":"HLOOKUP(C343,'Formula Sheet 1'!$E$2:$P343,'Formula Sheet 1'!$D343,FALSE)","v":0},{"$f":"IF('Formula Sheet 1'!B343>10, (0.00005*(D343^2))+(0.3389*D343)-1.431, 0.1423*(D343^1.2528))","v":0}]
[null,0,"mg/L CaCO3",{"$f":"HLOOKUP(C344,'Formula Sheet 1'!$E$2:$P344,'Formula Sheet 1'!$D344,FALSE)","v":0},{"$f":"IF('Formula Sheet 1'!B344>10, (0.00005*(D344^2))+(0.3389*D344)-1.431, 0.1423*(D344^1.2528))","v":0}]
[null,0,"mg/L CaCO3",{"$f":"HLOOKUP(C345,'Formula Sheet 1'!$E$2:$P345,'Formula Sheet 1'!$D345,FALSE)","v":0},{"$f":"IF('Formula Sheet 1'!B345>10, (0.00005*(D345^2))+(0.3389*D345)-1.431, 0.1423*(D345^1.2528))","v":0}]
[null,0,"mg/L CaCO3",{"$f":"HLOOKUP(C346,'Formula Sheet 1'!$E$2:$P346,'Formula Sheet 1'!$D346,FALSE)","v":0},{"$f":"IF('Formula Sheet 1'!B346>10, (0.00005*(D346^2))+(0.3389*D346)-1.431, 0.1423*(D346^1.2528))","v":0}]
[null,0,"mg/L CaCO3",{"$f":"HLOOKUP(C347,'Formula Sheet 1'!$E$2:$P347,'Formula Sheet 1'!$D347,FALSE)","v":0},{"$f":"IF('Formula Sheet 1'!B347>10, (0.00005*(D347^2))+(0.3389*D347)-1.431, 0.1423*(D347^1.2528))","v":0}]
[null,0,"mg/L CaCO3",{"$f":"HLOOKUP(C348,'Formula Sheet 1'!$E$2:$P348,'Formula Sheet 1'!$D348,FALSE)","v":0},{"$f":"IF('Formula Sheet 1'!B348>10, (0.00005*(D348^2))+(0.3389*D348)-1.431, 0.1423*(D348^1.2528))","v":0}]
[null,0,"mg/L CaCO3",{"$f":"HLOOKUP(C349,'Formula Sheet 1'!$E$2:$P349,'Formula Sheet 1'!$D349,FALSE)","v":0},{"$f":"IF('Formula Sheet 1'!B349>10, (0.00005*(D349^2))+(0.3389*D349)-1.431, 0.1423*(D349^1.2528))","v":0}]
[null,0,"mg/L CaCO3",{"$f":"HLOOKUP(C350,'Formula Sheet 1'!$E$2:$P350,'Formula Sheet 1'!$D350,FALSE)","v":0},{"$f":"IF('Formula Sheet 1'!B350>10, (0.00005*(D350^2))+(0.3389*D350)-1.431, 0.1423*(D350^1.2528))","v":0}]
[null,0,"mg/L CaCO3",{"$f":"HLOOKUP(C351,'Formula Sheet 1'!$E$2:$P351,'Formula Sheet 1'!$D351,FALSE)","v":0},{"$f":"IF('Formula Sheet 1'!B351>10, (0.00005*(D351^2))+(0.3389*D351)-1.431, 0.1423*(D351^1.2528))","v":0}]
[null,0,"mg/L CaCO3",{"$f":"HLOOKUP(C352,'Formula Sheet 1'!$E$2:$P352,'Formula Sheet 1'!$D352,FALSE)","v":0},{"$f":"IF('Formula Sheet 1'!B352>10, (0.00005*(D352^2))+(0.3389*D352)-1.431, 0.1423*(D352^1.2528))","v":0}]
[null,0,"mg/L CaCO3",{"$f":"HLOOKUP(C353,'Formula Sheet 1'!$E$2:$P353,'Formula Sheet 1'!$D353,FALSE)","v":0},{"$f":"IF('Formula Sheet 1'!B353>10, (0.00005*(D353^2))+(0.3389*D353)-1.431, 0.1423*(D353^1.2528))","v":0}]
[null,0,"mg/L CaCO3",{"$f":"HLOOKUP(C354,'Formula Sheet 1'!$E$2:$P354,'Formula Sheet 1'!$D354,FALSE)","v":0},{"$f":"IF('Formula Sheet 1'!B354>10, (0.00005*(D354^2))+(0.3389*D354)-1.431, 0.1423*(D354^1.2528))","v":0}]
[null,0,"mg/L CaCO3",{"$f":"HLOOKUP(C355,'Formula Sheet 1'!$E$2:$P355,'Formula Sheet 1'!$D355,FALSE)","v":0},{"$f":"IF('Formula Sheet 1'!B355>10, (0.00005*(D355^2))+(0.3389*D355)-1.431, 0.1423*(D355^1.2528))","v":0}]
[null,0,"mg/L CaCO3",{"$f":"HLOOKUP(C356,'Formula Sheet 1'!$E$2:$P356,'Formula Sheet 1'!$D356,FALSE)","v":0},{"$f":"IF('Formula Sheet 1'!B356>10, (0.00005*(D356^2))+(0.3389*D356)-1.431, 0.1423*(D356^1.2528))","v":0}]
[null,0,"mg/L CaCO3",{"$f":"HLOOKUP(C357,'Formula Sheet 1'!$E$2:$P357,'Formula Sheet 1'!$D357,FALSE)","v":0},{"$f":"IF('Formula Sheet 1'!B357>10, (0.00005*(D357^2))+(0.3389*D357)-1.431, 0.1423*(D357^1.2528))","v":0}]
[null,0,"mg/L CaCO3",{"$f":"HLOOKUP(C358,'Formula Sheet 1'!$E$2:$P358,'Formula Sheet 1'!$D358,FALSE)","v":0},{"$f":"IF('Formula Sheet 1'!B358>10, (0.00005*(D358^2))+(0.3389*D358)-1.431, 0.1423*(D358^1.2528))","v":0}]
[null,0,"mg/L CaCO3",{"$f":"HLOOKUP(C359,'Formula Sheet 1'!$E$2:$P359,'Formula Sheet 1'!$D359,FALSE)","v":0},{"$f":"IF('Formula Sheet 1'!B359>10, (0.00005*(D359^2))+(0.3389*D359)-1.431, 0.1423*(D359^1.2528))","v":0}]
[null,0,"mg/L CaCO3",{"$f":"HLOOKUP(C360,'Formula Sheet 1'!$E$2:$P360,'Formula Sheet 1'!$D360,FALSE)","v":0},{"$f":"IF('Formula Sheet 1'!B360>10, (0.00005*(D360^2))+(0.3389*D360)-1.431, 0.1423*(D360^1.2528))","v":0}]
[null,0,"mg/L CaCO3",{"$f":"HLOOKUP(C361,'Formula Sheet 1'!$E$2:$P361,'Formula Sheet 1'!$D361,FALSE)","v":0},{"$f":"IF('Formula Sheet 1'!B361>10, (0.00005*(D361^2))+(0.3389*D361)-1.431, 0.1423*(D361^1.2528))","v":0}]
[null,0,"mg/L CaCO3",{"$f":"HLOOKUP(C362,'Formula Sheet 1'!$E$2:$P362,'Formula Sheet 1'!$D362,FALSE)","v":0},{"$f":"IF('Formula Sheet 1'!B362>10, (0.00005*(D362^2))+(0.3389*D362)-1.431, 0.1423*(D362^1.2528))","v":0}]
[null,0,"mg/L CaCO3",{"$f":"HLOOKUP(C363,'Formula Sheet 1'!$E$2:$P363,'Formula Sheet 1'!$D363,FALSE)","v":0},{"$f":"IF('Formula Sheet 1'!B363>10, (0.00005*(D363^2))+(0.3389*D363)-1.431, 0.1423*(D363^1.2528))","v":0}]
[null,0,"mg/L CaCO3",{"$f":"HLOOKUP(C364,'Formula Sheet 1'!$E$2:$P364,'Formula Sheet 1'!$D364,FALSE)","v":0},{"$f":"IF('Formula Sheet 1'!B364>10, (0.00005*(D364^2))+(0.3389*D364)-1.431, 0.1423*(D364^1.2528))","v":0}]
[null,0,"mg/L CaCO3",{"$f":"HLOOKUP(C365,'Formula Sheet 1'!$E$2:$P365,'Formula Sheet 1'!$D365,FALSE)","v":0},{"$f":"IF('Formula Sheet 1'!B365>10, (0.00005*(D365^2))+(0.3389*D365)-1.431, 0.1423*(D365^1.2528))","v":0}]
[null,0,"mg/L CaCO3",{"$f":"HLOOKUP(C366,'Formula Sheet 1'!$E$2:$P366,'Formula Sheet 1'!$D366,FALSE)","v":0},{"$f":"IF('Formula Sheet 1'!B366>10, (0.00005*(D366^2))+(0.3389*D366)-1.431, 0.1423*(D366^1.2528))","v":0}]
[null,0,"mg/L CaCO3",{"$f":"HLOOKUP(C367,'Formula Sheet 1'!$E$2:$P367,'Formula Sheet 1'!$D367,FALSE)","v":0},{"$f":"IF('Formula Sheet 1'!B367>10, (0.00005*(D367^2))+(0.3389*D367)-1.431, 0.1423*(D367^1.2528))","v":0}]
[null,0,"mg/L CaCO3",{"$f":"HLOOKUP(C368,'Formula Sheet 1'!$E$2:$P368,'Formula Sheet 1'!$D368,FALSE)","v":0},{"$f":"IF('Formula Sheet 1'!B368>10, (0.00005*(D368^2))+(0.3389*D368)-1.431, 0.1423*(D368^1.2528))","v":0}]
[null,0,"mg/L CaCO3",{"$f":"HLOOKUP(C369,'Formula Sheet 1'!$E$2:$P369,'Formula Sheet 1'!$D369,FALSE)","v":0},{"$f":"IF('Formula Sheet 1'!B369>10, (0.00005*(D369^2))+(0.3389*D369)-1.431, 0.1423*(D369^1.2528))","v":0}]
[null,0,"mg/L CaCO3",{"$f":"HLOOKUP(C370,'Formula Sheet 1'!$E$2:$P370,'Formula Sheet 1'!$D370,FALSE)","v":0},{"$f":"IF('Formula Sheet 1'!B370>10, (0.00005*(D370^2))+(0.3389*D370)-1.431, 0.1423*(D370^1.2528))","v":0}]
[null,0,"mg/L CaCO3",{"$f":"HLOOKUP(C371,'Formula Sheet 1'!$E$2:$P371,'Formula Sheet 1'!$D371,FALSE)","v":0},{"$f":"IF('Formula Sheet 1'!B371>10, (0.00005*(D371^2))+(0.3389*D371)-1.431, 0.1423*(D371^1.2528))","v":0}]
[null,0,"mg/L CaCO3",{"$f":"HLOOKUP(C372,'Formula Sheet 1'!$E$2:$P372,'Formula Sheet 1'!$D372,FALSE)","v":0},{"$f":"IF('Formula Sheet 1'!B372>10, (0.00005*(D372^2))+(0.3389*D372)-1.431, 0.1423*(D372^1.2528))","v":0}]
[null,0,"mg/L CaCO3",{"$f":"HLOOKUP(C373,'Formula Sheet 1'!$E$2:$P373,'Formula Sheet 1'!$D373,FALSE)","v":0},{"$f":"IF('Formula Sheet 1'!B373>10, (0.00005*(D373^2))+(0.3389*D373)-1.431, 0.1423*(D373^1.2528))","v":0}]
[null,0,"mg/L CaCO3",{"$f":"HLOOKUP(C374,'Formula Sheet 1'!$E$2:$P374,'Formula Sheet 1'!$D374,FALSE)","v":0},{"$f":"IF('Formula Sheet 1'!B374>10, (0.00005*(D374^2))+(0.3389*D374)-1.431, 0.1423*(D374^1.2528))","v":0}]
[null,0,"mg/L CaCO3",{"$f":"HLOOKUP(C375,'Formula Sheet 1'!$E$2:$P375,'Formula Sheet 1'!$D375,FALSE)","v":0},{"$f":"IF('Formula Sheet 1'!B375>10, (0.00005*(D375^2))+(0.3389*D375)-1.431, 0.1423*(D375^1.2528))","v":0}]
[null,0,"mg/L CaCO3",{"$f":"HLOOKUP(C376,'Formula Sheet 1'!$E$2:$P376,'Formula Sheet 1'!$D376,FALSE)","v":0},{"$f":"IF('Formula Sheet 1'!B376>10, (0.00005*(D376^2))+(0.3389*D376)-1.431, 0.1423*(D376^1.2528))","v":0}]
[null,0,"mg/L CaCO3",{"$f":"HLOOKUP(C377,'Formula Sheet 1'!$E$2:$P377,'Formula Sheet 1'!$D377,FALSE)","v":0},{"$f":"IF('Formula Sheet 1'!B377>10, (0.00005*(D377^2))+(0.3389*D377)-1.431, 0.1423*(D377^1.2528))","v":0}]
[null,0,"mg/L CaCO3",{"$f":"HLOOKUP(C378,'Formula Sheet 1'!$E$2:$P378,'Formula Sheet 1'!$D378,FALSE)","v":0},{"$f":"IF('Formula Sheet 1'!B378>10, (0.00005*(D378^2))+(0.3389*D378)-1.431, 0.1423*(D378^1.2528))","v":0}]
[null,0,"mg/L CaCO3",{"$f":"HLOOKUP(C379,'Formula Sheet 1'!$E$2:$P379,'Formula Sheet 1'!$D379,FALSE)","v":0},{"$f":"IF('Formula Sheet 1'!B379>10, (0.00005*(D379^2))+(0.3389*D379)-1.431, 0.1423*(D379^1.2528))","v":0}]
[null,0,"mg/L CaCO3",{"$f":"HLOOKUP(C380,'Formula Sheet 1'!$E$2:$P380,'Formula Sheet 1'!$D380,FALSE)","v":0},{"$f":"IF('Formula Sheet 1'!B380>10, (0.00005*(D380^2))+(0.3389*D380)-1.431, 0.1423*(D380^1.2528))","v":0}]
[null,0,"mg/L CaCO3",{"$f":"HLOOKUP(C381,'Formula Sheet 1'!$E$2:$P381,'Formula Sheet 1'!$D381,FALSE)","v":0},{"$f":"IF('Formula Sheet 1'!B381>10, (0.00005*(D381^2))+(0.3389*D381)-1.431, 0.1423*(D381^1.2528))","v":0}]
[null,0,"mg/L CaCO3",{"$f":"HLOOKUP(C382,'Formula Sheet 1'!$E$2:$P382,'Formula Sheet 1'!$D382,FALSE)","v":0},{"$f":"IF('Formula Sheet 1'!B382>10, (0.00005*(D382^2))+(0.3389*D382)-1.431, 0.1423*(D382^1.2528))","v":0}]
[null,0,"mg/L CaCO3",{"$f":"HLOOKUP(C383,'Formula Sheet 1'!$E$2:$P383,'Formula Sheet 1'!$D383,FALSE)","v":0},{"$f":"IF('Formula Sheet 1'!B383>10, (0.00005*(D383^2))+(0.3389*D383)-1.431, 0.1423*(D383^1.2528))","v":0}]
[null,0,"mg/L CaCO3",{"$f":"HLOOKUP(C384,'Formula Sheet 1'!$E$2:$P384,'Formula Sheet 1'!$D384,FALSE)","v":0},{"$f":"IF('Formula Sheet 1'!B384>10, (0.00005*(D384^2))+(0.3389*D384)-1.431, 0.1423*(D384^1.2528))","v":0}]
[null,0,"mg/L CaCO3",{"$f":"HLOOKUP(C385,'Formula Sheet 1'!$E$2:$P385,'Formula Sheet 1'!$D385,FALSE)","v":0},{"$f":"IF('Formula Sheet 1'!B385>10, (0.00005*(D385^2))+(0.3389*D385)-1.431, 0.1423*(D385^1.2528))","v":0}]
[null,0,"mg/L CaCO3",{"$f":"HLOOKUP(C386,'Formula Sheet 1'!$E$2:$P386,'Formula Sheet 1'!$D386,FALSE)","v":0},{"$f":"IF('Formula Sheet 1'!B386>10, (0.00005*(D386^2))+(0.3389*D386)-1.431, 0.1423*(D386^1.2528))","v":0}]
[null,0,"mg/L CaCO3",{"$f":"HLOOKUP(C387,'Formula Sheet 1'!$E$2:$P387,'Formula Sheet 1'!$D387,FALSE)","v":0},{"$f":"IF('Formula Sheet 1'!B387>10, (0.00005*(D387^2))+(0.3389*D387)-1.431, 0.1423*(D387^1.2528))","v":0}]
[null,0,"mg/L CaCO3",{"$f":"HLOOKUP(C388,'Formula Sheet 1'!$E$2:$P388,'Formula Sheet 1'!$D388,FALSE)","v":0},{"$f":"IF('Formula Sheet 1'!B388>10, (0.00005*(D388^2))+(0.3389*D388)-1.431, 0.1423*(D388^1.2528))","v":0}]
[null,0,{"$f":"C388","v":"mg/L CaCO3"},{"$f":"HLOOKUP(C389,'Formula Sheet 1'!$E$2:$P389,'Formula Sheet 1'!$D389,FALSE)","v":0},{"$f":"IF('Formula Sheet 1'!B389>10, (0.00005*(D389^2))+(0.3389*D389)-1.431, 0.1423*(D389^1.2528))","v":0}]
[null,0,"mg/L CaCO3",{"$f":"HLOOKUP(C390,'Formula Sheet 1'!$E$2:$P390,'Formula Sheet 1'!$D390,FALSE)","v":0},{"$f":"IF('Formula Sheet 1'!B390>10, (0.00005*(D390^2))+(0.3389*D390)-1.431, 0.1423*(D390^1.2528))","v":0}]
[null,0,"mg/L CaCO3",{"$f":"HLOOKUP(C391,'Formula Sheet 1'!$E$2:$P391,'Formula Sheet 1'!$D391,FALSE)","v":0},{"$f":"IF('Formula Sheet 1'!B391>10, (0.00005*(D391^2))+(0.3389*D391)-1.431, 0.1423*(D391^1.2528))","v":0}]
[null,0,"mg/L CaCO3",{"$f":"HLOOKUP(C392,'Formula Sheet 1'!$E$2:$P392,'Formula Sheet 1'!$D392,FALSE)","v":0},{"$f":"IF('Formula Sheet 1'!B392>10, (0.00005*(D392^2))+(0.3389*D392)-1.431, 0.1423*(D392^1.2528))","v":0}]
[null,0,"mg/L CaCO3",{"$f":"HLOOKUP(C393,'Formula Sheet 1'!$E$2:$P393,'Formula Sheet 1'!$D393,FALSE)","v":0},{"$f":"IF('Formula Sheet 1'!B393>10, (0.00005*(D393^2))+(0.3389*D393)-1.431, 0.1423*(D393^1.2528))","v":0}]
[null,0,"mg/L CaCO3",{"$f":"HLOOKUP(C394,'Formula Sheet 1'!$E$2:$P394,'Formula Sheet 1'!$D394,FALSE)","v":0},{"$f":"IF('Formula Sheet 1'!B394>10, (0.00005*(D394^2))+(0.3389*D394)-1.431, 0.1423*(D394^1.2528))","v":0}]
[null,0,"mg/L CaCO3",{"$f":"HLOOKUP(C395,'Formula Sheet 1'!$E$2:$P395,'Formula Sheet 1'!$D395,FALSE)","v":0},{"$f":"IF('Formula Sheet 1'!B395>10, (0.00005*(D395^2))+(0.3389*D395)-1.431, 0.1423*(D395^1.2528))","v":0}]
[null,0,"mg/L CaCO3",{"$f":"HLOOKUP(C396,'Formula Sheet 1'!$E$2:$P396,'Formula Sheet 1'!$D396,FALSE)","v":0},{"$f":"IF('Formula Sheet 1'!B396>10, (0.00005*(D396^2))+(0.3389*D396)-1.431, 0.1423*(D396^1.2528))","v":0}]
[null,0,"mg/L CaCO3",{"$f":"HLOOKUP(C397,'Formula Sheet 1'!$E$2:$P397,'Formula Sheet 1'!$D397,FALSE)","v":0},{"$f":"IF('Formula Sheet 1'!B397>10, (0.00005*(D397^2))+(0.3389*D397)-1.431, 0.1423*(D397^1.2528))","v":0}]
[null,0,"mg/L CaCO3",{"$f":"HLOOKUP(C398,'Formula Sheet 1'!$E$2:$P398,'Formula Sheet 1'!$D398,FALSE)","v":0},{"$f":"IF('Formula Sheet 1'!B398>10, (0.00005*(D398^2))+(0.3389*D398)-1.431, 0.1423*(D398^1.2528))","v":0}]
[null,0,"mg/L CaCO3",{"$f":"HLOOKUP(C399,'Formula Sheet 1'!$E$2:$P399,'Formula Sheet 1'!$D399,FALSE)","v":0},{"$f":"IF('Formula Sheet 1'!B399>10, (0.00005*(D399^2))+(0.3389*D399)-1.431, 0.1423*(D399^1.2528))","v":0}]
[null,0,"mg/L CaCO3",{"$f":"HLOOKUP(C400,'Formula Sheet 1'!$E$2:$P400,'Formula Sheet 1'!$D400,FALSE)","v":0},{"$f":"IF('Formula Sheet 1'!B400>10, (0.00005*(D400^2))+(0.3389*D400)-1.431, 0.1423*(D400^1.2528))","v":0}]
[null,0,"mg/L CaCO3",{"$f":"HLOOKUP(C401,'Formula Sheet 1'!$E$2:$P401,'Formula Sheet 1'!$D401,FALSE)","v":0},{"$f":"IF('Formula Sheet 1'!B401>10, (0.00005*(D401^2))+(0.3389*D401)-1.431, 0.1423*(D401^1.2528))","v":0}]
[null,0,"mg/L CaCO3",{"$f":"HLOOKUP(C402,'Formula Sheet 1'!$E$2:$P402,'Formula Sheet 1'!$D402,FALSE)","v":0},{"$f":"IF('Formula Sheet 1'!B402>10, (0.00005*(D402^2))+(0.3389*D402)-1.431, 0.1423*(D402^1.2528))","v":0}]
[null,0,"mg/L CaCO3",{"$f":"HLOOKUP(C403,'Formula Sheet 1'!$E$2:$P403,'Formula Sheet 1'!$D403,FALSE)","v":0},{"$f":"IF('Formula Sheet 1'!B403>10, (0.00005*(D403^2))+(0.3389*D403)-1.431, 0.1423*(D403^1.2528))","v":0}]
[null,0,"mg/L CaCO3",{"$f":"HLOOKUP(C404,'Formula Sheet 1'!$E$2:$P404,'Formula Sheet 1'!$D404,FALSE)","v":0},{"$f":"IF('Formula Sheet 1'!B404>10, (0.00005*(D404^2))+(0.3389*D404)-1.431, 0.1423*(D404^1.2528))","v":0}]
[null,0,"mg/L CaCO3",{"$f":"HLOOKUP(C405,'Formula Sheet 1'!$E$2:$P405,'Formula Sheet 1'!$D405,FALSE)","v":0},{"$f":"IF('Formula Sheet 1'!B405>10, (0.00005*(D405^2))+(0.3389*D405)-1.431, 0.1423*(D405^1.2528))","v":0}]
[null,0,"mg/L CaCO3",{"$f":"HLOOKUP(C406,'Formula Sheet 1'!$E$2:$P406,'Formula Sheet 1'!$D406,FALSE)","v":0},{"$f":"IF('Formula Sheet 1'!B406>10, (0.00005*(D406^2))+(0.3389*D406)-1.431, 0.1423*(D406^1.2528))","v":0}]
[null,0,"mg/L CaCO3",{"$f":"HLOOKUP(C407,'Formula Sheet 1'!$E$2:$P407,'Formula Sheet 1'!$D407,FALSE)","v":0},{"$f":"IF('Formula Sheet 1'!B407>10, (0.00005*(D407^2))+(0.3389*D407)-1.431, 0.1423*(D407^1.2528))","v":0}]
[null,0,"mg/L CaCO3",{"$f":"HLOOKUP(C408,'Formula Sheet 1'!$E$2:$P408,'Formula Sheet 1'!$D408,FALSE)","v":0},{"$f":"IF('Formula Sheet 1'!B408>10, (0.00005*(D408^2))+(0.3389*D408)-1.431, 0.1423*(D408^1.2528))","v":0}]
[null,0,"mg/L CaCO3",{"$f":"HLOOKUP(C409,'Formula Sheet 1'!$E$2:$P409,'Formula Sheet 1'!$D409,FALSE)","v":0},{"$f":"IF('Formula Sheet 1'!B409>10, (0.00005*(D409^2))+(0.3389*D409)-1.431, 0.1423*(D409^1.2528))","v":0}]
[null,0,"mg/L CaCO3",{"$f":"HLOOKUP(C410,'Formula Sheet 1'!$E$2:$P410,'Formula Sheet 1'!$D410,FALSE)","v":0},{"$f":"IF('Formula Sheet 1'!B410>10, (0.00005*(D410^2))+(0.3389*D410)-1.431, 0.1423*(D410^1.2528))","v":0}]
[null,0,"mg/L CaCO3",{"$f":"HLOOKUP(C411,'Formula Sheet 1'!$E$2:$P411,'Formula Sheet 1'!$D411,FALSE)","v":0},{"$f":"IF('Formula Sheet 1'!B411>10, (0.00005*(D411^2))+(0.3389*D411)-1.431, 0.1423*(D411^1.2528))","v":0}]
[null,0,"mg/L CaCO3",{"$f":"HLOOKUP(C412,'Formula Sheet 1'!$E$2:$P412,'Formula Sheet 1'!$D412,FALSE)","v":0},{"$f":"IF('Formula Sheet 1'!B412>10, (0.00005*(D412^2))+(0.3389*D412)-1.431, 0.1423*(D412^1.2528))","v":0}]
[null,0,"mg/L CaCO3",{"$f":"HLOOKUP(C413,'Formula Sheet 1'!$E$2:$P413,'Formula Sheet 1'!$D413,FALSE)","v":0},{"$f":"IF('Formula Sheet 1'!B413>10, (0.00005*(D413^2))+(0.3389*D413)-1.431, 0.1423*(D413^1.2528))","v":0}]
[null,0,"mg/L CaCO3",{"$f":"HLOOKUP(C414,'Formula Sheet 1'!$E$2:$P414,'Formula Sheet 1'!$D414,FALSE)","v":0},{"$f":"IF('Formula Sheet 1'!B414>10, (0.00005*(D414^2))+(0.3389*D414)-1.431, 0.1423*(D414^1.2528))","v":0}]
[null,0,"mg/L CaCO3",{"$f":"HLOOKUP(C415,'Formula Sheet 1'!$E$2:$P415,'Formula Sheet 1'!$D415,FALSE)","v":0},{"$f":"IF('Formula Sheet 1'!B415>10, (0.00005*(D415^2))+(0.3389*D415)-1.431, 0.1423*(D415^1.2528))","v":0}]
[null,0,"mg/L CaCO3",{"$f":"HLOOKUP(C416,'Formula Sheet 1'!$E$2:$P416,'Formula Sheet 1'!$D416,FALSE)","v":0},{"$f":"IF('Formula Sheet 1'!B416>10, (0.00005*(D416^2))+(0.3389*D416)-1.431, 0.1423*(D416^1.2528))","v":0}]
[null,0,"mg/L CaCO3",{"$f":"HLOOKUP(C417,'Formula Sheet 1'!$E$2:$P417,'Formula Sheet 1'!$D417,FALSE)","v":0},{"$f":"IF('Formula Sheet 1'!B417>10, (0.00005*(D417^2))+(0.3389*D417)-1.431, 0.1423*(D417^1.2528))","v":0}]
[null,0,"mg/L CaCO3",{"$f":"HLOOKUP(C418,'Formula Sheet 1'!$E$2:$P418,'Formula Sheet 1'!$D418,FALSE)","v":0},{"$f":"IF('Formula Sheet 1'!B418>10, (0.00005*(D418^2))+(0.3389*D418)-1.431, 0.1423*(D418^1.2528))","v":0}]
[null,0,"mg/L CaCO3",{"$f":"HLOOKUP(C419,'Formula Sheet 1'!$E$2:$P419,'Formula Sheet 1'!$D419,FALSE)","v":0},{"$f":"IF('Formula Sheet 1'!B419>10, (0.00005*(D419^2))+(0.3389*D419)-1.431, 0.1423*(D419^1.2528))","v":0}]
[null,0,"mg/L CaCO3",{"$f":"HLOOKUP(C420,'Formula Sheet 1'!$E$2:$P420,'Formula Sheet 1'!$D420,FALSE)","v":0},{"$f":"IF('Formula Sheet 1'!B420>10, (0.00005*(D420^2))+(0.3389*D420)-1.431, 0.1423*(D420^1.2528))","v":0}]
[null,0,"mg/L CaCO3",{"$f":"HLOOKUP(C421,'Formula Sheet 1'!$E$2:$P421,'Formula Sheet 1'!$D421,FALSE)","v":0},{"$f":"IF('Formula Sheet 1'!B421>10, (0.00005*(D421^2))+(0.3389*D421)-1.431, 0.1423*(D421^1.2528))","v":0}]
[null,0,"mg/L CaCO3",{"$f":"HLOOKUP(C422,'Formula Sheet 1'!$E$2:$P422,'Formula Sheet 1'!$D422,FALSE)","v":0},{"$f":"IF('Formula Sheet 1'!B422>10, (0.00005*(D422^2))+(0.3389*D422)-1.431, 0.1423*(D422^1.2528))","v":0}]
[null,0,"mg/L CaCO3",{"$f":"HLOOKUP(C423,'Formula Sheet 1'!$E$2:$P423,'Formula Sheet 1'!$D423,FALSE)","v":0},{"$f":"IF('Formula Sheet 1'!B423>10, (0.00005*(D423^2))+(0.3389*D423)-1.431, 0.1423*(D423^1.2528))","v":0}]
[null,0,"mg/L CaCO3",{"$f":"HLOOKUP(C424,'Formula Sheet 1'!$E$2:$P424,'Formula Sheet 1'!$D424,FALSE)","v":0},{"$f":"IF('Formula Sheet 1'!B424>10, (0.00005*(D424^2))+(0.3389*D424)-1.431, 0.1423*(D424^1.2528))","v":0}]
[null,0,"mg/L CaCO3",{"$f":"HLOOKUP(C425,'Formula Sheet 1'!$E$2:$P425,'Formula Sheet 1'!$D425,FALSE)","v":0},{"$f":"IF('Formula Sheet 1'!B425>10, (0.00005*(D425^2))+(0.3389*D425)-1.431, 0.1423*(D425^1.2528))","v":0}]
[null,0,"mg/L CaCO3",{"$f":"HLOOKUP(C426,'Formula Sheet 1'!$E$2:$P426,'Formula Sheet 1'!$D426,FALSE)","v":0},{"$f":"IF('Formula Sheet 1'!B426>10, (0.00005*(D426^2))+(0.3389*D426)-1.431, 0.1423*(D426^1.2528))","v":0}]
[null,0,"mg/L CaCO3",{"$f":"HLOOKUP(C427,'Formula Sheet 1'!$E$2:$P427,'Formula Sheet 1'!$D427,FALSE)","v":0},{"$f":"IF('Formula Sheet 1'!B427>10, (0.00005*(D427^2))+(0.3389*D427)-1.431, 0.1423*(D427^1.2528))","v":0}]
[null,0,"mg/L CaCO3",{"$f":"HLOOKUP(C428,'Formula Sheet 1'!$E$2:$P428,'Formula Sheet 1'!$D428,FALSE)","v":0},{"$f":"IF('Formula Sheet 1'!B428>10, (0.00005*(D428^2))+(0.3389*D428)-1.431, 0.1423*(D428^1.2528))","v":0}]
[null,0,"mg/L CaCO3",{"$f":"HLOOKUP(C429,'Formula Sheet 1'!$E$2:$P429,'Formula Sheet 1'!$D429,FALSE)","v":0},{"$f":"IF('Formula Sheet 1'!B429>10, (0.00005*(D429^2))+(0.3389*D429)-1.431, 0.1423*(D429^1.2528))","v":0}]
[null,0,"mg/L CaCO3",{"$f":"HLOOKUP(C430,'Formula Sheet 1'!$E$2:$P430,'Formula Sheet 1'!$D430,FALSE)","v":0},{"$f":"IF('Formula Sheet 1'!B430>10, (0.00005*(D430^2))+(0.3389*D430)-1.431, 0.1423*(D430^1.2528))","v":0}]
[null,0,"mg/L CaCO3",{"$f":"HLOOKUP(C431,'Formula Sheet 1'!$E$2:$P431,'Formula Sheet 1'!$D431,FALSE)","v":0},{"$f":"IF('Formula Sheet 1'!B431>10, (0.00005*(D431^2))+(0.3389*D431)-1.431, 0.1423*(D431^1.2528))","v":0}]
[null,0,"mg/L CaCO3",{"$f":"HLOOKUP(C432,'Formula Sheet 1'!$E$2:$P432,'Formula Sheet 1'!$D432,FALSE)","v":0},{"$f":"IF('Formula Sheet 1'!B432>10, (0.00005*(D432^2))+(0.3389*D432)-1.431, 0.1423*(D432^1.2528))","v":0}]
[null,0,"mg/L CaCO3",{"$f":"HLOOKUP(C433,'Formula Sheet 1'!$E$2:$P433,'Formula Sheet 1'!$D433,FALSE)","v":0},{"$f":"IF('Formula Sheet 1'!B433>10, (0.00005*(D433^2))+(0.3389*D433)-1.431, 0.1423*(D433^1.2528))","v":0}]
[null,0,"mg/L CaCO3",{"$f":"HLOOKUP(C434,'Formula Sheet 1'!$E$2:$P434,'Formula Sheet 1'!$D434,FALSE)","v":0},{"$f":"IF('Formula Sheet 1'!B434>10, (0.00005*(D434^2))+(0.3389*D434)-1.431, 0.1423*(D434^1.2528))","v":0}]
[null,0,"mg/L CaCO3",{"$f":"HLOOKUP(C435,'Formula Sheet 1'!$E$2:$P435,'Formula Sheet 1'!$D435,FALSE)","v":0},{"$f":"IF('Formula Sheet 1'!B435>10, (0.00005*(D435^2))+(0.3389*D435)-1.431, 0.1423*(D435^1.2528))","v":0}]
[null,0,"mg/L CaCO3",{"$f":"HLOOKUP(C436,'Formula Sheet 1'!$E$2:$P436,'Formula Sheet 1'!$D436,FALSE)","v":0},{"$f":"IF('Formula Sheet 1'!B436>10, (0.00005*(D436^2))+(0.3389*D436)-1.431, 0.1423*(D436^1.2528))","v":0}]
[null,0,"mg/L CaCO3",{"$f":"HLOOKUP(C437,'Formula Sheet 1'!$E$2:$P437,'Formula Sheet 1'!$D437,FALSE)","v":0},{"$f":"IF('Formula Sheet 1'!B437>10, (0.00005*(D437^2))+(0.3389*D437)-1.431, 0.1423*(D437^1.2528))","v":0}]
[null,0,"mg/L CaCO3",{"$f":"HLOOKUP(C438,'Formula Sheet 1'!$E$2:$P438,'Formula Sheet 1'!$D438,FALSE)","v":0},{"$f":"IF('Formula Sheet 1'!B438>10, (0.00005*(D438^2))+(0.3389*D438)-1.431, 0.1423*(D438^1.2528))","v":0}]
[null,0,"mg/L CaCO3",{"$f":"HLOOKUP(C439,'Formula Sheet 1'!$E$2:$P439,'Formula Sheet 1'!$D439,FALSE)","v":0},{"$f":"IF('Formula Sheet 1'!B439>10, (0.00005*(D439^2))+(0.3389*D439)-1.431, 0.1423*(D439^1.2528))","v":0}]
[null,0,"mg/L CaCO3",{"$f":"HLOOKUP(C440,'Formula Sheet 1'!$E$2:$P440,'Formula Sheet 1'!$D440,FALSE)","v":0},{"$f":"IF('Formula Sheet 1'!B440>10, (0.00005*(D440^2))+(0.3389*D440)-1.431, 0.1423*(D440^1.2528))","v":0}]
[null,0,"mg/L CaCO3",{"$f":"HLOOKUP(C441,'Formula Sheet 1'!$E$2:$P441,'Formula Sheet 1'!$D441,FALSE)","v":0},{"$f":"IF('Formula Sheet 1'!B441>10, (0.00005*(D441^2))+(0.3389*D441)-1.431, 0.1423*(D441^1.2528))","v":0}]
[null,0,"mg/L CaCO3",{"$f":"HLOOKUP(C442,'Formula Sheet 1'!$E$2:$P442,'Formula Sheet 1'!$D442,FALSE)","v":0},{"$f":"IF('Formula Sheet 1'!B442>10, (0.00005*(D442^2))+(0.3389*D442)-1.431, 0.1423*(D442^1.2528))","v":0}]
[null,0,"mg/L CaCO3",{"$f":"HLOOKUP(C443,'Formula Sheet 1'!$E$2:$P443,'Formula Sheet 1'!$D443,FALSE)","v":0},{"$f":"IF('Formula Sheet 1'!B443>10, (0.00005*(D443^2))+(0.3389*D443)-1.431, 0.1423*(D443^1.2528))","v":0}]
[null,0,"mg/L CaCO3",{"$f":"HLOOKUP(C444,'Formula Sheet 1'!$E$2:$P444,'Formula Sheet 1'!$D444,FALSE)","v":0},{"$f":"IF('Formula Sheet 1'!B444>10, (0.00005*(D444^2))+(0.3389*D444)-1.431, 0.1423*(D444^1.2528))","v":0}]
[null,0,"mg/L CaCO3",{"$f":"HLOOKUP(C445,'Formula Sheet 1'!$E$2:$P445,'Formula Sheet 1'!$D445,FALSE)","v":0},{"$f":"IF('Formula Sheet 1'!B445>10, (0.00005*(D445^2))+(0.3389*D445)-1.431, 0.1423*(D445^1.2528))","v":0}]
[null,0,"mg/L CaCO3",{"$f":"HLOOKUP(C446,'Formula Sheet 1'!$E$2:$P446,'Formula Sheet 1'!$D446,FALSE)","v":0},{"$f":"IF('Formula Sheet 1'!B446>10, (0.00005*(D446^2))+(0.3389*D446)-1.431, 0.1423*(D446^1.2528))","v":0}]
[null,0,"mg/L CaCO3",{"$f":"HLOOKUP(C447,'Formula Sheet 1'!$E$2:$P447,'Formula Sheet 1'!$D447,FALSE)","v":0},{"$f":"IF('Formula Sheet 1'!B447>10, (0.00005*(D447^2))+(0.3389*D447)-1.431, 0.1423*(D447^1.2528))","v":0}]
[null,0,"mg/L CaCO3",{"$f":"HLOOKUP(C448,'Formula Sheet 1'!$E$2:$P448,'Formula Sheet 1'!$D448,FALSE)","v":0},{"$f":"IF('Formula Sheet 1'!B448>10, (0.00005*(D448^2))+(0.3389*D448)-1.431, 0.1423*(D448^1.2528))","v":0}]
[null,0,"mg/L CaCO3",{"$f":"HLOOKUP(C449,'Formula Sheet 1'!$E$2:$P449,'Formula Sheet 1'!$D449,FALSE)","v":0},{"$f":"IF('Formula Sheet 1'!B449>10, (0.00005*(D449^2))+(0.3389*D449)-1.431, 0.1423*(D449^1.2528))","v":0}]
[null,0,"mg/L CaCO3",{"$f":"HLOOKUP(C450,'Formula Sheet 1'!$E$2:$P450,'Formula Sheet 1'!$D450,FALSE)","v":0},{"$f":"IF('Formula Sheet 1'!B450>10, (0.00005*(D450^2))+(0.3389*D450)-1.431, 0.1423*(D450^1.2528))","v":0}]
[null,0,"mg/L CaCO3",{"$f":"HLOOKUP(C451,'Formula Sheet 1'!$E$2:$P451,'Formula Sheet 1'!$D451,FALSE)","v":0},{"$f":"IF('Formula Sheet 1'!B451>10, (0.00005*(D451^2))+(0.3389*D451)-1.431, 0.1423*(D451^1.2528))","v":0}]
[null,0,"mg/L CaCO3",{"$f":"HLOOKUP(C452,'Formula Sheet 1'!$E$2:$P452,'Formula Sheet 1'!$D452,FALSE)","v":0},{"$f":"IF('Formula Sheet 1'!B452>10, (0.00005*(D452^2))+(0.3389*D452)-1.431, 0.1423*(D452^1.2528))","v":0}]
[null,0,{"$f":"C452","v":"mg/L CaCO3"},{"$f":"HLOOKUP(C453,'Formula Sheet 1'!$E$2:$P453,'Formula Sheet 1'!$D453,FALSE)","v":0},{"$f":"IF('Formula Sheet 1'!B453>10, (0.00005*(D453^2))+(0.3389*D453)-1.431, 0.1423*(D453^1.2528))","v":0}]
[null,0,"mg/L CaCO3",{"$f":"HLOOKUP(C454,'Formula Sheet 1'!$E$2:$P454,'Formula Sheet 1'!$D454,FALSE)","v":0},{"$f":"IF('Formula Sheet 1'!B454>10, (0.00005*(D454^2))+(0.3389*D454)-1.431, 0.1423*(D454^1.2528))","v":0}]
[null,0,"mg/L CaCO3",{"$f":"HLOOKUP(C455,'Formula Sheet 1'!$E$2:$P455,'Formula Sheet 1'!$D455,FALSE)","v":0},{"$f":"IF('Formula Sheet 1'!B455>10, (0.00005*(D455^2))+(0.3389*D455)-1.431, 0.1423*(D455^1.2528))","v":0}]
[null,0,"mg/L CaCO3",{"$f":"HLOOKUP(C456,'Formula Sheet 1'!$E$2:$P456,'Formula Sheet 1'!$D456,FALSE)","v":0},{"$f":"IF('Formula Sheet 1'!B456>10, (0.00005*(D456^2))+(0.3389*D456)-1.431, 0.1423*(D456^1.2528))","v":0}]
[null,0,"mg/L CaCO3",{"$f":"HLOOKUP(C457,'Formula Sheet 1'!$E$2:$P457,'Formula Sheet 1'!$D457,FALSE)","v":0},{"$f":"IF('Formula Sheet 1'!B457>10, (0.00005*(D457^2))+(0.3389*D457)-1.431, 0.1423*(D457^1.2528))","v":0}]
[null,0,"mg/L CaCO3",{"$f":"HLOOKUP(C458,'Formula Sheet 1'!$E$2:$P458,'Formula Sheet 1'!$D458,FALSE)","v":0},{"$f":"IF('Formula Sheet 1'!B458>10, (0.00005*(D458^2))+(0.3389*D458)-1.431, 0.1423*(D458^1.2528))","v":0}]
[null,0,"mg/L CaCO3",{"$f":"HLOOKUP(C459,'Formula Sheet 1'!$E$2:$P459,'Formula Sheet 1'!$D459,FALSE)","v":0},{"$f":"IF('Formula Sheet 1'!B459>10, (0.00005*(D459^2))+(0.3389*D459)-1.431, 0.1423*(D459^1.2528))","v":0}]
[null,0,"mg/L CaCO3",{"$f":"HLOOKUP(C460,'Formula Sheet 1'!$E$2:$P460,'Formula Sheet 1'!$D460,FALSE)","v":0},{"$f":"IF('Formula Sheet 1'!B460>10, (0.00005*(D460^2))+(0.3389*D460)-1.431, 0.1423*(D460^1.2528))","v":0}]
[null,0,"mg/L CaCO3",{"$f":"HLOOKUP(C461,'Formula Sheet 1'!$E$2:$P461,'Formula Sheet 1'!$D461,FALSE)","v":0},{"$f":"IF('Formula Sheet 1'!B461>10, (0.00005*(D461^2))+(0.3389*D461)-1.431, 0.1423*(D461^1.2528))","v":0}]
[null,0,"mg/L CaCO3",{"$f":"HLOOKUP(C462,'Formula Sheet 1'!$E$2:$P462,'Formula Sheet 1'!$D462,FALSE)","v":0},{"$f":"IF('Formula Sheet 1'!B462>10, (0.00005*(D462^2))+(0.3389*D462)-1.431, 0.1423*(D462^1.2528))","v":0}]
[null,0,"mg/L CaCO3",{"$f":"HLOOKUP(C463,'Formula Sheet 1'!$E$2:$P463,'Formula Sheet 1'!$D463,FALSE)","v":0},{"$f":"IF('Formula Sheet 1'!B463>10, (0.00005*(D463^2))+(0.3389*D463)-1.431, 0.1423*(D463^1.2528))","v":0}]
[null,0,"mg/L CaCO3",{"$f":"HLOOKUP(C464,'Formula Sheet 1'!$E$2:$P464,'Formula Sheet 1'!$D464,FALSE)","v":0},{"$f":"IF('Formula Sheet 1'!B464>10, (0.00005*(D464^2))+(0.3389*D464)-1.431, 0.1423*(D464^1.2528))","v":0}]
[null,0,"mg/L CaCO3",{"$f":"HLOOKUP(C465,'Formula Sheet 1'!$E$2:$P465,'Formula Sheet 1'!$D465,FALSE)","v":0},{"$f":"IF('Formula Sheet 1'!B465>10, (0.00005*(D465^2))+(0.3389*D465)-1.431, 0.1423*(D465^1.2528))","v":0}]
[null,0,"mg/L CaCO3",{"$f":"HLOOKUP(C466,'Formula Sheet 1'!$E$2:$P466,'Formula Sheet 1'!$D466,FALSE)","v":0},{"$f":"IF('Formula Sheet 1'!B466>10, (0.00005*(D466^2))+(0.3389*D466)-1.431, 0.1423*(D466^1.2528))","v":0}]
[null,0,"mg/L CaCO3",{"$f":"HLOOKUP(C467,'Formula Sheet 1'!$E$2:$P467,'Formula Sheet 1'!$D467,FALSE)","v":0},{"$f":"IF('Formula Sheet 1'!B467>10, (0.00005*(D467^2))+(0.3389*D467)-1.431, 0.1423*(D467^1.2528))","v":0}]
[null,0,"mg/L CaCO3",{"$f":"HLOOKUP(C468,'Formula Sheet 1'!$E$2:$P468,'Formula Sheet 1'!$D468,FALSE)","v":0},{"$f":"IF('Formula Sheet 1'!B468>10, (0.00005*(D468^2))+(0.3389*D468)-1.431, 0.1423*(D468^1.2528))","v":0}]
[null,0,"mg/L CaCO3",{"$f":"HLOOKUP(C469,'Formula Sheet 1'!$E$2:$P469,'Formula Sheet 1'!$D469,FALSE)","v":0},{"$f":"IF('Formula Sheet 1'!B469>10, (0.00005*(D469^2))+(0.3389*D469)-1.431, 0.1423*(D469^1.2528))","v":0}]
[null,0,"mg/L CaCO3",{"$f":"HLOOKUP(C470,'Formula Sheet 1'!$E$2:$P470,'Formula Sheet 1'!$D470,FALSE)","v":0},{"$f":"IF('Formula Sheet 1'!B470>10, (0.00005*(D470^2))+(0.3389*D470)-1.431, 0.1423*(D470^1.2528))","v":0}]
[null,0,"mg/L CaCO3",{"$f":"HLOOKUP(C471,'Formula Sheet 1'!$E$2:$P471,'Formula Sheet 1'!$D471,FALSE)","v":0},{"$f":"IF('Formula Sheet 1'!B471>10, (0.00005*(D471^2))+(0.3389*D471)-1.431, 0.1423*(D471^1.2528))","v":0}]
[null,0,"mg/L CaCO3",{"$f":"HLOOKUP(C472,'Formula Sheet 1'!$E$2:$P472,'Formula Sheet 1'!$D472,FALSE)","v":0},{"$f":"IF('Formula Sheet 1'!B472>10, (0.00005*(D472^2))+(0.3389*D472)-1.431, 0.1423*(D472^1.2528))","v":0}]
[null,0,"mg/L CaCO3",{"$f":"HLOOKUP(C473,'Formula Sheet 1'!$E$2:$P473,'Formula Sheet 1'!$D473,FALSE)","v":0},{"$f":"IF('Formula Sheet 1'!B473>10, (0.00005*(D473^2))+(0.3389*D473)-1.431, 0.1423*(D473^1.2528))","v":0}]
[null,0,"mg/L CaCO3",{"$f":"HLOOKUP(C474,'Formula Sheet 1'!$E$2:$P474,'Formula Sheet 1'!$D474,FALSE)","v":0},{"$f":"IF('Formula Sheet 1'!B474>10, (0.00005*(D474^2))+(0.3389*D474)-1.431, 0.1423*(D474^1.2528))","v":0}]
[null,0,"mg/L CaCO3",{"$f":"HLOOKUP(C475,'Formula Sheet 1'!$E$2:$P475,'Formula Sheet 1'!$D475,FALSE)","v":0},{"$f":"IF('Formula Sheet 1'!B475>10, (0.00005*(D475^2))+(0.3389*D475)-1.431, 0.1423*(D475^1.2528))","v":0}]
[null,0,"mg/L CaCO3",{"$f":"HLOOKUP(C476,'Formula Sheet 1'!$E$2:$P476,'Formula Sheet 1'!$D476,FALSE)","v":0},{"$f":"IF('Formula Sheet 1'!B476>10, (0.00005*(D476^2))+(0.3389*D476)-1.431, 0.1423*(D476^1.2528))","v":0}]
[null,0,"mg/L CaCO3",{"$f":"HLOOKUP(C477,'Formula Sheet 1'!$E$2:$P477,'Formula Sheet 1'!$D477,FALSE)","v":0},{"$f":"IF('Formula Sheet 1'!B477>10, (0.00005*(D477^2))+(0.3389*D477)-1.431, 0.1423*(D477^1.2528))","v":0}]
[null,0,"mg/L CaCO3",{"$f":"HLOOKUP(C478,'Formula Sheet 1'!$E$2:$P478,'Formula Sheet 1'!$D478,FALSE)","v":0},{"$f":"IF('Formula Sheet 1'!B478>10, (0.00005*(D478^2))+(0.3389*D478)-1.431, 0.1423*(D478^1.2528))","v":0}]
[null,0,"mg/L CaCO3",{"$f":"HLOOKUP(C479,'Formula Sheet 1'!$E$2:$P479,'Formula Sheet 1'!$D479,FALSE)","v":0},{"$f":"IF('Formula Sheet 1'!B479>10, (0.00005*(D479^2))+(0.3389*D479)-1.431, 0.1423*(D479^1.2528))","v":0}]
[null,0,"mg/L CaCO3",{"$f":"HLOOKUP(C480,'Formula Sheet 1'!$E$2:$P480,'Formula Sheet 1'!$D480,FALSE)","v":0},{"$f":"IF('Formula Sheet 1'!B480>10, (0.00005*(D480^2))+(0.3389*D480)-1.431, 0.1423*(D480^1.2528))","v":0}]
[null,0,"mg/L CaCO3",{"$f":"HLOOKUP(C481,'Formula Sheet 1'!$E$2:$P481,'Formula Sheet 1'!$D481,FALSE)","v":0},{"$f":"IF('Formula Sheet 1'!B481>10, (0.00005*(D481^2))+(0.3389*D481)-1.431, 0.1423*(D481^1.2528))","v":0}]
[null,0,"mg/L CaCO3",{"$f":"HLOOKUP(C482,'Formula Sheet 1'!$E$2:$P482,'Formula Sheet 1'!$D482,FALSE)","v":0},{"$f":"IF('Formula Sheet 1'!B482>10, (0.00005*(D482^2))+(0.3389*D482)-1.431, 0.1423*(D482^1.2528))","v":0}]
[null,0,"mg/L CaCO3",{"$f":"HLOOKUP(C483,'Formula Sheet 1'!$E$2:$P483,'Formula Sheet 1'!$D483,FALSE)","v":0},{"$f":"IF('Formula Sheet 1'!B483>10, (0.00005*(D483^2))+(0.3389*D483)-1.431, 0.1423*(D483^1.2528))","v":0}]
[null,0,"mg/L CaCO3",{"$f":"HLOOKUP(C484,'Formula Sheet 1'!$E$2:$P484,'Formula Sheet 1'!$D484,FALSE)","v":0},{"$f":"IF('Formula Sheet 1'!B484>10, (0.00005*(D484^2))+(0.3389*D484)-1.431, 0.1423*(D484^1.2528))","v":0}]
[null,0,"mg/L CaCO3",{"$f":"HLOOKUP(C485,'Formula Sheet 1'!$E$2:$P485,'Formula Sheet 1'!$D485,FALSE)","v":0},{"$f":"IF('Formula Sheet 1'!B485>10, (0.00005*(D485^2))+(0.3389*D485)-1.431, 0.1423*(D485^1.2528))","v":0}]
[null,0,"mg/L CaCO3",{"$f":"HLOOKUP(C486,'Formula Sheet 1'!$E$2:$P486,'Formula Sheet 1'!$D486,FALSE)","v":0},{"$f":"IF('Formula Sheet 1'!B486>10, (0.00005*(D486^2))+(0.3389*D486)-1.431, 0.1423*(D486^1.2528))","v":0}]
[null,0,"mg/L CaCO3",{"$f":"HLOOKUP(C487,'Formula Sheet 1'!$E$2:$P487,'Formula Sheet 1'!$D487,FALSE)","v":0},{"$f":"IF('Formula Sheet 1'!B487>10, (0.00005*(D487^2))+(0.3389*D487)-1.431, 0.1423*(D487^1.2528))","v":0}]
[null,0,"mg/L CaCO3",{"$f":"HLOOKUP(C488,'Formula Sheet 1'!$E$2:$P488,'Formula Sheet 1'!$D488,FALSE)","v":0},{"$f":"IF('Formula Sheet 1'!B488>10, (0.00005*(D488^2))+(0.3389*D488)-1.431, 0.1423*(D488^1.2528))","v":0}]
[null,0,"mg/L CaCO3",{"$f":"HLOOKUP(C489,'Formula Sheet 1'!$E$2:$P489,'Formula Sheet 1'!$D489,FALSE)","v":0},{"$f":"IF('Formula Sheet 1'!B489>10, (0.00005*(D489^2))+(0.3389*D489)-1.431, 0.1423*(D489^1.2528))","v":0}]
[null,0,"mg/L CaCO3",{"$f":"HLOOKUP(C490,'Formula Sheet 1'!$E$2:$P490,'Formula Sheet 1'!$D490,FALSE)","v":0},{"$f":"IF('Formula Sheet 1'!B490>10, (0.00005*(D490^2))+(0.3389*D490)-1.431, 0.1423*(D490^1.2528))","v":0}]
[null,0,"mg/L CaCO3",{"$f":"HLOOKUP(C491,'Formula Sheet 1'!$E$2:$P491,'Formula Sheet 1'!$D491,FALSE)","v":0},{"$f":"IF('Formula Sheet 1'!B491>10, (0.00005*(D491^2))+(0.3389*D491)-1.431, 0.1423*(D491^1.2528))","v":0}]
[null,0,"mg/L CaCO3",{"$f":"HLOOKUP(C492,'Formula Sheet 1'!$E$2:$P492,'Formula Sheet 1'!$D492,FALSE)","v":0},{"$f":"IF('Formula Sheet 1'!B492>10, (0.00005*(D492^2))+(0.3389*D492)-1.431, 0.1423*(D492^1.2528))","v":0}]
[null,0,"mg/L CaCO3",{"$f":"HLOOKUP(C493,'Formula Sheet 1'!$E$2:$P493,'Formula Sheet 1'!$D493,FALSE)","v":0},{"$f":"IF('Formula Sheet 1'!B493>10, (0.00005*(D493^2))+(0.3389*D493)-1.431, 0.1423*(D493^1.2528))","v":0}]
[null,0,"mg/L CaCO3",{"$f":"HLOOKUP(C494,'Formula Sheet 1'!$E$2:$P494,'Formula Sheet 1'!$D494,FALSE)","v":0},{"$f":"IF('Formula Sheet 1'!B494>10, (0.00005*(D494^2))+(0.3389*D494)-1.431, 0.1423*(D494^1.2528))","v":0}]
[null,0,"mg/L CaCO3",{"$f":"HLOOKUP(C495,'Formula Sheet 1'!$E$2:$P495,'Formula Sheet 1'!$D495,FALSE)","v":0},{"$f":"IF('Formula Sheet 1'!B495>10, (0.00005*(D495^2))+(0.3389*D495)-1.431, 0.1423*(D495^1.2528))","v":0}]
[null,0,"mg/L CaCO3",{"$f":"HLOOKUP(C496,'Formula Sheet 1'!$E$2:$P496,'Formula Sheet 1'!$D496,FALSE)","v":0},{"$f":"IF('Formula Sheet 1'!B496>10, (0.00005*(D496^2))+(0.3389*D496)-1.431, 0.1423*(D496^1.2528))","v":0}]
[null,0,"mg/L CaCO3",{"$f":"HLOOKUP(C497,'Formula Sheet 1'!$E$2:$P497,'Formula Sheet 1'!$D497,FALSE)","v":0},{"$f":"IF('Formula Sheet 1'!B497>10, (0.00005*(D497^2))+(0.3389*D497)-1.431, 0.1423*(D497^1.2528))","v":0}]
[null,0,"mg/L CaCO3",{"$f":"HLOOKUP(C498,'Formula Sheet 1'!$E$2:$P498,'Formula Sheet 1'!$D498,FALSE)","v":0},{"$f":"IF('Formula Sheet 1'!B498>10, (0.00005*(D498^2))+(0.3389*D498)-1.431, 0.1423*(D498^1.2528))","v":0}]
[null,0,"mg/L CaCO3",{"$f":"HLOOKUP(C499,'Formula Sheet 1'!$E$2:$P499,'Formula Sheet 1'!$D499,FALSE)","v":0},{"$f":"IF('Formula Sheet 1'!B499>10, (0.00005*(D499^2))+(0.3389*D499)-1.431, 0.1423*(D499^1.2528))","v":0}]
[null,0,"mg/L CaCO3",{"$f":"HLOOKUP(C500,'Formula Sheet 1'!$E$2:$P500,'Formula Sheet 1'!$D500,FALSE)","v":0},{"$f":"IF('Formula Sheet 1'!B500>10, (0.00005*(D500^2))+(0.3389*D500)-1.431, 0.1423*(D500^1.2528))","v":0}]
[null,0,"mg/L CaCO3",{"$f":"HLOOKUP(C501,'Formula Sheet 1'!$E$2:$P501,'Formula Sheet 1'!$D501,FALSE)","v":0},{"$f":"IF('Formula Sheet 1'!B501>10, (0.00005*(D501^2))+(0.3389*D501)-1.431, 0.1423*(D501^1.2528))","v":0}]
[null,0,"mg/L CaCO3",{"$f":"HLOOKUP(C502,'Formula Sheet 1'!$E$2:$P502,'Formula Sheet 1'!$D502,FALSE)","v":0},{"$f":"IF('Formula Sheet 1'!B502>10, (0.00005*(D502^2))+(0.3389*D502)-1.431, 0.1423*(D502^1.2528))","v":0}]
[null,0,"mg/L CaCO3",{"$f":"HLOOKUP(C503,'Formula Sheet 1'!$E$2:$P503,'Formula Sheet 1'!$D503,FALSE)","v":0},{"$f":"IF('Formula Sheet 1'!B503>10, (0.00005*(D503^2))+(0.3389*D503)-1.431, 0.1423*(D503^1.2528))","v":0}]
[null,0,"mg/L CaCO3",{"$f":"HLOOKUP(C504,'Formula Sheet 1'!$E$2:$P504,'Formula Sheet 1'!$D504,FALSE)","v":0},{"$f":"IF('Formula Sheet 1'!B504>10, (0.00005*(D504^2))+(0.3389*D504)-1.431, 0.1423*(D504^1.2528))","v":0}]
[null,0,"mg/L CaCO3",{"$f":"HLOOKUP(C505,'Formula Sheet 1'!$E$2:$P505,'Formula Sheet 1'!$D505,FALSE)","v":0},{"$f":"IF('Formula Sheet 1'!B505>10, (0.00005*(D505^2))+(0.3389*D505)-1.431, 0.1423*(D505^1.2528))","v":0}]
[null,0,"mg/L CaCO3",{"$f":"HLOOKUP(C506,'Formula Sheet 1'!$E$2:$P506,'Formula Sheet 1'!$D506,FALSE)","v":0},{"$f":"IF('Formula Sheet 1'!B506>10, (0.00005*(D506^2))+(0.3389*D506)-1.431, 0.1423*(D506^1.2528))","v":0}]
[null,0,"mg/L CaCO3",{"$f":"HLOOKUP(C507,'Formula Sheet 1'!$E$2:$P507,'Formula Sheet 1'!$D507,FALSE)","v":0},{"$f":"IF('Formula Sheet 1'!B507>10, (0.00005*(D507^2))+(0.3389*D507)-1.431, 0.1423*(D507^1.2528))","v":0}]
[null,0,"mg/L CaCO3",{"$f":"HLOOKUP(C508,'Formula Sheet 1'!$E$2:$P508,'Formula Sheet 1'!$D508,FALSE)","v":0},{"$f":"IF('Formula Sheet 1'!B508>10, (0.00005*(D508^2))+(0.3389*D508)-1.431, 0.1423*(D508^1.2528))","v":0}]
[null,0,"mg/L CaCO3",{"$f":"HLOOKUP(C509,'Formula Sheet 1'!$E$2:$P509,'Formula Sheet 1'!$D509,FALSE)","v":0},{"$f":"IF('Formula Sheet 1'!B509>10, (0.00005*(D509^2))+(0.3389*D509)-1.431, 0.1423*(D509^1.2528))","v":0}]
[null,0,"mg/L CaCO3",{"$f":"HLOOKUP(C510,'Formula Sheet 1'!$E$2:$P510,'Formula Sheet 1'!$D510,FALSE)","v":0},{"$f":"IF('Formula Sheet 1'!B510>10, (0.00005*(D510^2))+(0.3389*D510)-1.431, 0.1423*(D510^1.2528))","v":0}]
[null,0,"mg/L CaCO3",{"$f":"HLOOKUP(C511,'Formula Sheet 1'!$E$2:$P511,'Formula Sheet 1'!$D511,FALSE)","v":0},{"$f":"IF('Formula Sheet 1'!B511>10, (0.00005*(D511^2))+(0.3389*D511)-1.431, 0.1423*(D511^1.2528))","v":0}]
[null,0,"mg/L CaCO3",{"$f":"HLOOKUP(C512,'Formula Sheet 1'!$E$2:$P512,'Formula Sheet 1'!$D512,FALSE)","v":0},{"$f":"IF('Formula Sheet 1'!B512>10, (0.00005*(D512^2))+(0.3389*D512)-1.431, 0.1423*(D512^1.2528))","v":0}]
[null,0,"mg/L CaCO3",{"$f":"HLOOKUP(C513,'Formula Sheet 1'!$E$2:$P513,'Formula Sheet 1'!$D513,FALSE)","v":0},{"$f":"IF('Formula Sheet 1'!B513>10, (0.00005*(D513^2))+(0.3389*D513)-1.431, 0.1423*(D513^1.2528))","v":0}]
[null,0,"mg/L CaCO3",{"$f":"HLOOKUP(C514,'Formula Sheet 1'!$E$2:$P514,'Formula Sheet 1'!$D514,FALSE)","v":0},{"$f":"IF('Formula Sheet 1'!B514>10, (0.00005*(D514^2))+(0.3389*D514)-1.431, 0.1423*(D514^1.2528))","v":0}]
[null,0,"mg/L CaCO3",{"$f":"HLOOKUP(C515,'Formula Sheet 1'!$E$2:$P515,'Formula Sheet 1'!$D515,FALSE)","v":0},{"$f":"IF('Formula Sheet 1'!B515>10, (0.00005*(D515^2))+(0.3389*D515)-1.431, 0.1423*(D515^1.2528))","v":0}]
[null,0,"mg/L CaCO3",{"$f":"HLOOKUP(C516,'Formula Sheet 1'!$E$2:$P516,'Formula Sheet 1'!$D516,FALSE)","v":0},{"$f":"IF('Formula Sheet 1'!B516>10, (0.00005*(D516^2))+(0.3389*D516)-1.431, 0.1423*(D516^1.2528))","v":0}]
[null,0,{"$f":"C516","v":"mg/L CaCO3"},{"$f":"HLOOKUP(C517,'Formula Sheet 1'!$E$2:$P517,'Formula Sheet 1'!$D517,FALSE)","v":0},{"$f":"IF('Formula Sheet 1'!B517>10, (0.00005*(D517^2))+(0.3389*D517)-1.431, 0.1423*(D517^1.2528))","v":0}]
[null,0,"mg/L CaCO3",{"$f":"HLOOKUP(C518,'Formula Sheet 1'!$E$2:$P518,'Formula Sheet 1'!$D518,FALSE)","v":0},{"$f":"IF('Formula Sheet 1'!B518>10, (0.00005*(D518^2))+(0.3389*D518)-1.431, 0.1423*(D518^1.2528))","v":0}]
[null,0,"mg/L CaCO3",{"$f":"HLOOKUP(C519,'Formula Sheet 1'!$E$2:$P519,'Formula Sheet 1'!$D519,FALSE)","v":0},{"$f":"IF('Formula Sheet 1'!B519>10, (0.00005*(D519^2))+(0.3389*D519)-1.431, 0.1423*(D519^1.2528))","v":0}]
[null,0,"mg/L CaCO3",{"$f":"HLOOKUP(C520,'Formula Sheet 1'!$E$2:$P520,'Formula Sheet 1'!$D520,FALSE)","v":0},{"$f":"IF('Formula Sheet 1'!B520>10, (0.00005*(D520^2))+(0.3389*D520)-1.431, 0.1423*(D520^1.2528))","v":0}]
[null,0,"mg/L CaCO3",{"$f":"HLOOKUP(C521,'Formula Sheet 1'!$E$2:$P521,'Formula Sheet 1'!$D521,FALSE)","v":0},{"$f":"IF('Formula Sheet 1'!B521>10, (0.00005*(D521^2))+(0.3389*D521)-1.431, 0.1423*(D521^1.2528))","v":0}]
[null,0,"mg/L CaCO3",{"$f":"HLOOKUP(C522,'Formula Sheet 1'!$E$2:$P522,'Formula Sheet 1'!$D522,FALSE)","v":0},{"$f":"IF('Formula Sheet 1'!B522>10, (0.00005*(D522^2))+(0.3389*D522)-1.431, 0.1423*(D522^1.2528))","v":0}]
[null,0,"mg/L CaCO3",{"$f":"HLOOKUP(C523,'Formula Sheet 1'!$E$2:$P523,'Formula Sheet 1'!$D523,FALSE)","v":0},{"$f":"IF('Formula Sheet 1'!B523>10, (0.00005*(D523^2))+(0.3389*D523)-1.431, 0.1423*(D523^1.2528))","v":0}]
[null,0,"mg/L CaCO3",{"$f":"HLOOKUP(C524,'Formula Sheet 1'!$E$2:$P524,'Formula Sheet 1'!$D524,FALSE)","v":0},{"$f":"IF('Formula Sheet 1'!B524>10, (0.00005*(D524^2))+(0.3389*D524)-1.431, 0.1423*(D524^1.2528))","v":0}]
[null,0,"mg/L CaCO3",{"$f":"HLOOKUP(C525,'Formula Sheet 1'!$E$2:$P525,'Formula Sheet 1'!$D525,FALSE)","v":0},{"$f":"IF('Formula Sheet 1'!B525>10, (0.00005*(D525^2))+(0.3389*D525)-1.431, 0.1423*(D525^1.2528))","v":0}]
[null,0,"mg/L CaCO3",{"$f":"HLOOKUP(C526,'Formula Sheet 1'!$E$2:$P526,'Formula Sheet 1'!$D526,FALSE)","v":0},{"$f":"IF('Formula Sheet 1'!B526>10, (0.00005*(D526^2))+(0.3389*D526)-1.431, 0.1423*(D526^1.2528))","v":0}]
[null,0,"mg/L CaCO3",{"$f":"HLOOKUP(C527,'Formula Sheet 1'!$E$2:$P527,'Formula Sheet 1'!$D527,FALSE)","v":0},{"$f":"IF('Formula Sheet 1'!B527>10, (0.00005*(D527^2))+(0.3389*D527)-1.431, 0.1423*(D527^1.2528))","v":0}]
[null,0,"mg/L CaCO3",{"$f":"HLOOKUP(C528,'Formula Sheet 1'!$E$2:$P528,'Formula Sheet 1'!$D528,FALSE)","v":0},{"$f":"IF('Formula Sheet 1'!B528>10, (0.00005*(D528^2))+(0.3389*D528)-1.431, 0.1423*(D528^1.2528))","v":0}]
[null,0,"mg/L CaCO3",{"$f":"HLOOKUP(C529,'Formula Sheet 1'!$E$2:$P529,'Formula Sheet 1'!$D529,FALSE)","v":0},{"$f":"IF('Formula Sheet 1'!B529>10, (0.00005*(D529^2))+(0.3389*D529)-1.431, 0.1423*(D529^1.2528))","v":0}]
[null,0,"mg/L CaCO3",{"$f":"HLOOKUP(C530,'Formula Sheet 1'!$E$2:$P530,'Formula Sheet 1'!$D530,FALSE)","v":0},{"$f":"IF('Formula Sheet 1'!B530>10, (0.00005*(D530^2))+(0.3389*D530)-1.431, 0.1423*(D530^1.2528))","v":0}]
[null,0,"mg/L CaCO3",{"$f":"HLOOKUP(C531,'Formula Sheet 1'!$E$2:$P531,'Formula Sheet 1'!$D531,FALSE)","v":0},{"$f":"IF('Formula Sheet 1'!B531>10, (0.00005*(D531^2))+(0.3389*D531)-1.431, 0.1423*(D531^1.2528))","v":0}]
[null,0,"mg/L CaCO3",{"$f":"HLOOKUP(C532,'Formula Sheet 1'!$E$2:$P532,'Formula Sheet 1'!$D532,FALSE)","v":0},{"$f":"IF('Formula Sheet 1'!B532>10, (0.00005*(D532^2))+(0.3389*D532)-1.431, 0.1423*(D532^1.2528))","v":0}]
[null,0,"mg/L CaCO3",{"$f":"HLOOKUP(C533,'Formula Sheet 1'!$E$2:$P533,'Formula Sheet 1'!$D533,FALSE)","v":0},{"$f":"IF('Formula Sheet 1'!B533>10, (0.00005*(D533^2))+(0.3389*D533)-1.431, 0.1423*(D533^1.2528))","v":0}]
[null,0,"mg/L CaCO3",{"$f":"HLOOKUP(C534,'Formula Sheet 1'!$E$2:$P534,'Formula Sheet 1'!$D534,FALSE)","v":0},{"$f":"IF('Formula Sheet 1'!B534>10, (0.00005*(D534^2))+(0.3389*D534)-1.431, 0.1423*(D534^1.2528))","v":0}]
[null,0,"mg/L CaCO3",{"$f":"HLOOKUP(C535,'Formula Sheet 1'!$E$2:$P535,'Formula Sheet 1'!$D535,FALSE)","v":0},{"$f":"IF('Formula Sheet 1'!B535>10, (0.00005*(D535^2))+(0.3389*D535)-1.431, 0.1423*(D535^1.2528))","v":0}]
[null,0,"mg/L CaCO3",{"$f":"HLOOKUP(C536,'Formula Sheet 1'!$E$2:$P536,'Formula Sheet 1'!$D536,FALSE)","v":0},{"$f":"IF('Formula Sheet 1'!B536>10, (0.00005*(D536^2))+(0.3389*D536)-1.431, 0.1423*(D536^1.2528))","v":0}]
[null,0,"mg/L CaCO3",{"$f":"HLOOKUP(C537,'Formula Sheet 1'!$E$2:$P537,'Formula Sheet 1'!$D537,FALSE)","v":0},{"$f":"IF('Formula Sheet 1'!B537>10, (0.00005*(D537^2))+(0.3389*D537)-1.431, 0.1423*(D537^1.2528))","v":0}]
[null,0,"mg/L CaCO3",{"$f":"HLOOKUP(C538,'Formula Sheet 1'!$E$2:$P538,'Formula Sheet 1'!$D538,FALSE)","v":0},{"$f":"IF('Formula Sheet 1'!B538>10, (0.00005*(D538^2))+(0.3389*D538)-1.431, 0.1423*(D538^1.2528))","v":0}]
[null,0,"mg/L CaCO3",{"$f":"HLOOKUP(C539,'Formula Sheet 1'!$E$2:$P539,'Formula Sheet 1'!$D539,FALSE)","v":0},{"$f":"IF('Formula Sheet 1'!B539>10, (0.00005*(D539^2))+(0.3389*D539)-1.431, 0.1423*(D539^1.2528))","v":0}]
[null,0,"mg/L CaCO3",{"$f":"HLOOKUP(C540,'Formula Sheet 1'!$E$2:$P540,'Formula Sheet 1'!$D540,FALSE)","v":0},{"$f":"IF('Formula Sheet 1'!B540>10, (0.00005*(D540^2))+(0.3389*D540)-1.431, 0.1423*(D540^1.2528))","v":0}]
[null,0,"mg/L CaCO3",{"$f":"HLOOKUP(C541,'Formula Sheet 1'!$E$2:$P541,'Formula Sheet 1'!$D541,FALSE)","v":0},{"$f":"IF('Formula Sheet 1'!B541>10, (0.00005*(D541^2))+(0.3389*D541)-1.431, 0.1423*(D541^1.2528))","v":0}]
[null,0,"mg/L CaCO3",{"$f":"HLOOKUP(C542,'Formula Sheet 1'!$E$2:$P542,'Formula Sheet 1'!$D542,FALSE)","v":0},{"$f":"IF('Formula Sheet 1'!B542>10, (0.00005*(D542^2))+(0.3389*D542)-1.431, 0.1423*(D542^1.2528))","v":0}]
[null,0,"mg/L CaCO3",{"$f":"HLOOKUP(C543,'Formula Sheet 1'!$E$2:$P543,'Formula Sheet 1'!$D543,FALSE)","v":0},{"$f":"IF('Formula Sheet 1'!B543>10, (0.00005*(D543^2))+(0.3389*D543)-1.431, 0.1423*(D543^1.2528))","v":0}]
[null,0,"mg/L CaCO3",{"$f":"HLOOKUP(C544,'Formula Sheet 1'!$E$2:$P544,'Formula Sheet 1'!$D544,FALSE)","v":0},{"$f":"IF('Formula Sheet 1'!B544>10, (0.00005*(D544^2))+(0.3389*D544)-1.431, 0.1423*(D544^1.2528))","v":0}]
[null,0,"mg/L CaCO3",{"$f":"HLOOKUP(C545,'Formula Sheet 1'!$E$2:$P545,'Formula Sheet 1'!$D545,FALSE)","v":0},{"$f":"IF('Formula Sheet 1'!B545>10, (0.00005*(D545^2))+(0.3389*D545)-1.431, 0.1423*(D545^1.2528))","v":0}]
[null,0,"mg/L CaCO3",{"$f":"HLOOKUP(C546,'Formula Sheet 1'!$E$2:$P546,'Formula Sheet 1'!$D546,FALSE)","v":0},{"$f":"IF('Formula Sheet 1'!B546>10, (0.00005*(D546^2))+(0.3389*D546)-1.431, 0.1423*(D546^1.2528))","v":0}]
[null,0,"mg/L CaCO3",{"$f":"HLOOKUP(C547,'Formula Sheet 1'!$E$2:$P547,'Formula Sheet 1'!$D547,FALSE)","v":0},{"$f":"IF('Formula Sheet 1'!B547>10, (0.00005*(D547^2))+(0.3389*D547)-1.431, 0.1423*(D547^1.2528))","v":0}]
[null,0,"mg/L CaCO3",{"$f":"HLOOKUP(C548,'Formula Sheet 1'!$E$2:$P548,'Formula Sheet 1'!$D548,FALSE)","v":0},{"$f":"IF('Formula Sheet 1'!B548>10, (0.00005*(D548^2))+(0.3389*D548)-1.431, 0.1423*(D548^1.2528))","v":0}]
[null,0,"mg/L CaCO3",{"$f":"HLOOKUP(C549,'Formula Sheet 1'!$E$2:$P549,'Formula Sheet 1'!$D549,FALSE)","v":0},{"$f":"IF('Formula Sheet 1'!B549>10, (0.00005*(D549^2))+(0.3389*D549)-1.431, 0.1423*(D549^1.2528))","v":0}]
[null,0,"mg/L CaCO3",{"$f":"HLOOKUP(C550,'Formula Sheet 1'!$E$2:$P550,'Formula Sheet 1'!$D550,FALSE)","v":0},{"$f":"IF('Formula Sheet 1'!B550>10, (0.00005*(D550^2))+(0.3389*D550)-1.431, 0.1423*(D550^1.2528))","v":0}]
[null,0,"mg/L CaCO3",{"$f":"HLOOKUP(C551,'Formula Sheet 1'!$E$2:$P551,'Formula Sheet 1'!$D551,FALSE)","v":0},{"$f":"IF('Formula Sheet 1'!B551>10, (0.00005*(D551^2))+(0.3389*D551)-1.431, 0.1423*(D551^1.2528))","v":0}]
[null,0,"mg/L CaCO3",{"$f":"HLOOKUP(C552,'Formula Sheet 1'!$E$2:$P552,'Formula Sheet 1'!$D552,FALSE)","v":0},{"$f":"IF('Formula Sheet 1'!B552>10, (0.00005*(D552^2))+(0.3389*D552)-1.431, 0.1423*(D552^1.2528))","v":0}]
[null,0,"mg/L CaCO3",{"$f":"HLOOKUP(C553,'Formula Sheet 1'!$E$2:$P553,'Formula Sheet 1'!$D553,FALSE)","v":0},{"$f":"IF('Formula Sheet 1'!B553>10, (0.00005*(D553^2))+(0.3389*D553)-1.431, 0.1423*(D553^1.2528))","v":0}]
[null,0,"mg/L CaCO3",{"$f":"HLOOKUP(C554,'Formula Sheet 1'!$E$2:$P554,'Formula Sheet 1'!$D554,FALSE)","v":0},{"$f":"IF('Formula Sheet 1'!B554>10, (0.00005*(D554^2))+(0.3389*D554)-1.431, 0.1423*(D554^1.2528))","v":0}]
[null,0,"mg/L CaCO3",{"$f":"HLOOKUP(C555,'Formula Sheet 1'!$E$2:$P555,'Formula Sheet 1'!$D555,FALSE)","v":0},{"$f":"IF('Formula Sheet 1'!B555>10, (0.00005*(D555^2))+(0.3389*D555)-1.431, 0.1423*(D555^1.2528))","v":0}]
[null,0,"mg/L CaCO3",{"$f":"HLOOKUP(C556,'Formula Sheet 1'!$E$2:$P556,'Formula Sheet 1'!$D556,FALSE)","v":0},{"$f":"IF('Formula Sheet 1'!B556>10, (0.00005*(D556^2))+(0.3389*D556)-1.431, 0.1423*(D556^1.2528))","v":0}]
[null,0,"mg/L CaCO3",{"$f":"HLOOKUP(C557,'Formula Sheet 1'!$E$2:$P557,'Formula Sheet 1'!$D557,FALSE)","v":0},{"$f":"IF('Formula Sheet 1'!B557>10, (0.00005*(D557^2))+(0.3389*D557)-1.431, 0.1423*(D557^1.2528))","v":0}]
[null,0,"mg/L CaCO3",{"$f":"HLOOKUP(C558,'Formula Sheet 1'!$E$2:$P558,'Formula Sheet 1'!$D558,FALSE)","v":0},{"$f":"IF('Formula Sheet 1'!B558>10, (0.00005*(D558^2))+(0.3389*D558)-1.431, 0.1423*(D558^1.2528))","v":0}]
[null,0,"mg/L CaCO3",{"$f":"HLOOKUP(C559,'Formula Sheet 1'!$E$2:$P559,'Formula Sheet 1'!$D559,FALSE)","v":0},{"$f":"IF('Formula Sheet 1'!B559>10, (0.00005*(D559^2))+(0.3389*D559)-1.431, 0.1423*(D559^1.2528))","v":0}]
[null,0,"mg/L CaCO3",{"$f":"HLOOKUP(C560,'Formula Sheet 1'!$E$2:$P560,'Formula Sheet 1'!$D560,FALSE)","v":0},{"$f":"IF('Formula Sheet 1'!B560>10, (0.00005*(D560^2))+(0.3389*D560)-1.431, 0.1423*(D560^1.2528))","v":0}]
[null,0,"mg/L CaCO3",{"$f":"HLOOKUP(C561,'Formula Sheet 1'!$E$2:$P561,'Formula Sheet 1'!$D561,FALSE)","v":0},{"$f":"IF('Formula Sheet 1'!B561>10, (0.00005*(D561^2))+(0.3389*D561)-1.431, 0.1423*(D561^1.2528))","v":0}]
[null,0,"mg/L CaCO3",{"$f":"HLOOKUP(C562,'Formula Sheet 1'!$E$2:$P562,'Formula Sheet 1'!$D562,FALSE)","v":0},{"$f":"IF('Formula Sheet 1'!B562>10, (0.00005*(D562^2))+(0.3389*D562)-1.431, 0.1423*(D562^1.2528))","v":0}]
[null,0,"mg/L CaCO3",{"$f":"HLOOKUP(C563,'Formula Sheet 1'!$E$2:$P563,'Formula Sheet 1'!$D563,FALSE)","v":0},{"$f":"IF('Formula Sheet 1'!B563>10, (0.00005*(D563^2))+(0.3389*D563)-1.431, 0.1423*(D563^1.2528))","v":0}]
[null,0,"mg/L CaCO3",{"$f":"HLOOKUP(C564,'Formula Sheet 1'!$E$2:$P564,'Formula Sheet 1'!$D564,FALSE)","v":0},{"$f":"IF('Formula Sheet 1'!B564>10, (0.00005*(D564^2))+(0.3389*D564)-1.431, 0.1423*(D564^1.2528))","v":0}]
[null,0,"mg/L CaCO3",{"$f":"HLOOKUP(C565,'Formula Sheet 1'!$E$2:$P565,'Formula Sheet 1'!$D565,FALSE)","v":0},{"$f":"IF('Formula Sheet 1'!B565>10, (0.00005*(D565^2))+(0.3389*D565)-1.431, 0.1423*(D565^1.2528))","v":0}]
[null,0,"mg/L CaCO3",{"$f":"HLOOKUP(C566,'Formula Sheet 1'!$E$2:$P566,'Formula Sheet 1'!$D566,FALSE)","v":0},{"$f":"IF('Formula Sheet 1'!B566>10, (0.00005*(D566^2))+(0.3389*D566)-1.431, 0.1423*(D566^1.2528))","v":0}]
[null,0,"mg/L CaCO3",{"$f":"HLOOKUP(C567,'Formula Sheet 1'!$E$2:$P567,'Formula Sheet 1'!$D567,FALSE)","v":0},{"$f":"IF('Formula Sheet 1'!B567>10, (0.00005*(D567^2))+(0.3389*D567)-1.431, 0.1423*(D567^1.2528))","v":0}]
[null,0,"mg/L CaCO3",{"$f":"HLOOKUP(C568,'Formula Sheet 1'!$E$2:$P568,'Formula Sheet 1'!$D568,FALSE)","v":0},{"$f":"IF('Formula Sheet 1'!B568>10, (0.00005*(D568^2))+(0.3389*D568)-1.431, 0.1423*(D568^1.2528))","v":0}]
[null,0,"mg/L CaCO3",{"$f":"HLOOKUP(C569,'Formula Sheet 1'!$E$2:$P569,'Formula Sheet 1'!$D569,FALSE)","v":0},{"$f":"IF('Formula Sheet 1'!B569>10, (0.00005*(D569^2))+(0.3389*D569)-1.431, 0.1423*(D569^1.2528))","v":0}]
[null,0,"mg/L CaCO3",{"$f":"HLOOKUP(C570,'Formula Sheet 1'!$E$2:$P570,'Formula Sheet 1'!$D570,FALSE)","v":0},{"$f":"IF('Formula Sheet 1'!B570>10, (0.00005*(D570^2))+(0.3389*D570)-1.431, 0.1423*(D570^1.2528))","v":0}]
[null,0,"mg/L CaCO3",{"$f":"HLOOKUP(C571,'Formula Sheet 1'!$E$2:$P571,'Formula Sheet 1'!$D571,FALSE)","v":0},{"$f":"IF('Formula Sheet 1'!B571>10, (0.00005*(D571^2))+(0.3389*D571)-1.431, 0.1423*(D571^1.2528))","v":0}]
[null,0,"mg/L CaCO3",{"$f":"HLOOKUP(C572,'Formula Sheet 1'!$E$2:$P572,'Formula Sheet 1'!$D572,FALSE)","v":0},{"$f":"IF('Formula Sheet 1'!B572>10, (0.00005*(D572^2))+(0.3389*D572)-1.431, 0.1423*(D572^1.2528))","v":0}]
[null,0,"mg/L CaCO3",{"$f":"HLOOKUP(C573,'Formula Sheet 1'!$E$2:$P573,'Formula Sheet 1'!$D573,FALSE)","v":0},{"$f":"IF('Formula Sheet 1'!B573>10, (0.00005*(D573^2))+(0.3389*D573)-1.431, 0.1423*(D573^1.2528))","v":0}]
[null,0,"mg/L CaCO3",{"$f":"HLOOKUP(C574,'Formula Sheet 1'!$E$2:$P574,'Formula Sheet 1'!$D574,FALSE)","v":0},{"$f":"IF('Formula Sheet 1'!B574>10, (0.00005*(D574^2))+(0.3389*D574)-1.431, 0.1423*(D574^1.2528))","v":0}]
[null,0,"mg/L CaCO3",{"$f":"HLOOKUP(C575,'Formula Sheet 1'!$E$2:$P575,'Formula Sheet 1'!$D575,FALSE)","v":0},{"$f":"IF('Formula Sheet 1'!B575>10, (0.00005*(D575^2))+(0.3389*D575)-1.431, 0.1423*(D575^1.2528))","v":0}]
[null,0,"mg/L CaCO3",{"$f":"HLOOKUP(C576,'Formula Sheet 1'!$E$2:$P576,'Formula Sheet 1'!$D576,FALSE)","v":0},{"$f":"IF('Formula Sheet 1'!B576>10, (0.00005*(D576^2))+(0.3389*D576)-1.431, 0.1423*(D576^1.2528))","v":0}]
[null,0,"mg/L CaCO3",{"$f":"HLOOKUP(C577,'Formula Sheet 1'!$E$2:$P577,'Formula Sheet 1'!$D577,FALSE)","v":0},{"$f":"IF('Formula Sheet 1'!B577>10, (0.00005*(D577^2))+(0.3389*D577)-1.431, 0.1423*(D577^1.2528))","v":0}]
[null,0,"mg/L CaCO3",{"$f":"HLOOKUP(C578,'Formula Sheet 1'!$E$2:$P578,'Formula Sheet 1'!$D578,FALSE)","v":0},{"$f":"IF('Formula Sheet 1'!B578>10, (0.00005*(D578^2))+(0.3389*D578)-1.431, 0.1423*(D578^1.2528))","v":0}]
[null,0,"mg/L CaCO3",{"$f":"HLOOKUP(C579,'Formula Sheet 1'!$E$2:$P579,'Formula Sheet 1'!$D579,FALSE)","v":0},{"$f":"IF('Formula Sheet 1'!B579>10, (0.00005*(D579^2))+(0.3389*D579)-1.431, 0.1423*(D579^1.2528))","v":0}]
[null,0,"mg/L CaCO3",{"$f":"HLOOKUP(C580,'Formula Sheet 1'!$E$2:$P580,'Formula Sheet 1'!$D580,FALSE)","v":0},{"$f":"IF('Formula Sheet 1'!B580>10, (0.00005*(D580^2))+(0.3389*D580)-1.431, 0.1423*(D580^1.2528))","v":0}]
[null,0,{"$f":"C580","v":"mg/L CaCO3"},{"$f":"HLOOKUP(C581,'Formula Sheet 1'!$E$2:$P581,'Formula Sheet 1'!$D581,FALSE)","v":0},{"$f":"IF('Formula Sheet 1'!B581>10, (0.00005*(D581^2))+(0.3389*D581)-1.431, 0.1423*(D581^1.2528))","v":0}]
[null,0,"mg/L CaCO3",{"$f":"HLOOKUP(C582,'Formula Sheet 1'!$E$2:$P582,'Formula Sheet 1'!$D582,FALSE)","v":0},{"$f":"IF('Formula Sheet 1'!B582>10, (0.00005*(D582^2))+(0.3389*D582)-1.431, 0.1423*(D582^1.2528))","v":0}]
[null,0,"mg/L CaCO3",{"$f":"HLOOKUP(C583,'Formula Sheet 1'!$E$2:$P583,'Formula Sheet 1'!$D583,FALSE)","v":0},{"$f":"IF('Formula Sheet 1'!B583>10, (0.00005*(D583^2))+(0.3389*D583)-1.431, 0.1423*(D583^1.2528))","v":0}]
[null,0,"mg/L CaCO3",{"$f":"HLOOKUP(C584,'Formula Sheet 1'!$E$2:$P584,'Formula Sheet 1'!$D584,FALSE)","v":0},{"$f":"IF('Formula Sheet 1'!B584>10, (0.00005*(D584^2))+(0.3389*D584)-1.431, 0.1423*(D584^1.2528))","v":0}]
[null,0,"mg/L CaCO3",{"$f":"HLOOKUP(C585,'Formula Sheet 1'!$E$2:$P585,'Formula Sheet 1'!$D585,FALSE)","v":0},{"$f":"IF('Formula Sheet 1'!B585>10, (0.00005*(D585^2))+(0.3389*D585)-1.431, 0.1423*(D585^1.2528))","v":0}]
[null,0,"mg/L CaCO3",{"$f":"HLOOKUP(C586,'Formula Sheet 1'!$E$2:$P586,'Formula Sheet 1'!$D586,FALSE)","v":0},{"$f":"IF('Formula Sheet 1'!B586>10, (0.00005*(D586^2))+(0.3389*D586)-1.431, 0.1423*(D586^1.2528))","v":0}]
[null,0,"mg/L CaCO3",{"$f":"HLOOKUP(C587,'Formula Sheet 1'!$E$2:$P587,'Formula Sheet 1'!$D587,FALSE)","v":0},{"$f":"IF('Formula Sheet 1'!B587>10, (0.00005*(D587^2))+(0.3389*D587)-1.431, 0.1423*(D587^1.2528))","v":0}]
[null,0,"mg/L CaCO3",{"$f":"HLOOKUP(C588,'Formula Sheet 1'!$E$2:$P588,'Formula Sheet 1'!$D588,FALSE)","v":0},{"$f":"IF('Formula Sheet 1'!B588>10, (0.00005*(D588^2))+(0.3389*D588)-1.431, 0.1423*(D588^1.2528))","v":0}]
[null,0,"mg/L CaCO3",{"$f":"HLOOKUP(C589,'Formula Sheet 1'!$E$2:$P589,'Formula Sheet 1'!$D589,FALSE)","v":0},{"$f":"IF('Formula Sheet 1'!B589>10, (0.00005*(D589^2))+(0.3389*D589)-1.431, 0.1423*(D589^1.2528))","v":0}]
[null,0,"mg/L CaCO3",{"$f":"HLOOKUP(C590,'Formula Sheet 1'!$E$2:$P590,'Formula Sheet 1'!$D590,FALSE)","v":0},{"$f":"IF('Formula Sheet 1'!B590>10, (0.00005*(D590^2))+(0.3389*D590)-1.431, 0.1423*(D590^1.2528))","v":0}]
[null,0,"mg/L CaCO3",{"$f":"HLOOKUP(C591,'Formula Sheet 1'!$E$2:$P591,'Formula Sheet 1'!$D591,FALSE)","v":0},{"$f":"IF('Formula Sheet 1'!B591>10, (0.00005*(D591^2))+(0.3389*D591)-1.431, 0.1423*(D591^1.2528))","v":0}]
[null,0,"mg/L CaCO3",{"$f":"HLOOKUP(C592,'Formula Sheet 1'!$E$2:$P592,'Formula Sheet 1'!$D592,FALSE)","v":0},{"$f":"IF('Formula Sheet 1'!B592>10, (0.00005*(D592^2))+(0.3389*D592)-1.431, 0.1423*(D592^1.2528))","v":0}]
[null,0,"mg/L CaCO3",{"$f":"HLOOKUP(C593,'Formula Sheet 1'!$E$2:$P593,'Formula Sheet 1'!$D593,FALSE)","v":0},{"$f":"IF('Formula Sheet 1'!B593>10, (0.00005*(D593^2))+(0.3389*D593)-1.431, 0.1423*(D593^1.2528))","v":0}]
[null,0,"mg/L CaCO3",{"$f":"HLOOKUP(C594,'Formula Sheet 1'!$E$2:$P594,'Formula Sheet 1'!$D594,FALSE)","v":0},{"$f":"IF('Formula Sheet 1'!B594>10, (0.00005*(D594^2))+(0.3389*D594)-1.431, 0.1423*(D594^1.2528))","v":0}]
[null,0,"mg/L CaCO3",{"$f":"HLOOKUP(C595,'Formula Sheet 1'!$E$2:$P595,'Formula Sheet 1'!$D595,FALSE)","v":0},{"$f":"IF('Formula Sheet 1'!B595>10, (0.00005*(D595^2))+(0.3389*D595)-1.431, 0.1423*(D595^1.2528))","v":0}]
[null,0,"mg/L CaCO3",{"$f":"HLOOKUP(C596,'Formula Sheet 1'!$E$2:$P596,'Formula Sheet 1'!$D596,FALSE)","v":0},{"$f":"IF('Formula Sheet 1'!B596>10, (0.00005*(D596^2))+(0.3389*D596)-1.431, 0.1423*(D596^1.2528))","v":0}]
[null,0,"mg/L CaCO3",{"$f":"HLOOKUP(C597,'Formula Sheet 1'!$E$2:$P597,'Formula Sheet 1'!$D597,FALSE)","v":0},{"$f":"IF('Formula Sheet 1'!B597>10, (0.00005*(D597^2))+(0.3389*D597)-1.431, 0.1423*(D597^1.2528))","v":0}]
[null,0,"mg/L CaCO3",{"$f":"HLOOKUP(C598,'Formula Sheet 1'!$E$2:$P598,'Formula Sheet 1'!$D598,FALSE)","v":0},{"$f":"IF('Formula Sheet 1'!B598>10, (0.00005*(D598^2))+(0.3389*D598)-1.431, 0.1423*(D598^1.2528))","v":0}]
[null,0,"mg/L CaCO3",{"$f":"HLOOKUP(C599,'Formula Sheet 1'!$E$2:$P599,'Formula Sheet 1'!$D599,FALSE)","v":0},{"$f":"IF('Formula Sheet 1'!B599>10, (0.00005*(D599^2))+(0.3389*D599)-1.431, 0.1423*(D599^1.2528))","v":0}]
[null,0,"mg/L CaCO3",{"$f":"HLOOKUP(C600,'Formula Sheet 1'!$E$2:$P600,'Formula Sheet 1'!$D600,FALSE)","v":0},{"$f":"IF('Formula Sheet 1'!B600>10, (0.00005*(D600^2))+(0.3389*D600)-1.431, 0.1423*(D600^1.2528))","v":0}]
[null,0,"mg/L CaCO3",{"$f":"HLOOKUP(C601,'Formula Sheet 1'!$E$2:$P601,'Formula Sheet 1'!$D601,FALSE)","v":0},{"$f":"IF('Formula Sheet 1'!B601>10, (0.00005*(D601^2))+(0.3389*D601)-1.431, 0.1423*(D601^1.2528))","v":0}]
[null,0,"mg/L CaCO3",{"$f":"HLOOKUP(C602,'Formula Sheet 1'!$E$2:$P602,'Formula Sheet 1'!$D602,FALSE)","v":0},{"$f":"IF('Formula Sheet 1'!B602>10, (0.00005*(D602^2))+(0.3389*D602)-1.431, 0.1423*(D602^1.2528))","v":0}]
[null,0,"mg/L CaCO3",{"$f":"HLOOKUP(C603,'Formula Sheet 1'!$E$2:$P603,'Formula Sheet 1'!$D603,FALSE)","v":0},{"$f":"IF('Formula Sheet 1'!B603>10, (0.00005*(D603^2))+(0.3389*D603)-1.431, 0.1423*(D603^1.2528))","v":0}]
[null,0,"mg/L CaCO3",{"$f":"HLOOKUP(C604,'Formula Sheet 1'!$E$2:$P604,'Formula Sheet 1'!$D604,FALSE)","v":0},{"$f":"IF('Formula Sheet 1'!B604>10, (0.00005*(D604^2))+(0.3389*D604)-1.431, 0.1423*(D604^1.2528))","v":0}]
[null,0,"mg/L CaCO3",{"$f":"HLOOKUP(C605,'Formula Sheet 1'!$E$2:$P605,'Formula Sheet 1'!$D605,FALSE)","v":0},{"$f":"IF('Formula Sheet 1'!B605>10, (0.00005*(D605^2))+(0.3389*D605)-1.431, 0.1423*(D605^1.2528))","v":0}]
[null,0,"mg/L CaCO3",{"$f":"HLOOKUP(C606,'Formula Sheet 1'!$E$2:$P606,'Formula Sheet 1'!$D606,FALSE)","v":0},{"$f":"IF('Formula Sheet 1'!B606>10, (0.00005*(D606^2))+(0.3389*D606)-1.431, 0.1423*(D606^1.2528))","v":0}]
[null,0,"mg/L CaCO3",{"$f":"HLOOKUP(C607,'Formula Sheet 1'!$E$2:$P607,'Formula Sheet 1'!$D607,FALSE)","v":0},{"$f":"IF('Formula Sheet 1'!B607>10, (0.00005*(D607^2))+(0.3389*D607)-1.431, 0.1423*(D607^1.2528))","v":0}]
[null,0,"mg/L CaCO3",{"$f":"HLOOKUP(C608,'Formula Sheet 1'!$E$2:$P608,'Formula Sheet 1'!$D608,FALSE)","v":0},{"$f":"IF('Formula Sheet 1'!B608>10, (0.00005*(D608^2))+(0.3389*D608)-1.431, 0.1423*(D608^1.2528))","v":0}]
[null,0,"mg/L CaCO3",{"$f":"HLOOKUP(C609,'Formula Sheet 1'!$E$2:$P609,'Formula Sheet 1'!$D609,FALSE)","v":0},{"$f":"IF('Formula Sheet 1'!B609>10, (0.00005*(D609^2))+(0.3389*D609)-1.431, 0.1423*(D609^1.2528))","v":0}]
[null,0,"mg/L CaCO3",{"$f":"HLOOKUP(C610,'Formula Sheet 1'!$E$2:$P610,'Formula Sheet 1'!$D610,FALSE)","v":0},{"$f":"IF('Formula Sheet 1'!B610>10, (0.00005*(D610^2))+(0.3389*D610)-1.431, 0.1423*(D610^1.2528))","v":0}]
[null,0,"mg/L CaCO3",{"$f":"HLOOKUP(C611,'Formula Sheet 1'!$E$2:$P611,'Formula Sheet 1'!$D611,FALSE)","v":0},{"$f":"IF('Formula Sheet 1'!B611>10, (0.00005*(D611^2))+(0.3389*D611)-1.431, 0.1423*(D611^1.2528))","v":0}]
[null,0,"mg/L CaCO3",{"$f":"HLOOKUP(C612,'Formula Sheet 1'!$E$2:$P612,'Formula Sheet 1'!$D612,FALSE)","v":0},{"$f":"IF('Formula Sheet 1'!B612>10, (0.00005*(D612^2))+(0.3389*D612)-1.431, 0.1423*(D612^1.2528))","v":0}]
[null,0,"mg/L CaCO3",{"$f":"HLOOKUP(C613,'Formula Sheet 1'!$E$2:$P613,'Formula Sheet 1'!$D613,FALSE)","v":0},{"$f":"IF('Formula Sheet 1'!B613>10, (0.00005*(D613^2))+(0.3389*D613)-1.431, 0.1423*(D613^1.2528))","v":0}]
[null,0,"mg/L CaCO3",{"$f":"HLOOKUP(C614,'Formula Sheet 1'!$E$2:$P614,'Formula Sheet 1'!$D614,FALSE)","v":0},{"$f":"IF('Formula Sheet 1'!B614>10, (0.00005*(D614^2))+(0.3389*D614)-1.431, 0.1423*(D614^1.2528))","v":0}]
[null,0,"mg/L CaCO3",{"$f":"HLOOKUP(C615,'Formula Sheet 1'!$E$2:$P615,'Formula Sheet 1'!$D615,FALSE)","v":0},{"$f":"IF('Formula Sheet 1'!B615>10, (0.00005*(D615^2))+(0.3389*D615)-1.431, 0.1423*(D615^1.2528))","v":0}]
[null,0,"mg/L CaCO3",{"$f":"HLOOKUP(C616,'Formula Sheet 1'!$E$2:$P616,'Formula Sheet 1'!$D616,FALSE)","v":0},{"$f":"IF('Formula Sheet 1'!B616>10, (0.00005*(D616^2))+(0.3389*D616)-1.431, 0.1423*(D616^1.2528))","v":0}]
[null,0,"mg/L CaCO3",{"$f":"HLOOKUP(C617,'Formula Sheet 1'!$E$2:$P617,'Formula Sheet 1'!$D617,FALSE)","v":0},{"$f":"IF('Formula Sheet 1'!B617>10, (0.00005*(D617^2))+(0.3389*D617)-1.431, 0.1423*(D617^1.2528))","v":0}]
[null,0,"mg/L CaCO3",{"$f":"HLOOKUP(C618,'Formula Sheet 1'!$E$2:$P618,'Formula Sheet 1'!$D618,FALSE)","v":0},{"$f":"IF('Formula Sheet 1'!B618>10, (0.00005*(D618^2))+(0.3389*D618)-1.431, 0.1423*(D618^1.2528))","v":0}]
[null,0,"mg/L CaCO3",{"$f":"HLOOKUP(C619,'Formula Sheet 1'!$E$2:$P619,'Formula Sheet 1'!$D619,FALSE)","v":0},{"$f":"IF('Formula Sheet 1'!B619>10, (0.00005*(D619^2))+(0.3389*D619)-1.431, 0.1423*(D619^1.2528))","v":0}]
[null,0,"mg/L CaCO3",{"$f":"HLOOKUP(C620,'Formula Sheet 1'!$E$2:$P620,'Formula Sheet 1'!$D620,FALSE)","v":0},{"$f":"IF('Formula Sheet 1'!B620>10, (0.00005*(D620^2))+(0.3389*D620)-1.431, 0.1423*(D620^1.2528))","v":0}]
[null,0,"mg/L CaCO3",{"$f":"HLOOKUP(C621,'Formula Sheet 1'!$E$2:$P621,'Formula Sheet 1'!$D621,FALSE)","v":0},{"$f":"IF('Formula Sheet 1'!B621>10, (0.00005*(D621^2))+(0.3389*D621)-1.431, 0.1423*(D621^1.2528))","v":0}]
[null,0,"mg/L CaCO3",{"$f":"HLOOKUP(C622,'Formula Sheet 1'!$E$2:$P622,'Formula Sheet 1'!$D622,FALSE)","v":0},{"$f":"IF('Formula Sheet 1'!B622>10, (0.00005*(D622^2))+(0.3389*D622)-1.431, 0.1423*(D622^1.2528))","v":0}]
[null,0,"mg/L CaCO3",{"$f":"HLOOKUP(C623,'Formula Sheet 1'!$E$2:$P623,'Formula Sheet 1'!$D623,FALSE)","v":0},{"$f":"IF('Formula Sheet 1'!B623>10, (0.00005*(D623^2))+(0.3389*D623)-1.431, 0.1423*(D623^1.2528))","v":0}]
[null,0,"mg/L CaCO3",{"$f":"HLOOKUP(C624,'Formula Sheet 1'!$E$2:$P624,'Formula Sheet 1'!$D624,FALSE)","v":0},{"$f":"IF('Formula Sheet 1'!B624>10, (0.00005*(D624^2))+(0.3389*D624)-1.431, 0.1423*(D624^1.2528))","v":0}]
[null,0,"mg/L CaCO3",{"$f":"HLOOKUP(C625,'Formula Sheet 1'!$E$2:$P625,'Formula Sheet 1'!$D625,FALSE)","v":0},{"$f":"IF('Formula Sheet 1'!B625>10, (0.00005*(D625^2))+(0.3389*D625)-1.431, 0.1423*(D625^1.2528))","v":0}]
[null,0,"mg/L CaCO3",{"$f":"HLOOKUP(C626,'Formula Sheet 1'!$E$2:$P626,'Formula Sheet 1'!$D626,FALSE)","v":0},{"$f":"IF('Formula Sheet 1'!B626>10, (0.00005*(D626^2))+(0.3389*D626)-1.431, 0.1423*(D626^1.2528))","v":0}]
[null,0,"mg/L CaCO3",{"$f":"HLOOKUP(C627,'Formula Sheet 1'!$E$2:$P627,'Formula Sheet 1'!$D627,FALSE)","v":0},{"$f":"IF('Formula Sheet 1'!B627>10, (0.00005*(D627^2))+(0.3389*D627)-1.431, 0.1423*(D627^1.2528))","v":0}]
[null,0,"mg/L CaCO3",{"$f":"HLOOKUP(C628,'Formula Sheet 1'!$E$2:$P628,'Formula Sheet 1'!$D628,FALSE)","v":0},{"$f":"IF('Formula Sheet 1'!B628>10, (0.00005*(D628^2))+(0.3389*D628)-1.431, 0.1423*(D628^1.2528))","v":0}]
[null,0,"mg/L CaCO3",{"$f":"HLOOKUP(C629,'Formula Sheet 1'!$E$2:$P629,'Formula Sheet 1'!$D629,FALSE)","v":0},{"$f":"IF('Formula Sheet 1'!B629>10, (0.00005*(D629^2))+(0.3389*D629)-1.431, 0.1423*(D629^1.2528))","v":0}]
[null,0,"mg/L CaCO3",{"$f":"HLOOKUP(C630,'Formula Sheet 1'!$E$2:$P630,'Formula Sheet 1'!$D630,FALSE)","v":0},{"$f":"IF('Formula Sheet 1'!B630>10, (0.00005*(D630^2))+(0.3389*D630)-1.431, 0.1423*(D630^1.2528))","v":0}]
[null,0,"mg/L CaCO3",{"$f":"HLOOKUP(C631,'Formula Sheet 1'!$E$2:$P631,'Formula Sheet 1'!$D631,FALSE)","v":0},{"$f":"IF('Formula Sheet 1'!B631>10, (0.00005*(D631^2))+(0.3389*D631)-1.431, 0.1423*(D631^1.2528))","v":0}]
[null,0,"mg/L CaCO3",{"$f":"HLOOKUP(C632,'Formula Sheet 1'!$E$2:$P632,'Formula Sheet 1'!$D632,FALSE)","v":0},{"$f":"IF('Formula Sheet 1'!B632>10, (0.00005*(D632^2))+(0.3389*D632)-1.431, 0.1423*(D632^1.2528))","v":0}]
[null,0,"mg/L CaCO3",{"$f":"HLOOKUP(C633,'Formula Sheet 1'!$E$2:$P633,'Formula Sheet 1'!$D633,FALSE)","v":0},{"$f":"IF('Formula Sheet 1'!B633>10, (0.00005*(D633^2))+(0.3389*D633)-1.431, 0.1423*(D633^1.2528))","v":0}]
[null,0,"mg/L CaCO3",{"$f":"HLOOKUP(C634,'Formula Sheet 1'!$E$2:$P634,'Formula Sheet 1'!$D634,FALSE)","v":0},{"$f":"IF('Formula Sheet 1'!B634>10, (0.00005*(D634^2))+(0.3389*D634)-1.431, 0.1423*(D634^1.2528))","v":0}]
[null,0,"mg/L CaCO3",{"$f":"HLOOKUP(C635,'Formula Sheet 1'!$E$2:$P635,'Formula Sheet 1'!$D635,FALSE)","v":0},{"$f":"IF('Formula Sheet 1'!B635>10, (0.00005*(D635^2))+(0.3389*D635)-1.431, 0.1423*(D635^1.2528))","v":0}]
[null,0,"mg/L CaCO3",{"$f":"HLOOKUP(C636,'Formula Sheet 1'!$E$2:$P636,'Formula Sheet 1'!$D636,FALSE)","v":0},{"$f":"IF('Formula Sheet 1'!B636>10, (0.00005*(D636^2))+(0.3389*D636)-1.431, 0.1423*(D636^1.2528))","v":0}]
[null,0,"mg/L CaCO3",{"$f":"HLOOKUP(C637,'Formula Sheet 1'!$E$2:$P637,'Formula Sheet 1'!$D637,FALSE)","v":0},{"$f":"IF('Formula Sheet 1'!B637>10, (0.00005*(D637^2))+(0.3389*D637)-1.431, 0.1423*(D637^1.2528))","v":0}]
[null,0,"mg/L CaCO3",{"$f":"HLOOKUP(C638,'Formula Sheet 1'!$E$2:$P638,'Formula Sheet 1'!$D638,FALSE)","v":0},{"$f":"IF('Formula Sheet 1'!B638>10, (0.00005*(D638^2))+(0.3389*D638)-1.431, 0.1423*(D638^1.2528))","v":0}]
[null,0,"mg/L CaCO3",{"$f":"HLOOKUP(C639,'Formula Sheet 1'!$E$2:$P639,'Formula Sheet 1'!$D639,FALSE)","v":0},{"$f":"IF('Formula Sheet 1'!B639>10, (0.00005*(D639^2))+(0.3389*D639)-1.431, 0.1423*(D639^1.2528))","v":0}]
[null,0,"mg/L CaCO3",{"$f":"HLOOKUP(C640,'Formula Sheet 1'!$E$2:$P640,'Formula Sheet 1'!$D640,FALSE)","v":0},{"$f":"IF('Formula Sheet 1'!B640>10, (0.00005*(D640^2))+(0.3389*D640)-1.431, 0.1423*(D640^1.2528))","v":0}]
[null,0,"mg/L CaCO3",{"$f":"HLOOKUP(C641,'Formula Sheet 1'!$E$2:$P641,'Formula Sheet 1'!$D641,FALSE)","v":0},{"$f":"IF('Formula Sheet 1'!B641>10, (0.00005*(D641^2))+(0.3389*D641)-1.431, 0.1423*(D641^1.2528))","v":0}]
[null,0,"mg/L CaCO3",{"$f":"HLOOKUP(C642,'Formula Sheet 1'!$E$2:$P642,'Formula Sheet 1'!$D642,FALSE)","v":0},{"$f":"IF('Formula Sheet 1'!B642>10, (0.00005*(D642^2))+(0.3389*D642)-1.431, 0.1423*(D642^1.2528))","v":0}]
[null,0,"mg/L CaCO3",{"$f":"HLOOKUP(C643,'Formula Sheet 1'!$E$2:$P643,'Formula Sheet 1'!$D643,FALSE)","v":0},{"$f":"IF('Formula Sheet 1'!B643>10, (0.00005*(D643^2))+(0.3389*D643)-1.431, 0.1423*(D643^1.2528))","v":0}]
[null,0,"mg/L CaCO3",{"$f":"HLOOKUP(C644,'Formula Sheet 1'!$E$2:$P644,'Formula Sheet 1'!$D644,FALSE)","v":0},{"$f":"IF('Formula Sheet 1'!B644>10, (0.00005*(D644^2))+(0.3389*D644)-1.431, 0.1423*(D644^1.2528))","v":0}]
[null,0,{"$f":"C644","v":"mg/L CaCO3"},{"$f":"HLOOKUP(C645,'Formula Sheet 1'!$E$2:$P645,'Formula Sheet 1'!$D645,FALSE)","v":0},{"$f":"IF('Formula Sheet 1'!B645>10, (0.00005*(D645^2))+(0.3389*D645)-1.431, 0.1423*(D645^1.2528))","v":0}]
[null,0,"mg/L CaCO3",{"$f":"HLOOKUP(C646,'Formula Sheet 1'!$E$2:$P646,'Formula Sheet 1'!$D646,FALSE)","v":0},{"$f":"IF('Formula Sheet 1'!B646>10, (0.00005*(D646^2))+(0.3389*D646)-1.431, 0.1423*(D646^1.2528))","v":0}]
[null,0,"mg/L CaCO3",{"$f":"HLOOKUP(C647,'Formula Sheet 1'!$E$2:$P647,'Formula Sheet 1'!$D647,FALSE)","v":0},{"$f":"IF('Formula Sheet 1'!B647>10, (0.00005*(D647^2))+(0.3389*D647)-1.431, 0.1423*(D647^1.2528))","v":0}]
[null,0,"mg/L CaCO3",{"$f":"HLOOKUP(C648,'Formula Sheet 1'!$E$2:$P648,'Formula Sheet 1'!$D648,FALSE)","v":0},{"$f":"IF('Formula Sheet 1'!B648>10, (0.00005*(D648^2))+(0.3389*D648)-1.431, 0.1423*(D648^1.2528))","v":0}]
[null,0,"mg/L CaCO3",{"$f":"HLOOKUP(C649,'Formula Sheet 1'!$E$2:$P649,'Formula Sheet 1'!$D649,FALSE)","v":0},{"$f":"IF('Formula Sheet 1'!B649>10, (0.00005*(D649^2))+(0.3389*D649)-1.431, 0.1423*(D649^1.2528))","v":0}]
[null,0,"mg/L CaCO3",{"$f":"HLOOKUP(C650,'Formula Sheet 1'!$E$2:$P650,'Formula Sheet 1'!$D650,FALSE)","v":0},{"$f":"IF('Formula Sheet 1'!B650>10, (0.00005*(D650^2))+(0.3389*D650)-1.431, 0.1423*(D650^1.2528))","v":0}]
[null,0,"mg/L CaCO3",{"$f":"HLOOKUP(C651,'Formula Sheet 1'!$E$2:$P651,'Formula Sheet 1'!$D651,FALSE)","v":0},{"$f":"IF('Formula Sheet 1'!B651>10, (0.00005*(D651^2))+(0.3389*D651)-1.431, 0.1423*(D651^1.2528))","v":0}]
[null,0,"mg/L CaCO3",{"$f":"HLOOKUP(C652,'Formula Sheet 1'!$E$2:$P652,'Formula Sheet 1'!$D652,FALSE)","v":0},{"$f":"IF('Formula Sheet 1'!B652>10, (0.00005*(D652^2))+(0.3389*D652)-1.431, 0.1423*(D652^1.2528))","v":0}]
[null,0,"mg/L CaCO3",{"$f":"HLOOKUP(C653,'Formula Sheet 1'!$E$2:$P653,'Formula Sheet 1'!$D653,FALSE)","v":0},{"$f":"IF('Formula Sheet 1'!B653>10, (0.00005*(D653^2))+(0.3389*D653)-1.431, 0.1423*(D653^1.2528))","v":0}]
[null,0,"mg/L CaCO3",{"$f":"HLOOKUP(C654,'Formula Sheet 1'!$E$2:$P654,'Formula Sheet 1'!$D654,FALSE)","v":0},{"$f":"IF('Formula Sheet 1'!B654>10, (0.00005*(D654^2))+(0.3389*D654)-1.431, 0.1423*(D654^1.2528))","v":0}]
[null,0,"mg/L CaCO3",{"$f":"HLOOKUP(C655,'Formula Sheet 1'!$E$2:$P655,'Formula Sheet 1'!$D655,FALSE)","v":0},{"$f":"IF('Formula Sheet 1'!B655>10, (0.00005*(D655^2))+(0.3389*D655)-1.431, 0.1423*(D655^1.2528))","v":0}]
[null,0,"mg/L CaCO3",{"$f":"HLOOKUP(C656,'Formula Sheet 1'!$E$2:$P656,'Formula Sheet 1'!$D656,FALSE)","v":0},{"$f":"IF('Formula Sheet 1'!B656>10, (0.00005*(D656^2))+(0.3389*D656)-1.431, 0.1423*(D656^1.2528))","v":0}]
[null,0,"mg/L CaCO3",{"$f":"HLOOKUP(C657,'Formula Sheet 1'!$E$2:$P657,'Formula Sheet 1'!$D657,FALSE)","v":0},{"$f":"IF('Formula Sheet 1'!B657>10, (0.00005*(D657^2))+(0.3389*D657)-1.431, 0.1423*(D657^1.2528))","v":0}]
[null,0,"mg/L CaCO3",{"$f":"HLOOKUP(C658,'Formula Sheet 1'!$E$2:$P658,'Formula Sheet 1'!$D658,FALSE)","v":0},{"$f":"IF('Formula Sheet 1'!B658>10, (0.00005*(D658^2))+(0.3389*D658)-1.431, 0.1423*(D658^1.2528))","v":0}]
[null,0,"mg/L CaCO3",{"$f":"HLOOKUP(C659,'Formula Sheet 1'!$E$2:$P659,'Formula Sheet 1'!$D659,FALSE)","v":0},{"$f":"IF('Formula Sheet 1'!B659>10, (0.00005*(D659^2))+(0.3389*D659)-1.431, 0.1423*(D659^1.2528))","v":0}]
[null,0,"mg/L CaCO3",{"$f":"HLOOKUP(C660,'Formula Sheet 1'!$E$2:$P660,'Formula Sheet 1'!$D660,FALSE)","v":0},{"$f":"IF('Formula Sheet 1'!B660>10, (0.00005*(D660^2))+(0.3389*D660)-1.431, 0.1423*(D660^1.2528))","v":0}]
[null,0,"mg/L CaCO3",{"$f":"HLOOKUP(C661,'Formula Sheet 1'!$E$2:$P661,'Formula Sheet 1'!$D661,FALSE)","v":0},{"$f":"IF('Formula Sheet 1'!B661>10, (0.00005*(D661^2))+(0.3389*D661)-1.431, 0.1423*(D661^1.2528))","v":0}]
[null,0,"mg/L CaCO3",{"$f":"HLOOKUP(C662,'Formula Sheet 1'!$E$2:$P662,'Formula Sheet 1'!$D662,FALSE)","v":0},{"$f":"IF('Formula Sheet 1'!B662>10, (0.00005*(D662^2))+(0.3389*D662)-1.431, 0.1423*(D662^1.2528))","v":0}]
[null,0,"mg/L CaCO3",{"$f":"HLOOKUP(C663,'Formula Sheet 1'!$E$2:$P663,'Formula Sheet 1'!$D663,FALSE)","v":0},{"$f":"IF('Formula Sheet 1'!B663>10, (0.00005*(D663^2))+(0.3389*D663)-1.431, 0.1423*(D663^1.2528))","v":0}]
[null,0,"mg/L CaCO3",{"$f":"HLOOKUP(C664,'Formula Sheet 1'!$E$2:$P664,'Formula Sheet 1'!$D664,FALSE)","v":0},{"$f":"IF('Formula Sheet 1'!B664>10, (0.00005*(D664^2))+(0.3389*D664)-1.431, 0.1423*(D664^1.2528))","v":0}]
[null,0,"mg/L CaCO3",{"$f":"HLOOKUP(C665,'Formula Sheet 1'!$E$2:$P665,'Formula Sheet 1'!$D665,FALSE)","v":0},{"$f":"IF('Formula Sheet 1'!B665>10, (0.00005*(D665^2))+(0.3389*D665)-1.431, 0.1423*(D665^1.2528))","v":0}]
[null,0,"mg/L CaCO3",{"$f":"HLOOKUP(C666,'Formula Sheet 1'!$E$2:$P666,'Formula Sheet 1'!$D666,FALSE)","v":0},{"$f":"IF('Formula Sheet 1'!B666>10, (0.00005*(D666^2))+(0.3389*D666)-1.431, 0.1423*(D666^1.2528))","v":0}]
[null,0,"mg/L CaCO3",{"$f":"HLOOKUP(C667,'Formula Sheet 1'!$E$2:$P667,'Formula Sheet 1'!$D667,FALSE)","v":0},{"$f":"IF('Formula Sheet 1'!B667>10, (0.00005*(D667^2))+(0.3389*D667)-1.431, 0.1423*(D667^1.2528))","v":0}]
[null,0,"mg/L CaCO3",{"$f":"HLOOKUP(C668,'Formula Sheet 1'!$E$2:$P668,'Formula Sheet 1'!$D668,FALSE)","v":0},{"$f":"IF('Formula Sheet 1'!B668>10, (0.00005*(D668^2))+(0.3389*D668)-1.431, 0.1423*(D668^1.2528))","v":0}]
[null,0,"mg/L CaCO3",{"$f":"HLOOKUP(C669,'Formula Sheet 1'!$E$2:$P669,'Formula Sheet 1'!$D669,FALSE)","v":0},{"$f":"IF('Formula Sheet 1'!B669>10, (0.00005*(D669^2))+(0.3389*D669)-1.431, 0.1423*(D669^1.2528))","v":0}]
[null,0,"mg/L CaCO3",{"$f":"HLOOKUP(C670,'Formula Sheet 1'!$E$2:$P670,'Formula Sheet 1'!$D670,FALSE)","v":0},{"$f":"IF('Formula Sheet 1'!B670>10, (0.00005*(D670^2))+(0.3389*D670)-1.431, 0.1423*(D670^1.2528))","v":0}]
[null,0,"mg/L CaCO3",{"$f":"HLOOKUP(C671,'Formula Sheet 1'!$E$2:$P671,'Formula Sheet 1'!$D671,FALSE)","v":0},{"$f":"IF('Formula Sheet 1'!B671>10, (0.00005*(D671^2))+(0.3389*D671)-1.431, 0.1423*(D671^1.2528))","v":0}]
[null,0,"mg/L CaCO3",{"$f":"HLOOKUP(C672,'Formula Sheet 1'!$E$2:$P672,'Formula Sheet 1'!$D672,FALSE)","v":0},{"$f":"IF('Formula Sheet 1'!B672>10, (0.00005*(D672^2))+(0.3389*D672)-1.431, 0.1423*(D672^1.2528))","v":0}]
[null,0,"mg/L CaCO3",{"$f":"HLOOKUP(C673,'Formula Sheet 1'!$E$2:$P673,'Formula Sheet 1'!$D673,FALSE)","v":0},{"$f":"IF('Formula Sheet 1'!B673>10, (0.00005*(D673^2))+(0.3389*D673)-1.431, 0.1423*(D673^1.2528))","v":0}]
[null,0,"mg/L CaCO3",{"$f":"HLOOKUP(C674,'Formula Sheet 1'!$E$2:$P674,'Formula Sheet 1'!$D674,FALSE)","v":0},{"$f":"IF('Formula Sheet 1'!B674>10, (0.00005*(D674^2))+(0.3389*D674)-1.431, 0.1423*(D674^1.2528))","v":0}]
[null,0,"mg/L CaCO3",{"$f":"HLOOKUP(C675,'Formula Sheet 1'!$E$2:$P675,'Formula Sheet 1'!$D675,FALSE)","v":0},{"$f":"IF('Formula Sheet 1'!B675>10, (0.00005*(D675^2))+(0.3389*D675)-1.431, 0.1423*(D675^1.2528))","v":0}]
[null,0,"mg/L CaCO3",{"$f":"HLOOKUP(C676,'Formula Sheet 1'!$E$2:$P676,'Formula Sheet 1'!$D676,FALSE)","v":0},{"$f":"IF('Formula Sheet 1'!B676>10, (0.00005*(D676^2))+(0.3389*D676)-1.431, 0.1423*(D676^1.2528))","v":0}]
[null,0,"mg/L CaCO3",{"$f":"HLOOKUP(C677,'Formula Sheet 1'!$E$2:$P677,'Formula Sheet 1'!$D677,FALSE)","v":0},{"$f":"IF('Formula Sheet 1'!B677>10, (0.00005*(D677^2))+(0.3389*D677)-1.431, 0.1423*(D677^1.2528))","v":0}]
[null,0,"mg/L CaCO3",{"$f":"HLOOKUP(C678,'Formula Sheet 1'!$E$2:$P678,'Formula Sheet 1'!$D678,FALSE)","v":0},{"$f":"IF('Formula Sheet 1'!B678>10, (0.00005*(D678^2))+(0.3389*D678)-1.431, 0.1423*(D678^1.2528))","v":0}]
[null,0,"mg/L CaCO3",{"$f":"HLOOKUP(C679,'Formula Sheet 1'!$E$2:$P679,'Formula Sheet 1'!$D679,FALSE)","v":0},{"$f":"IF('Formula Sheet 1'!B679>10, (0.00005*(D679^2))+(0.3389*D679)-1.431, 0.1423*(D679^1.2528))","v":0}]
[null,0,"mg/L CaCO3",{"$f":"HLOOKUP(C680,'Formula Sheet 1'!$E$2:$P680,'Formula Sheet 1'!$D680,FALSE)","v":0},{"$f":"IF('Formula Sheet 1'!B680>10, (0.00005*(D680^2))+(0.3389*D680)-1.431, 0.1423*(D680^1.2528))","v":0}]
[null,0,"mg/L CaCO3",{"$f":"HLOOKUP(C681,'Formula Sheet 1'!$E$2:$P681,'Formula Sheet 1'!$D681,FALSE)","v":0},{"$f":"IF('Formula Sheet 1'!B681>10, (0.00005*(D681^2))+(0.3389*D681)-1.431, 0.1423*(D681^1.2528))","v":0}]
[null,0,"mg/L CaCO3",{"$f":"HLOOKUP(C682,'Formula Sheet 1'!$E$2:$P682,'Formula Sheet 1'!$D682,FALSE)","v":0},{"$f":"IF('Formula Sheet 1'!B682>10, (0.00005*(D682^2))+(0.3389*D682)-1.431, 0.1423*(D682^1.2528))","v":0}]
[null,0,"mg/L CaCO3",{"$f":"HLOOKUP(C683,'Formula Sheet 1'!$E$2:$P683,'Formula Sheet 1'!$D683,FALSE)","v":0},{"$f":"IF('Formula Sheet 1'!B683>10, (0.00005*(D683^2))+(0.3389*D683)-1.431, 0.1423*(D683^1.2528))","v":0}]
[null,0,"mg/L CaCO3",{"$f":"HLOOKUP(C684,'Formula Sheet 1'!$E$2:$P684,'Formula Sheet 1'!$D684,FALSE)","v":0},{"$f":"IF('Formula Sheet 1'!B684>10, (0.00005*(D684^2))+(0.3389*D684)-1.431, 0.1423*(D684^1.2528))","v":0}]
[null,0,"mg/L CaCO3",{"$f":"HLOOKUP(C685,'Formula Sheet 1'!$E$2:$P685,'Formula Sheet 1'!$D685,FALSE)","v":0},{"$f":"IF('Formula Sheet 1'!B685>10, (0.00005*(D685^2))+(0.3389*D685)-1.431, 0.1423*(D685^1.2528))","v":0}]
[null,0,"mg/L CaCO3",{"$f":"HLOOKUP(C686,'Formula Sheet 1'!$E$2:$P686,'Formula Sheet 1'!$D686,FALSE)","v":0},{"$f":"IF('Formula Sheet 1'!B686>10, (0.00005*(D686^2))+(0.3389*D686)-1.431, 0.1423*(D686^1.2528))","v":0}]
[null,0,"mg/L CaCO3",{"$f":"HLOOKUP(C687,'Formula Sheet 1'!$E$2:$P687,'Formula Sheet 1'!$D687,FALSE)","v":0},{"$f":"IF('Formula Sheet 1'!B687>10, (0.00005*(D687^2))+(0.3389*D687)-1.431, 0.1423*(D687^1.2528))","v":0}]
[null,0,"mg/L CaCO3",{"$f":"HLOOKUP(C688,'Formula Sheet 1'!$E$2:$P688,'Formula Sheet 1'!$D688,FALSE)","v":0},{"$f":"IF('Formula Sheet 1'!B688>10, (0.00005*(D688^2))+(0.3389*D688)-1.431, 0.1423*(D688^1.2528))","v":0}]
[null,0,"mg/L CaCO3",{"$f":"HLOOKUP(C689,'Formula Sheet 1'!$E$2:$P689,'Formula Sheet 1'!$D689,FALSE)","v":0},{"$f":"IF('Formula Sheet 1'!B689>10, (0.00005*(D689^2))+(0.3389*D689)-1.431, 0.1423*(D689^1.2528))","v":0}]
[null,0,"mg/L CaCO3",{"$f":"HLOOKUP(C690,'Formula Sheet 1'!$E$2:$P690,'Formula Sheet 1'!$D690,FALSE)","v":0},{"$f":"IF('Formula Sheet 1'!B690>10, (0.00005*(D690^2))+(0.3389*D690)-1.431, 0.1423*(D690^1.2528))","v":0}]
[null,0,"mg/L CaCO3",{"$f":"HLOOKUP(C691,'Formula Sheet 1'!$E$2:$P691,'Formula Sheet 1'!$D691,FALSE)","v":0},{"$f":"IF('Formula Sheet 1'!B691>10, (0.00005*(D691^2))+(0.3389*D691)-1.431, 0.1423*(D691^1.2528))","v":0}]
[null,0,"mg/L CaCO3",{"$f":"HLOOKUP(C692,'Formula Sheet 1'!$E$2:$P692,'Formula Sheet 1'!$D692,FALSE)","v":0},{"$f":"IF('Formula Sheet 1'!B692>10, (0.00005*(D692^2))+(0.3389*D692)-1.431, 0.1423*(D692^1.2528))","v":0}]
[null,0,"mg/L CaCO3",{"$f":"HLOOKUP(C693,'Formula Sheet 1'!$E$2:$P693,'Formula Sheet 1'!$D693,FALSE)","v":0},{"$f":"IF('Formula Sheet 1'!B693>10, (0.00005*(D693^2))+(0.3389*D693)-1.431, 0.1423*(D693^1.2528))","v":0}]
[null,0,"mg/L CaCO3",{"$f":"HLOOKUP(C694,'Formula Sheet 1'!$E$2:$P694,'Formula Sheet 1'!$D694,FALSE)","v":0},{"$f":"IF('Formula Sheet 1'!B694>10, (0.00005*(D694^2))+(0.3389*D694)-1.431, 0.1423*(D694^1.2528))","v":0}]
[null,0,"mg/L CaCO3",{"$f":"HLOOKUP(C695,'Formula Sheet 1'!$E$2:$P695,'Formula Sheet 1'!$D695,FALSE)","v":0},{"$f":"IF('Formula Sheet 1'!B695>10, (0.00005*(D695^2))+(0.3389*D695)-1.431, 0.1423*(D695^1.2528))","v":0}]
[null,0,"mg/L CaCO3",{"$f":"HLOOKUP(C696,'Formula Sheet 1'!$E$2:$P696,'Formula Sheet 1'!$D696,FALSE)","v":0},{"$f":"IF('Formula Sheet 1'!B696>10, (0.00005*(D696^2))+(0.3389*D696)-1.431, 0.1423*(D696^1.2528))","v":0}]
[null,0,"mg/L CaCO3",{"$f":"HLOOKUP(C697,'Formula Sheet 1'!$E$2:$P697,'Formula Sheet 1'!$D697,FALSE)","v":0},{"$f":"IF('Formula Sheet 1'!B697>10, (0.00005*(D697^2))+(0.3389*D697)-1.431, 0.1423*(D697^1.2528))","v":0}]
[null,0,"mg/L CaCO3",{"$f":"HLOOKUP(C698,'Formula Sheet 1'!$E$2:$P698,'Formula Sheet 1'!$D698,FALSE)","v":0},{"$f":"IF('Formula Sheet 1'!B698>10, (0.00005*(D698^2))+(0.3389*D698)-1.431, 0.1423*(D698^1.2528))","v":0}]
[null,0,"mg/L CaCO3",{"$f":"HLOOKUP(C699,'Formula Sheet 1'!$E$2:$P699,'Formula Sheet 1'!$D699,FALSE)","v":0},{"$f":"IF('Formula Sheet 1'!B699>10, (0.00005*(D699^2))+(0.3389*D699)-1.431, 0.1423*(D699^1.2528))","v":0}]
[null,0,"mg/L CaCO3",{"$f":"HLOOKUP(C700,'Formula Sheet 1'!$E$2:$P700,'Formula Sheet 1'!$D700,FALSE)","v":0},{"$f":"IF('Formula Sheet 1'!B700>10, (0.00005*(D700^2))+(0.3389*D700)-1.431, 0.1423*(D700^1.2528))","v":0}]
[null,0,"mg/L CaCO3",{"$f":"HLOOKUP(C701,'Formula Sheet 1'!$E$2:$P701,'Formula Sheet 1'!$D701,FALSE)","v":0},{"$f":"IF('Formula Sheet 1'!B701>10, (0.00005*(D701^2))+(0.3389*D701)-1.431, 0.1423*(D701^1.2528))","v":0}]
[null,0,"mg/L CaCO3",{"$f":"HLOOKUP(C702,'Formula Sheet 1'!$E$2:$P702,'Formula Sheet 1'!$D702,FALSE)","v":0},{"$f":"IF('Formula Sheet 1'!B702>10, (0.00005*(D702^2))+(0.3389*D702)-1.431, 0.1423*(D702^1.2528))","v":0}]
[null,0,"mg/L CaCO3",{"$f":"HLOOKUP(C703,'Formula Sheet 1'!$E$2:$P703,'Formula Sheet 1'!$D703,FALSE)","v":0},{"$f":"IF('Formula Sheet 1'!B703>10, (0.00005*(D703^2))+(0.3389*D703)-1.431, 0.1423*(D703^1.2528))","v":0}]
[null,0,"mg/L CaCO3",{"$f":"HLOOKUP(C704,'Formula Sheet 1'!$E$2:$P704,'Formula Sheet 1'!$D704,FALSE)","v":0},{"$f":"IF('Formula Sheet 1'!B704>10, (0.00005*(D704^2))+(0.3389*D704)-1.431, 0.1423*(D704^1.2528))","v":0}]
[null,0,"mg/L CaCO3",{"$f":"HLOOKUP(C705,'Formula Sheet 1'!$E$2:$P705,'Formula Sheet 1'!$D705,FALSE)","v":0},{"$f":"IF('Formula Sheet 1'!B705>10, (0.00005*(D705^2))+(0.3389*D705)-1.431, 0.1423*(D705^1.2528))","v":0}]
[null,0,"mg/L CaCO3",{"$f":"HLOOKUP(C706,'Formula Sheet 1'!$E$2:$P706,'Formula Sheet 1'!$D706,FALSE)","v":0},{"$f":"IF('Formula Sheet 1'!B706>10, (0.00005*(D706^2))+(0.3389*D706)-1.431, 0.1423*(D706^1.2528))","v":0}]
[null,0,"mg/L CaCO3",{"$f":"HLOOKUP(C707,'Formula Sheet 1'!$E$2:$P707,'Formula Sheet 1'!$D707,FALSE)","v":0},{"$f":"IF('Formula Sheet 1'!B707>10, (0.00005*(D707^2))+(0.3389*D707)-1.431, 0.1423*(D707^1.2528))","v":0}]
[null,0,"mg/L CaCO3",{"$f":"HLOOKUP(C708,'Formula Sheet 1'!$E$2:$P708,'Formula Sheet 1'!$D708,FALSE)","v":0},{"$f":"IF('Formula Sheet 1'!B708>10, (0.00005*(D708^2))+(0.3389*D708)-1.431, 0.1423*(D708^1.2528))","v":0}]
[null,0,{"$f":"C708","v":"mg/L CaCO3"},{"$f":"HLOOKUP(C709,'Formula Sheet 1'!$E$2:$P709,'Formula Sheet 1'!$D709,FALSE)","v":0},{"$f":"IF('Formula Sheet 1'!B709>10, (0.00005*(D709^2))+(0.3389*D709)-1.431, 0.1423*(D709^1.2528))","v":0}]
[null,0,"mg/L CaCO3",{"$f":"HLOOKUP(C710,'Formula Sheet 1'!$E$2:$P710,'Formula Sheet 1'!$D710,FALSE)","v":0},{"$f":"IF('Formula Sheet 1'!B710>10, (0.00005*(D710^2))+(0.3389*D710)-1.431, 0.1423*(D710^1.2528))","v":0}]
[null,0,"mg/L CaCO3",{"$f":"HLOOKUP(C711,'Formula Sheet 1'!$E$2:$P711,'Formula Sheet 1'!$D711,FALSE)","v":0},{"$f":"IF('Formula Sheet 1'!B711>10, (0.00005*(D711^2))+(0.3389*D711)-1.431, 0.1423*(D711^1.2528))","v":0}]
[null,0,"mg/L CaCO3",{"$f":"HLOOKUP(C712,'Formula Sheet 1'!$E$2:$P712,'Formula Sheet 1'!$D712,FALSE)","v":0},{"$f":"IF('Formula Sheet 1'!B712>10, (0.00005*(D712^2))+(0.3389*D712)-1.431, 0.1423*(D712^1.2528))","v":0}]
[null,0,"mg/L CaCO3",{"$f":"HLOOKUP(C713,'Formula Sheet 1'!$E$2:$P713,'Formula Sheet 1'!$D713,FALSE)","v":0},{"$f":"IF('Formula Sheet 1'!B713>10, (0.00005*(D713^2))+(0.3389*D713)-1.431, 0.1423*(D713^1.2528))","v":0}]
[null,0,"mg/L CaCO3",{"$f":"HLOOKUP(C714,'Formula Sheet 1'!$E$2:$P714,'Formula Sheet 1'!$D714,FALSE)","v":0},{"$f":"IF('Formula Sheet 1'!B714>10, (0.00005*(D714^2))+(0.3389*D714)-1.431, 0.1423*(D714^1.2528))","v":0}]
[null,0,"mg/L CaCO3",{"$f":"HLOOKUP(C715,'Formula Sheet 1'!$E$2:$P715,'Formula Sheet 1'!$D715,FALSE)","v":0},{"$f":"IF('Formula Sheet 1'!B715>10, (0.00005*(D715^2))+(0.3389*D715)-1.431, 0.1423*(D715^1.2528))","v":0}]
[null,0,"mg/L CaCO3",{"$f":"HLOOKUP(C716,'Formula Sheet 1'!$E$2:$P716,'Formula Sheet 1'!$D716,FALSE)","v":0},{"$f":"IF('Formula Sheet 1'!B716>10, (0.00005*(D716^2))+(0.3389*D716)-1.431, 0.1423*(D716^1.2528))","v":0}]
[null,0,"mg/L CaCO3",{"$f":"HLOOKUP(C717,'Formula Sheet 1'!$E$2:$P717,'Formula Sheet 1'!$D717,FALSE)","v":0},{"$f":"IF('Formula Sheet 1'!B717>10, (0.00005*(D717^2))+(0.3389*D717)-1.431, 0.1423*(D717^1.2528))","v":0}]
[null,0,"mg/L CaCO3",{"$f":"HLOOKUP(C718,'Formula Sheet 1'!$E$2:$P718,'Formula Sheet 1'!$D718,FALSE)","v":0},{"$f":"IF('Formula Sheet 1'!B718>10, (0.00005*(D718^2))+(0.3389*D718)-1.431, 0.1423*(D718^1.2528))","v":0}]
[null,0,"mg/L CaCO3",{"$f":"HLOOKUP(C719,'Formula Sheet 1'!$E$2:$P719,'Formula Sheet 1'!$D719,FALSE)","v":0},{"$f":"IF('Formula Sheet 1'!B719>10, (0.00005*(D719^2))+(0.3389*D719)-1.431, 0.1423*(D719^1.2528))","v":0}]
[null,0,"mg/L CaCO3",{"$f":"HLOOKUP(C720,'Formula Sheet 1'!$E$2:$P720,'Formula Sheet 1'!$D720,FALSE)","v":0},{"$f":"IF('Formula Sheet 1'!B720>10, (0.00005*(D720^2))+(0.3389*D720)-1.431, 0.1423*(D720^1.2528))","v":0}]
[null,0,"mg/L CaCO3",{"$f":"HLOOKUP(C721,'Formula Sheet 1'!$E$2:$P721,'Formula Sheet 1'!$D721,FALSE)","v":0},{"$f":"IF('Formula Sheet 1'!B721>10, (0.00005*(D721^2))+(0.3389*D721)-1.431, 0.1423*(D721^1.2528))","v":0}]
[null,0,"mg/L CaCO3",{"$f":"HLOOKUP(C722,'Formula Sheet 1'!$E$2:$P722,'Formula Sheet 1'!$D722,FALSE)","v":0},{"$f":"IF('Formula Sheet 1'!B722>10, (0.00005*(D722^2))+(0.3389*D722)-1.431, 0.1423*(D722^1.2528))","v":0}]
[null,0,"mg/L CaCO3",{"$f":"HLOOKUP(C723,'Formula Sheet 1'!$E$2:$P723,'Formula Sheet 1'!$D723,FALSE)","v":0},{"$f":"IF('Formula Sheet 1'!B723>10, (0.00005*(D723^2))+(0.3389*D723)-1.431, 0.1423*(D723^1.2528))","v":0}]
[null,0,"mg/L CaCO3",{"$f":"HLOOKUP(C724,'Formula Sheet 1'!$E$2:$P724,'Formula Sheet 1'!$D724,FALSE)","v":0},{"$f":"IF('Formula Sheet 1'!B724>10, (0.00005*(D724^2))+(0.3389*D724)-1.431, 0.1423*(D724^1.2528))","v":0}]
[null,0,"mg/L CaCO3",{"$f":"HLOOKUP(C725,'Formula Sheet 1'!$E$2:$P725,'Formula Sheet 1'!$D725,FALSE)","v":0},{"$f":"IF('Formula Sheet 1'!B725>10, (0.00005*(D725^2))+(0.3389*D725)-1.431, 0.1423*(D725^1.2528))","v":0}]
[null,0,"mg/L CaCO3",{"$f":"HLOOKUP(C726,'Formula Sheet 1'!$E$2:$P726,'Formula Sheet 1'!$D726,FALSE)","v":0},{"$f":"IF('Formula Sheet 1'!B726>10, (0.00005*(D726^2))+(0.3389*D726)-1.431, 0.1423*(D726^1.2528))","v":0}]
[null,0,"mg/L CaCO3",{"$f":"HLOOKUP(C727,'Formula Sheet 1'!$E$2:$P727,'Formula Sheet 1'!$D727,FALSE)","v":0},{"$f":"IF('Formula Sheet 1'!B727>10, (0.00005*(D727^2))+(0.3389*D727)-1.431, 0.1423*(D727^1.2528))","v":0}]
[null,0,"mg/L CaCO3",{"$f":"HLOOKUP(C728,'Formula Sheet 1'!$E$2:$P728,'Formula Sheet 1'!$D728,FALSE)","v":0},{"$f":"IF('Formula Sheet 1'!B728>10, (0.00005*(D728^2))+(0.3389*D728)-1.431, 0.1423*(D728^1.2528))","v":0}]
[null,0,"mg/L CaCO3",{"$f":"HLOOKUP(C729,'Formula Sheet 1'!$E$2:$P729,'Formula Sheet 1'!$D729,FALSE)","v":0},{"$f":"IF('Formula Sheet 1'!B729>10, (0.00005*(D729^2))+(0.3389*D729)-1.431, 0.1423*(D729^1.2528))","v":0}]
[null,0,"mg/L CaCO3",{"$f":"HLOOKUP(C730,'Formula Sheet 1'!$E$2:$P730,'Formula Sheet 1'!$D730,FALSE)","v":0},{"$f":"IF('Formula Sheet 1'!B730>10, (0.00005*(D730^2))+(0.3389*D730)-1.431, 0.1423*(D730^1.2528))","v":0}]
[null,0,"mg/L CaCO3",{"$f":"HLOOKUP(C731,'Formula Sheet 1'!$E$2:$P731,'Formula Sheet 1'!$D731,FALSE)","v":0},{"$f":"IF('Formula Sheet 1'!B731>10, (0.00005*(D731^2))+(0.3389*D731)-1.431, 0.1423*(D731^1.2528))","v":0}]
[null,0,"mg/L CaCO3",{"$f":"HLOOKUP(C732,'Formula Sheet 1'!$E$2:$P732,'Formula Sheet 1'!$D732,FALSE)","v":0},{"$f":"IF('Formula Sheet 1'!B732>10, (0.00005*(D732^2))+(0.3389*D732)-1.431, 0.1423*(D732^1.2528))","v":0}]
[null,0,"mg/L CaCO3",{"$f":"HLOOKUP(C733,'Formula Sheet 1'!$E$2:$P733,'Formula Sheet 1'!$D733,FALSE)","v":0},{"$f":"IF('Formula Sheet 1'!B733>10, (0.00005*(D733^2))+(0.3389*D733)-1.431, 0.1423*(D733^1.2528))","v":0}]
[null,0,"mg/L CaCO3",{"$f":"HLOOKUP(C734,'Formula Sheet 1'!$E$2:$P734,'Formula Sheet 1'!$D734,FALSE)","v":0},{"$f":"IF('Formula Sheet 1'!B734>10, (0.00005*(D734^2))+(0.3389*D734)-1.431, 0.1423*(D734^1.2528))","v":0}]
[null,0,"mg/L CaCO3",{"$f":"HLOOKUP(C735,'Formula Sheet 1'!$E$2:$P735,'Formula Sheet 1'!$D735,FALSE)","v":0},{"$f":"IF('Formula Sheet 1'!B735>10, (0.00005*(D735^2))+(0.3389*D735)-1.431, 0.1423*(D735^1.2528))","v":0}]
[null,0,"mg/L CaCO3",{"$f":"HLOOKUP(C736,'Formula Sheet 1'!$E$2:$P736,'Formula Sheet 1'!$D736,FALSE)","v":0},{"$f":"IF('Formula Sheet 1'!B736>10, (0.00005*(D736^2))+(0.3389*D736)-1.431, 0.1423*(D736^1.2528))","v":0}]
[null,0,"mg/L CaCO3",{"$f":"HLOOKUP(C737,'Formula Sheet 1'!$E$2:$P737,'Formula Sheet 1'!$D737,FALSE)","v":0},{"$f":"IF('Formula Sheet 1'!B737>10, (0.00005*(D737^2))+(0.3389*D737)-1.431, 0.1423*(D737^1.2528))","v":0}]
[null,0,"mg/L CaCO3",{"$f":"HLOOKUP(C738,'Formula Sheet 1'!$E$2:$P738,'Formula Sheet 1'!$D738,FALSE)","v":0},{"$f":"IF('Formula Sheet 1'!B738>10, (0.00005*(D738^2))+(0.3389*D738)-1.431, 0.1423*(D738^1.2528))","v":0}]
[null,0,"mg/L CaCO3",{"$f":"HLOOKUP(C739,'Formula Sheet 1'!$E$2:$P739,'Formula Sheet 1'!$D739,FALSE)","v":0},{"$f":"IF('Formula Sheet 1'!B739>10, (0.00005*(D739^2))+(0.3389*D739)-1.431, 0.1423*(D739^1.2528))","v":0}]
[null,0,"mg/L CaCO3",{"$f":"HLOOKUP(C740,'Formula Sheet 1'!$E$2:$P740,'Formula Sheet 1'!$D740,FALSE)","v":0},{"$f":"IF('Formula Sheet 1'!B740>10, (0.00005*(D740^2))+(0.3389*D740)-1.431, 0.1423*(D740^1.2528))","v":0}]
[null,0,"mg/L CaCO3",{"$f":"HLOOKUP(C741,'Formula Sheet 1'!$E$2:$P741,'Formula Sheet 1'!$D741,FALSE)","v":0},{"$f":"IF('Formula Sheet 1'!B741>10, (0.00005*(D741^2))+(0.3389*D741)-1.431, 0.1423*(D741^1.2528))","v":0}]
[null,0,"mg/L CaCO3",{"$f":"HLOOKUP(C742,'Formula Sheet 1'!$E$2:$P742,'Formula Sheet 1'!$D742,FALSE)","v":0},{"$f":"IF('Formula Sheet 1'!B742>10, (0.00005*(D742^2))+(0.3389*D742)-1.431, 0.1423*(D742^1.2528))","v":0}]
[null,0,"mg/L CaCO3",{"$f":"HLOOKUP(C743,'Formula Sheet 1'!$E$2:$P743,'Formula Sheet 1'!$D743,FALSE)","v":0},{"$f":"IF('Formula Sheet 1'!B743>10, (0.00005*(D743^2))+(0.3389*D743)-1.431, 0.1423*(D743^1.2528))","v":0}]
[null,0,"mg/L CaCO3",{"$f":"HLOOKUP(C744,'Formula Sheet 1'!$E$2:$P744,'Formula Sheet 1'!$D744,FALSE)","v":0},{"$f":"IF('Formula Sheet 1'!B744>10, (0.00005*(D744^2))+(0.3389*D744)-1.431, 0.1423*(D744^1.2528))","v":0}]
[null,0,"mg/L CaCO3",{"$f":"HLOOKUP(C745,'Formula Sheet 1'!$E$2:$P745,'Formula Sheet 1'!$D745,FALSE)","v":0},{"$f":"IF('Formula Sheet 1'!B745>10, (0.00005*(D745^2))+(0.3389*D745)-1.431, 0.1423*(D745^1.2528))","v":0}]
[null,0,"mg/L CaCO3",{"$f":"HLOOKUP(C746,'Formula Sheet 1'!$E$2:$P746,'Formula Sheet 1'!$D746,FALSE)","v":0},{"$f":"IF('Formula Sheet 1'!B746>10, (0.00005*(D746^2))+(0.3389*D746)-1.431, 0.1423*(D746^1.2528))","v":0}]
[null,0,"mg/L CaCO3",{"$f":"HLOOKUP(C747,'Formula Sheet 1'!$E$2:$P747,'Formula Sheet 1'!$D747,FALSE)","v":0},{"$f":"IF('Formula Sheet 1'!B747>10, (0.00005*(D747^2))+(0.3389*D747)-1.431, 0.1423*(D747^1.2528))","v":0}]
[null,0,"mg/L CaCO3",{"$f":"HLOOKUP(C748,'Formula Sheet 1'!$E$2:$P748,'Formula Sheet 1'!$D748,FALSE)","v":0},{"$f":"IF('Formula Sheet 1'!B748>10, (0.00005*(D748^2))+(0.3389*D748)-1.431, 0.1423*(D748^1.2528))","v":0}]
[null,0,"mg/L CaCO3",{"$f":"HLOOKUP(C749,'Formula Sheet 1'!$E$2:$P749,'Formula Sheet 1'!$D749,FALSE)","v":0},{"$f":"IF('Formula Sheet 1'!B749>10, (0.00005*(D749^2))+(0.3389*D749)-1.431, 0.1423*(D749^1.2528))","v":0}]
[null,0,"mg/L CaCO3",{"$f":"HLOOKUP(C750,'Formula Sheet 1'!$E$2:$P750,'Formula Sheet 1'!$D750,FALSE)","v":0},{"$f":"IF('Formula Sheet 1'!B750>10, (0.00005*(D750^2))+(0.3389*D750)-1.431, 0.1423*(D750^1.2528))","v":0}]
[null,0,"mg/L CaCO3",{"$f":"HLOOKUP(C751,'Formula Sheet 1'!$E$2:$P751,'Formula Sheet 1'!$D751,FALSE)","v":0},{"$f":"IF('Formula Sheet 1'!B751>10, (0.00005*(D751^2))+(0.3389*D751)-1.431, 0.1423*(D751^1.2528))","v":0}]
[null,0,"mg/L CaCO3",{"$f":"HLOOKUP(C752,'Formula Sheet 1'!$E$2:$P752,'Formula Sheet 1'!$D752,FALSE)","v":0},{"$f":"IF('Formula Sheet 1'!B752>10, (0.00005*(D752^2))+(0.3389*D752)-1.431, 0.1423*(D752^1.2528))","v":0}]
[null,0,"mg/L CaCO3",{"$f":"HLOOKUP(C753,'Formula Sheet 1'!$E$2:$P753,'Formula Sheet 1'!$D753,FALSE)","v":0},{"$f":"IF('Formula Sheet 1'!B753>10, (0.00005*(D753^2))+(0.3389*D753)-1.431, 0.1423*(D753^1.2528))","v":0}]
[null,0,"mg/L CaCO3",{"$f":"HLOOKUP(C754,'Formula Sheet 1'!$E$2:$P754,'Formula Sheet 1'!$D754,FALSE)","v":0},{"$f":"IF('Formula Sheet 1'!B754>10, (0.00005*(D754^2))+(0.3389*D754)-1.431, 0.1423*(D754^1.2528))","v":0}]
[null,0,"mg/L CaCO3",{"$f":"HLOOKUP(C755,'Formula Sheet 1'!$E$2:$P755,'Formula Sheet 1'!$D755,FALSE)","v":0},{"$f":"IF('Formula Sheet 1'!B755>10, (0.00005*(D755^2))+(0.3389*D755)-1.431, 0.1423*(D755^1.2528))","v":0}]
[null,0,"mg/L CaCO3",{"$f":"HLOOKUP(C756,'Formula Sheet 1'!$E$2:$P756,'Formula Sheet 1'!$D756,FALSE)","v":0},{"$f":"IF('Formula Sheet 1'!B756>10, (0.00005*(D756^2))+(0.3389*D756)-1.431, 0.1423*(D756^1.2528))","v":0}]
[null,0,"mg/L CaCO3",{"$f":"HLOOKUP(C757,'Formula Sheet 1'!$E$2:$P757,'Formula Sheet 1'!$D757,FALSE)","v":0},{"$f":"IF('Formula Sheet 1'!B757>10, (0.00005*(D757^2))+(0.3389*D757)-1.431, 0.1423*(D757^1.2528))","v":0}]
[null,0,"mg/L CaCO3",{"$f":"HLOOKUP(C758,'Formula Sheet 1'!$E$2:$P758,'Formula Sheet 1'!$D758,FALSE)","v":0},{"$f":"IF('Formula Sheet 1'!B758>10, (0.00005*(D758^2))+(0.3389*D758)-1.431, 0.1423*(D758^1.2528))","v":0}]
[null,0,"mg/L CaCO3",{"$f":"HLOOKUP(C759,'Formula Sheet 1'!$E$2:$P759,'Formula Sheet 1'!$D759,FALSE)","v":0},{"$f":"IF('Formula Sheet 1'!B759>10, (0.00005*(D759^2))+(0.3389*D759)-1.431, 0.1423*(D759^1.2528))","v":0}]
[null,0,"mg/L CaCO3",{"$f":"HLOOKUP(C760,'Formula Sheet 1'!$E$2:$P760,'Formula Sheet 1'!$D760,FALSE)","v":0},{"$f":"IF('Formula Sheet 1'!B760>10, (0.00005*(D760^2))+(0.3389*D760)-1.431, 0.1423*(D760^1.2528))","v":0}]
[null,0,"mg/L CaCO3",{"$f":"HLOOKUP(C761,'Formula Sheet 1'!$E$2:$P761,'Formula Sheet 1'!$D761,FALSE)","v":0},{"$f":"IF('Formula Sheet 1'!B761>10, (0.00005*(D761^2))+(0.3389*D761)-1.431, 0.1423*(D761^1.2528))","v":0}]
[null,0,"mg/L CaCO3",{"$f":"HLOOKUP(C762,'Formula Sheet 1'!$E$2:$P762,'Formula Sheet 1'!$D762,FALSE)","v":0},{"$f":"IF('Formula Sheet 1'!B762>10, (0.00005*(D762^2))+(0.3389*D762)-1.431, 0.1423*(D762^1.2528))","v":0}]
[null,0,"mg/L CaCO3",{"$f":"HLOOKUP(C763,'Formula Sheet 1'!$E$2:$P763,'Formula Sheet 1'!$D763,FALSE)","v":0},{"$f":"IF('Formula Sheet 1'!B763>10, (0.00005*(D763^2))+(0.3389*D763)-1.431, 0.1423*(D763^1.2528))","v":0}]
[null,0,"mg/L CaCO3",{"$f":"HLOOKUP(C764,'Formula Sheet 1'!$E$2:$P764,'Formula Sheet 1'!$D764,FALSE)","v":0},{"$f":"IF('Formula Sheet 1'!B764>10, (0.00005*(D764^2))+(0.3389*D764)-1.431, 0.1423*(D764^1.2528))","v":0}]
[null,0,"mg/L CaCO3",{"$f":"HLOOKUP(C765,'Formula Sheet 1'!$E$2:$P765,'Formula Sheet 1'!$D765,FALSE)","v":0},{"$f":"IF('Formula Sheet 1'!B765>10, (0.00005*(D765^2))+(0.3389*D765)-1.431, 0.1423*(D765^1.2528))","v":0}]
[null,0,"mg/L CaCO3",{"$f":"HLOOKUP(C766,'Formula Sheet 1'!$E$2:$P766,'Formula Sheet 1'!$D766,FALSE)","v":0},{"$f":"IF('Formula Sheet 1'!B766>10, (0.00005*(D766^2))+(0.3389*D766)-1.431, 0.1423*(D766^1.2528))","v":0}]
[null,0,"mg/L CaCO3",{"$f":"HLOOKUP(C767,'Formula Sheet 1'!$E$2:$P767,'Formula Sheet 1'!$D767,FALSE)","v":0},{"$f":"IF('Formula Sheet 1'!B767>10, (0.00005*(D767^2))+(0.3389*D767)-1.431, 0.1423*(D767^1.2528))","v":0}]
[null,0,"mg/L CaCO3",{"$f":"HLOOKUP(C768,'Formula Sheet 1'!$E$2:$P768,'Formula Sheet 1'!$D768,FALSE)","v":0},{"$f":"IF('Formula Sheet 1'!B768>10, (0.00005*(D768^2))+(0.3389*D768)-1.431, 0.1423*(D768^1.2528))","v":0}]
[null,0,"mg/L CaCO3",{"$f":"HLOOKUP(C769,'Formula Sheet 1'!$E$2:$P769,'Formula Sheet 1'!$D769,FALSE)","v":0},{"$f":"IF('Formula Sheet 1'!B769>10, (0.00005*(D769^2))+(0.3389*D769)-1.431, 0.1423*(D769^1.2528))","v":0}]
[null,0,"mg/L CaCO3",{"$f":"HLOOKUP(C770,'Formula Sheet 1'!$E$2:$P770,'Formula Sheet 1'!$D770,FALSE)","v":0},{"$f":"IF('Formula Sheet 1'!B770>10, (0.00005*(D770^2))+(0.3389*D770)-1.431, 0.1423*(D770^1.2528))","v":0}]
[null,0,"mg/L CaCO3",{"$f":"HLOOKUP(C771,'Formula Sheet 1'!$E$2:$P771,'Formula Sheet 1'!$D771,FALSE)","v":0},{"$f":"IF('Formula Sheet 1'!B771>10, (0.00005*(D771^2))+(0.3389*D771)-1.431, 0.1423*(D771^1.2528))","v":0}]
[null,0,"mg/L CaCO3",{"$f":"HLOOKUP(C772,'Formula Sheet 1'!$E$2:$P772,'Formula Sheet 1'!$D772,FALSE)","v":0},{"$f":"IF('Formula Sheet 1'!B772>10, (0.00005*(D772^2))+(0.3389*D772)-1.431, 0.1423*(D772^1.2528))","v":0}]
[null,0,{"$f":"C772","v":"mg/L CaCO3"},{"$f":"HLOOKUP(C773,'Formula Sheet 1'!$E$2:$P773,'Formula Sheet 1'!$D773,FALSE)","v":0},{"$f":"IF('Formula Sheet 1'!B773>10, (0.00005*(D773^2))+(0.3389*D773)-1.431, 0.1423*(D773^1.2528))","v":0}]
[null,0,"mg/L CaCO3",{"$f":"HLOOKUP(C774,'Formula Sheet 1'!$E$2:$P774,'Formula Sheet 1'!$D774,FALSE)","v":0},{"$f":"IF('Formula Sheet 1'!B774>10, (0.00005*(D774^2))+(0.3389*D774)-1.431, 0.1423*(D774^1.2528))","v":0}]
[null,0,"mg/L CaCO3",{"$f":"HLOOKUP(C775,'Formula Sheet 1'!$E$2:$P775,'Formula Sheet 1'!$D775,FALSE)","v":0},{"$f":"IF('Formula Sheet 1'!B775>10, (0.00005*(D775^2))+(0.3389*D775)-1.431, 0.1423*(D775^1.2528))","v":0}]
[null,0,"mg/L CaCO3",{"$f":"HLOOKUP(C776,'Formula Sheet 1'!$E$2:$P776,'Formula Sheet 1'!$D776,FALSE)","v":0},{"$f":"IF('Formula Sheet 1'!B776>10, (0.00005*(D776^2))+(0.3389*D776)-1.431, 0.1423*(D776^1.2528))","v":0}]
[null,0,"mg/L CaCO3",{"$f":"HLOOKUP(C777,'Formula Sheet 1'!$E$2:$P777,'Formula Sheet 1'!$D777,FALSE)","v":0},{"$f":"IF('Formula Sheet 1'!B777>10, (0.00005*(D777^2))+(0.3389*D777)-1.431, 0.1423*(D777^1.2528))","v":0}]
[null,0,"mg/L CaCO3",{"$f":"HLOOKUP(C778,'Formula Sheet 1'!$E$2:$P778,'Formula Sheet 1'!$D778,FALSE)","v":0},{"$f":"IF('Formula Sheet 1'!B778>10, (0.00005*(D778^2))+(0.3389*D778)-1.431, 0.1423*(D778^1.2528))","v":0}]
[null,0,"mg/L CaCO3",{"$f":"HLOOKUP(C779,'Formula Sheet 1'!$E$2:$P779,'Formula Sheet 1'!$D779,FALSE)","v":0},{"$f":"IF('Formula Sheet 1'!B779>10, (0.00005*(D779^2))+(0.3389*D779)-1.431, 0.1423*(D779^1.2528))","v":0}]
[null,0,"mg/L CaCO3",{"$f":"HLOOKUP(C780,'Formula Sheet 1'!$E$2:$P780,'Formula Sheet 1'!$D780,FALSE)","v":0},{"$f":"IF('Formula Sheet 1'!B780>10, (0.00005*(D780^2))+(0.3389*D780)-1.431, 0.1423*(D780^1.2528))","v":0}]
[null,0,"mg/L CaCO3",{"$f":"HLOOKUP(C781,'Formula Sheet 1'!$E$2:$P781,'Formula Sheet 1'!$D781,FALSE)","v":0},{"$f":"IF('Formula Sheet 1'!B781>10, (0.00005*(D781^2))+(0.3389*D781)-1.431, 0.1423*(D781^1.2528))","v":0}]
[null,0,"mg/L CaCO3",{"$f":"HLOOKUP(C782,'Formula Sheet 1'!$E$2:$P782,'Formula Sheet 1'!$D782,FALSE)","v":0},{"$f":"IF('Formula Sheet 1'!B782>10, (0.00005*(D782^2))+(0.3389*D782)-1.431, 0.1423*(D782^1.2528))","v":0}]
[null,0,"mg/L CaCO3",{"$f":"HLOOKUP(C783,'Formula Sheet 1'!$E$2:$P783,'Formula Sheet 1'!$D783,FALSE)","v":0},{"$f":"IF('Formula Sheet 1'!B783>10, (0.00005*(D783^2))+(0.3389*D783)-1.431, 0.1423*(D783^1.2528))","v":0}]
[null,0,"mg/L CaCO3",{"$f":"HLOOKUP(C784,'Formula Sheet 1'!$E$2:$P784,'Formula Sheet 1'!$D784,FALSE)","v":0},{"$f":"IF('Formula Sheet 1'!B784>10, (0.00005*(D784^2))+(0.3389*D784)-1.431, 0.1423*(D784^1.2528))","v":0}]
[null,0,"mg/L CaCO3",{"$f":"HLOOKUP(C785,'Formula Sheet 1'!$E$2:$P785,'Formula Sheet 1'!$D785,FALSE)","v":0},{"$f":"IF('Formula Sheet 1'!B785>10, (0.00005*(D785^2))+(0.3389*D785)-1.431, 0.1423*(D785^1.2528))","v":0}]
[null,0,"mg/L CaCO3",{"$f":"HLOOKUP(C786,'Formula Sheet 1'!$E$2:$P786,'Formula Sheet 1'!$D786,FALSE)","v":0},{"$f":"IF('Formula Sheet 1'!B786>10, (0.00005*(D786^2))+(0.3389*D786)-1.431, 0.1423*(D786^1.2528))","v":0}]
[null,0,"mg/L CaCO3",{"$f":"HLOOKUP(C787,'Formula Sheet 1'!$E$2:$P787,'Formula Sheet 1'!$D787,FALSE)","v":0},{"$f":"IF('Formula Sheet 1'!B787>10, (0.00005*(D787^2))+(0.3389*D787)-1.431, 0.1423*(D787^1.2528))","v":0}]
[null,0,"mg/L CaCO3",{"$f":"HLOOKUP(C788,'Formula Sheet 1'!$E$2:$P788,'Formula Sheet 1'!$D788,FALSE)","v":0},{"$f":"IF('Formula Sheet 1'!B788>10, (0.00005*(D788^2))+(0.3389*D788)-1.431, 0.1423*(D788^1.2528))","v":0}]
[null,0,"mg/L CaCO3",{"$f":"HLOOKUP(C789,'Formula Sheet 1'!$E$2:$P789,'Formula Sheet 1'!$D789,FALSE)","v":0},{"$f":"IF('Formula Sheet 1'!B789>10, (0.00005*(D789^2))+(0.3389*D789)-1.431, 0.1423*(D789^1.2528))","v":0}]
[null,0,"mg/L CaCO3",{"$f":"HLOOKUP(C790,'Formula Sheet 1'!$E$2:$P790,'Formula Sheet 1'!$D790,FALSE)","v":0},{"$f":"IF('Formula Sheet 1'!B790>10, (0.00005*(D790^2))+(0.3389*D790)-1.431, 0.1423*(D790^1.2528))","v":0}]
[null,0,"mg/L CaCO3",{"$f":"HLOOKUP(C791,'Formula Sheet 1'!$E$2:$P791,'Formula Sheet 1'!$D791,FALSE)","v":0},{"$f":"IF('Formula Sheet 1'!B791>10, (0.00005*(D791^2))+(0.3389*D791)-1.431, 0.1423*(D791^1.2528))","v":0}]
[null,0,"mg/L CaCO3",{"$f":"HLOOKUP(C792,'Formula Sheet 1'!$E$2:$P792,'Formula Sheet 1'!$D792,FALSE)","v":0},{"$f":"IF('Formula Sheet 1'!B792>10, (0.00005*(D792^2))+(0.3389*D792)-1.431, 0.1423*(D792^1.2528))","v":0}]
[null,0,"mg/L CaCO3",{"$f":"HLOOKUP(C793,'Formula Sheet 1'!$E$2:$P793,'Formula Sheet 1'!$D793,FALSE)","v":0},{"$f":"IF('Formula Sheet 1'!B793>10, (0.00005*(D793^2))+(0.3389*D793)-1.431, 0.1423*(D793^1.2528))","v":0}]
[null,0,"mg/L CaCO3",{"$f":"HLOOKUP(C794,'Formula Sheet 1'!$E$2:$P794,'Formula Sheet 1'!$D794,FALSE)","v":0},{"$f":"IF('Formula Sheet 1'!B794>10, (0.00005*(D794^2))+(0.3389*D794)-1.431, 0.1423*(D794^1.2528))","v":0}]
[null,0,"mg/L CaCO3",{"$f":"HLOOKUP(C795,'Formula Sheet 1'!$E$2:$P795,'Formula Sheet 1'!$D795,FALSE)","v":0},{"$f":"IF('Formula Sheet 1'!B795>10, (0.00005*(D795^2))+(0.3389*D795)-1.431, 0.1423*(D795^1.2528))","v":0}]
[null,0,"mg/L CaCO3",{"$f":"HLOOKUP(C796,'Formula Sheet 1'!$E$2:$P796,'Formula Sheet 1'!$D796,FALSE)","v":0},{"$f":"IF('Formula Sheet 1'!B796>10, (0.00005*(D796^2))+(0.3389*D796)-1.431, 0.1423*(D796^1.2528))","v":0}]
[null,0,"mg/L CaCO3",{"$f":"HLOOKUP(C797,'Formula Sheet 1'!$E$2:$P797,'Formula Sheet 1'!$D797,FALSE)","v":0},{"$f":"IF('Formula Sheet 1'!B797>10, (0.00005*(D797^2))+(0.3389*D797)-1.431, 0.1423*(D797^1.2528))","v":0}]
[null,0,"mg/L CaCO3",{"$f":"HLOOKUP(C798,'Formula Sheet 1'!$E$2:$P798,'Formula Sheet 1'!$D798,FALSE)","v":0},{"$f":"IF('Formula Sheet 1'!B798>10, (0.00005*(D798^2))+(0.3389*D798)-1.431, 0.1423*(D798^1.2528))","v":0}]
[null,0,"mg/L CaCO3",{"$f":"HLOOKUP(C799,'Formula Sheet 1'!$E$2:$P799,'Formula Sheet 1'!$D799,FALSE)","v":0},{"$f":"IF('Formula Sheet 1'!B799>10, (0.00005*(D799^2))+(0.3389*D799)-1.431, 0.1423*(D799^1.2528))","v":0}]
[null,0,"mg/L CaCO3",{"$f":"HLOOKUP(C800,'Formula Sheet 1'!$E$2:$P800,'Formula Sheet 1'!$D800,FALSE)","v":0},{"$f":"IF('Formula Sheet 1'!B800>10, (0.00005*(D800^2))+(0.3389*D800)-1.431, 0.1423*(D800^1.2528))","v":0}]
[null,0,"mg/L CaCO3",{"$f":"HLOOKUP(C801,'Formula Sheet 1'!$E$2:$P801,'Formula Sheet 1'!$D801,FALSE)","v":0},{"$f":"IF('Formula Sheet 1'!B801>10, (0.00005*(D801^2))+(0.3389*D801)-1.431, 0.1423*(D801^1.2528))","v":0}]
[null,0,"mg/L CaCO3",{"$f":"HLOOKUP(C802,'Formula Sheet 1'!$E$2:$P802,'Formula Sheet 1'!$D802,FALSE)","v":0},{"$f":"IF('Formula Sheet 1'!B802>10, (0.00005*(D802^2))+(0.3389*D802)-1.431, 0.1423*(D802^1.2528))","v":0}]
[null,0,"mg/L CaCO3",{"$f":"HLOOKUP(C803,'Formula Sheet 1'!$E$2:$P803,'Formula Sheet 1'!$D803,FALSE)","v":0},{"$f":"IF('Formula Sheet 1'!B803>10, (0.00005*(D803^2))+(0.3389*D803)-1.431, 0.1423*(D803^1.2528))","v":0}]
[null,0,"mg/L CaCO3",{"$f":"HLOOKUP(C804,'Formula Sheet 1'!$E$2:$P804,'Formula Sheet 1'!$D804,FALSE)","v":0},{"$f":"IF('Formula Sheet 1'!B804>10, (0.00005*(D804^2))+(0.3389*D804)-1.431, 0.1423*(D804^1.2528))","v":0}]
[null,0,"mg/L CaCO3",{"$f":"HLOOKUP(C805,'Formula Sheet 1'!$E$2:$P805,'Formula Sheet 1'!$D805,FALSE)","v":0},{"$f":"IF('Formula Sheet 1'!B805>10, (0.00005*(D805^2))+(0.3389*D805)-1.431, 0.1423*(D805^1.2528))","v":0}]
[null,0,"mg/L CaCO3",{"$f":"HLOOKUP(C806,'Formula Sheet 1'!$E$2:$P806,'Formula Sheet 1'!$D806,FALSE)","v":0},{"$f":"IF('Formula Sheet 1'!B806>10, (0.00005*(D806^2))+(0.3389*D806)-1.431, 0.1423*(D806^1.2528))","v":0}]
[null,0,"mg/L CaCO3",{"$f":"HLOOKUP(C807,'Formula Sheet 1'!$E$2:$P807,'Formula Sheet 1'!$D807,FALSE)","v":0},{"$f":"IF('Formula Sheet 1'!B807>10, (0.00005*(D807^2))+(0.3389*D807)-1.431, 0.1423*(D807^1.2528))","v":0}]
[null,0,"mg/L CaCO3",{"$f":"HLOOKUP(C808,'Formula Sheet 1'!$E$2:$P808,'Formula Sheet 1'!$D808,FALSE)","v":0},{"$f":"IF('Formula Sheet 1'!B808>10, (0.00005*(D808^2))+(0.3389*D808)-1.431, 0.1423*(D808^1.2528))","v":0}]
[null,0,"mg/L CaCO3",{"$f":"HLOOKUP(C809,'Formula Sheet 1'!$E$2:$P809,'Formula Sheet 1'!$D809,FALSE)","v":0},{"$f":"IF('Formula Sheet 1'!B809>10, (0.00005*(D809^2))+(0.3389*D809)-1.431, 0.1423*(D809^1.2528))","v":0}]
[null,0,"mg/L CaCO3",{"$f":"HLOOKUP(C810,'Formula Sheet 1'!$E$2:$P810,'Formula Sheet 1'!$D810,FALSE)","v":0},{"$f":"IF('Formula Sheet 1'!B810>10, (0.00005*(D810^2))+(0.3389*D810)-1.431, 0.1423*(D810^1.2528))","v":0}]
[null,0,"mg/L CaCO3",{"$f":"HLOOKUP(C811,'Formula Sheet 1'!$E$2:$P811,'Formula Sheet 1'!$D811,FALSE)","v":0},{"$f":"IF('Formula Sheet 1'!B811>10, (0.00005*(D811^2))+(0.3389*D811)-1.431, 0.1423*(D811^1.2528))","v":0}]
[null,0,"mg/L CaCO3",{"$f":"HLOOKUP(C812,'Formula Sheet 1'!$E$2:$P812,'Formula Sheet 1'!$D812,FALSE)","v":0},{"$f":"IF('Formula Sheet 1'!B812>10, (0.00005*(D812^2))+(0.3389*D812)-1.431, 0.1423*(D812^1.2528))","v":0}]
[null,0,"mg/L CaCO3",{"$f":"HLOOKUP(C813,'Formula Sheet 1'!$E$2:$P813,'Formula Sheet 1'!$D813,FALSE)","v":0},{"$f":"IF('Formula Sheet 1'!B813>10, (0.00005*(D813^2))+(0.3389*D813)-1.431, 0.1423*(D813^1.2528))","v":0}]
[null,0,"mg/L CaCO3",{"$f":"HLOOKUP(C814,'Formula Sheet 1'!$E$2:$P814,'Formula Sheet 1'!$D814,FALSE)","v":0},{"$f":"IF('Formula Sheet 1'!B814>10, (0.00005*(D814^2))+(0.3389*D814)-1.431, 0.1423*(D814^1.2528))","v":0}]
[null,0,"mg/L CaCO3",{"$f":"HLOOKUP(C815,'Formula Sheet 1'!$E$2:$P815,'Formula Sheet 1'!$D815,FALSE)","v":0},{"$f":"IF('Formula Sheet 1'!B815>10, (0.00005*(D815^2))+(0.3389*D815)-1.431, 0.1423*(D815^1.2528))","v":0}]
[null,0,"mg/L CaCO3",{"$f":"HLOOKUP(C816,'Formula Sheet 1'!$E$2:$P816,'Formula Sheet 1'!$D816,FALSE)","v":0},{"$f":"IF('Formula Sheet 1'!B816>10, (0.00005*(D816^2))+(0.3389*D816)-1.431, 0.1423*(D816^1.2528))","v":0}]
[null,0,"mg/L CaCO3",{"$f":"HLOOKUP(C817,'Formula Sheet 1'!$E$2:$P817,'Formula Sheet 1'!$D817,FALSE)","v":0},{"$f":"IF('Formula Sheet 1'!B817>10, (0.00005*(D817^2))+(0.3389*D817)-1.431, 0.1423*(D817^1.2528))","v":0}]
[null,0,"mg/L CaCO3",{"$f":"HLOOKUP(C818,'Formula Sheet 1'!$E$2:$P818,'Formula Sheet 1'!$D818,FALSE)","v":0},{"$f":"IF('Formula Sheet 1'!B818>10, (0.00005*(D818^2))+(0.3389*D818)-1.431, 0.1423*(D818^1.2528))","v":0}]
[null,0,"mg/L CaCO3",{"$f":"HLOOKUP(C819,'Formula Sheet 1'!$E$2:$P819,'Formula Sheet 1'!$D819,FALSE)","v":0},{"$f":"IF('Formula Sheet 1'!B819>10, (0.00005*(D819^2))+(0.3389*D819)-1.431, 0.1423*(D819^1.2528))","v":0}]
[null,0,"mg/L CaCO3",{"$f":"HLOOKUP(C820,'Formula Sheet 1'!$E$2:$P820,'Formula Sheet 1'!$D820,FALSE)","v":0},{"$f":"IF('Formula Sheet 1'!B820>10, (0.00005*(D820^2))+(0.3389*D820)-1.431, 0.1423*(D820^1.2528))","v":0}]
[null,0,"mg/L CaCO3",{"$f":"HLOOKUP(C821,'Formula Sheet 1'!$E$2:$P821,'Formula Sheet 1'!$D821,FALSE)","v":0},{"$f":"IF('Formula Sheet 1'!B821>10, (0.00005*(D821^2))+(0.3389*D821)-1.431, 0.1423*(D821^1.2528))","v":0}]
[null,0,"mg/L CaCO3",{"$f":"HLOOKUP(C822,'Formula Sheet 1'!$E$2:$P822,'Formula Sheet 1'!$D822,FALSE)","v":0},{"$f":"IF('Formula Sheet 1'!B822>10, (0.00005*(D822^2))+(0.3389*D822)-1.431, 0.1423*(D822^1.2528))","v":0}]
[null,0,"mg/L CaCO3",{"$f":"HLOOKUP(C823,'Formula Sheet 1'!$E$2:$P823,'Formula Sheet 1'!$D823,FALSE)","v":0},{"$f":"IF('Formula Sheet 1'!B823>10, (0.00005*(D823^2))+(0.3389*D823)-1.431, 0.1423*(D823^1.2528))","v":0}]
[null,0,"mg/L CaCO3",{"$f":"HLOOKUP(C824,'Formula Sheet 1'!$E$2:$P824,'Formula Sheet 1'!$D824,FALSE)","v":0},{"$f":"IF('Formula Sheet 1'!B824>10, (0.00005*(D824^2))+(0.3389*D824)-1.431, 0.1423*(D824^1.2528))","v":0}]
[null,0,"mg/L CaCO3",{"$f":"HLOOKUP(C825,'Formula Sheet 1'!$E$2:$P825,'Formula Sheet 1'!$D825,FALSE)","v":0},{"$f":"IF('Formula Sheet 1'!B825>10, (0.00005*(D825^2))+(0.3389*D825)-1.431, 0.1423*(D825^1.2528))","v":0}]
[null,0,"mg/L CaCO3",{"$f":"HLOOKUP(C826,'Formula Sheet 1'!$E$2:$P826,'Formula Sheet 1'!$D826,FALSE)","v":0},{"$f":"IF('Formula Sheet 1'!B826>10, (0.00005*(D826^2))+(0.3389*D826)-1.431, 0.1423*(D826^1.2528))","v":0}]
[null,0,"mg/L CaCO3",{"$f":"HLOOKUP(C827,'Formula Sheet 1'!$E$2:$P827,'Formula Sheet 1'!$D827,FALSE)","v":0},{"$f":"IF('Formula Sheet 1'!B827>10, (0.00005*(D827^2))+(0.3389*D827)-1.431, 0.1423*(D827^1.2528))","v":0}]
[null,0,"mg/L CaCO3",{"$f":"HLOOKUP(C828,'Formula Sheet 1'!$E$2:$P828,'Formula Sheet 1'!$D828,FALSE)","v":0},{"$f":"IF('Formula Sheet 1'!B828>10, (0.00005*(D828^2))+(0.3389*D828)-1.431, 0.1423*(D828^1.2528))","v":0}]
[null,0,"mg/L CaCO3",{"$f":"HLOOKUP(C829,'Formula Sheet 1'!$E$2:$P829,'Formula Sheet 1'!$D829,FALSE)","v":0},{"$f":"IF('Formula Sheet 1'!B829>10, (0.00005*(D829^2))+(0.3389*D829)-1.431, 0.1423*(D829^1.2528))","v":0}]
[null,0,"mg/L CaCO3",{"$f":"HLOOKUP(C830,'Formula Sheet 1'!$E$2:$P830,'Formula Sheet 1'!$D830,FALSE)","v":0},{"$f":"IF('Formula Sheet 1'!B830>10, (0.00005*(D830^2))+(0.3389*D830)-1.431, 0.1423*(D830^1.2528))","v":0}]
[null,0,"mg/L CaCO3",{"$f":"HLOOKUP(C831,'Formula Sheet 1'!$E$2:$P831,'Formula Sheet 1'!$D831,FALSE)","v":0},{"$f":"IF('Formula Sheet 1'!B831>10, (0.00005*(D831^2))+(0.3389*D831)-1.431, 0.1423*(D831^1.2528))","v":0}]
[null,0,"mg/L CaCO3",{"$f":"HLOOKUP(C832,'Formula Sheet 1'!$E$2:$P832,'Formula Sheet 1'!$D832,FALSE)","v":0},{"$f":"IF('Formula Sheet 1'!B832>10, (0.00005*(D832^2))+(0.3389*D832)-1.431, 0.1423*(D832^1.2528))","v":0}]
[null,0,"mg/L CaCO3",{"$f":"HLOOKUP(C833,'Formula Sheet 1'!$E$2:$P833,'Formula Sheet 1'!$D833,FALSE)","v":0},{"$f":"IF('Formula Sheet 1'!B833>10, (0.00005*(D833^2))+(0.3389*D833)-1.431, 0.1423*(D833^1.2528))","v":0}]
[null,0,"mg/L CaCO3",{"$f":"HLOOKUP(C834,'Formula Sheet 1'!$E$2:$P834,'Formula Sheet 1'!$D834,FALSE)","v":0},{"$f":"IF('Formula Sheet 1'!B834>10, (0.00005*(D834^2))+(0.3389*D834)-1.431, 0.1423*(D834^1.2528))","v":0}]
[null,0,"mg/L CaCO3",{"$f":"HLOOKUP(C835,'Formula Sheet 1'!$E$2:$P835,'Formula Sheet 1'!$D835,FALSE)","v":0},{"$f":"IF('Formula Sheet 1'!B835>10, (0.00005*(D835^2))+(0.3389*D835)-1.431, 0.1423*(D835^1.2528))","v":0}]
[null,0,"mg/L CaCO3",{"$f":"HLOOKUP(C836,'Formula Sheet 1'!$E$2:$P836,'Formula Sheet 1'!$D836,FALSE)","v":0},{"$f":"IF('Formula Sheet 1'!B836>10, (0.00005*(D836^2))+(0.3389*D836)-1.431, 0.1423*(D836^1.2528))","v":0}]
[null,0,{"$f":"C836","v":"mg/L CaCO3"},{"$f":"HLOOKUP(C837,'Formula Sheet 1'!$E$2:$P837,'Formula Sheet 1'!$D837,FALSE)","v":0},{"$f":"IF('Formula Sheet 1'!B837>10, (0.00005*(D837^2))+(0.3389*D837)-1.431, 0.1423*(D837^1.2528))","v":0}]
[null,0,"mg/L CaCO3",{"$f":"HLOOKUP(C838,'Formula Sheet 1'!$E$2:$P838,'Formula Sheet 1'!$D838,FALSE)","v":0},{"$f":"IF('Formula Sheet 1'!B838>10, (0.00005*(D838^2))+(0.3389*D838)-1.431, 0.1423*(D838^1.2528))","v":0}]
[null,0,"mg/L CaCO3",{"$f":"HLOOKUP(C839,'Formula Sheet 1'!$E$2:$P839,'Formula Sheet 1'!$D839,FALSE)","v":0},{"$f":"IF('Formula Sheet 1'!B839>10, (0.00005*(D839^2))+(0.3389*D839)-1.431, 0.1423*(D839^1.2528))","v":0}]
[null,0,"mg/L CaCO3",{"$f":"HLOOKUP(C840,'Formula Sheet 1'!$E$2:$P840,'Formula Sheet 1'!$D840,FALSE)","v":0},{"$f":"IF('Formula Sheet 1'!B840>10, (0.00005*(D840^2))+(0.3389*D840)-1.431, 0.1423*(D840^1.2528))","v":0}]
[null,0,"mg/L CaCO3",{"$f":"HLOOKUP(C841,'Formula Sheet 1'!$E$2:$P841,'Formula Sheet 1'!$D841,FALSE)","v":0},{"$f":"IF('Formula Sheet 1'!B841>10, (0.00005*(D841^2))+(0.3389*D841)-1.431, 0.1423*(D841^1.2528))","v":0}]
[null,0,"mg/L CaCO3",{"$f":"HLOOKUP(C842,'Formula Sheet 1'!$E$2:$P842,'Formula Sheet 1'!$D842,FALSE)","v":0},{"$f":"IF('Formula Sheet 1'!B842>10, (0.00005*(D842^2))+(0.3389*D842)-1.431, 0.1423*(D842^1.2528))","v":0}]
[null,0,"mg/L CaCO3",{"$f":"HLOOKUP(C843,'Formula Sheet 1'!$E$2:$P843,'Formula Sheet 1'!$D843,FALSE)","v":0},{"$f":"IF('Formula Sheet 1'!B843>10, (0.00005*(D843^2))+(0.3389*D843)-1.431, 0.1423*(D843^1.2528))","v":0}]
[null,0,"mg/L CaCO3",{"$f":"HLOOKUP(C844,'Formula Sheet 1'!$E$2:$P844,'Formula Sheet 1'!$D844,FALSE)","v":0},{"$f":"IF('Formula Sheet 1'!B844>10, (0.00005*(D844^2))+(0.3389*D844)-1.431, 0.1423*(D844^1.2528))","v":0}]
[null,0,"mg/L CaCO3",{"$f":"HLOOKUP(C845,'Formula Sheet 1'!$E$2:$P845,'Formula Sheet 1'!$D845,FALSE)","v":0},{"$f":"IF('Formula Sheet 1'!B845>10, (0.00005*(D845^2))+(0.3389*D845)-1.431, 0.1423*(D845^1.2528))","v":0}]
[null,0,"mg/L CaCO3",{"$f":"HLOOKUP(C846,'Formula Sheet 1'!$E$2:$P846,'Formula Sheet 1'!$D846,FALSE)","v":0},{"$f":"IF('Formula Sheet 1'!B846>10, (0.00005*(D846^2))+(0.3389*D846)-1.431, 0.1423*(D846^1.2528))","v":0}]
[null,0,"mg/L CaCO3",{"$f":"HLOOKUP(C847,'Formula Sheet 1'!$E$2:$P847,'Formula Sheet 1'!$D847,FALSE)","v":0},{"$f":"IF('Formula Sheet 1'!B847>10, (0.00005*(D847^2))+(0.3389*D847)-1.431, 0.1423*(D847^1.2528))","v":0}]
[null,0,"mg/L CaCO3",{"$f":"HLOOKUP(C848,'Formula Sheet 1'!$E$2:$P848,'Formula Sheet 1'!$D848,FALSE)","v":0},{"$f":"IF('Formula Sheet 1'!B848>10, (0.00005*(D848^2))+(0.3389*D848)-1.431, 0.1423*(D848^1.2528))","v":0}]
[null,0,"mg/L CaCO3",{"$f":"HLOOKUP(C849,'Formula Sheet 1'!$E$2:$P849,'Formula Sheet 1'!$D849,FALSE)","v":0},{"$f":"IF('Formula Sheet 1'!B849>10, (0.00005*(D849^2))+(0.3389*D849)-1.431, 0.1423*(D849^1.2528))","v":0}]
[null,0,"mg/L CaCO3",{"$f":"HLOOKUP(C850,'Formula Sheet 1'!$E$2:$P850,'Formula Sheet 1'!$D850,FALSE)","v":0},{"$f":"IF('Formula Sheet 1'!B850>10, (0.00005*(D850^2))+(0.3389*D850)-1.431, 0.1423*(D850^1.2528))","v":0}]
[null,0,"mg/L CaCO3",{"$f":"HLOOKUP(C851,'Formula Sheet 1'!$E$2:$P851,'Formula Sheet 1'!$D851,FALSE)","v":0},{"$f":"IF('Formula Sheet 1'!B851>10, (0.00005*(D851^2))+(0.3389*D851)-1.431, 0.1423*(D851^1.2528))","v":0}]
[null,0,"mg/L CaCO3",{"$f":"HLOOKUP(C852,'Formula Sheet 1'!$E$2:$P852,'Formula Sheet 1'!$D852,FALSE)","v":0},{"$f":"IF('Formula Sheet 1'!B852>10, (0.00005*(D852^2))+(0.3389*D852)-1.431, 0.1423*(D852^1.2528))","v":0}]
[null,0,"mg/L CaCO3",{"$f":"HLOOKUP(C853,'Formula Sheet 1'!$E$2:$P853,'Formula Sheet 1'!$D853,FALSE)","v":0},{"$f":"IF('Formula Sheet 1'!B853>10, (0.00005*(D853^2))+(0.3389*D853)-1.431, 0.1423*(D853^1.2528))","v":0}]
[null,0,"mg/L CaCO3",{"$f":"HLOOKUP(C854,'Formula Sheet 1'!$E$2:$P854,'Formula Sheet 1'!$D854,FALSE)","v":0},{"$f":"IF('Formula Sheet 1'!B854>10, (0.00005*(D854^2))+(0.3389*D854)-1.431, 0.1423*(D854^1.2528))","v":0}]
[null,0,"mg/L CaCO3",{"$f":"HLOOKUP(C855,'Formula Sheet 1'!$E$2:$P855,'Formula Sheet 1'!$D855,FALSE)","v":0},{"$f":"IF('Formula Sheet 1'!B855>10, (0.00005*(D855^2))+(0.3389*D855)-1.431, 0.1423*(D855^1.2528))","v":0}]
[null,0,"mg/L CaCO3",{"$f":"HLOOKUP(C856,'Formula Sheet 1'!$E$2:$P856,'Formula Sheet 1'!$D856,FALSE)","v":0},{"$f":"IF('Formula Sheet 1'!B856>10, (0.00005*(D856^2))+(0.3389*D856)-1.431, 0.1423*(D856^1.2528))","v":0}]
[null,0,"mg/L CaCO3",{"$f":"HLOOKUP(C857,'Formula Sheet 1'!$E$2:$P857,'Formula Sheet 1'!$D857,FALSE)","v":0},{"$f":"IF('Formula Sheet 1'!B857>10, (0.00005*(D857^2))+(0.3389*D857)-1.431, 0.1423*(D857^1.2528))","v":0}]
[null,0,"mg/L CaCO3",{"$f":"HLOOKUP(C858,'Formula Sheet 1'!$E$2:$P858,'Formula Sheet 1'!$D858,FALSE)","v":0},{"$f":"IF('Formula Sheet 1'!B858>10, (0.00005*(D858^2))+(0.3389*D858)-1.431, 0.1423*(D858^1.2528))","v":0}]
[null,0,"mg/L CaCO3",{"$f":"HLOOKUP(C859,'Formula Sheet 1'!$E$2:$P859,'Formula Sheet 1'!$D859,FALSE)","v":0},{"$f":"IF('Formula Sheet 1'!B859>10, (0.00005*(D859^2))+(0.3389*D859)-1.431, 0.1423*(D859^1.2528))","v":0}]
[null,0,"mg/L CaCO3",{"$f":"HLOOKUP(C860,'Formula Sheet 1'!$E$2:$P860,'Formula Sheet 1'!$D860,FALSE)","v":0},{"$f":"IF('Formula Sheet 1'!B860>10, (0.00005*(D860^2))+(0.3389*D860)-1.431, 0.1423*(D860^1.2528))","v":0}]
[null,0,"mg/L CaCO3",{"$f":"HLOOKUP(C861,'Formula Sheet 1'!$E$2:$P861,'Formula Sheet 1'!$D861,FALSE)","v":0},{"$f":"IF('Formula Sheet 1'!B861>10, (0.00005*(D861^2))+(0.3389*D861)-1.431, 0.1423*(D861^1.2528))","v":0}]
[null,0,"mg/L CaCO3",{"$f":"HLOOKUP(C862,'Formula Sheet 1'!$E$2:$P862,'Formula Sheet 1'!$D862,FALSE)","v":0},{"$f":"IF('Formula Sheet 1'!B862>10, (0.00005*(D862^2))+(0.3389*D862)-1.431, 0.1423*(D862^1.2528))","v":0}]
[null,0,"mg/L CaCO3",{"$f":"HLOOKUP(C863,'Formula Sheet 1'!$E$2:$P863,'Formula Sheet 1'!$D863,FALSE)","v":0},{"$f":"IF('Formula Sheet 1'!B863>10, (0.00005*(D863^2))+(0.3389*D863)-1.431, 0.1423*(D863^1.2528))","v":0}]
[null,0,"mg/L CaCO3",{"$f":"HLOOKUP(C864,'Formula Sheet 1'!$E$2:$P864,'Formula Sheet 1'!$D864,FALSE)","v":0},{"$f":"IF('Formula Sheet 1'!B864>10, (0.00005*(D864^2))+(0.3389*D864)-1.431, 0.1423*(D864^1.2528))","v":0}]
[null,0,"mg/L CaCO3",{"$f":"HLOOKUP(C865,'Formula Sheet 1'!$E$2:$P865,'Formula Sheet 1'!$D865,FALSE)","v":0},{"$f":"IF('Formula Sheet 1'!B865>10, (0.00005*(D865^2))+(0.3389*D865)-1.431, 0.1423*(D865^1.2528))","v":0}]
[null,0,"mg/L CaCO3",{"$f":"HLOOKUP(C866,'Formula Sheet 1'!$E$2:$P866,'Formula Sheet 1'!$D866,FALSE)","v":0},{"$f":"IF('Formula Sheet 1'!B866>10, (0.00005*(D866^2))+(0.3389*D866)-1.431, 0.1423*(D866^1.2528))","v":0}]
[null,0,"mg/L CaCO3",{"$f":"HLOOKUP(C867,'Formula Sheet 1'!$E$2:$P867,'Formula Sheet 1'!$D867,FALSE)","v":0},{"$f":"IF('Formula Sheet 1'!B867>10, (0.00005*(D867^2))+(0.3389*D867)-1.431, 0.1423*(D867^1.2528))","v":0}]
[null,0,"mg/L CaCO3",{"$f":"HLOOKUP(C868,'Formula Sheet 1'!$E$2:$P868,'Formula Sheet 1'!$D868,FALSE)","v":0},{"$f":"IF('Formula Sheet 1'!B868>10, (0.00005*(D868^2))+(0.3389*D868)-1.431, 0.1423*(D868^1.2528))","v":0}]
[null,0,"mg/L CaCO3",{"$f":"HLOOKUP(C869,'Formula Sheet 1'!$E$2:$P869,'Formula Sheet 1'!$D869,FALSE)","v":0},{"$f":"IF('Formula Sheet 1'!B869>10, (0.00005*(D869^2))+(0.3389*D869)-1.431, 0.1423*(D869^1.2528))","v":0}]
[null,0,"mg/L CaCO3",{"$f":"HLOOKUP(C870,'Formula Sheet 1'!$E$2:$P870,'Formula Sheet 1'!$D870,FALSE)","v":0},{"$f":"IF('Formula Sheet 1'!B870>10, (0.00005*(D870^2))+(0.3389*D870)-1.431, 0.1423*(D870^1.2528))","v":0}]
[null,0,"mg/L CaCO3",{"$f":"HLOOKUP(C871,'Formula Sheet 1'!$E$2:$P871,'Formula Sheet 1'!$D871,FALSE)","v":0},{"$f":"IF('Formula Sheet 1'!B871>10, (0.00005*(D871^2))+(0.3389*D871)-1.431, 0.1423*(D871^1.2528))","v":0}]
[null,0,"mg/L CaCO3",{"$f":"HLOOKUP(C872,'Formula Sheet 1'!$E$2:$P872,'Formula Sheet 1'!$D872,FALSE)","v":0},{"$f":"IF('Formula Sheet 1'!B872>10, (0.00005*(D872^2))+(0.3389*D872)-1.431, 0.1423*(D872^1.2528))","v":0}]
[null,0,"mg/L CaCO3",{"$f":"HLOOKUP(C873,'Formula Sheet 1'!$E$2:$P873,'Formula Sheet 1'!$D873,FALSE)","v":0},{"$f":"IF('Formula Sheet 1'!B873>10, (0.00005*(D873^2))+(0.3389*D873)-1.431, 0.1423*(D873^1.2528))","v":0}]
[null,0,"mg/L CaCO3",{"$f":"HLOOKUP(C874,'Formula Sheet 1'!$E$2:$P874,'Formula Sheet 1'!$D874,FALSE)","v":0},{"$f":"IF('Formula Sheet 1'!B874>10, (0.00005*(D874^2))+(0.3389*D874)-1.431, 0.1423*(D874^1.2528))","v":0}]
[null,0,"mg/L CaCO3",{"$f":"HLOOKUP(C875,'Formula Sheet 1'!$E$2:$P875,'Formula Sheet 1'!$D875,FALSE)","v":0},{"$f":"IF('Formula Sheet 1'!B875>10, (0.00005*(D875^2))+(0.3389*D875)-1.431, 0.1423*(D875^1.2528))","v":0}]
[null,0,"mg/L CaCO3",{"$f":"HLOOKUP(C876,'Formula Sheet 1'!$E$2:$P876,'Formula Sheet 1'!$D876,FALSE)","v":0},{"$f":"IF('Formula Sheet 1'!B876>10, (0.00005*(D876^2))+(0.3389*D876)-1.431, 0.1423*(D876^1.2528))","v":0}]
[null,0,"mg/L CaCO3",{"$f":"HLOOKUP(C877,'Formula Sheet 1'!$E$2:$P877,'Formula Sheet 1'!$D877,FALSE)","v":0},{"$f":"IF('Formula Sheet 1'!B877>10, (0.00005*(D877^2))+(0.3389*D877)-1.431, 0.1423*(D877^1.2528))","v":0}]
[null,0,"mg/L CaCO3",{"$f":"HLOOKUP(C878,'Formula Sheet 1'!$E$2:$P878,'Formula Sheet 1'!$D878,FALSE)","v":0},{"$f":"IF('Formula Sheet 1'!B878>10, (0.00005*(D878^2))+(0.3389*D878)-1.431, 0.1423*(D878^1.2528))","v":0}]
[null,0,"mg/L CaCO3",{"$f":"HLOOKUP(C879,'Formula Sheet 1'!$E$2:$P879,'Formula Sheet 1'!$D879,FALSE)","v":0},{"$f":"IF('Formula Sheet 1'!B879>10, (0.00005*(D879^2))+(0.3389*D879)-1.431, 0.1423*(D879^1.2528))","v":0}]
[null,0,"mg/L CaCO3",{"$f":"HLOOKUP(C880,'Formula Sheet 1'!$E$2:$P880,'Formula Sheet 1'!$D880,FALSE)","v":0},{"$f":"IF('Formula Sheet 1'!B880>10, (0.00005*(D880^2))+(0.3389*D880)-1.431, 0.1423*(D880^1.2528))","v":0}]
[null,0,"mg/L CaCO3",{"$f":"HLOOKUP(C881,'Formula Sheet 1'!$E$2:$P881,'Formula Sheet 1'!$D881,FALSE)","v":0},{"$f":"IF('Formula Sheet 1'!B881>10, (0.00005*(D881^2))+(0.3389*D881)-1.431, 0.1423*(D881^1.2528))","v":0}]
[null,0,"mg/L CaCO3",{"$f":"HLOOKUP(C882,'Formula Sheet 1'!$E$2:$P882,'Formula Sheet 1'!$D882,FALSE)","v":0},{"$f":"IF('Formula Sheet 1'!B882>10, (0.00005*(D882^2))+(0.3389*D882)-1.431, 0.1423*(D882^1.2528))","v":0}]
[null,0,"mg/L CaCO3",{"$f":"HLOOKUP(C883,'Formula Sheet 1'!$E$2:$P883,'Formula Sheet 1'!$D883,FALSE)","v":0},{"$f":"IF('Formula Sheet 1'!B883>10, (0.00005*(D883^2))+(0.3389*D883)-1.431, 0.1423*(D883^1.2528))","v":0}]
[null,0,"mg/L CaCO3",{"$f":"HLOOKUP(C884,'Formula Sheet 1'!$E$2:$P884,'Formula Sheet 1'!$D884,FALSE)","v":0},{"$f":"IF('Formula Sheet 1'!B884>10, (0.00005*(D884^2))+(0.3389*D884)-1.431, 0.1423*(D884^1.2528))","v":0}]
[null,0,"mg/L CaCO3",{"$f":"HLOOKUP(C885,'Formula Sheet 1'!$E$2:$P885,'Formula Sheet 1'!$D885,FALSE)","v":0},{"$f":"IF('Formula Sheet 1'!B885>10, (0.00005*(D885^2))+(0.3389*D885)-1.431, 0.1423*(D885^1.2528))","v":0}]
[null,0,"mg/L CaCO3",{"$f":"HLOOKUP(C886,'Formula Sheet 1'!$E$2:$P886,'Formula Sheet 1'!$D886,FALSE)","v":0},{"$f":"IF('Formula Sheet 1'!B886>10, (0.00005*(D886^2))+(0.3389*D886)-1.431, 0.1423*(D886^1.2528))","v":0}]
[null,0,"mg/L CaCO3",{"$f":"HLOOKUP(C887,'Formula Sheet 1'!$E$2:$P887,'Formula Sheet 1'!$D887,FALSE)","v":0},{"$f":"IF('Formula Sheet 1'!B887>10, (0.00005*(D887^2))+(0.3389*D887)-1.431, 0.1423*(D887^1.2528))","v":0}]
[null,0,"mg/L CaCO3",{"$f":"HLOOKUP(C888,'Formula Sheet 1'!$E$2:$P888,'Formula Sheet 1'!$D888,FALSE)","v":0},{"$f":"IF('Formula Sheet 1'!B888>10, (0.00005*(D888^2))+(0.3389*D888)-1.431, 0.1423*(D888^1.2528))","v":0}]
[null,0,"mg/L CaCO3",{"$f":"HLOOKUP(C889,'Formula Sheet 1'!$E$2:$P889,'Formula Sheet 1'!$D889,FALSE)","v":0},{"$f":"IF('Formula Sheet 1'!B889>10, (0.00005*(D889^2))+(0.3389*D889)-1.431, 0.1423*(D889^1.2528))","v":0}]
[null,0,"mg/L CaCO3",{"$f":"HLOOKUP(C890,'Formula Sheet 1'!$E$2:$P890,'Formula Sheet 1'!$D890,FALSE)","v":0},{"$f":"IF('Formula Sheet 1'!B890>10, (0.00005*(D890^2))+(0.3389*D890)-1.431, 0.1423*(D890^1.2528))","v":0}]
[null,0,"mg/L CaCO3",{"$f":"HLOOKUP(C891,'Formula Sheet 1'!$E$2:$P891,'Formula Sheet 1'!$D891,FALSE)","v":0},{"$f":"IF('Formula Sheet 1'!B891>10, (0.00005*(D891^2))+(0.3389*D891)-1.431, 0.1423*(D891^1.2528))","v":0}]
[null,0,"mg/L CaCO3",{"$f":"HLOOKUP(C892,'Formula Sheet 1'!$E$2:$P892,'Formula Sheet 1'!$D892,FALSE)","v":0},{"$f":"IF('Formula Sheet 1'!B892>10, (0.00005*(D892^2))+(0.3389*D892)-1.431, 0.1423*(D892^1.2528))","v":0}]
[null,0,"mg/L CaCO3",{"$f":"HLOOKUP(C893,'Formula Sheet 1'!$E$2:$P893,'Formula Sheet 1'!$D893,FALSE)","v":0},{"$f":"IF('Formula Sheet 1'!B893>10, (0.00005*(D893^2))+(0.3389*D893)-1.431, 0.1423*(D893^1.2528))","v":0}]
[null,0,"mg/L CaCO3",{"$f":"HLOOKUP(C894,'Formula Sheet 1'!$E$2:$P894,'Formula Sheet 1'!$D894,FALSE)","v":0},{"$f":"IF('Formula Sheet 1'!B894>10, (0.00005*(D894^2))+(0.3389*D894)-1.431, 0.1423*(D894^1.2528))","v":0}]
[null,0,"mg/L CaCO3",{"$f":"HLOOKUP(C895,'Formula Sheet 1'!$E$2:$P895,'Formula Sheet 1'!$D895,FALSE)","v":0},{"$f":"IF('Formula Sheet 1'!B895>10, (0.00005*(D895^2))+(0.3389*D895)-1.431, 0.1423*(D895^1.2528))","v":0}]
[null,0,"mg/L CaCO3",{"$f":"HLOOKUP(C896,'Formula Sheet 1'!$E$2:$P896,'Formula Sheet 1'!$D896,FALSE)","v":0},{"$f":"IF('Formula Sheet 1'!B896>10, (0.00005*(D896^2))+(0.3389*D896)-1.431, 0.1423*(D896^1.2528))","v":0}]
[null,0,"mg/L CaCO3",{"$f":"HLOOKUP(C897,'Formula Sheet 1'!$E$2:$P897,'Formula Sheet 1'!$D897,FALSE)","v":0},{"$f":"IF('Formula Sheet 1'!B897>10, (0.00005*(D897^2))+(0.3389*D897)-1.431, 0.1423*(D897^1.2528))","v":0}]
[null,0,"mg/L CaCO3",{"$f":"HLOOKUP(C898,'Formula Sheet 1'!$E$2:$P898,'Formula Sheet 1'!$D898,FALSE)","v":0},{"$f":"IF('Formula Sheet 1'!B898>10, (0.00005*(D898^2))+(0.3389*D898)-1.431, 0.1423*(D898^1.2528))","v":0}]
[null,0,"mg/L CaCO3",{"$f":"HLOOKUP(C899,'Formula Sheet 1'!$E$2:$P899,'Formula Sheet 1'!$D899,FALSE)","v":0},{"$f":"IF('Formula Sheet 1'!B899>10, (0.00005*(D899^2))+(0.3389*D899)-1.431, 0.1423*(D899^1.2528))","v":0}]
[null,0,"mg/L CaCO3",{"$f":"HLOOKUP(C900,'Formula Sheet 1'!$E$2:$P900,'Formula Sheet 1'!$D900,FALSE)","v":0},{"$f":"IF('Formula Sheet 1'!B900>10, (0.00005*(D900^2))+(0.3389*D900)-1.431, 0.1423*(D900^1.2528))","v":0}]
[null,0,{"$f":"C900","v":"mg/L CaCO3"},{"$f":"HLOOKUP(C901,'Formula Sheet 1'!$E$2:$P901,'Formula Sheet 1'!$D901,FALSE)","v":0},{"$f":"IF('Formula Sheet 1'!B901>10, (0.00005*(D901^2))+(0.3389*D901)-1.431, 0.1423*(D901^1.2528))","v":0}]
[null,0,"mg/L CaCO3",{"$f":"HLOOKUP(C902,'Formula Sheet 1'!$E$2:$P902,'Formula Sheet 1'!$D902,FALSE)","v":0},{"$f":"IF('Formula Sheet 1'!B902>10, (0.00005*(D902^2))+(0.3389*D902)-1.431, 0.1423*(D902^1.2528))","v":0}]
[null,0,"mg/L CaCO3",{"$f":"HLOOKUP(C903,'Formula Sheet 1'!$E$2:$P903,'Formula Sheet 1'!$D903,FALSE)","v":0},{"$f":"IF('Formula Sheet 1'!B903>10, (0.00005*(D903^2))+(0.3389*D903)-1.431, 0.1423*(D903^1.2528))","v":0}]
[null,0,"mg/L CaCO3",{"$f":"HLOOKUP(C904,'Formula Sheet 1'!$E$2:$P904,'Formula Sheet 1'!$D904,FALSE)","v":0},{"$f":"IF('Formula Sheet 1'!B904>10, (0.00005*(D904^2))+(0.3389*D904)-1.431, 0.1423*(D904^1.2528))","v":0}]
[null,0,"mg/L CaCO3",{"$f":"HLOOKUP(C905,'Formula Sheet 1'!$E$2:$P905,'Formula Sheet 1'!$D905,FALSE)","v":0},{"$f":"IF('Formula Sheet 1'!B905>10, (0.00005*(D905^2))+(0.3389*D905)-1.431, 0.1423*(D905^1.2528))","v":0}]
[null,0,"mg/L CaCO3",{"$f":"HLOOKUP(C906,'Formula Sheet 1'!$E$2:$P906,'Formula Sheet 1'!$D906,FALSE)","v":0},{"$f":"IF('Formula Sheet 1'!B906>10, (0.00005*(D906^2))+(0.3389*D906)-1.431, 0.1423*(D906^1.2528))","v":0}]
[null,0,"mg/L CaCO3",{"$f":"HLOOKUP(C907,'Formula Sheet 1'!$E$2:$P907,'Formula Sheet 1'!$D907,FALSE)","v":0},{"$f":"IF('Formula Sheet 1'!B907>10, (0.00005*(D907^2))+(0.3389*D907)-1.431, 0.1423*(D907^1.2528))","v":0}]
[null,0,"mg/L CaCO3",{"$f":"HLOOKUP(C908,'Formula Sheet 1'!$E$2:$P908,'Formula Sheet 1'!$D908,FALSE)","v":0},{"$f":"IF('Formula Sheet 1'!B908>10, (0.00005*(D908^2))+(0.3389*D908)-1.431, 0.1423*(D908^1.2528))","v":0}]
[null,0,"mg/L CaCO3",{"$f":"HLOOKUP(C909,'Formula Sheet 1'!$E$2:$P909,'Formula Sheet 1'!$D909,FALSE)","v":0},{"$f":"IF('Formula Sheet 1'!B909>10, (0.00005*(D909^2))+(0.3389*D909)-1.431, 0.1423*(D909^1.2528))","v":0}]
[null,0,"mg/L CaCO3",{"$f":"HLOOKUP(C910,'Formula Sheet 1'!$E$2:$P910,'Formula Sheet 1'!$D910,FALSE)","v":0},{"$f":"IF('Formula Sheet 1'!B910>10, (0.00005*(D910^2))+(0.3389*D910)-1.431, 0.1423*(D910^1.2528))","v":0}]
[null,0,"mg/L CaCO3",{"$f":"HLOOKUP(C911,'Formula Sheet 1'!$E$2:$P911,'Formula Sheet 1'!$D911,FALSE)","v":0},{"$f":"IF('Formula Sheet 1'!B911>10, (0.00005*(D911^2))+(0.3389*D911)-1.431, 0.1423*(D911^1.2528))","v":0}]
[null,0,"mg/L CaCO3",{"$f":"HLOOKUP(C912,'Formula Sheet 1'!$E$2:$P912,'Formula Sheet 1'!$D912,FALSE)","v":0},{"$f":"IF('Formula Sheet 1'!B912>10, (0.00005*(D912^2))+(0.3389*D912)-1.431, 0.1423*(D912^1.2528))","v":0}]
[null,0,"mg/L CaCO3",{"$f":"HLOOKUP(C913,'Formula Sheet 1'!$E$2:$P913,'Formula Sheet 1'!$D913,FALSE)","v":0},{"$f":"IF('Formula Sheet 1'!B913>10, (0.00005*(D913^2))+(0.3389*D913)-1.431, 0.1423*(D913^1.2528))","v":0}]
[null,0,"mg/L CaCO3",{"$f":"HLOOKUP(C914,'Formula Sheet 1'!$E$2:$P914,'Formula Sheet 1'!$D914,FALSE)","v":0},{"$f":"IF('Formula Sheet 1'!B914>10, (0.00005*(D914^2))+(0.3389*D914)-1.431, 0.1423*(D914^1.2528))","v":0}]
[null,0,"mg/L CaCO3",{"$f":"HLOOKUP(C915,'Formula Sheet 1'!$E$2:$P915,'Formula Sheet 1'!$D915,FALSE)","v":0},{"$f":"IF('Formula Sheet 1'!B915>10, (0.00005*(D915^2))+(0.3389*D915)-1.431, 0.1423*(D915^1.2528))","v":0}]
[null,0,"mg/L CaCO3",{"$f":"HLOOKUP(C916,'Formula Sheet 1'!$E$2:$P916,'Formula Sheet 1'!$D916,FALSE)","v":0},{"$f":"IF('Formula Sheet 1'!B916>10, (0.00005*(D916^2))+(0.3389*D916)-1.431, 0.1423*(D916^1.2528))","v":0}]
[null,0,"mg/L CaCO3",{"$f":"HLOOKUP(C917,'Formula Sheet 1'!$E$2:$P917,'Formula Sheet 1'!$D917,FALSE)","v":0},{"$f":"IF('Formula Sheet 1'!B917>10, (0.00005*(D917^2))+(0.3389*D917)-1.431, 0.1423*(D917^1.2528))","v":0}]
[null,0,"mg/L CaCO3",{"$f":"HLOOKUP(C918,'Formula Sheet 1'!$E$2:$P918,'Formula Sheet 1'!$D918,FALSE)","v":0},{"$f":"IF('Formula Sheet 1'!B918>10, (0.00005*(D918^2))+(0.3389*D918)-1.431, 0.1423*(D918^1.2528))","v":0}]
[null,0,"mg/L CaCO3",{"$f":"HLOOKUP(C919,'Formula Sheet 1'!$E$2:$P919,'Formula Sheet 1'!$D919,FALSE)","v":0},{"$f":"IF('Formula Sheet 1'!B919>10, (0.00005*(D919^2))+(0.3389*D919)-1.431, 0.1423*(D919^1.2528))","v":0}]
[null,0,"mg/L CaCO3",{"$f":"HLOOKUP(C920,'Formula Sheet 1'!$E$2:$P920,'Formula Sheet 1'!$D920,FALSE)","v":0},{"$f":"IF('Formula Sheet 1'!B920>10, (0.00005*(D920^2))+(0.3389*D920)-1.431, 0.1423*(D920^1.2528))","v":0}]
[null,0,"mg/L CaCO3",{"$f":"HLOOKUP(C921,'Formula Sheet 1'!$E$2:$P921,'Formula Sheet 1'!$D921,FALSE)","v":0},{"$f":"IF('Formula Sheet 1'!B921>10, (0.00005*(D921^2))+(0.3389*D921)-1.431, 0.1423*(D921^1.2528))","v":0}]
[null,0,"mg/L CaCO3",{"$f":"HLOOKUP(C922,'Formula Sheet 1'!$E$2:$P922,'Formula Sheet 1'!$D922,FALSE)","v":0},{"$f":"IF('Formula Sheet 1'!B922>10, (0.00005*(D922^2))+(0.3389*D922)-1.431, 0.1423*(D922^1.2528))","v":0}]
[null,0,"mg/L CaCO3",{"$f":"HLOOKUP(C923,'Formula Sheet 1'!$E$2:$P923,'Formula Sheet 1'!$D923,FALSE)","v":0},{"$f":"IF('Formula Sheet 1'!B923>10, (0.00005*(D923^2))+(0.3389*D923)-1.431, 0.1423*(D923^1.2528))","v":0}]
[null,0,"mg/L CaCO3",{"$f":"HLOOKUP(C924,'Formula Sheet 1'!$E$2:$P924,'Formula Sheet 1'!$D924,FALSE)","v":0},{"$f":"IF('Formula Sheet 1'!B924>10, (0.00005*(D924^2))+(0.3389*D924)-1.431, 0.1423*(D924^1.2528))","v":0}]
[null,0,"mg/L CaCO3",{"$f":"HLOOKUP(C925,'Formula Sheet 1'!$E$2:$P925,'Formula Sheet 1'!$D925,FALSE)","v":0},{"$f":"IF('Formula Sheet 1'!B925>10, (0.00005*(D925^2))+(0.3389*D925)-1.431, 0.1423*(D925^1.2528))","v":0}]
[null,0,"mg/L CaCO3",{"$f":"HLOOKUP(C926,'Formula Sheet 1'!$E$2:$P926,'Formula Sheet 1'!$D926,FALSE)","v":0},{"$f":"IF('Formula Sheet 1'!B926>10, (0.00005*(D926^2))+(0.3389*D926)-1.431, 0.1423*(D926^1.2528))","v":0}]
[null,0,"mg/L CaCO3",{"$f":"HLOOKUP(C927,'Formula Sheet 1'!$E$2:$P927,'Formula Sheet 1'!$D927,FALSE)","v":0},{"$f":"IF('Formula Sheet 1'!B927>10, (0.00005*(D927^2))+(0.3389*D927)-1.431, 0.1423*(D927^1.2528))","v":0}]
[null,0,"mg/L CaCO3",{"$f":"HLOOKUP(C928,'Formula Sheet 1'!$E$2:$P928,'Formula Sheet 1'!$D928,FALSE)","v":0},{"$f":"IF('Formula Sheet 1'!B928>10, (0.00005*(D928^2))+(0.3389*D928)-1.431, 0.1423*(D928^1.2528))","v":0}]
[null,0,"mg/L CaCO3",{"$f":"HLOOKUP(C929,'Formula Sheet 1'!$E$2:$P929,'Formula Sheet 1'!$D929,FALSE)","v":0},{"$f":"IF('Formula Sheet 1'!B929>10, (0.00005*(D929^2))+(0.3389*D929)-1.431, 0.1423*(D929^1.2528))","v":0}]
[null,0,"mg/L CaCO3",{"$f":"HLOOKUP(C930,'Formula Sheet 1'!$E$2:$P930,'Formula Sheet 1'!$D930,FALSE)","v":0},{"$f":"IF('Formula Sheet 1'!B930>10, (0.00005*(D930^2))+(0.3389*D930)-1.431, 0.1423*(D930^1.2528))","v":0}]
[null,0,"mg/L CaCO3",{"$f":"HLOOKUP(C931,'Formula Sheet 1'!$E$2:$P931,'Formula Sheet 1'!$D931,FALSE)","v":0},{"$f":"IF('Formula Sheet 1'!B931>10, (0.00005*(D931^2))+(0.3389*D931)-1.431, 0.1423*(D931^1.2528))","v":0}]
[null,0,"mg/L CaCO3",{"$f":"HLOOKUP(C932,'Formula Sheet 1'!$E$2:$P932,'Formula Sheet 1'!$D932,FALSE)","v":0},{"$f":"IF('Formula Sheet 1'!B932>10, (0.00005*(D932^2))+(0.3389*D932)-1.431, 0.1423*(D932^1.2528))","v":0}]
[null,0,"mg/L CaCO3",{"$f":"HLOOKUP(C933,'Formula Sheet 1'!$E$2:$P933,'Formula Sheet 1'!$D933,FALSE)","v":0},{"$f":"IF('Formula Sheet 1'!B933>10, (0.00005*(D933^2))+(0.3389*D933)-1.431, 0.1423*(D933^1.2528))","v":0}]
[null,0,"mg/L CaCO3",{"$f":"HLOOKUP(C934,'Formula Sheet 1'!$E$2:$P934,'Formula Sheet 1'!$D934,FALSE)","v":0},{"$f":"IF('Formula Sheet 1'!B934>10, (0.00005*(D934^2))+(0.3389*D934)-1.431, 0.1423*(D934^1.2528))","v":0}]
[null,0,"mg/L CaCO3",{"$f":"HLOOKUP(C935,'Formula Sheet 1'!$E$2:$P935,'Formula Sheet 1'!$D935,FALSE)","v":0},{"$f":"IF('Formula Sheet 1'!B935>10, (0.00005*(D935^2))+(0.3389*D935)-1.431, 0.1423*(D935^1.2528))","v":0}]
[null,0,"mg/L CaCO3",{"$f":"HLOOKUP(C936,'Formula Sheet 1'!$E$2:$P936,'Formula Sheet 1'!$D936,FALSE)","v":0},{"$f":"IF('Formula Sheet 1'!B936>10, (0.00005*(D936^2))+(0.3389*D936)-1.431, 0.1423*(D936^1.2528))","v":0}]
[null,0,"mg/L CaCO3",{"$f":"HLOOKUP(C937,'Formula Sheet 1'!$E$2:$P937,'Formula Sheet 1'!$D937,FALSE)","v":0},{"$f":"IF('Formula Sheet 1'!B937>10, (0.00005*(D937^2))+(0.3389*D937)-1.431, 0.1423*(D937^1.2528))","v":0}]
[null,0,"mg/L CaCO3",{"$f":"HLOOKUP(C938,'Formula Sheet 1'!$E$2:$P938,'Formula Sheet 1'!$D938,FALSE)","v":0},{"$f":"IF('Formula Sheet 1'!B938>10, (0.00005*(D938^2))+(0.3389*D938)-1.431, 0.1423*(D938^1.2528))","v":0}]
[null,0,"mg/L CaCO3",{"$f":"HLOOKUP(C939,'Formula Sheet 1'!$E$2:$P939,'Formula Sheet 1'!$D939,FALSE)","v":0},{"$f":"IF('Formula Sheet 1'!B939>10, (0.00005*(D939^2))+(0.3389*D939)-1.431, 0.1423*(D939^1.2528))","v":0}]
[null,0,"mg/L CaCO3",{"$f":"HLOOKUP(C940,'Formula Sheet 1'!$E$2:$P940,'Formula Sheet 1'!$D940,FALSE)","v":0},{"$f":"IF('Formula Sheet 1'!B940>10, (0.00005*(D940^2))+(0.3389*D940)-1.431, 0.1423*(D940^1.2528))","v":0}]
[null,0,"mg/L CaCO3",{"$f":"HLOOKUP(C941,'Formula Sheet 1'!$E$2:$P941,'Formula Sheet 1'!$D941,FALSE)","v":0},{"$f":"IF('Formula Sheet 1'!B941>10, (0.00005*(D941^2))+(0.3389*D941)-1.431, 0.1423*(D941^1.2528))","v":0}]
[null,0,"mg/L CaCO3",{"$f":"HLOOKUP(C942,'Formula Sheet 1'!$E$2:$P942,'Formula Sheet 1'!$D942,FALSE)","v":0},{"$f":"IF('Formula Sheet 1'!B942>10, (0.00005*(D942^2))+(0.3389*D942)-1.431, 0.1423*(D942^1.2528))","v":0}]
[null,0,"mg/L CaCO3",{"$f":"HLOOKUP(C943,'Formula Sheet 1'!$E$2:$P943,'Formula Sheet 1'!$D943,FALSE)","v":0},{"$f":"IF('Formula Sheet 1'!B943>10, (0.00005*(D943^2))+(0.3389*D943)-1.431, 0.1423*(D943^1.2528))","v":0}]
[null,0,"mg/L CaCO3",{"$f":"HLOOKUP(C944,'Formula Sheet 1'!$E$2:$P944,'Formula Sheet 1'!$D944,FALSE)","v":0},{"$f":"IF('Formula Sheet 1'!B944>10, (0.00005*(D944^2))+(0.3389*D944)-1.431, 0.1423*(D944^1.2528))","v":0}]
[null,0,"mg/L CaCO3",{"$f":"HLOOKUP(C945,'Formula Sheet 1'!$E$2:$P945,'Formula Sheet 1'!$D945,FALSE)","v":0},{"$f":"IF('Formula Sheet 1'!B945>10, (0.00005*(D945^2))+(0.3389*D945)-1.431, 0.1423*(D945^1.2528))","v":0}]
[null,0,"mg/L CaCO3",{"$f":"HLOOKUP(C946,'Formula Sheet 1'!$E$2:$P946,'Formula Sheet 1'!$D946,FALSE)","v":0},{"$f":"IF('Formula Sheet 1'!B946>10, (0.00005*(D946^2))+(0.3389*D946)-1.431, 0.1423*(D946^1.2528))","v":0}]
[null,0,"mg/L CaCO3",{"$f":"HLOOKUP(C947,'Formula Sheet 1'!$E$2:$P947,'Formula Sheet 1'!$D947,FALSE)","v":0},{"$f":"IF('Formula Sheet 1'!B947>10, (0.00005*(D947^2))+(0.3389*D947)-1.431, 0.1423*(D947^1.2528))","v":0}]
[null,0,"mg/L CaCO3",{"$f":"HLOOKUP(C948,'Formula Sheet 1'!$E$2:$P948,'Formula Sheet 1'!$D948,FALSE)","v":0},{"$f":"IF('Formula Sheet 1'!B948>10, (0.00005*(D948^2))+(0.3389*D948)-1.431, 0.1423*(D948^1.2528))","v":0}]
[null,0,"mg/L CaCO3",{"$f":"HLOOKUP(C949,'Formula Sheet 1'!$E$2:$P949,'Formula Sheet 1'!$D949,FALSE)","v":0},{"$f":"IF('Formula Sheet 1'!B949>10, (0.00005*(D949^2))+(0.3389*D949)-1.431, 0.1423*(D949^1.2528))","v":0}]
[null,0,"mg/L CaCO3",{"$f":"HLOOKUP(C950,'Formula Sheet 1'!$E$2:$P950,'Formula Sheet 1'!$D950,FALSE)","v":0},{"$f":"IF('Formula Sheet 1'!B950>10, (0.00005*(D950^2))+(0.3389*D950)-1.431, 0.1423*(D950^1.2528))","v":0}]
[null,0,"mg/L CaCO3",{"$f":"HLOOKUP(C951,'Formula Sheet 1'!$E$2:$P951,'Formula Sheet 1'!$D951,FALSE)","v":0},{"$f":"IF('Formula Sheet 1'!B951>10, (0.00005*(D951^2))+(0.3389*D951)-1.431, 0.1423*(D951^1.2528))","v":0}]
[null,0,"mg/L CaCO3",{"$f":"HLOOKUP(C952,'Formula Sheet 1'!$E$2:$P952,'Formula Sheet 1'!$D952,FALSE)","v":0},{"$f":"IF('Formula Sheet 1'!B952>10, (0.00005*(D952^2))+(0.3389*D952)-1.431, 0.1423*(D952^1.2528))","v":0}]
[null,0,"mg/L CaCO3",{"$f":"HLOOKUP(C953,'Formula Sheet 1'!$E$2:$P953,'Formula Sheet 1'!$D953,FALSE)","v":0},{"$f":"IF('Formula Sheet 1'!B953>10, (0.00005*(D953^2))+(0.3389*D953)-1.431, 0.1423*(D953^1.2528))","v":0}]
[null,0,"mg/L CaCO3",{"$f":"HLOOKUP(C954,'Formula Sheet 1'!$E$2:$P954,'Formula Sheet 1'!$D954,FALSE)","v":0},{"$f":"IF('Formula Sheet 1'!B954>10, (0.00005*(D954^2))+(0.3389*D954)-1.431, 0.1423*(D954^1.2528))","v":0}]
[null,0,"mg/L CaCO3",{"$f":"HLOOKUP(C955,'Formula Sheet 1'!$E$2:$P955,'Formula Sheet 1'!$D955,FALSE)","v":0},{"$f":"IF('Formula Sheet 1'!B955>10, (0.00005*(D955^2))+(0.3389*D955)-1.431, 0.1423*(D955^1.2528))","v":0}]
[null,0,"mg/L CaCO3",{"$f":"HLOOKUP(C956,'Formula Sheet 1'!$E$2:$P956,'Formula Sheet 1'!$D956,FALSE)","v":0},{"$f":"IF('Formula Sheet 1'!B956>10, (0.00005*(D956^2))+(0.3389*D956)-1.431, 0.1423*(D956^1.2528))","v":0}]
[null,0,"mg/L CaCO3",{"$f":"HLOOKUP(C957,'Formula Sheet 1'!$E$2:$P957,'Formula Sheet 1'!$D957,FALSE)","v":0},{"$f":"IF('Formula Sheet 1'!B957>10, (0.00005*(D957^2))+(0.3389*D957)-1.431, 0.1423*(D957^1.2528))","v":0}]
[null,0,"mg/L CaCO3",{"$f":"HLOOKUP(C958,'Formula Sheet 1'!$E$2:$P958,'Formula Sheet 1'!$D958,FALSE)","v":0},{"$f":"IF('Formula Sheet 1'!B958>10, (0.00005*(D958^2))+(0.3389*D958)-1.431, 0.1423*(D958^1.2528))","v":0}]
[null,0,"mg/L CaCO3",{"$f":"HLOOKUP(C959,'Formula Sheet 1'!$E$2:$P959,'Formula Sheet 1'!$D959,FALSE)","v":0},{"$f":"IF('Formula Sheet 1'!B959>10, (0.00005*(D959^2))+(0.3389*D959)-1.431, 0.1423*(D959^1.2528))","v":0}]
[null,0,"mg/L CaCO3",{"$f":"HLOOKUP(C960,'Formula Sheet 1'!$E$2:$P960,'Formula Sheet 1'!$D960,FALSE)","v":0},{"$f":"IF('Formula Sheet 1'!B960>10, (0.00005*(D960^2))+(0.3389*D960)-1.431, 0.1423*(D960^1.2528))","v":0}]
[null,0,"mg/L CaCO3",{"$f":"HLOOKUP(C961,'Formula Sheet 1'!$E$2:$P961,'Formula Sheet 1'!$D961,FALSE)","v":0},{"$f":"IF('Formula Sheet 1'!B961>10, (0.00005*(D961^2))+(0.3389*D961)-1.431, 0.1423*(D961^1.2528))","v":0}]
[null,0,"mg/L CaCO3",{"$f":"HLOOKUP(C962,'Formula Sheet 1'!$E$2:$P962,'Formula Sheet 1'!$D962,FALSE)","v":0},{"$f":"IF('Formula Sheet 1'!B962>10, (0.00005*(D962^2))+(0.3389*D962)-1.431, 0.1423*(D962^1.2528))","v":0}]
[null,0,"mg/L CaCO3",{"$f":"HLOOKUP(C963,'Formula Sheet 1'!$E$2:$P963,'Formula Sheet 1'!$D963,FALSE)","v":0},{"$f":"IF('Formula Sheet 1'!B963>10, (0.00005*(D963^2))+(0.3389*D963)-1.431, 0.1423*(D963^1.2528))","v":0}]
[null,0,"mg/L CaCO3",{"$f":"HLOOKUP(C964,'Formula Sheet 1'!$E$2:$P964,'Formula Sheet 1'!$D964,FALSE)","v":0},{"$f":"IF('Formula Sheet 1'!B964>10, (0.00005*(D964^2))+(0.3389*D964)-1.431, 0.1423*(D964^1.2528))","v":0}]
[null,0,{"$f":"C964","v":"mg/L CaCO3"},{"$f":"HLOOKUP(C965,'Formula Sheet 1'!$E$2:$P965,'Formula Sheet 1'!$D965,FALSE)","v":0},{"$f":"IF('Formula Sheet 1'!B965>10, (0.00005*(D965^2))+(0.3389*D965)-1.431, 0.1423*(D965^1.2528))","v":0}]
[null,0,"mg/L CaCO3",{"$f":"HLOOKUP(C966,'Formula Sheet 1'!$E$2:$P966,'Formula Sheet 1'!$D966,FALSE)","v":0},{"$f":"IF('Formula Sheet 1'!B966>10, (0.00005*(D966^2))+(0.3389*D966)-1.431, 0.1423*(D966^1.2528))","v":0}]
[null,0,"mg/L CaCO3",{"$f":"HLOOKUP(C967,'Formula Sheet 1'!$E$2:$P967,'Formula Sheet 1'!$D967,FALSE)","v":0},{"$f":"IF('Formula Sheet 1'!B967>10, (0.00005*(D967^2))+(0.3389*D967)-1.431, 0.1423*(D967^1.2528))","v":0}]
[null,0,"mg/L CaCO3",{"$f":"HLOOKUP(C968,'Formula Sheet 1'!$E$2:$P968,'Formula Sheet 1'!$D968,FALSE)","v":0},{"$f":"IF('Formula Sheet 1'!B968>10, (0.00005*(D968^2))+(0.3389*D968)-1.431, 0.1423*(D968^1.2528))","v":0}]
[null,0,"mg/L CaCO3",{"$f":"HLOOKUP(C969,'Formula Sheet 1'!$E$2:$P969,'Formula Sheet 1'!$D969,FALSE)","v":0},{"$f":"IF('Formula Sheet 1'!B969>10, (0.00005*(D969^2))+(0.3389*D969)-1.431, 0.1423*(D969^1.2528))","v":0}]
[null,0,"mg/L CaCO3",{"$f":"HLOOKUP(C970,'Formula Sheet 1'!$E$2:$P970,'Formula Sheet 1'!$D970,FALSE)","v":0},{"$f":"IF('Formula Sheet 1'!B970>10, (0.00005*(D970^2))+(0.3389*D970)-1.431, 0.1423*(D970^1.2528))","v":0}]
[null,0,"mg/L CaCO3",{"$f":"HLOOKUP(C971,'Formula Sheet 1'!$E$2:$P971,'Formula Sheet 1'!$D971,FALSE)","v":0},{"$f":"IF('Formula Sheet 1'!B971>10, (0.00005*(D971^2))+(0.3389*D971)-1.431, 0.1423*(D971^1.2528))","v":0}]
[null,0,"mg/L CaCO3",{"$f":"HLOOKUP(C972,'Formula Sheet 1'!$E$2:$P972,'Formula Sheet 1'!$D972,FALSE)","v":0},{"$f":"IF('Formula Sheet 1'!B972>10, (0.00005*(D972^2))+(0.3389*D972)-1.431, 0.1423*(D972^1.2528))","v":0}]
[null,0,"mg/L CaCO3",{"$f":"HLOOKUP(C973,'Formula Sheet 1'!$E$2:$P973,'Formula Sheet 1'!$D973,FALSE)","v":0},{"$f":"IF('Formula Sheet 1'!B973>10, (0.00005*(D973^2))+(0.3389*D973)-1.431, 0.1423*(D973^1.2528))","v":0}]
[null,0,"mg/L CaCO3",{"$f":"HLOOKUP(C974,'Formula Sheet 1'!$E$2:$P974,'Formula Sheet 1'!$D974,FALSE)","v":0},{"$f":"IF('Formula Sheet 1'!B974>10, (0.00005*(D974^2))+(0.3389*D974)-1.431, 0.1423*(D974^1.2528))","v":0}]
[null,0,"mg/L CaCO3",{"$f":"HLOOKUP(C975,'Formula Sheet 1'!$E$2:$P975,'Formula Sheet 1'!$D975,FALSE)","v":0},{"$f":"IF('Formula Sheet 1'!B975>10, (0.00005*(D975^2))+(0.3389*D975)-1.431, 0.1423*(D975^1.2528))","v":0}]
[null,0,"mg/L CaCO3",{"$f":"HLOOKUP(C976,'Formula Sheet 1'!$E$2:$P976,'Formula Sheet 1'!$D976,FALSE)","v":0},{"$f":"IF('Formula Sheet 1'!B976>10, (0.00005*(D976^2))+(0.3389*D976)-1.431, 0.1423*(D976^1.2528))","v":0}]
[null,0,"mg/L CaCO3",{"$f":"HLOOKUP(C977,'Formula Sheet 1'!$E$2:$P977,'Formula Sheet 1'!$D977,FALSE)","v":0},{"$f":"IF('Formula Sheet 1'!B977>10, (0.00005*(D977^2))+(0.3389*D977)-1.431, 0.1423*(D977^1.2528))","v":0}]
[null,0,"mg/L CaCO3",{"$f":"HLOOKUP(C978,'Formula Sheet 1'!$E$2:$P978,'Formula Sheet 1'!$D978,FALSE)","v":0},{"$f":"IF('Formula Sheet 1'!B978>10, (0.00005*(D978^2))+(0.3389*D978)-1.431, 0.1423*(D978^1.2528))","v":0}]
[null,0,"mg/L CaCO3",{"$f":"HLOOKUP(C979,'Formula Sheet 1'!$E$2:$P979,'Formula Sheet 1'!$D979,FALSE)","v":0},{"$f":"IF('Formula Sheet 1'!B979>10, (0.00005*(D979^2))+(0.3389*D979)-1.431, 0.1423*(D979^1.2528))","v":0}]
[null,0,"mg/L CaCO3",{"$f":"HLOOKUP(C980,'Formula Sheet 1'!$E$2:$P980,'Formula Sheet 1'!$D980,FALSE)","v":0},{"$f":"IF('Formula Sheet 1'!B980>10, (0.00005*(D980^2))+(0.3389*D980)-1.431, 0.1423*(D980^1.2528))","v":0}]
[null,0,"mg/L CaCO3",{"$f":"HLOOKUP(C981,'Formula Sheet 1'!$E$2:$P981,'Formula Sheet 1'!$D981,FALSE)","v":0},{"$f":"IF('Formula Sheet 1'!B981>10, (0.00005*(D981^2))+(0.3389*D981)-1.431, 0.1423*(D981^1.2528))","v":0}]
[null,0,"mg/L CaCO3",{"$f":"HLOOKUP(C982,'Formula Sheet 1'!$E$2:$P982,'Formula Sheet 1'!$D982,FALSE)","v":0},{"$f":"IF('Formula Sheet 1'!B982>10, (0.00005*(D982^2))+(0.3389*D982)-1.431, 0.1423*(D982^1.2528))","v":0}]
[null,0,"mg/L CaCO3",{"$f":"HLOOKUP(C983,'Formula Sheet 1'!$E$2:$P983,'Formula Sheet 1'!$D983,FALSE)","v":0},{"$f":"IF('Formula Sheet 1'!B983>10, (0.00005*(D983^2))+(0.3389*D983)-1.431, 0.1423*(D983^1.2528))","v":0}]
[null,0,"mg/L CaCO3",{"$f":"HLOOKUP(C984,'Formula Sheet 1'!$E$2:$P984,'Formula Sheet 1'!$D984,FALSE)","v":0},{"$f":"IF('Formula Sheet 1'!B984>10, (0.00005*(D984^2))+(0.3389*D984)-1.431, 0.1423*(D984^1.2528))","v":0}]
[null,0,"mg/L CaCO3",{"$f":"HLOOKUP(C985,'Formula Sheet 1'!$E$2:$P985,'Formula Sheet 1'!$D985,FALSE)","v":0},{"$f":"IF('Formula Sheet 1'!B985>10, (0.00005*(D985^2))+(0.3389*D985)-1.431, 0.1423*(D985^1.2528))","v":0}]
[null,0,"mg/L CaCO3",{"$f":"HLOOKUP(C986,'Formula Sheet 1'!$E$2:$P986,'Formula Sheet 1'!$D986,FALSE)","v":0},{"$f":"IF('Formula Sheet 1'!B986>10, (0.00005*(D986^2))+(0.3389*D986)-1.431, 0.1423*(D986^1.2528))","v":0}]
[null,0,"mg/L CaCO3",{"$f":"HLOOKUP(C987,'Formula Sheet 1'!$E$2:$P987,'Formula Sheet 1'!$D987,FALSE)","v":0},{"$f":"IF('Formula Sheet 1'!B987>10, (0.00005*(D987^2))+(0.3389*D987)-1.431, 0.1423*(D987^1.2528))","v":0}]
[null,0,"mg/L CaCO3",{"$f":"HLOOKUP(C988,'Formula Sheet 1'!$E$2:$P988,'Formula Sheet 1'!$D988,FALSE)","v":0},{"$f":"IF('Formula Sheet 1'!B988>10, (0.00005*(D988^2))+(0.3389*D988)-1.431, 0.1423*(D988^1.2528))","v":0}]
[null,0,"mg/L CaCO3",{"$f":"HLOOKUP(C989,'Formula Sheet 1'!$E$2:$P989,'Formula Sheet 1'!$D989,FALSE)","v":0},{"$f":"IF('Formula Sheet 1'!B989>10, (0.00005*(D989^2))+(0.3389*D989)-1.431, 0.1423*(D989^1.2528))","v":0}]
[null,0,"mg/L CaCO3",{"$f":"HLOOKUP(C990,'Formula Sheet 1'!$E$2:$P990,'Formula Sheet 1'!$D990,FALSE)","v":0},{"$f":"IF('Formula Sheet 1'!B990>10, (0.00005*(D990^2))+(0.3389*D990)-1.431, 0.1423*(D990^1.2528))","v":0}]
[null,0,"mg/L CaCO3",{"$f":"HLOOKUP(C991,'Formula Sheet 1'!$E$2:$P991,'Formula Sheet 1'!$D991,FALSE)","v":0},{"$f":"IF('Formula Sheet 1'!B991>10, (0.00005*(D991^2))+(0.3389*D991)-1.431, 0.1423*(D991^1.2528))","v":0}]
[null,0,"mg/L CaCO3",{"$f":"HLOOKUP(C992,'Formula Sheet 1'!$E$2:$P992,'Formula Sheet 1'!$D992,FALSE)","v":0},{"$f":"IF('Formula Sheet 1'!B992>10, (0.00005*(D992^2))+(0.3389*D992)-1.431, 0.1423*(D992^1.2528))","v":0}]
[null,0,"mg/L CaCO3",{"$f":"HLOOKUP(C993,'Formula Sheet 1'!$E$2:$P993,'Formula Sheet 1'!$D993,FALSE)","v":0},{"$f":"IF('Formula Sheet 1'!B993>10, (0.00005*(D993^2))+(0.3389*D993)-1.431, 0.1423*(D993^1.2528))","v":0}]
[null,0,"mg/L CaCO3",{"$f":"HLOOKUP(C994,'Formula Sheet 1'!$E$2:$P994,'Formula Sheet 1'!$D994,FALSE)","v":0},{"$f":"IF('Formula Sheet 1'!B994>10, (0.00005*(D994^2))+(0.3389*D994)-1.431, 0.1423*(D994^1.2528))","v":0}]
[null,0,"mg/L CaCO3",{"$f":"HLOOKUP(C995,'Formula Sheet 1'!$E$2:$P995,'Formula Sheet 1'!$D995,FALSE)","v":0},{"$f":"IF('Formula Sheet 1'!B995>10, (0.00005*(D995^2))+(0.3389*D995)-1.431, 0.1423*(D995^1.2528))","v":0}]
[null,0,"mg/L CaCO3",{"$f":"HLOOKUP(C996,'Formula Sheet 1'!$E$2:$P996,'Formula Sheet 1'!$D996,FALSE)","v":0},{"$f":"IF('Formula Sheet 1'!B996>10, (0.00005*(D996^2))+(0.3389*D996)-1.431, 0.1423*(D996^1.2528))","v":0}]
[null,0,"mg/L CaCO3",{"$f":"HLOOKUP(C997,'Formula Sheet 1'!$E$2:$P997,'Formula Sheet 1'!$D997,FALSE)","v":0},{"$f":"IF('Formula Sheet 1'!B997>10, (0.00005*(D997^2))+(0.3389*D997)-1.431, 0.1423*(D997^1.2528))","v":0}]
[null,0,"mg/L CaCO3",{"$f":"HLOOKUP(C998,'Formula Sheet 1'!$E$2:$P998,'Formula Sheet 1'!$D998,FALSE)","v":0},{"$f":"IF('Formula Sheet 1'!B998>10, (0.00005*(D998^2))+(0.3389*D998)-1.431, 0.1423*(D998^1.2528))","v":0}]
[null,0,"mg/L CaCO3",{"$f":"HLOOKUP(C999,'Formula Sheet 1'!$E$2:$P999,'Formula Sheet 1'!$D999,FALSE)","v":0},{"$f":"IF('Formula Sheet 1'!B999>10, (0.00005*(D999^2))+(0.3389*D999)-1.431, 0.1423*(D999^1.2528))","v":0}]
[null,0,"mg/L CaCO3",{"$f":"HLOOKUP(C1000,'Formula Sheet 1'!$E$2:$P1000,'Formula Sheet 1'!$D1000,FALSE)","v":0},{"$f":"IF('Formula Sheet 1'!B1000>10, (0.00005*(D1000^2))+(0.3389*D1000)-1.431, 0.1423*(D1000^1.2528))","v":0}]
[null,0,"mg/L CaCO3",{"$f":"HLOOKUP(C1001,'Formula Sheet 1'!$E$2:$P1001,'Formula Sheet 1'!$D1001,FALSE)","v":0},{"$f":"IF('Formula Sheet 1'!B1001>10, (0.00005*(D1001^2))+(0.3389*D1001)-1.431, 0.1423*(D1001^1.2528))","v":0}]
[null,0,"mg/L CaCO3",{"$f":"HLOOKUP(C1002,'Formula Sheet 1'!$E$2:$P1002,'Formula Sheet 1'!$D1002,FALSE)","v":0},{"$f":"IF('Formula Sheet 1'!B1002>10, (0.00005*(D1002^2))+(0.3389*D1002)-1.431, 0.1423*(D1002^1.2528))","v":0}]
[null,0,"mg/L CaCO3",{"$f":"HLOOKUP(C1003,'Formula Sheet 1'!$E$2:$P1003,'Formula Sheet 1'!$D1003,FALSE)","v":0},{"$f":"IF('Formula Sheet 1'!B1003>10, (0.00005*(D1003^2))+(0.3389*D1003)-1.431, 0.1423*(D1003^1.2528))","v":0}]
[null,0,"mg/L CaCO3",{"$f":"HLOOKUP(C1004,'Formula Sheet 1'!$E$2:$P1004,'Formula Sheet 1'!$D1004,FALSE)","v":0},{"$f":"IF('Formula Sheet 1'!B1004>10, (0.00005*(D1004^2))+(0.3389*D1004)-1.431, 0.1423*(D1004^1.2528))","v":0}]
[null,0,"mg/L CaCO3",{"$f":"HLOOKUP(C1005,'Formula Sheet 1'!$E$2:$P1005,'Formula Sheet 1'!$D1005,FALSE)","v":0},{"$f":"IF('Formula Sheet 1'!B1005>10, (0.00005*(D1005^2))+(0.3389*D1005)-1.431, 0.1423*(D1005^1.2528))","v":0}]

{"sheet":"Formula Sheet 1","index":2,"n_rows":1005,"n_cols":38,"rows_kept":1005,"cut":false,"hidden":true,"merged":[]}
["mg/L CaCO3","Formulas ",null,1,"English Degree (grain CaCO3/gal)",{"$f":"HLOOKUP(E1,'Formula Sheet 1'!$E$2:$P3,'Formula Sheet 1'!$D3,FALSE)","v":14.285714285714285},{"$f":"IF('Formula Sheet 1'!B3>10, (0.00005*(F1^2))+(0.3389*F1)-1.431, 0.1423*(F1^1.2528))","v":3.9816774501231529}]
["mg/L Ca (Ca+Mg)","Output in mg/L Ca","Output in mg/L Ca",null,"mg/L CaCO3","mg/L Ca (Ca+Mg)","ppm Ca (Ca +Mg)","ppm CaCO3","English Degree (grain CaCO3/gal)","German Degree (10mg CaO/L)","French Degree (10 mg CaCO3/L)","USA degree (grain CaCO3/gal)","mmol/L","meq/L (or mval/L)","mg CaO/ L","mg Ca2+/L (Ca+Mg)",null,"mg/L Ca (Mg+Ca)","mg/L Ca (Ca only)","ppm Ca","ppm CaCO3","English Degree (grain CaCO3/gal)","German Degree (10mg CaO/L)","French Degree (10 mg CaCO3/L)","USA degree (grain CaCO3/gal)","mmol/L","meq/L (or mval/L)","mg CaO/ L","mg Ca2+/L",null,"Ca (mg/L)","Mg (mg/L)","Na (mg/L)","K (mg/L)","SO4 (mg/L)","Cl (mg/L)","Alk","mg/L CaCO3"]
["ppm Ca (Ca +Mg)",{"$f":"0.1423*('Formula Sheet 1'!F1^1.2528)","v":3.9816774501231529},{"$f":"(0.00005*('Formula Sheet 1'!F1^2))+(0.3389*'Formula Sheet 1'!F1)-1.431","v":3.4206326530612241},2,{"$f":"'Formula Sheet 1'!D1","v":1},{"$f":"'Formula Sheet 1'!D1/0.4","v":2.5},{"$f":"'Formula Sheet 1'!D1/0.4","v":2.5},{"$f":"'Formula Sheet 1'!D1","v":1},{"$f":"'Formula Sheet 1'!D1/0.07","v":14.285714285714285},{"$f":"'Formula Sheet 1'!D1/0.056","v":17.857142857142858},{"$f":"'Formula Sheet 1'!D1/0.1","v":10},{"$f":"'Formula Sheet 1'!D1/0.058","v":17.241379310344826},{"$f":"'Formula Sheet 1'!D1/0.01","v":100},{"$f":"'Formula Sheet 1'!D1/0.02","v":50},{"$f":"'Formula Sheet 1'!D1/0.56","v":1.7857142857142856},{"$f":"'Formula Sheet 1'!D1/0.4","v":2.5},null,{"$f":"AL3*0.4","v":7.3705503949835105},{"$f":"(AL3-(4.188*AF3))*0.4","v":4.9939999999999998},{"$f":"AL3*0.4","v":7.3705503949835105},{"$f":"AL3","v":18.426375987458776},{"$f":"0.017*AL3","v":0.3132483917867992},{"$f":"0.056*AL3","v":1.0318770552976915},{"$f":"0.1*AL3","v":1.8426375987458776},{"$f":"0.058*AL3","v":1.068729807272609},{"$f":"0.01*AL3","v":0.18426375987458776},{"$f":"0.02*AL3","v":0.36852751974917553},{"$f":"0.56*AL3","v":10.318770552976916},{"$f":"0.4*AL3","v":7.3705503949835105},null,5,{"$f":"10^(0.6113*(LOG10(AE3))-0.2754)","v":1.4186666636721053},{"$f":"10^(0.7068*(LOG10(AE3))+0.1029)","v":3.9530471922351818},{"$f":"10^(0.6685*(LOG10(AE3))-0.5387)","v":0.84832340240437998},{"$f":"10^(0.9535*(LOG10(AE3))-0.0773)","v":3.8830045472594921},{"$f":"10^(0.7178*(LOG10(AE3))+0.2764)","v":5.9995775189990619},{"$f":"10^(1.0439*(LOG10(AE3))+0.1881)","v":8.2747482081506565},{"$f":"(2.497*AE3)+(4.188*AF3)","v":18.426375987458776}]
["ppm CaCO3",{"$f":"0.1423*('Conversion 1'!D4^1.2528)","v":0},{"$f":"(0.00005*('Conversion 1'!D4^2))+(0.3389*'Conversion 1'!D4)-1.431","v":-1.431},3,{"$f":"'Conversion 1'!B4","v":0},{"$f":"'Conversion 1'!B4/0.4","v":0},{"$f":"'Conversion 1'!B4/0.4","v":0},{"$f":"'Conversion 1'!B4","v":0},{"$f":"'Conversion 1'!B4/0.07","v":0},{"$f":"'Conversion 1'!B4/0.056","v":0},{"$f":"'Conversion 1'!B4/0.1","v":0},{"$f":"'Conversion 1'!B4/0.058","v":0},{"$f":"'Conversion 1'!B4/0.01","v":0},{"$f":"'Conversion 1'!B4/0.02","v":0},{"$f":"'Conversion 1'!B4/0.56","v":0},{"$f":"'Conversion 1'!B4/0.4","v":0},null,{"$f":"AL4*0.4","v":13.618501866196091},{"$f":"(AL4-(4.188*AF4))*0.4","v":9.9879999999999995},{"$f":"AL4*0.4","v":13.618501866196091},{"$f":"AL4","v":34.046254665490224},{"$f":"0.017*AL4","v":0.57878632931333385},{"$f":"0.056*AL4","v":1.9065902612674526},{"$f":"0.1*AL4","v":3.4046254665490228},{"$f":"0.058*AL4","v":1.9746827705984331},{"$f":"0.01*AL4","v":0.34046254665490222},{"$f":"0.02*AL4","v":0.68092509330980444},{"$f":"0.56*AL4","v":19.065902612674527},{"$f":"0.4*AL4","v":13.618501866196091},null,10,{"$f":"10^(0.6113*(LOG10(AE4))-0.2754)","v":2.1672050299642378},{"$f":"10^(0.7068*(LOG10(AE4))+0.1029)","v":6.4520838090197286},{"$f":"10^(0.6685*(LOG10(AE4))-0.5387)","v":1.3483418052460823},{"$f":"10^(0.9535*(LOG10(AE4))-0.0773)","v":7.5196910886526531},{"$f":"10^(0.7178*(LOG10(AE4))+0.2764)","v":9.8673378871856148},{"$f":"10^(1.0439*(LOG10(AE4))+0.1881)","v":17.060823890031241},{"$f":"(2.497*AE4)+(4.188*AF4)","v":34.046254665490224}]
["English Degree (grain CaCO3/gal)",{"$f":"0.1423*('Conversion 1'!D5^1.2528)","v":0},{"$f":"(0.00005*('Conversion 1'!D5^2))+(0.3389*'Conversion 1'!D5)-1.431","v":-1.431},4,{"$f":"'Conversion 1'!B5","v":0},{"$f":"'Conversion 1'!B5/0.4","v":0},{"$f":"'Conversion 1'!B5/0.4","v":0},{"$f":"'Conversion 1'!B5","v":0},{"$f":"'Conversion 1'!B5/0.07","v":0},{"$f":"'Conversion 1'!B5/0.056","v":0},{"$f":"'Conversion 1'!B5/0.1","v":0},{"$f":"'Conversion 1'!B5/0.058","v":0},{"$f":"'Conversion 1'!B5/0.01","v":0},{"$f":"'Conversion 1'!B5/0.02","v":0},{"$f":"'Conversion 1'!B5/0.56","v":0},{"$f":"'Conversion 1'!B5/0.4","v":0}]
["German Degree (10mg CaO/L)",{"$f":"0.1423*('Conversion 1'!D6^1.2528)","v":0},{"$f":"(0.00005*('Conversion 1'!D6^2))+(0.3389*'Conversion 1'!D6)-1.431","v":-1.431},5,{"$f":"'Conversion 1'!B6","v":0},{"$f":"'Conversion 1'!B6/0.4","v":0},{"$f":"'Conversion 1'!B6/0.4","v":0},{"$f":"'Conversion 1'!B6","v":0},{"$f":"'Conversion 1'!B6/0.07","v":0},{"$f":"'Conversion 1'!B6/0.056","v":0},{"$f":"'Conversion 1'!B6/0.1","v":0},{"$f":"'Conversion 1'!B6/0.058","v":0},{"$f":"'Conversion 1'!B6/0.01","v":0},{"$f":"'Conversion 1'!B6/0.02","v":0},{"$f":"'Conversion 1'!B6/0.56","v":0},{"$f":"'Conversion 1'!B6/0.4","v":0}]
["French Degree (10 mg CaCO3/L)",{"$f":"0.1423*('Conversion 1'!D7^1.2528)","v":0},{"$f":"(0.00005*('Conversion 1'!D7^2))+(0.3389*'Conversion 1'!D7)-1.431","v":-1.431},6,{"$f":"'Conversion 1'!B7","v":0},{"$f":"'Conversion 1'!B7/0.4","v":0},{"$f":"'Conversion 1'!B7/0.4","v":0},{"$f":"'Conversion 1'!B7","v":0},{"$f":"'Conversion 1'!B7/0.07","v":0},{"$f":"'Conversion 1'!B7/0.056","v":0},{"$f":"'Conversion 1'!B7/0.1","v":0},{"$f":"'Conversion 1'!B7/0.058","v":0},{"$f":"'Conversion 1'!B7/0.01","v":0},{"$f":"'Conversion 1'!B7/0.02","v":0},{"$f":"'Conversion 1'!B7/0.56","v":0},{"$f":"'Conversion 1'!B7/0.4","v":0}]
["USA degree (grain CaCO3/gal)",{"$f":"0.1423*('Conversion 1'!D8^1.2528)","v":0},{"$f":"(0.00005*('Conversion 1'!D8^2))+(0.3389*'Conversion 1'!D8)-1.431","v":-1.431},7,{"$f":"'Conversion 1'!B8","v":0},{"$f":"'Conversion 1'!B8/0.4","v":0},{"$f":"'Conversion 1'!B8/0.4","v":0},{"$f":"'Conversion 1'!B8","v":0},{"$f":"'Conversion 1'!B8/0.07","v":0},{"$f":"'Conversion 1'!B8/0.056","v":0},{"$f":"'Conversion 1'!B8/0.1","v":0},{"$f":"'Conversion 1'!B8/0.058","v":0},{"$f":"'Conversion 1'!B8/0.01","v":0},{"$f":"'Conversion 1'!B8/0.02","v":0},{"$f":"'Conversion 1'!B8/0.56","v":0},{"$f":"'Conversion 1'!B8/0.4","v":0}]
["mmol/L",{"$f":"0.1423*('Conversion 1'!D9^1.2528)","v":0},{"$f":"(0.00005*('Conversion 1'!D9^2))+(0.3389*'Conversion 1'!D9)-1.431","v":-1.431},8,{"$f":"'Conversion 1'!B9","v":0},{"$f":"'Conversion 1'!B9/0.4","v":0},{"$f":"'Conversion 1'!B9/0.4","v":0},{"$f":"'Conversion 1'!B9","v":0},{"$f":"'Conversion 1'!B9/0.07","v":0},{"$f":"'Conversion 1'!B9/0.056","v":0},{"$f":"'Conversion 1'!B9/0.1","v":0},{"$f":"'Conversion 1'!B9/0.058","v":0},{"$f":"'Conversion 1'!B9/0.01","v":0},{"$f":"'Conversion 1'!B9/0.02","v":0},{"$f":"'Conversion 1'!B9/0.56","v":0},{"$f":"'Conversion 1'!B9/0.4","v":0}]
["meq/L (or mval/L)",{"$f":"0.1423*('Conversion 1'!D10^1.2528)","v":0},{"$f":"(0.00005*('Conversion 1'!D10^2))+(0.3389*'Conversion 1'!D10)-1.431","v":-1.431},9,{"$f":"'Conversion 1'!B10","v":0},{"$f":"'Conversion 1'!B10/0.4","v":0},{"$f":"'Conversion 1'!B10/0.4","v":0},{"$f":"'Conversion 1'!B10","v":0},{"$f":"'Conversion 1'!B10/0.07","v":0},{"$f":"'Conversion 1'!B10/0.056","v":0},{"$f":"'Conversion 1'!B10/0.1","v":0},{"$f":"'Conversion 1'!B10/0.058","v":0},{"$f":"'Conversion 1'!B10/0.01","v":0},{"$f":"'Conversion 1'!B10/0.02","v":0},{"$f":"'Conversion 1'!B10/0.56","v":0},{"$f":"'Conversion 1'!B10/0.4","v":0}]
["mg CaO/ L",{"$f":"0.1423*('Conversion 1'!D11^1.2528)","v":0},{"$f":"(0.00005*('Conversion 1'!D11^2))+(0.3389*'Conversion 1'!D11)-1.431","v":-1.431},10,{"$f":"'Conversion 1'!B11","v":0},{"$f":"'Conversion 1'!B11/0.4","v":0},{"$f":"'Conversion 1'!B11/0.4","v":0},{"$f":"'Conversion 1'!B11","v":0},{"$f":"'Conversion 1'!B11/0.07","v":0},{"$f":"'Conversion 1'!B11/0.056","v":0},{"$f":"'Conversion 1'!B11/0.1","v":0},{"$f":"'Conversion 1'!B11/0.058","v":0},{"$f":"'Conversion 1'!B11/0.01","v":0},{"$f":"'Conversion 1'!B11/0.02","v":0},{"$f":"'Conversion 1'!B11/0.56","v":0},{"$f":"'Conversion 1'!B11/0.4","v":0}]
["mg Ca2+/L (Ca+Mg)",{"$f":"0.1423*('Conversion 1'!D12^1.2528)","v":0},{"$f":"(0.00005*('Conversion 1'!D12^2))+(0.3389*'Conversion 1'!D12)-1.431","v":-1.431},11,{"$f":"'Conversion 1'!B12","v":0},{"$f":"'Conversion 1'!B12/0.4","v":0},{"$f":"'Conversion 1'!B12/0.4","v":0},{"$f":"'Conversion 1'!B12","v":0},{"$f":"'Conversion 1'!B12/0.07","v":0},{"$f":"'Conversion 1'!B12/0.056","v":0},{"$f":"'Conversion 1'!B12/0.1","v":0},{"$f":"'Conversion 1'!B12/0.058","v":0},{"$f":"'Conversion 1'!B12/0.01","v":0},{"$f":"'Conversion 1'!B12/0.02","v":0},{"$f":"'Conversion 1'!B12/0.56","v":0},{"$f":"'Conversion 1'!B12/0.4","v":0}]
[null,{"$f":"0.1423*('Conversion 1'!D13^1.2528)","v":0},{"$f":"(0.00005*('Conversion 1'!D13^2))+(0.3389*'Conversion 1'!D13)-1.431","v":-1.431},12,{"$f":"'Conversion 1'!B13","v":0},{"$f":"'Conversion 1'!B13/0.4","v":0},{"$f":"'Conversion 1'!B13/0.4","v":0},{"$f":"'Conversion 1'!B13","v":0},{"$f":"'Conversion 1'!B13/0.07","v":0},{"$f":"'Conversion 1'!B13/0.056","v":0},{"$f":"'Conversion 1'!B13/0.1","v":0},{"$f":"'Conversion 1'!B13/0.058","v":0},{"$f":"'Conversion 1'!B13/0.01","v":0},{"$f":"'Conversion 1'!B13/0.02","v":0},{"$f":"'Conversion 1'!B13/0.56","v":0},{"$f":"'Conversion 1'!B13/0.4","v":0}]
[null,{"$f":"0.1423*('Conversion 1'!D14^1.2528)","v":0},{"$f":"(0.00005*('Conversion 1'!D14^2))+(0.3389*'Conversion 1'!D14)-1.431","v":-1.431},13,{"$f":"'Conversion 1'!B14","v":0},{"$f":"'Conversion 1'!B14/0.4","v":0},{"$f":"'Conversion 1'!B14/0.4","v":0},{"$f":"'Conversion 1'!B14","v":0},{"$f":"'Conversion 1'!B14/0.07","v":0},{"$f":"'Conversion 1'!B14/0.056","v":0},{"$f":"'Conversion 1'!B14/0.1","v":0},{"$f":"'Conversion 1'!B14/0.058","v":0},{"$f":"'Conversion 1'!B14/0.01","v":0},{"$f":"'Conversion 1'!B14/0.02","v":0},{"$f":"'Conversion 1'!B14/0.56","v":0},{"$f":"'Conversion 1'!B14/0.4","v":0}]
[null,{"$f":"0.1423*('Conversion 1'!D15^1.2528)","v":0},{"$f":"(0.00005*('Conversion 1'!D15^2))+(0.3389*'Conversion 1'!D15)-1.431","v":-1.431},14,{"$f":"'Conversion 1'!B15","v":0},{"$f":"'Conversion 1'!B15/0.4","v":0},{"$f":"'Conversion 1'!B15/0.4","v":0},{"$f":"'Conversion 1'!B15","v":0},{"$f":"'Conversion 1'!B15/0.07","v":0},{"$f":"'Conversion 1'!B15/0.056","v":0},{"$f":"'Conversion 1'!B15/0.1","v":0},{"$f":"'Conversion 1'!B15/0.058","v":0},{"$f":"'Conversion 1'!B15/0.01","v":0},{"$f":"'Conversion 1'!B15/0.02","v":0},{"$f":"'Conversion 1'!B15/0.56","v":0},{"$f":"'Conversion 1'!B15/0.4","v":0}]
[null,{"$f":"0.1423*('Conversion 1'!D16^1.2528)","v":0},{"$f":"(0.00005*('Conversion 1'!D16^2))+(0.3389*'Conversion 1'!D16)-1.431","v":-1.431},15,{"$f":"'Conversion 1'!B16","v":0},{"$f":"'Conversion 1'!B16/0.4","v":0},{"$f":"'Conversion 1'!B16/0.4","v":0},{"$f":"'Conversion 1'!B16","v":0},{"$f":"'Conversion 1'!B16/0.07","v":0},{"$f":"'Conversion 1'!B16/0.056","v":0},{"$f":"'Conversion 1'!B16/0.1","v":0},{"$f":"'Conversion 1'!B16/0.058","v":0},{"$f":"'Conversion 1'!B16/0.01","v":0},{"$f":"'Conversion 1'!B16/0.02","v":0},{"$f":"'Conversion 1'!B16/0.56","v":0},{"$f":"'Conversion 1'!B16/0.4","v":0}]
[null,{"$f":"0.1423*('Conversion 1'!D17^1.2528)","v":0},{"$f":"(0.00005*('Conversion 1'!D17^2))+(0.3389*'Conversion 1'!D17)-1.431","v":-1.431},16,{"$f":"'Conversion 1'!B17","v":0},{"$f":"'Conversion 1'!B17/0.4","v":0},{"$f":"'Conversion 1'!B17/0.4","v":0},{"$f":"'Conversion 1'!B17","v":0},{"$f":"'Conversion 1'!B17/0.07","v":0},{"$f":"'Conversion 1'!B17/0.056","v":0},{"$f":"'Conversion 1'!B17/0.1","v":0},{"$f":"'Conversion 1'!B17/0.058","v":0},{"$f":"'Conversion 1'!B17/0.01","v":0},{"$f":"'Conversion 1'!B17/0.02","v":0},{"$f":"'Conversion 1'!B17/0.56","v":0},{"$f":"'Conversion 1'!B17/0.4","v":0}]
[null,{"$f":"0.1423*('Conversion 1'!D18^1.2528)","v":0},{"$f":"(0.00005*('Conversion 1'!D18^2))+(0.3389*'Conversion 1'!D18)-1.431","v":-1.431},17,{"$f":"'Conversion 1'!B18","v":0},{"$f":"'Conversion 1'!B18/0.4","v":0},{"$f":"'Conversion 1'!B18/0.4","v":0},{"$f":"'Conversion 1'!B18","v":0},{"$f":"'Conversion 1'!B18/0.07","v":0},{"$f":"'Conversion 1'!B18/0.056","v":0},{"$f":"'Conversion 1'!B18/0.1","v":0},{"$f":"'Conversion 1'!B18/0.058","v":0},{"$f":"'Conversion 1'!B18/0.01","v":0},{"$f":"'Conversion 1'!B18/0.02","v":0},{"$f":"'Conversion 1'!B18/0.56","v":0},{"$f":"'Conversion 1'!B18/0.4","v":0}]
[null,{"$f":"0.1423*('Conversion 1'!D19^1.2528)","v":0},{"$f":"(0.00005*('Conversion 1'!D19^2))+(0.3389*'Conversion 1'!D19)-1.431","v":-1.431},18,{"$f":"'Conversion 1'!B19","v":0},{"$f":"'Conversion 1'!B19/0.4","v":0},{"$f":"'Conversion 1'!B19/0.4","v":0},{"$f":"'Conversion 1'!B19","v":0},{"$f":"'Conversion 1'!B19/0.07","v":0},{"$f":"'Conversion 1'!B19/0.056","v":0},{"$f":"'Conversion 1'!B19/0.1","v":0},{"$f":"'Conversion 1'!B19/0.058","v":0},{"$f":"'Conversion 1'!B19/0.01","v":0},{"$f":"'Conversion 1'!B19/0.02","v":0},{"$f":"'Conversion 1'!B19/0.56","v":0},{"$f":"'Conversion 1'!B19/0.4","v":0}]
[null,{"$f":"0.1423*('Conversion 1'!D20^1.2528)","v":0},{"$f":"(0.00005*('Conversion 1'!D20^2))+(0.3389*'Conversion 1'!D20)-1.431","v":-1.431},19,{"$f":"'Conversion 1'!B20","v":0},{"$f":"'Conversion 1'!B20/0.4","v":0},{"$f":"'Conversion 1'!B20/0.4","v":0},{"$f":"'Conversion 1'!B20","v":0},{"$f":"'Conversion 1'!B20/0.07","v":0},{"$f":"'Conversion 1'!B20/0.056","v":0},{"$f":"'Conversion 1'!B20/0.1","v":0},{"$f":"'Conversion 1'!B20/0.058","v":0},{"$f":"'Conversion 1'!B20/0.01","v":0},{"$f":"'Conversion 1'!B20/0.02","v":0},{"$f":"'Conversion 1'!B20/0.56","v":0},{"$f":"'Conversion 1'!B20/0.4","v":0}]
[null,{"$f":"0.1423*('Conversion 1'!D21^1.2528)","v":0},{"$f":"(0.00005*('Conversion 1'!D21^2))+(0.3389*'Conversion 1'!D21)-1.431","v":-1.431},20,{"$f":"'Conversion 1'!B21","v":0},{"$f":"'Conversion 1'!B21/0.4","v":0},{"$f":"'Conversion 1'!B21/0.4","v":0},{"$f":"'Conversion 1'!B21","v":0},{"$f":"'Conversion 1'!B21/0.07","v":0},{"$f":"'Conversion 1'!B21/0.056","v":0},{"$f":"'Conversion 1'!B21/0.1","v":0},{"$f":"'Conversion 1'!B21/0.058","v":0},{"$f":"'Conversion 1'!B21/0.01","v":0},{"$f":"'Conversion 1'!B21/0.02","v":0},{"$f":"'Conversion 1'!B21/0.56","v":0},{"$f":"'Conversion 1'!B21/0.4","v":0}]
[null,{"$f":"0.1423*('Conversion 1'!D22^1.2528)","v":0},{"$f":"(0.00005*('Conversion 1'!D22^2))+(0.3389*'Conversion 1'!D22)-1.431","v":-1.431},21,{"$f":"'Conversion 1'!B22","v":0},{"$f":"'Conversion 1'!B22/0.4","v":0},{"$f":"'Conversion 1'!B22/0.4","v":0},{"$f":"'Conversion 1'!B22","v":0},{"$f":"'Conversion 1'!B22/0.07","v":0},{"$f":"'Conversion 1'!B22/0.056","v":0},{"$f":"'Conversion 1'!B22/0.1","v":0},{"$f":"'Conversion 1'!B22/0.058","v":0},{"$f":"'Conversion 1'!B22/0.01","v":0},{"$f":"'Conversion 1'!B22/0.02","v":0},{"$f":"'Conversion 1'!B22/0.56","v":0},{"$f":"'Conversion 1'!B22/0.4","v":0}]
[null,{"$f":"0.1423*('Conversion 1'!D23^1.2528)","v":0},{"$f":"(0.00005*('Conversion 1'!D23^2))+(0.3389*'Conversion 1'!D23)-1.431","v":-1.431},22,{"$f":"'Conversion 1'!B23","v":0},{"$f":"'Conversion 1'!B23/0.4","v":0},{"$f":"'Conversion 1'!B23/0.4","v":0},{"$f":"'Conversion 1'!B23","v":0},{"$f":"'Conversion 1'!B23/0.07","v":0},{"$f":"'Conversion 1'!B23/0.056","v":0},{"$f":"'Conversion 1'!B23/0.1","v":0},{"$f":"'Conversion 1'!B23/0.058","v":0},{"$f":"'Conversion 1'!B23/0.01","v":0},{"$f":"'Conversion 1'!B23/0.02","v":0},{"$f":"'Conversion 1'!B23/0.56","v":0},{"$f":"'Conversion 1'!B23/0.4","v":0}]
[null,{"$f":"0.1423*('Conversion 1'!D24^1.2528)","v":0},{"$f":"(0.00005*('Conversion 1'!D24^2))+(0.3389*'Conversion 1'!D24)-1.431","v":-1.431},23,{"$f":"'Conversion 1'!B24","v":0},{"$f":"'Conversion 1'!B24/0.4","v":0},{"$f":"'Conversion 1'!B24/0.4","v":0},{"$f":"'Conversion 1'!B24","v":0},{"$f":"'Conversion 1'!B24/0.07","v":0},{"$f":"'Conversion 1'!B24/0.056","v":0},{"$f":"'Conversion 1'!B24/0.1","v":0},{"$f":"'Conversion 1'!B24/0.058","v":0},{"$f":"'Conversion 1'!B24/0.01","v":0},{"$f":"'Conversion 1'!B24/0.02","v":0},{"$f":"'Conversion 1'!B24/0.56","v":0},{"$f":"'Conversion 1'!B24/0.4","v":0}]
[null,{"$f":"0.1423*('Conversion 1'!D25^1.2528)","v":0},{"$f":"(0.00005*('Conversion 1'!D25^2))+(0.3389*'Conversion 1'!D25)-1.431","v":-1.431},24,{"$f":"'Conversion 1'!B25","v":0},{"$f":"'Conversion 1'!B25/0.4","v":0},{"$f":"'Conversion 1'!B25/0.4","v":0},{"$f":"'Conversion 1'!B25","v":0},{"$f":"'Conversion 1'!B25/0.07","v":0},{"$f":"'Conversion 1'!B25/0.056","v":0},{"$f":"'Conversion 1'!B25/0.1","v":0},{"$f":"'Conversion 1'!B25/0.058","v":0},{"$f":"'Conversion 1'!B25/0.01","v":0},{"$f":"'Conversion 1'!B25/0.02","v":0},{"$f":"'Conversion 1'!B25/0.56","v":0},{"$f":"'Conversion 1'!B25/0.4","v":0}]
[null,{"$f":"0.1423*('Conversion 1'!D26^1.2528)","v":0},{"$f":"(0.00005*('Conversion 1'!D26^2))+(0.3389*'Conversion 1'!D26)-1.431","v":-1.431},25,{"$f":"'Conversion 1'!B26","v":0},{"$f":"'Conversion 1'!B26/0.4","v":0},{"$f":"'Conversion 1'!B26/0.4","v":0},{"$f":"'Conversion 1'!B26","v":0},{"$f":"'Conversion 1'!B26/0.07","v":0},{"$f":"'Conversion 1'!B26/0.056","v":0},{"$f":"'Conversion 1'!B26/0.1","v":0},{"$f":"'Conversion 1'!B26/0.058","v":0},{"$f":"'Conversion 1'!B26/0.01","v":0},{"$f":"'Conversion 1'!B26/0.02","v":0},{"$f":"'Conversion 1'!B26/0.56","v":0},{"$f":"'Conversion 1'!B26/0.4","v":0}]
[null,{"$f":"0.1423*('Conversion 1'!D27^1.2528)","v":0},{"$f":"(0.00005*('Conversion 1'!D27^2))+(0.3389*'Conversion 1'!D27)-1.431","v":-1.431},26,{"$f":"'Conversion 1'!B27","v":0},{"$f":"'Conversion 1'!B27/0.4","v":0},{"$f":"'Conversion 1'!B27/0.4","v":0},{"$f":"'Conversion 1'!B27","v":0},{"$f":"'Conversion 1'!B27/0.07","v":0},{"$f":"'Conversion 1'!B27/0.056","v":0},{"$f":"'Conversion 1'!B27/0.1","v":0},{"$f":"'Conversion 1'!B27/0.058","v":0},{"$f":"'Conversion 1'!B27/0.01","v":0},{"$f":"'Conversion 1'!B27/0.02","v":0},{"$f":"'Conversion 1'!B27/0.56","v":0},{"$f":"'Conversion 1'!B27/0.4","v":0}]
[null,{"$f":"0.1423*('Conversion 1'!D28^1.2528)","v":0},{"$f":"(0.00005*('Conversion 1'!D28^2))+(0.3389*'Conversion 1'!D28)-1.431","v":-1.431},27,{"$f":"'Conversion 1'!B28","v":0},{"$f":"'Conversion 1'!B28/0.4","v":0},{"$f":"'Conversion 1'!B28/0.4","v":0},{"$f":"'Conversion 1'!B28","v":0},{"$f":"'Conversion 1'!B28/0.07","v":0},{"$f":"'Conversion 1'!B28/0.056","v":0},{"$f":"'Conversion 1'!B28/0.1","v":0},{"$f":"'Conversion 1'!B28/0.058","v":0},{"$f":"'Conversion 1'!B28/0.01","v":0},{"$f":"'Conversion 1'!B28/0.02","v":0},{"$f":"'Conversion 1'!B28/0.56","v":0},{"$f":"'Conversion 1'!B28/0.4","v":0}]
[null,{"$f":"0.1423*('Conversion 1'!D29^1.2528)","v":0},{"$f":"(0.00005*('Conversion 1'!D29^2))+(0.3389*'Conversion 1'!D29)-1.431","v":-1.431},28,{"$f":"'Conversion 1'!B29","v":0},{"$f":"'Conversion 1'!B29/0.4","v":0},{"$f":"'Conversion 1'!B29/0.4","v":0},{"$f":"'Conversion 1'!B29","v":0},{"$f":"'Conversion 1'!B29/0.07","v":0},{"$f":"'Conversion 1'!B29/0.056","v":0},{"$f":"'Conversion 1'!B29/0.1","v":0},{"$f":"'Conversion 1'!B29/0.058","v":0},{"$f":"'Conversion 1'!B29/0.01","v":0},{"$f":"'Conversion 1'!B29/0.02","v":0},{"$f":"'Conversion 1'!B29/0.56","v":0},{"$f":"'Conversion 1'!B29/0.4","v":0}]
[null,{"$f":"0.1423*('Conversion 1'!D30^1.2528)","v":0},{"$f":"(0.00005*('Conversion 1'!D30^2))+(0.3389*'Conversion 1'!D30)-1.431","v":-1.431},29,{"$f":"'Conversion 1'!B30","v":0},{"$f":"'Conversion 1'!B30/0.4","v":0},{"$f":"'Conversion 1'!B30/0.4","v":0},{"$f":"'Conversion 1'!B30","v":0},{"$f":"'Conversion 1'!B30/0.07","v":0},{"$f":"'Conversion 1'!B30/0.056","v":0},{"$f":"'Conversion 1'!B30/0.1","v":0},{"$f":"'Conversion 1'!B30/0.058","v":0},{"$f":"'Conversion 1'!B30/0.01","v":0},{"$f":"'Conversion 1'!B30/0.02","v":0},{"$f":"'Conversion 1'!B30/0.56","v":0},{"$f":"'Conversion 1'!B30/0.4","v":0}]
[null,{"$f":"0.1423*('Conversion 1'!D31^1.2528)","v":0},{"$f":"(0.00005*('Conversion 1'!D31^2))+(0.3389*'Conversion 1'!D31)-1.431","v":-1.431},30,{"$f":"'Conversion 1'!B31","v":0},{"$f":"'Conversion 1'!B31/0.4","v":0},{"$f":"'Conversion 1'!B31/0.4","v":0},{"$f":"'Conversion 1'!B31","v":0},{"$f":"'Conversion 1'!B31/0.07","v":0},{"$f":"'Conversion 1'!B31/0.056","v":0},{"$f":"'Conversion 1'!B31/0.1","v":0},{"$f":"'Conversion 1'!B31/0.058","v":0},{"$f":"'Conversion 1'!B31/0.01","v":0},{"$f":"'Conversion 1'!B31/0.02","v":0},{"$f":"'Conversion 1'!B31/0.56","v":0},{"$f":"'Conversion 1'!B31/0.4","v":0}]
[null,{"$f":"0.1423*('Conversion 1'!D32^1.2528)","v":0},{"$f":"(0.00005*('Conversion 1'!D32^2))+(0.3389*'Conversion 1'!D32)-1.431","v":-1.431},31,{"$f":"'Conversion 1'!B32","v":0},{"$f":"'Conversion 1'!B32/0.4","v":0},{"$f":"'Conversion 1'!B32/0.4","v":0},{"$f":"'Conversion 1'!B32","v":0},{"$f":"'Conversion 1'!B32/0.07","v":0},{"$f":"'Conversion 1'!B32/0.056","v":0},{"$f":"'Conversion 1'!B32/0.1","v":0},{"$f":"'Conversion 1'!B32/0.058","v":0},{"$f":"'Conversion 1'!B32/0.01","v":0},{"$f":"'Conversion 1'!B32/0.02","v":0},{"$f":"'Conversion 1'!B32/0.56","v":0},{"$f":"'Conversion 1'!B32/0.4","v":0}]
[null,{"$f":"0.1423*('Conversion 1'!D33^1.2528)","v":0},{"$f":"(0.00005*('Conversion 1'!D33^2))+(0.3389*'Conversion 1'!D33)-1.431","v":-1.431},32,{"$f":"'Conversion 1'!B33","v":0},{"$f":"'Conversion 1'!B33/0.4","v":0},{"$f":"'Conversion 1'!B33/0.4","v":0},{"$f":"'Conversion 1'!B33","v":0},{"$f":"'Conversion 1'!B33/0.07","v":0},{"$f":"'Conversion 1'!B33/0.056","v":0},{"$f":"'Conversion 1'!B33/0.1","v":0},{"$f":"'Conversion 1'!B33/0.058","v":0},{"$f":"'Conversion 1'!B33/0.01","v":0},{"$f":"'Conversion 1'!B33/0.02","v":0},{"$f":"'Conversion 1'!B33/0.56","v":0},{"$f":"'Conversion 1'!B33/0.4","v":0}]
[null,{"$f":"0.1423*('Conversion 1'!D34^1.2528)","v":0},{"$f":"(0.00005*('Conversion 1'!D34^2))+(0.3389*'Conversion 1'!D34)-1.431","v":-1.431},33,{"$f":"'Conversion 1'!B34","v":0},{"$f":"'Conversion 1'!B34/0.4","v":0},{"$f":"'Conversion 1'!B34/0.4","v":0},{"$f":"'Conversion 1'!B34","v":0},{"$f":"'Conversion 1'!B34/0.07","v":0},{"$f":"'Conversion 1'!B34/0.056","v":0},{"$f":"'Conversion 1'!B34/0.1","v":0},{"$f":"'Conversion 1'!B34/0.058","v":0},{"$f":"'Conversion 1'!B34/0.01","v":0},{"$f":"'Conversion 1'!B34/0.02","v":0},{"$f":"'Conversion 1'!B34/0.56","v":0},{"$f":"'Conversion 1'!B34/0.4","v":0}]
[null,{"$f":"0.1423*('Conversion 1'!D35^1.2528)","v":0},{"$f":"(0.00005*('Conversion 1'!D35^2))+(0.3389*'Conversion 1'!D35)-1.431","v":-1.431},34,{"$f":"'Conversion 1'!B35","v":0},{"$f":"'Conversion 1'!B35/0.4","v":0},{"$f":"'Conversion 1'!B35/0.4","v":0},{"$f":"'Conversion 1'!B35","v":0},{"$f":"'Conversion 1'!B35/0.07","v":0},{"$f":"'Conversion 1'!B35/0.056","v":0},{"$f":"'Conversion 1'!B35/0.1","v":0},{"$f":"'Conversion 1'!B35/0.058","v":0},{"$f":"'Conversion 1'!B35/0.01","v":0},{"$f":"'Conversion 1'!B35/0.02","v":0},{"$f":"'Conversion 1'!B35/0.56","v":0},{"$f":"'Conversion 1'!B35/0.4","v":0}]
[null,{"$f":"0.1423*('Conversion 1'!D36^1.2528)","v":0},{"$f":"(0.00005*('Conversion 1'!D36^2))+(0.3389*'Conversion 1'!D36)-1.431","v":-1.431},35,{"$f":"'Conversion 1'!B36","v":0},{"$f":"'Conversion 1'!B36/0.4","v":0},{"$f":"'Conversion 1'!B36/0.4","v":0},{"$f":"'Conversion 1'!B36","v":0},{"$f":"'Conversion 1'!B36/0.07","v":0},{"$f":"'Conversion 1'!B36/0.056","v":0},{"$f":"'Conversion 1'!B36/0.1","v":0},{"$f":"'Conversion 1'!B36/0.058","v":0},{"$f":"'Conversion 1'!B36/0.01","v":0},{"$f":"'Conversion 1'!B36/0.02","v":0},{"$f":"'Conversion 1'!B36/0.56","v":0},{"$f":"'Conversion 1'!B36/0.4","v":0}]
[null,{"$f":"0.1423*('Conversion 1'!D37^1.2528)","v":0},{"$f":"(0.00005*('Conversion 1'!D37^2))+(0.3389*'Conversion 1'!D37)-1.431","v":-1.431},36,{"$f":"'Conversion 1'!B37","v":0},{"$f":"'Conversion 1'!B37/0.4","v":0},{"$f":"'Conversion 1'!B37/0.4","v":0},{"$f":"'Conversion 1'!B37","v":0},{"$f":"'Conversion 1'!B37/0.07","v":0},{"$f":"'Conversion 1'!B37/0.056","v":0},{"$f":"'Conversion 1'!B37/0.1","v":0},{"$f":"'Conversion 1'!B37/0.058","v":0},{"$f":"'Conversion 1'!B37/0.01","v":0},{"$f":"'Conversion 1'!B37/0.02","v":0},{"$f":"'Conversion 1'!B37/0.56","v":0},{"$f":"'Conversion 1'!B37/0.4","v":0}]
[null,{"$f":"0.1423*('Conversion 1'!D38^1.2528)","v":0},{"$f":"(0.00005*('Conversion 1'!D38^2))+(0.3389*'Conversion 1'!D38)-1.431","v":-1.431},37,{"$f":"'Conversion 1'!B38","v":0},{"$f":"'Conversion 1'!B38/0.4","v":0},{"$f":"'Conversion 1'!B38/0.4","v":0},{"$f":"'Conversion 1'!B38","v":0},{"$f":"'Conversion 1'!B38/0.07","v":0},{"$f":"'Conversion 1'!B38/0.056","v":0},{"$f":"'Conversion 1'!B38/0.1","v":0},{"$f":"'Conversion 1'!B38/0.058","v":0},{"$f":"'Conversion 1'!B38/0.01","v":0},{"$f":"'Conversion 1'!B38/0.02","v":0},{"$f":"'Conversion 1'!B38/0.56","v":0},{"$f":"'Conversion 1'!B38/0.4","v":0}]
[null,{"$f":"0.1423*('Conversion 1'!D39^1.2528)","v":0},{"$f":"(0.00005*('Conversion 1'!D39^2))+(0.3389*'Conversion 1'!D39)-1.431","v":-1.431},38,{"$f":"'Conversion 1'!B39","v":0},{"$f":"'Conversion 1'!B39/0.4","v":0},{"$f":"'Conversion 1'!B39/0.4","v":0},{"$f":"'Conversion 1'!B39","v":0},{"$f":"'Conversion 1'!B39/0.07","v":0},{"$f":"'Conversion 1'!B39/0.056","v":0},{"$f":"'Conversion 1'!B39/0.1","v":0},{"$f":"'Conversion 1'!B39/0.058","v":0},{"$f":"'Conversion 1'!B39/0.01","v":0},{"$f":"'Conversion 1'!B39/0.02","v":0},{"$f":"'Conversion 1'!B39/0.56","v":0},{"$f":"'Conversion 1'!B39/0.4","v":0}]
[null,{"$f":"0.1423*('Conversion 1'!D40^1.2528)","v":0},{"$f":"(0.00005*('Conversion 1'!D40^2))+(0.3389*'Conversion 1'!D40)-1.431","v":-1.431},39,{"$f":"'Conversion 1'!B40","v":0},{"$f":"'Conversion 1'!B40/0.4","v":0},{"$f":"'Conversion 1'!B40/0.4","v":0},{"$f":"'Conversion 1'!B40","v":0},{"$f":"'Conversion 1'!B40/0.07","v":0},{"$f":"'Conversion 1'!B40/0.056","v":0},{"$f":"'Conversion 1'!B40/0.1","v":0},{"$f":"'Conversion 1'!B40/0.058","v":0},{"$f":"'Conversion 1'!B40/0.01","v":0},{"$f":"'Conversion 1'!B40/0.02","v":0},{"$f":"'Conversion 1'!B40/0.56","v":0},{"$f":"'Conversion 1'!B40/0.4","v":0}]
[null,{"$f":"0.1423*('Conversion 1'!D41^1.2528)","v":0},{"$f":"(0.00005*('Conversion 1'!D41^2))+(0.3389*'Conversion 1'!D41)-1.431","v":-1.431},40,{"$f":"'Conversion 1'!B41","v":0},{"$f":"'Conversion 1'!B41/0.4","v":0},{"$f":"'Conversion 1'!B41/0.4","v":0},{"$f":"'Conversion 1'!B41","v":0},{"$f":"'Conversion 1'!B41/0.07","v":0},{"$f":"'Conversion 1'!B41/0.056","v":0},{"$f":"'Conversion 1'!B41/0.1","v":0},{"$f":"'Conversion 1'!B41/0.058","v":0},{"$f":"'Conversion 1'!B41/0.01","v":0},{"$f":"'Conversion 1'!B41/0.02","v":0},{"$f":"'Conversion 1'!B41/0.56","v":0},{"$f":"'Conversion 1'!B41/0.4","v":0}]
[null,{"$f":"0.1423*('Conversion 1'!D42^1.2528)","v":0},{"$f":"(0.00005*('Conversion 1'!D42^2))+(0.3389*'Conversion 1'!D42)-1.431","v":-1.431},41,{"$f":"'Conversion 1'!B42","v":0},{"$f":"'Conversion 1'!B42/0.4","v":0},{"$f":"'Conversion 1'!B42/0.4","v":0},{"$f":"'Conversion 1'!B42","v":0},{"$f":"'Conversion 1'!B42/0.07","v":0},{"$f":"'Conversion 1'!B42/0.056","v":0},{"$f":"'Conversion 1'!B42/0.1","v":0},{"$f":"'Conversion 1'!B42/0.058","v":0},{"$f":"'Conversion 1'!B42/0.01","v":0},{"$f":"'Conversion 1'!B42/0.02","v":0},{"$f":"'Conversion 1'!B42/0.56","v":0},{"$f":"'Conversion 1'!B42/0.4","v":0}]
[null,{"$f":"0.1423*('Conversion 1'!D43^1.2528)","v":0},{"$f":"(0.00005*('Conversion 1'!D43^2))+(0.3389*'Conversion 1'!D43)-1.431","v":-1.431},42,{"$f":"'Conversion 1'!B43","v":0},{"$f":"'Conversion 1'!B43/0.4","v":0},{"$f":"'Conversion 1'!B43/0.4","v":0},{"$f":"'Conversion 1'!B43","v":0},{"$f":"'Conversion 1'!B43/0.07","v":0},{"$f":"'Conversion 1'!B43/0.056","v":0},{"$f":"'Conversion 1'!B43/0.1","v":0},{"$f":"'Conversion 1'!B43/0.058","v":0},{"$f":"'Conversion 1'!B43/0.01","v":0},{"$f":"'Conversion 1'!B43/0.02","v":0},{"$f":"'Conversion 1'!B43/0.56","v":0},{"$f":"'Conversion 1'!B43/0.4","v":0}]
[null,{"$f":"0.1423*('Conversion 1'!D44^1.2528)","v":0},{"$f":"(0.00005*('Conversion 1'!D44^2))+(0.3389*'Conversion 1'!D44)-1.431","v":-1.431},43,{"$f":"'Conversion 1'!B44","v":0},{"$f":"'Conversion 1'!B44/0.4","v":0},{"$f":"'Conversion 1'!B44/0.4","v":0},{"$f":"'Conversion 1'!B44","v":0},{"$f":"'Conversion 1'!B44/0.07","v":0},{"$f":"'Conversion 1'!B44/0.056","v":0},{"$f":"'Conversion 1'!B44/0.1","v":0},{"$f":"'Conversion 1'!B44/0.058","v":0},{"$f":"'Conversion 1'!B44/0.01","v":0},{"$f":"'Conversion 1'!B44/0.02","v":0},{"$f":"'Conversion 1'!B44/0.56","v":0},{"$f":"'Conversion 1'!B44/0.4","v":0}]
[null,{"$f":"0.1423*('Conversion 1'!D45^1.2528)","v":0},{"$f":"(0.00005*('Conversion 1'!D45^2))+(0.3389*'Conversion 1'!D45)-1.431","v":-1.431},44,{"$f":"'Conversion 1'!B45","v":0},{"$f":"'Conversion 1'!B45/0.4","v":0},{"$f":"'Conversion 1'!B45/0.4","v":0},{"$f":"'Conversion 1'!B45","v":0},{"$f":"'Conversion 1'!B45/0.07","v":0},{"$f":"'Conversion 1'!B45/0.056","v":0},{"$f":"'Conversion 1'!B45/0.1","v":0},{"$f":"'Conversion 1'!B45/0.058","v":0},{"$f":"'Conversion 1'!B45/0.01","v":0},{"$f":"'Conversion 1'!B45/0.02","v":0},{"$f":"'Conversion 1'!B45/0.56","v":0},{"$f":"'Conversion 1'!B45/0.4","v":0}]
[null,{"$f":"0.1423*('Conversion 1'!D46^1.2528)","v":0},{"$f":"(0.00005*('Conversion 1'!D46^2))+(0.3389*'Conversion 1'!D46)-1.431","v":-1.431},45,{"$f":"'Conversion 1'!B46","v":0},{"$f":"'Conversion 1'!B46/0.4","v":0},{"$f":"'Conversion 1'!B46/0.4","v":0},{"$f":"'Conversion 1'!B46","v":0},{"$f":"'Conversion 1'!B46/0.07","v":0},{"$f":"'Conversion 1'!B46/0.056","v":0},{"$f":"'Conversion 1'!B46/0.1","v":0},{"$f":"'Conversion 1'!B46/0.058","v":0},{"$f":"'Conversion 1'!B46/0.01","v":0},{"$f":"'Conversion 1'!B46/0.02","v":0},{"$f":"'Conversion 1'!B46/0.56","v":0},{"$f":"'Conversion 1'!B46/0.4","v":0}]
[null,{"$f":"0.1423*('Conversion 1'!D47^1.2528)","v":0},{"$f":"(0.00005*('Conversion 1'!D47^2))+(0.3389*'Conversion 1'!D47)-1.431","v":-1.431},46,{"$f":"'Conversion 1'!B47","v":0},{"$f":"'Conversion 1'!B47/0.4","v":0},{"$f":"'Conversion 1'!B47/0.4","v":0},{"$f":"'Conversion 1'!B47","v":0},{"$f":"'Conversion 1'!B47/0.07","v":0},{"$f":"'Conversion 1'!B47/0.056","v":0},{"$f":"'Conversion 1'!B47/0.1","v":0},{"$f":"'Conversion 1'!B47/0.058","v":0},{"$f":"'Conversion 1'!B47/0.01","v":0},{"$f":"'Conversion 1'!B47/0.02","v":0},{"$f":"'Conversion 1'!B47/0.56","v":0},{"$f":"'Conversion 1'!B47/0.4","v":0}]
[null,{"$f":"0.1423*('Conversion 1'!D48^1.2528)","v":0},{"$f":"(0.00005*('Conversion 1'!D48^2))+(0.3389*'Conversion 1'!D48)-1.431","v":-1.431},47,{"$f":"'Conversion 1'!B48","v":0},{"$f":"'Conversion 1'!B48/0.4","v":0},{"$f":"'Conversion 1'!B48/0.4","v":0},{"$f":"'Conversion 1'!B48","v":0},{"$f":"'Conversion 1'!B48/0.07","v":0},{"$f":"'Conversion 1'!B48/0.056","v":0},{"$f":"'Conversion 1'!B48/0.1","v":0},{"$f":"'Conversion 1'!B48/0.058","v":0},{"$f":"'Conversion 1'!B48/0.01","v":0},{"$f":"'Conversion 1'!B48/0.02","v":0},{"$f":"'Conversion 1'!B48/0.56","v":0},{"$f":"'Conversion 1'!B48/0.4","v":0}]
[null,{"$f":"0.1423*('Conversion 1'!D49^1.2528)","v":0},{"$f":"(0.00005*('Conversion 1'!D49^2))+(0.3389*'Conversion 1'!D49)-1.431","v":-1.431},48,{"$f":"'Conversion 1'!B49","v":0},{"$f":"'Conversion 1'!B49/0.4","v":0},{"$f":"'Conversion 1'!B49/0.4","v":0},{"$f":"'Conversion 1'!B49","v":0},{"$f":"'Conversion 1'!B49/0.07","v":0},{"$f":"'Conversion 1'!B49/0.056","v":0},{"$f":"'Conversion 1'!B49/0.1","v":0},{"$f":"'Conversion 1'!B49/0.058","v":0},{"$f":"'Conversion 1'!B49/0.01","v":0},{"$f":"'Conversion 1'!B49/0.02","v":0},{"$f":"'Conversion 1'!B49/0.56","v":0},{"$f":"'Conversion 1'!B49/0.4","v":0}]
[null,{"$f":"0.1423*('Conversion 1'!D50^1.2528)","v":0},{"$f":"(0.00005*('Conversion 1'!D50^2))+(0.3389*'Conversion 1'!D50)-1.431","v":-1.431},49,{"$f":"'Conversion 1'!B50","v":0},{"$f":"'Conversion 1'!B50/0.4","v":0},{"$f":"'Conversion 1'!B50/0.4","v":0},{"$f":"'Conversion 1'!B50","v":0},{"$f":"'Conversion 1'!B50/0.07","v":0},{"$f":"'Conversion 1'!B50/0.056","v":0},{"$f":"'Conversion 1'!B50/0.1","v":0},{"$f":"'Conversion 1'!B50/0.058","v":0},{"$f":"'Conversion 1'!B50/0.01","v":0},{"$f":"'Conversion 1'!B50/0.02","v":0},{"$f":"'Conversion 1'!B50/0.56","v":0},{"$f":"'Conversion 1'!B50/0.4","v":0}]
[null,{"$f":"0.1423*('Conversion 1'!D51^1.2528)","v":0},{"$f":"(0.00005*('Conversion 1'!D51^2))+(0.3389*'Conversion 1'!D51)-1.431","v":-1.431},50,{"$f":"'Conversion 1'!B51","v":0},{"$f":"'Conversion 1'!B51/0.4","v":0},{"$f":"'Conversion 1'!B51/0.4","v":0},{"$f":"'Conversion 1'!B51","v":0},{"$f":"'Conversion 1'!B51/0.07","v":0},{"$f":"'Conversion 1'!B51/0.056","v":0},{"$f":"'Conversion 1'!B51/0.1","v":0},{"$f":"'Conversion 1'!B51/0.058","v":0},{"$f":"'Conversion 1'!B51/0.01","v":0},{"$f":"'Conversion 1'!B51/0.02","v":0},{"$f":"'Conversion 1'!B51/0.56","v":0},{"$f":"'Conversion 1'!B51/0.4","v":0}]
[null,{"$f":"0.1423*('Conversion 1'!D52^1.2528)","v":0},{"$f":"(0.00005*('Conversion 1'!D52^2))+(0.3389*'Conversion 1'!D52)-1.431","v":-1.431},51,{"$f":"'Conversion 1'!B52","v":0},{"$f":"'Conversion 1'!B52/0.4","v":0},{"$f":"'Conversion 1'!B52/0.4","v":0},{"$f":"'Conversion 1'!B52","v":0},{"$f":"'Conversion 1'!B52/0.07","v":0},{"$f":"'Conversion 1'!B52/0.056","v":0},{"$f":"'Conversion 1'!B52/0.1","v":0},{"$f":"'Conversion 1'!B52/0.058","v":0},{"$f":"'Conversion 1'!B52/0.01","v":0},{"$f":"'Conversion 1'!B52/0.02","v":0},{"$f":"'Conversion 1'!B52/0.56","v":0},{"$f":"'Conversion 1'!B52/0.4","v":0}]
[null,{"$f":"0.1423*('Conversion 1'!D53^1.2528)","v":0},{"$f":"(0.00005*('Conversion 1'!D53^2))+(0.3389*'Conversion 1'!D53)-1.431","v":-1.431},52,{"$f":"'Conversion 1'!B53","v":0},{"$f":"'Conversion 1'!B53/0.4","v":0},{"$f":"'Conversion 1'!B53/0.4","v":0},{"$f":"'Conversion 1'!B53","v":0},{"$f":"'Conversion 1'!B53/0.07","v":0},{"$f":"'Conversion 1'!B53/0.056","v":0},{"$f":"'Conversion 1'!B53/0.1","v":0},{"$f":"'Conversion 1'!B53/0.058","v":0},{"$f":"'Conversion 1'!B53/0.01","v":0},{"$f":"'Conversion 1'!B53/0.02","v":0},{"$f":"'Conversion 1'!B53/0.56","v":0},{"$f":"'Conversion 1'!B53/0.4","v":0}]
[null,{"$f":"0.1423*('Conversion 1'!D54^1.2528)","v":0},{"$f":"(0.00005*('Conversion 1'!D54^2))+(0.3389*'Conversion 1'!D54)-1.431","v":-1.431},53,{"$f":"'Conversion 1'!B54","v":0},{"$f":"'Conversion 1'!B54/0.4","v":0},{"$f":"'Conversion 1'!B54/0.4","v":0},{"$f":"'Conversion 1'!B54","v":0},{"$f":"'Conversion 1'!B54/0.07","v":0},{"$f":"'Conversion 1'!B54/0.056","v":0},{"$f":"'Conversion 1'!B54/0.1","v":0},{"$f":"'Conversion 1'!B54/0.058","v":0},{"$f":"'Conversion 1'!B54/0.01","v":0},{"$f":"'Conversion 1'!B54/0.02","v":0},{"$f":"'Conversion 1'!B54/0.56","v":0},{"$f":"'Conversion 1'!B54/0.4","v":0}]
[null,{"$f":"0.1423*('Conversion 1'!D55^1.2528)","v":0},{"$f":"(0.00005*('Conversion 1'!D55^2))+(0.3389*'Conversion 1'!D55)-1.431","v":-1.431},54,{"$f":"'Conversion 1'!B55","v":0},{"$f":"'Conversion 1'!B55/0.4","v":0},{"$f":"'Conversion 1'!B55/0.4","v":0},{"$f":"'Conversion 1'!B55","v":0},{"$f":"'Conversion 1'!B55/0.07","v":0},{"$f":"'Conversion 1'!B55/0.056","v":0},{"$f":"'Conversion 1'!B55/0.1","v":0},{"$f":"'Conversion 1'!B55/0.058","v":0},{"$f":"'Conversion 1'!B55/0.01","v":0},{"$f":"'Conversion 1'!B55/0.02","v":0},{"$f":"'Conversion 1'!B55/0.56","v":0},{"$f":"'Conversion 1'!B55/0.4","v":0}]
[null,{"$f":"0.1423*('Conversion 1'!D56^1.2528)","v":0},{"$f":"(0.00005*('Conversion 1'!D56^2))+(0.3389*'Conversion 1'!D56)-1.431","v":-1.431},55,{"$f":"'Conversion 1'!B56","v":0},{"$f":"'Conversion 1'!B56/0.4","v":0},{"$f":"'Conversion 1'!B56/0.4","v":0},{"$f":"'Conversion 1'!B56","v":0},{"$f":"'Conversion 1'!B56/0.07","v":0},{"$f":"'Conversion 1'!B56/0.056","v":0},{"$f":"'Conversion 1'!B56/0.1","v":0},{"$f":"'Conversion 1'!B56/0.058","v":0},{"$f":"'Conversion 1'!B56/0.01","v":0},{"$f":"'Conversion 1'!B56/0.02","v":0},{"$f":"'Conversion 1'!B56/0.56","v":0},{"$f":"'Conversion 1'!B56/0.4","v":0}]
[null,{"$f":"0.1423*('Conversion 1'!D57^1.2528)","v":0},{"$f":"(0.00005*('Conversion 1'!D57^2))+(0.3389*'Conversion 1'!D57)-1.431","v":-1.431},56,{"$f":"'Conversion 1'!B57","v":0},{"$f":"'Conversion 1'!B57/0.4","v":0},{"$f":"'Conversion 1'!B57/0.4","v":0},{"$f":"'Conversion 1'!B57","v":0},{"$f":"'Conversion 1'!B57/0.07","v":0},{"$f":"'Conversion 1'!B57/0.056","v":0},{"$f":"'Conversion 1'!B57/0.1","v":0},{"$f":"'Conversion 1'!B57/0.058","v":0},{"$f":"'Conversion 1'!B57/0.01","v":0},{"$f":"'Conversion 1'!B57/0.02","v":0},{"$f":"'Conversion 1'!B57/0.56","v":0},{"$f":"'Conversion 1'!B57/0.4","v":0}]
[null,{"$f":"0.1423*('Conversion 1'!D58^1.2528)","v":0},{"$f":"(0.00005*('Conversion 1'!D58^2))+(0.3389*'Conversion 1'!D58)-1.431","v":-1.431},57,{"$f":"'Conversion 1'!B58","v":0},{"$f":"'Conversion 1'!B58/0.4","v":0},{"$f":"'Conversion 1'!B58/0.4","v":0},{"$f":"'Conversion 1'!B58","v":0},{"$f":"'Conversion 1'!B58/0.07","v":0},{"$f":"'Conversion 1'!B58/0.056","v":0},{"$f":"'Conversion 1'!B58/0.1","v":0},{"$f":"'Conversion 1'!B58/0.058","v":0},{"$f":"'Conversion 1'!B58/0.01","v":0},{"$f":"'Conversion 1'!B58/0.02","v":0},{"$f":"'Conversion 1'!B58/0.56","v":0},{"$f":"'Conversion 1'!B58/0.4","v":0}]
[null,{"$f":"0.1423*('Conversion 1'!D59^1.2528)","v":0},{"$f":"(0.00005*('Conversion 1'!D59^2))+(0.3389*'Conversion 1'!D59)-1.431","v":-1.431},58,{"$f":"'Conversion 1'!B59","v":0},{"$f":"'Conversion 1'!B59/0.4","v":0},{"$f":"'Conversion 1'!B59/0.4","v":0},{"$f":"'Conversion 1'!B59","v":0},{"$f":"'Conversion 1'!B59/0.07","v":0},{"$f":"'Conversion 1'!B59/0.056","v":0},{"$f":"'Conversion 1'!B59/0.1","v":0},{"$f":"'Conversion 1'!B59/0.058","v":0},{"$f":"'Conversion 1'!B59/0.01","v":0},{"$f":"'Conversion 1'!B59/0.02","v":0},{"$f":"'Conversion 1'!B59/0.56","v":0},{"$f":"'Conversion 1'!B59/0.4","v":0}]
[null,{"$f":"0.1423*('Conversion 1'!D60^1.2528)","v":0},{"$f":"(0.00005*('Conversion 1'!D60^2))+(0.3389*'Conversion 1'!D60)-1.431","v":-1.431},59,{"$f":"'Conversion 1'!B60","v":0},{"$f":"'Conversion 1'!B60/0.4","v":0},{"$f":"'Conversion 1'!B60/0.4","v":0},{"$f":"'Conversion 1'!B60","v":0},{"$f":"'Conversion 1'!B60/0.07","v":0},{"$f":"'Conversion 1'!B60/0.056","v":0},{"$f":"'Conversion 1'!B60/0.1","v":0},{"$f":"'Conversion 1'!B60/0.058","v":0},{"$f":"'Conversion 1'!B60/0.01","v":0},{"$f":"'Conversion 1'!B60/0.02","v":0},{"$f":"'Conversion 1'!B60/0.56","v":0},{"$f":"'Conversion 1'!B60/0.4","v":0}]
[null,{"$f":"0.1423*('Conversion 1'!D61^1.2528)","v":0},{"$f":"(0.00005*('Conversion 1'!D61^2))+(0.3389*'Conversion 1'!D61)-1.431","v":-1.431},60,{"$f":"'Conversion 1'!B61","v":0},{"$f":"'Conversion 1'!B61/0.4","v":0},{"$f":"'Conversion 1'!B61/0.4","v":0},{"$f":"'Conversion 1'!B61","v":0},{"$f":"'Conversion 1'!B61/0.07","v":0},{"$f":"'Conversion 1'!B61/0.056","v":0},{"$f":"'Conversion 1'!B61/0.1","v":0},{"$f":"'Conversion 1'!B61/0.058","v":0},{"$f":"'Conversion 1'!B61/0.01","v":0},{"$f":"'Conversion 1'!B61/0.02","v":0},{"$f":"'Conversion 1'!B61/0.56","v":0},{"$f":"'Conversion 1'!B61/0.4","v":0}]
[null,{"$f":"0.1423*('Conversion 1'!D62^1.2528)","v":0},{"$f":"(0.00005*('Conversion 1'!D62^2))+(0.3389*'Conversion 1'!D62)-1.431","v":-1.431},61,{"$f":"'Conversion 1'!B62","v":0},{"$f":"'Conversion 1'!B62/0.4","v":0},{"$f":"'Conversion 1'!B62/0.4","v":0},{"$f":"'Conversion 1'!B62","v":0},{"$f":"'Conversion 1'!B62/0.07","v":0},{"$f":"'Conversion 1'!B62/0.056","v":0},{"$f":"'Conversion 1'!B62/0.1","v":0},{"$f":"'Conversion 1'!B62/0.058","v":0},{"$f":"'Conversion 1'!B62/0.01","v":0},{"$f":"'Conversion 1'!B62/0.02","v":0},{"$f":"'Conversion 1'!B62/0.56","v":0},{"$f":"'Conversion 1'!B62/0.4","v":0}]
[null,{"$f":"0.1423*('Conversion 1'!D63^1.2528)","v":0},{"$f":"(0.00005*('Conversion 1'!D63^2))+(0.3389*'Conversion 1'!D63)-1.431","v":-1.431},62,{"$f":"'Conversion 1'!B63","v":0},{"$f":"'Conversion 1'!B63/0.4","v":0},{"$f":"'Conversion 1'!B63/0.4","v":0},{"$f":"'Conversion 1'!B63","v":0},{"$f":"'Conversion 1'!B63/0.07","v":0},{"$f":"'Conversion 1'!B63/0.056","v":0},{"$f":"'Conversion 1'!B63/0.1","v":0},{"$f":"'Conversion 1'!B63/0.058","v":0},{"$f":"'Conversion 1'!B63/0.01","v":0},{"$f":"'Conversion 1'!B63/0.02","v":0},{"$f":"'Conversion 1'!B63/0.56","v":0},{"$f":"'Conversion 1'!B63/0.4","v":0}]
[null,{"$f":"0.1423*('Conversion 1'!D64^1.2528)","v":0},{"$f":"(0.00005*('Conversion 1'!D64^2))+(0.3389*'Conversion 1'!D64)-1.431","v":-1.431},63,{"$f":"'Conversion 1'!B64","v":0},{"$f":"'Conversion 1'!B64/0.4","v":0},{"$f":"'Conversion 1'!B64/0.4","v":0},{"$f":"'Conversion 1'!B64","v":0},{"$f":"'Conversion 1'!B64/0.07","v":0},{"$f":"'Conversion 1'!B64/0.056","v":0},{"$f":"'Conversion 1'!B64/0.1","v":0},{"$f":"'Conversion 1'!B64/0.058","v":0},{"$f":"'Conversion 1'!B64/0.01","v":0},{"$f":"'Conversion 1'!B64/0.02","v":0},{"$f":"'Conversion 1'!B64/0.56","v":0},{"$f":"'Conversion 1'!B64/0.4","v":0}]
[null,{"$f":"0.1423*('Conversion 1'!D65^1.2528)","v":0},{"$f":"(0.00005*('Conversion 1'!D65^2))+(0.3389*'Conversion 1'!D65)-1.431","v":-1.431},64,{"$f":"'Conversion 1'!B65","v":0},{"$f":"'Conversion 1'!B65/0.4","v":0},{"$f":"'Conversion 1'!B65/0.4","v":0},{"$f":"'Conversion 1'!B65","v":0},{"$f":"'Conversion 1'!B65/0.07","v":0},{"$f":"'Conversion 1'!B65/0.056","v":0},{"$f":"'Conversion 1'!B65/0.1","v":0},{"$f":"'Conversion 1'!B65/0.058","v":0},{"$f":"'Conversion 1'!B65/0.01","v":0},{"$f":"'Conversion 1'!B65/0.02","v":0},{"$f":"'Conversion 1'!B65/0.56","v":0},{"$f":"'Conversion 1'!B65/0.4","v":0}]
[null,{"$f":"0.1423*('Conversion 1'!D66^1.2528)","v":0},{"$f":"(0.00005*('Conversion 1'!D66^2))+(0.3389*'Conversion 1'!D66)-1.431","v":-1.431},65,{"$f":"'Conversion 1'!B66","v":0},{"$f":"'Conversion 1'!B66/0.4","v":0},{"$f":"'Conversion 1'!B66/0.4","v":0},{"$f":"'Conversion 1'!B66","v":0},{"$f":"'Conversion 1'!B66/0.07","v":0},{"$f":"'Conversion 1'!B66/0.056","v":0},{"$f":"'Conversion 1'!B66/0.1","v":0},{"$f":"'Conversion 1'!B66/0.058","v":0},{"$f":"'Conversion 1'!B66/0.01","v":0},{"$f":"'Conversion 1'!B66/0.02","v":0},{"$f":"'Conversion 1'!B66/0.56","v":0},{"$f":"'Conversion 1'!B66/0.4","v":0}]
[null,{"$f":"0.1423*('Conversion 1'!D67^1.2528)","v":0},{"$f":"(0.00005*('Conversion 1'!D67^2))+(0.3389*'Conversion 1'!D67)-1.431","v":-1.431},66,{"$f":"'Conversion 1'!B67","v":0},{"$f":"'Conversion 1'!B67/0.4","v":0},{"$f":"'Conversion 1'!B67/0.4","v":0},{"$f":"'Conversion 1'!B67","v":0},{"$f":"'Conversion 1'!B67/0.07","v":0},{"$f":"'Conversion 1'!B67/0.056","v":0},{"$f":"'Conversion 1'!B67/0.1","v":0},{"$f":"'Conversion 1'!B67/0.058","v":0},{"$f":"'Conversion 1'!B67/0.01","v":0},{"$f":"'Conversion 1'!B67/0.02","v":0},{"$f":"'Conversion 1'!B67/0.56","v":0},{"$f":"'Conversion 1'!B67/0.4","v":0}]
[null,{"$f":"0.1423*('Conversion 1'!D68^1.2528)","v":0},{"$f":"(0.00005*('Conversion 1'!D68^2))+(0.3389*'Conversion 1'!D68)-1.431","v":-1.431},67,{"$f":"'Conversion 1'!B68","v":0},{"$f":"'Conversion 1'!B68/0.4","v":0},{"$f":"'Conversion 1'!B68/0.4","v":0},{"$f":"'Conversion 1'!B68","v":0},{"$f":"'Conversion 1'!B68/0.07","v":0},{"$f":"'Conversion 1'!B68/0.056","v":0},{"$f":"'Conversion 1'!B68/0.1","v":0},{"$f":"'Conversion 1'!B68/0.058","v":0},{"$f":"'Conversion 1'!B68/0.01","v":0},{"$f":"'Conversion 1'!B68/0.02","v":0},{"$f":"'Conversion 1'!B68/0.56","v":0},{"$f":"'Conversion 1'!B68/0.4","v":0}]
[null,{"$f":"0.1423*('Conversion 1'!D69^1.2528)","v":0},{"$f":"(0.00005*('Conversion 1'!D69^2))+(0.3389*'Conversion 1'!D69)-1.431","v":-1.431},68,{"$f":"'Conversion 1'!B69","v":0},{"$f":"'Conversion 1'!B69/0.4","v":0},{"$f":"'Conversion 1'!B69/0.4","v":0},{"$f":"'Conversion 1'!B69","v":0},{"$f":"'Conversion 1'!B69/0.07","v":0},{"$f":"'Conversion 1'!B69/0.056","v":0},{"$f":"'Conversion 1'!B69/0.1","v":0},{"$f":"'Conversion 1'!B69/0.058","v":0},{"$f":"'Conversion 1'!B69/0.01","v":0},{"$f":"'Conversion 1'!B69/0.02","v":0},{"$f":"'Conversion 1'!B69/0.56","v":0},{"$f":"'Conversion 1'!B69/0.4","v":0}]
[null,{"$f":"0.1423*('Conversion 1'!D70^1.2528)","v":0},{"$f":"(0.00005*('Conversion 1'!D70^2))+(0.3389*'Conversion 1'!D70)-1.431","v":-1.431},69,{"$f":"'Conversion 1'!B70","v":0},{"$f":"'Conversion 1'!B70/0.4","v":0},{"$f":"'Conversion 1'!B70/0.4","v":0},{"$f":"'Conversion 1'!B70","v":0},{"$f":"'Conversion 1'!B70/0.07","v":0},{"$f":"'Conversion 1'!B70/0.056","v":0},{"$f":"'Conversion 1'!B70/0.1","v":0},{"$f":"'Conversion 1'!B70/0.058","v":0},{"$f":"'Conversion 1'!B70/0.01","v":0},{"$f":"'Conversion 1'!B70/0.02","v":0},{"$f":"'Conversion 1'!B70/0.56","v":0},{"$f":"'Conversion 1'!B70/0.4","v":0}]
[null,{"$f":"0.1423*('Conversion 1'!D71^1.2528)","v":0},{"$f":"(0.00005*('Conversion 1'!D71^2))+(0.3389*'Conversion 1'!D71)-1.431","v":-1.431},70,{"$f":"'Conversion 1'!B71","v":0},{"$f":"'Conversion 1'!B71/0.4","v":0},{"$f":"'Conversion 1'!B71/0.4","v":0},{"$f":"'Conversion 1'!B71","v":0},{"$f":"'Conversion 1'!B71/0.07","v":0},{"$f":"'Conversion 1'!B71/0.056","v":0},{"$f":"'Conversion 1'!B71/0.1","v":0},{"$f":"'Conversion 1'!B71/0.058","v":0},{"$f":"'Conversion 1'!B71/0.01","v":0},{"$f":"'Conversion 1'!B71/0.02","v":0},{"$f":"'Conversion 1'!B71/0.56","v":0},{"$f":"'Conversion 1'!B71/0.4","v":0}]
[null,{"$f":"0.1423*('Conversion 1'!D72^1.2528)","v":0},{"$f":"(0.00005*('Conversion 1'!D72^2))+(0.3389*'Conversion 1'!D72)-1.431","v":-1.431},71,{"$f":"'Conversion 1'!B72","v":0},{"$f":"'Conversion 1'!B72/0.4","v":0},{"$f":"'Conversion 1'!B72/0.4","v":0},{"$f":"'Conversion 1'!B72","v":0},{"$f":"'Conversion 1'!B72/0.07","v":0},{"$f":"'Conversion 1'!B72/0.056","v":0},{"$f":"'Conversion 1'!B72/0.1","v":0},{"$f":"'Conversion 1'!B72/0.058","v":0},{"$f":"'Conversion 1'!B72/0.01","v":0},{"$f":"'Conversion 1'!B72/0.02","v":0},{"$f":"'Conversion 1'!B72/0.56","v":0},{"$f":"'Conversion 1'!B72/0.4","v":0}]
[null,{"$f":"0.1423*('Conversion 1'!D73^1.2528)","v":0},{"$f":"(0.00005*('Conversion 1'!D73^2))+(0.3389*'Conversion 1'!D73)-1.431","v":-1.431},72,{"$f":"'Conversion 1'!B73","v":0},{"$f":"'Conversion 1'!B73/0.4","v":0},{"$f":"'Conversion 1'!B73/0.4","v":0},{"$f":"'Conversion 1'!B73","v":0},{"$f":"'Conversion 1'!B73/0.07","v":0},{"$f":"'Conversion 1'!B73/0.056","v":0},{"$f":"'Conversion 1'!B73/0.1","v":0},{"$f":"'Conversion 1'!B73/0.058","v":0},{"$f":"'Conversion 1'!B73/0.01","v":0},{"$f":"'Conversion 1'!B73/0.02","v":0},{"$f":"'Conversion 1'!B73/0.56","v":0},{"$f":"'Conversion 1'!B73/0.4","v":0}]
[null,{"$f":"0.1423*('Conversion 1'!D74^1.2528)","v":0},{"$f":"(0.00005*('Conversion 1'!D74^2))+(0.3389*'Conversion 1'!D74)-1.431","v":-1.431},73,{"$f":"'Conversion 1'!B74","v":0},{"$f":"'Conversion 1'!B74/0.4","v":0},{"$f":"'Conversion 1'!B74/0.4","v":0},{"$f":"'Conversion 1'!B74","v":0},{"$f":"'Conversion 1'!B74/0.07","v":0},{"$f":"'Conversion 1'!B74/0.056","v":0},{"$f":"'Conversion 1'!B74/0.1","v":0},{"$f":"'Conversion 1'!B74/0.058","v":0},{"$f":"'Conversion 1'!B74/0.01","v":0},{"$f":"'Conversion 1'!B74/0.02","v":0},{"$f":"'Conversion 1'!B74/0.56","v":0},{"$f":"'Conversion 1'!B74/0.4","v":0}]
[null,{"$f":"0.1423*('Conversion 1'!D75^1.2528)","v":0},{"$f":"(0.00005*('Conversion 1'!D75^2))+(0.3389*'Conversion 1'!D75)-1.431","v":-1.431},74,{"$f":"'Conversion 1'!B75","v":0},{"$f":"'Conversion 1'!B75/0.4","v":0},{"$f":"'Conversion 1'!B75/0.4","v":0},{"$f":"'Conversion 1'!B75","v":0},{"$f":"'Conversion 1'!B75/0.07","v":0},{"$f":"'Conversion 1'!B75/0.056","v":0},{"$f":"'Conversion 1'!B75/0.1","v":0},{"$f":"'Conversion 1'!B75/0.058","v":0},{"$f":"'Conversion 1'!B75/0.01","v":0},{"$f":"'Conversion 1'!B75/0.02","v":0},{"$f":"'Conversion 1'!B75/0.56","v":0},{"$f":"'Conversion 1'!B75/0.4","v":0}]
[null,{"$f":"0.1423*('Conversion 1'!D76^1.2528)","v":0},{"$f":"(0.00005*('Conversion 1'!D76^2))+(0.3389*'Conversion 1'!D76)-1.431","v":-1.431},75,{"$f":"'Conversion 1'!B76","v":0},{"$f":"'Conversion 1'!B76/0.4","v":0},{"$f":"'Conversion 1'!B76/0.4","v":0},{"$f":"'Conversion 1'!B76","v":0},{"$f":"'Conversion 1'!B76/0.07","v":0},{"$f":"'Conversion 1'!B76/0.056","v":0},{"$f":"'Conversion 1'!B76/0.1","v":0},{"$f":"'Conversion 1'!B76/0.058","v":0},{"$f":"'Conversion 1'!B76/0.01","v":0},{"$f":"'Conversion 1'!B76/0.02","v":0},{"$f":"'Conversion 1'!B76/0.56","v":0},{"$f":"'Conversion 1'!B76/0.4","v":0}]
[null,{"$f":"0.1423*('Conversion 1'!D77^1.2528)","v":0},{"$f":"(0.00005*('Conversion 1'!D77^2))+(0.3389*'Conversion 1'!D77)-1.431","v":-1.431},76,{"$f":"'Conversion 1'!B77","v":0},{"$f":"'Conversion 1'!B77/0.4","v":0},{"$f":"'Conversion 1'!B77/0.4","v":0},{"$f":"'Conversion 1'!B77","v":0},{"$f":"'Conversion 1'!B77/0.07","v":0},{"$f":"'Conversion 1'!B77/0.056","v":0},{"$f":"'Conversion 1'!B77/0.1","v":0},{"$f":"'Conversion 1'!B77/0.058","v":0},{"$f":"'Conversion 1'!B77/0.01","v":0},{"$f":"'Conversion 1'!B77/0.02","v":0},{"$f":"'Conversion 1'!B77/0.56","v":0},{"$f":"'Conversion 1'!B77/0.4","v":0}]
[null,{"$f":"0.1423*('Conversion 1'!D78^1.2528)","v":0},{"$f":"(0.00005*('Conversion 1'!D78^2))+(0.3389*'Conversion 1'!D78)-1.431","v":-1.431},77,{"$f":"'Conversion 1'!B78","v":0},{"$f":"'Conversion 1'!B78/0.4","v":0},{"$f":"'Conversion 1'!B78/0.4","v":0},{"$f":"'Conversion 1'!B78","v":0},{"$f":"'Conversion 1'!B78/0.07","v":0},{"$f":"'Conversion 1'!B78/0.056","v":0},{"$f":"'Conversion 1'!B78/0.1","v":0},{"$f":"'Conversion 1'!B78/0.058","v":0},{"$f":"'Conversion 1'!B78/0.01","v":0},{"$f":"'Conversion 1'!B78/0.02","v":0},{"$f":"'Conversion 1'!B78/0.56","v":0},{"$f":"'Conversion 1'!B78/0.4","v":0}]
[null,{"$f":"0.1423*('Conversion 1'!D79^1.2528)","v":0},{"$f":"(0.00005*('Conversion 1'!D79^2))+(0.3389*'Conversion 1'!D79)-1.431","v":-1.431},78,{"$f":"'Conversion 1'!B79","v":0},{"$f":"'Conversion 1'!B79/0.4","v":0},{"$f":"'Conversion 1'!B79/0.4","v":0},{"$f":"'Conversion 1'!B79","v":0},{"$f":"'Conversion 1'!B79/0.07","v":0},{"$f":"'Conversion 1'!B79/0.056","v":0},{"$f":"'Conversion 1'!B79/0.1","v":0},{"$f":"'Conversion 1'!B79/0.058","v":0},{"$f":"'Conversion 1'!B79/0.01","v":0},{"$f":"'Conversion 1'!B79/0.02","v":0},{"$f":"'Conversion 1'!B79/0.56","v":0},{"$f":"'Conversion 1'!B79/0.4","v":0}]
[null,{"$f":"0.1423*('Conversion 1'!D80^1.2528)","v":0},{"$f":"(0.00005*('Conversion 1'!D80^2))+(0.3389*'Conversion 1'!D80)-1.431","v":-1.431},79,{"$f":"'Conversion 1'!B80","v":0},{"$f":"'Conversion 1'!B80/0.4","v":0},{"$f":"'Conversion 1'!B80/0.4","v":0},{"$f":"'Conversion 1'!B80","v":0},{"$f":"'Conversion 1'!B80/0.07","v":0},{"$f":"'Conversion 1'!B80/0.056","v":0},{"$f":"'Conversion 1'!B80/0.1","v":0},{"$f":"'Conversion 1'!B80/0.058","v":0},{"$f":"'Conversion 1'!B80/0.01","v":0},{"$f":"'Conversion 1'!B80/0.02","v":0},{"$f":"'Conversion 1'!B80/0.56","v":0},{"$f":"'Conversion 1'!B80/0.4","v":0}]
[null,{"$f":"0.1423*('Conversion 1'!D81^1.2528)","v":0},{"$f":"(0.00005*('Conversion 1'!D81^2))+(0.3389*'Conversion 1'!D81)-1.431","v":-1.431},80,{"$f":"'Conversion 1'!B81","v":0},{"$f":"'Conversion 1'!B81/0.4","v":0},{"$f":"'Conversion 1'!B81/0.4","v":0},{"$f":"'Conversion 1'!B81","v":0},{"$f":"'Conversion 1'!B81/0.07","v":0},{"$f":"'Conversion 1'!B81/0.056","v":0},{"$f":"'Conversion 1'!B81/0.1","v":0},{"$f":"'Conversion 1'!B81/0.058","v":0},{"$f":"'Conversion 1'!B81/0.01","v":0},{"$f":"'Conversion 1'!B81/0.02","v":0},{"$f":"'Conversion 1'!B81/0.56","v":0},{"$f":"'Conversion 1'!B81/0.4","v":0}]
[null,{"$f":"0.1423*('Conversion 1'!D82^1.2528)","v":0},{"$f":"(0.00005*('Conversion 1'!D82^2))+(0.3389*'Conversion 1'!D82)-1.431","v":-1.431},81,{"$f":"'Conversion 1'!B82","v":0},{"$f":"'Conversion 1'!B82/0.4","v":0},{"$f":"'Conversion 1'!B82/0.4","v":0},{"$f":"'Conversion 1'!B82","v":0},{"$f":"'Conversion 1'!B82/0.07","v":0},{"$f":"'Conversion 1'!B82/0.056","v":0},{"$f":"'Conversion 1'!B82/0.1","v":0},{"$f":"'Conversion 1'!B82/0.058","v":0},{"$f":"'Conversion 1'!B82/0.01","v":0},{"$f":"'Conversion 1'!B82/0.02","v":0},{"$f":"'Conversion 1'!B82/0.56","v":0},{"$f":"'Conversion 1'!B82/0.4","v":0}]
[null,{"$f":"0.1423*('Conversion 1'!D83^1.2528)","v":0},{"$f":"(0.00005*('Conversion 1'!D83^2))+(0.3389*'Conversion 1'!D83)-1.431","v":-1.431},82,{"$f":"'Conversion 1'!B83","v":0},{"$f":"'Conversion 1'!B83/0.4","v":0},{"$f":"'Conversion 1'!B83/0.4","v":0},{"$f":"'Conversion 1'!B83","v":0},{"$f":"'Conversion 1'!B83/0.07","v":0},{"$f":"'Conversion 1'!B83/0.056","v":0},{"$f":"'Conversion 1'!B83/0.1","v":0},{"$f":"'Conversion 1'!B83/0.058","v":0},{"$f":"'Conversion 1'!B83/0.01","v":0},{"$f":"'Conversion 1'!B83/0.02","v":0},{"$f":"'Conversion 1'!B83/0.56","v":0},{"$f":"'Conversion 1'!B83/0.4","v":0}]
[null,{"$f":"0.1423*('Conversion 1'!D84^1.2528)","v":0},{"$f":"(0.00005*('Conversion 1'!D84^2))+(0.3389*'Conversion 1'!D84)-1.431","v":-1.431},83,{"$f":"'Conversion 1'!B84","v":0},{"$f":"'Conversion 1'!B84/0.4","v":0},{"$f":"'Conversion 1'!B84/0.4","v":0},{"$f":"'Conversion 1'!B84","v":0},{"$f":"'Conversion 1'!B84/0.07","v":0},{"$f":"'Conversion 1'!B84/0.056","v":0},{"$f":"'Conversion 1'!B84/0.1","v":0},{"$f":"'Conversion 1'!B84/0.058","v":0},{"$f":"'Conversion 1'!B84/0.01","v":0},{"$f":"'Conversion 1'!B84/0.02","v":0},{"$f":"'Conversion 1'!B84/0.56","v":0},{"$f":"'Conversion 1'!B84/0.4","v":0}]
[null,{"$f":"0.1423*('Conversion 1'!D85^1.2528)","v":0},{"$f":"(0.00005*('Conversion 1'!D85^2))+(0.3389*'Conversion 1'!D85)-1.431","v":-1.431},84,{"$f":"'Conversion 1'!B85","v":0},{"$f":"'Conversion 1'!B85/0.4","v":0},{"$f":"'Conversion 1'!B85/0.4","v":0},{"$f":"'Conversion 1'!B85","v":0},{"$f":"'Conversion 1'!B85/0.07","v":0},{"$f":"'Conversion 1'!B85/0.056","v":0},{"$f":"'Conversion 1'!B85/0.1","v":0},{"$f":"'Conversion 1'!B85/0.058","v":0},{"$f":"'Conversion 1'!B85/0.01","v":0},{"$f":"'Conversion 1'!B85/0.02","v":0},{"$f":"'Conversion 1'!B85/0.56","v":0},{"$f":"'Conversion 1'!B85/0.4","v":0}]
[null,{"$f":"0.1423*('Conversion 1'!D86^1.2528)","v":0},{"$f":"(0.00005*('Conversion 1'!D86^2))+(0.3389*'Conversion 1'!D86)-1.431","v":-1.431},85,{"$f":"'Conversion 1'!B86","v":0},{"$f":"'Conversion 1'!B86/0.4","v":0},{"$f":"'Conversion 1'!B86/0.4","v":0},{"$f":"'Conversion 1'!B86","v":0},{"$f":"'Conversion 1'!B86/0.07","v":0},{"$f":"'Conversion 1'!B86/0.056","v":0},{"$f":"'Conversion 1'!B86/0.1","v":0},{"$f":"'Conversion 1'!B86/0.058","v":0},{"$f":"'Conversion 1'!B86/0.01","v":0},{"$f":"'Conversion 1'!B86/0.02","v":0},{"$f":"'Conversion 1'!B86/0.56","v":0},{"$f":"'Conversion 1'!B86/0.4","v":0}]
[null,{"$f":"0.1423*('Conversion 1'!D87^1.2528)","v":0},{"$f":"(0.00005*('Conversion 1'!D87^2))+(0.3389*'Conversion 1'!D87)-1.431","v":-1.431},86,{"$f":"'Conversion 1'!B87","v":0},{"$f":"'Conversion 1'!B87/0.4","v":0},{"$f":"'Conversion 1'!B87/0.4","v":0},{"$f":"'Conversion 1'!B87","v":0},{"$f":"'Conversion 1'!B87/0.07","v":0},{"$f":"'Conversion 1'!B87/0.056","v":0},{"$f":"'Conversion 1'!B87/0.1","v":0},{"$f":"'Conversion 1'!B87/0.058","v":0},{"$f":"'Conversion 1'!B87/0.01","v":0},{"$f":"'Conversion 1'!B87/0.02","v":0},{"$f":"'Conversion 1'!B87/0.56","v":0},{"$f":"'Conversion 1'!B87/0.4","v":0}]
[null,{"$f":"0.1423*('Conversion 1'!D88^1.2528)","v":0},{"$f":"(0.00005*('Conversion 1'!D88^2))+(0.3389*'Conversion 1'!D88)-1.431","v":-1.431},87,{"$f":"'Conversion 1'!B88","v":0},{"$f":"'Conversion 1'!B88/0.4","v":0},{"$f":"'Conversion 1'!B88/0.4","v":0},{"$f":"'Conversion 1'!B88","v":0},{"$f":"'Conversion 1'!B88/0.07","v":0},{"$f":"'Conversion 1'!B88/0.056","v":0},{"$f":"'Conversion 1'!B88/0.1","v":0},{"$f":"'Conversion 1'!B88/0.058","v":0},{"$f":"'Conversion 1'!B88/0.01","v":0},{"$f":"'Conversion 1'!B88/0.02","v":0},{"$f":"'Conversion 1'!B88/0.56","v":0},{"$f":"'Conversion 1'!B88/0.4","v":0}]
[null,{"$f":"0.1423*('Conversion 1'!D89^1.2528)","v":0},{"$f":"(0.00005*('Conversion 1'!D89^2))+(0.3389*'Conversion 1'!D89)-1.431","v":-1.431},88,{"$f":"'Conversion 1'!B89","v":0},{"$f":"'Conversion 1'!B89/0.4","v":0},{"$f":"'Conversion 1'!B89/0.4","v":0},{"$f":"'Conversion 1'!B89","v":0},{"$f":"'Conversion 1'!B89/0.07","v":0},{"$f":"'Conversion 1'!B89/0.056","v":0},{"$f":"'Conversion 1'!B89/0.1","v":0},{"$f":"'Conversion 1'!B89/0.058","v":0},{"$f":"'Conversion 1'!B89/0.01","v":0},{"$f":"'Conversion 1'!B89/0.02","v":0},{"$f":"'Conversion 1'!B89/0.56","v":0},{"$f":"'Conversion 1'!B89/0.4","v":0}]
[null,{"$f":"0.1423*('Conversion 1'!D90^1.2528)","v":0},{"$f":"(0.00005*('Conversion 1'!D90^2))+(0.3389*'Conversion 1'!D90)-1.431","v":-1.431},89,{"$f":"'Conversion 1'!B90","v":0},{"$f":"'Conversion 1'!B90/0.4","v":0},{"$f":"'Conversion 1'!B90/0.4","v":0},{"$f":"'Conversion 1'!B90","v":0},{"$f":"'Conversion 1'!B90/0.07","v":0},{"$f":"'Conversion 1'!B90/0.056","v":0},{"$f":"'Conversion 1'!B90/0.1","v":0},{"$f":"'Conversion 1'!B90/0.058","v":0},{"$f":"'Conversion 1'!B90/0.01","v":0},{"$f":"'Conversion 1'!B90/0.02","v":0},{"$f":"'Conversion 1'!B90/0.56","v":0},{"$f":"'Conversion 1'!B90/0.4","v":0}]
[null,{"$f":"0.1423*('Conversion 1'!D91^1.2528)","v":0},{"$f":"(0.00005*('Conversion 1'!D91^2))+(0.3389*'Conversion 1'!D91)-1.431","v":-1.431},90,{"$f":"'Conversion 1'!B91","v":0},{"$f":"'Conversion 1'!B91/0.4","v":0},{"$f":"'Conversion 1'!B91/0.4","v":0},{"$f":"'Conversion 1'!B91","v":0},{"$f":"'Conversion 1'!B91/0.07","v":0},{"$f":"'Conversion 1'!B91/0.056","v":0},{"$f":"'Conversion 1'!B91/0.1","v":0},{"$f":"'Conversion 1'!B91/0.058","v":0},{"$f":"'Conversion 1'!B91/0.01","v":0},{"$f":"'Conversion 1'!B91/0.02","v":0},{"$f":"'Conversion 1'!B91/0.56","v":0},{"$f":"'Conversion 1'!B91/0.4","v":0}]
[null,{"$f":"0.1423*('Conversion 1'!D92^1.2528)","v":0},{"$f":"(0.00005*('Conversion 1'!D92^2))+(0.3389*'Conversion 1'!D92)-1.431","v":-1.431},91,{"$f":"'Conversion 1'!B92","v":0},{"$f":"'Conversion 1'!B92/0.4","v":0},{"$f":"'Conversion 1'!B92/0.4","v":0},{"$f":"'Conversion 1'!B92","v":0},{"$f":"'Conversion 1'!B92/0.07","v":0},{"$f":"'Conversion 1'!B92/0.056","v":0},{"$f":"'Conversion 1'!B92/0.1","v":0},{"$f":"'Conversion 1'!B92/0.058","v":0},{"$f":"'Conversion 1'!B92/0.01","v":0},{"$f":"'Conversion 1'!B92/0.02","v":0},{"$f":"'Conversion 1'!B92/0.56","v":0},{"$f":"'Conversion 1'!B92/0.4","v":0}]
[null,{"$f":"0.1423*('Conversion 1'!D93^1.2528)","v":0},{"$f":"(0.00005*('Conversion 1'!D93^2))+(0.3389*'Conversion 1'!D93)-1.431","v":-1.431},92,{"$f":"'Conversion 1'!B93","v":0},{"$f":"'Conversion 1'!B93/0.4","v":0},{"$f":"'Conversion 1'!B93/0.4","v":0},{"$f":"'Conversion 1'!B93","v":0},{"$f":"'Conversion 1'!B93/0.07","v":0},{"$f":"'Conversion 1'!B93/0.056","v":0},{"$f":"'Conversion 1'!B93/0.1","v":0},{"$f":"'Conversion 1'!B93/0.058","v":0},{"$f":"'Conversion 1'!B93/0.01","v":0},{"$f":"'Conversion 1'!B93/0.02","v":0},{"$f":"'Conversion 1'!B93/0.56","v":0},{"$f":"'Conversion 1'!B93/0.4","v":0}]
[null,{"$f":"0.1423*('Conversion 1'!D94^1.2528)","v":0},{"$f":"(0.00005*('Conversion 1'!D94^2))+(0.3389*'Conversion 1'!D94)-1.431","v":-1.431},93,{"$f":"'Conversion 1'!B94","v":0},{"$f":"'Conversion 1'!B94/0.4","v":0},{"$f":"'Conversion 1'!B94/0.4","v":0},{"$f":"'Conversion 1'!B94","v":0},{"$f":"'Conversion 1'!B94/0.07","v":0},{"$f":"'Conversion 1'!B94/0.056","v":0},{"$f":"'Conversion 1'!B94/0.1","v":0},{"$f":"'Conversion 1'!B94/0.058","v":0},{"$f":"'Conversion 1'!B94/0.01","v":0},{"$f":"'Conversion 1'!B94/0.02","v":0},{"$f":"'Conversion 1'!B94/0.56","v":0},{"$f":"'Conversion 1'!B94/0.4","v":0}]
[null,{"$f":"0.1423*('Conversion 1'!D95^1.2528)","v":0},{"$f":"(0.00005*('Conversion 1'!D95^2))+(0.3389*'Conversion 1'!D95)-1.431","v":-1.431},94,{"$f":"'Conversion 1'!B95","v":0},{"$f":"'Conversion 1'!B95/0.4","v":0},{"$f":"'Conversion 1'!B95/0.4","v":0},{"$f":"'Conversion 1'!B95","v":0},{"$f":"'Conversion 1'!B95/0.07","v":0},{"$f":"'Conversion 1'!B95/0.056","v":0},{"$f":"'Conversion 1'!B95/0.1","v":0},{"$f":"'Conversion 1'!B95/0.058","v":0},{"$f":"'Conversion 1'!B95/0.01","v":0},{"$f":"'Conversion 1'!B95/0.02","v":0},{"$f":"'Conversion 1'!B95/0.56","v":0},{"$f":"'Conversion 1'!B95/0.4","v":0}]
[null,{"$f":"0.1423*('Conversion 1'!D96^1.2528)","v":0},{"$f":"(0.00005*('Conversion 1'!D96^2))+(0.3389*'Conversion 1'!D96)-1.431","v":-1.431},95,{"$f":"'Conversion 1'!B96","v":0},{"$f":"'Conversion 1'!B96/0.4","v":0},{"$f":"'Conversion 1'!B96/0.4","v":0},{"$f":"'Conversion 1'!B96","v":0},{"$f":"'Conversion 1'!B96/0.07","v":0},{"$f":"'Conversion 1'!B96/0.056","v":0},{"$f":"'Conversion 1'!B96/0.1","v":0},{"$f":"'Conversion 1'!B96/0.058","v":0},{"$f":"'Conversion 1'!B96/0.01","v":0},{"$f":"'Conversion 1'!B96/0.02","v":0},{"$f":"'Conversion 1'!B96/0.56","v":0},{"$f":"'Conversion 1'!B96/0.4","v":0}]
[null,{"$f":"0.1423*('Conversion 1'!D97^1.2528)","v":0},{"$f":"(0.00005*('Conversion 1'!D97^2))+(0.3389*'Conversion 1'!D97)-1.431","v":-1.431},96,{"$f":"'Conversion 1'!B97","v":0},{"$f":"'Conversion 1'!B97/0.4","v":0},{"$f":"'Conversion 1'!B97/0.4","v":0},{"$f":"'Conversion 1'!B97","v":0},{"$f":"'Conversion 1'!B97/0.07","v":0},{"$f":"'Conversion 1'!B97/0.056","v":0},{"$f":"'Conversion 1'!B97/0.1","v":0},{"$f":"'Conversion 1'!B97/0.058","v":0},{"$f":"'Conversion 1'!B97/0.01","v":0},{"$f":"'Conversion 1'!B97/0.02","v":0},{"$f":"'Conversion 1'!B97/0.56","v":0},{"$f":"'Conversion 1'!B97/0.4","v":0}]
[null,{"$f":"0.1423*('Conversion 1'!D98^1.2528)","v":0},{"$f":"(0.00005*('Conversion 1'!D98^2))+(0.3389*'Conversion 1'!D98)-1.431","v":-1.431},97,{"$f":"'Conversion 1'!B98","v":0},{"$f":"'Conversion 1'!B98/0.4","v":0},{"$f":"'Conversion 1'!B98/0.4","v":0},{"$f":"'Conversion 1'!B98","v":0},{"$f":"'Conversion 1'!B98/0.07","v":0},{"$f":"'Conversion 1'!B98/0.056","v":0},{"$f":"'Conversion 1'!B98/0.1","v":0},{"$f":"'Conversion 1'!B98/0.058","v":0},{"$f":"'Conversion 1'!B98/0.01","v":0},{"$f":"'Conversion 1'!B98/0.02","v":0},{"$f":"'Conversion 1'!B98/0.56","v":0},{"$f":"'Conversion 1'!B98/0.4","v":0}]
[null,{"$f":"0.1423*('Conversion 1'!D99^1.2528)","v":0},{"$f":"(0.00005*('Conversion 1'!D99^2))+(0.3389*'Conversion 1'!D99)-1.431","v":-1.431},98,{"$f":"'Conversion 1'!B99","v":0},{"$f":"'Conversion 1'!B99/0.4","v":0},{"$f":"'Conversion 1'!B99/0.4","v":0},{"$f":"'Conversion 1'!B99","v":0},{"$f":"'Conversion 1'!B99/0.07","v":0},{"$f":"'Conversion 1'!B99/0.056","v":0},{"$f":"'Conversion 1'!B99/0.1","v":0},{"$f":"'Conversion 1'!B99/0.058","v":0},{"$f":"'Conversion 1'!B99/0.01","v":0},{"$f":"'Conversion 1'!B99/0.02","v":0},{"$f":"'Conversion 1'!B99/0.56","v":0},{"$f":"'Conversion 1'!B99/0.4","v":0}]
[null,{"$f":"0.1423*('Conversion 1'!D100^1.2528)","v":0},{"$f":"(0.00005*('Conversion 1'!D100^2))+(0.3389*'Conversion 1'!D100)-1.431","v":-1.431},99,{"$f":"'Conversion 1'!B100","v":0},{"$f":"'Conversion 1'!B100/0.4","v":0},{"$f":"'Conversion 1'!B100/0.4","v":0},{"$f":"'Conversion 1'!B100","v":0},{"$f":"'Conversion 1'!B100/0.07","v":0},{"$f":"'Conversion 1'!B100/0.056","v":0},{"$f":"'Conversion 1'!B100/0.1","v":0},{"$f":"'Conversion 1'!B100/0.058","v":0},{"$f":"'Conversion 1'!B100/0.01","v":0},{"$f":"'Conversion 1'!B100/0.02","v":0},{"$f":"'Conversion 1'!B100/0.56","v":0},{"$f":"'Conversion 1'!B100/0.4","v":0}]
[null,{"$f":"0.1423*('Conversion 1'!D101^1.2528)","v":0},{"$f":"(0.00005*('Conversion 1'!D101^2))+(0.3389*'Conversion 1'!D101)-1.431","v":-1.431},100,{"$f":"'Conversion 1'!B101","v":0},{"$f":"'Conversion 1'!B101/0.4","v":0},{"$f":"'Conversion 1'!B101/0.4","v":0},{"$f":"'Conversion 1'!B101","v":0},{"$f":"'Conversion 1'!B101/0.07","v":0},{"$f":"'Conversion 1'!B101/0.056","v":0},{"$f":"'Conversion 1'!B101/0.1","v":0},{"$f":"'Conversion 1'!B101/0.058","v":0},{"$f":"'Conversion 1'!B101/0.01","v":0},{"$f":"'Conversion 1'!B101/0.02","v":0},{"$f":"'Conversion 1'!B101/0.56","v":0},{"$f":"'Conversion 1'!B101/0.4","v":0}]
[null,{"$f":"0.1423*('Conversion 1'!D102^1.2528)","v":0},{"$f":"(0.00005*('Conversion 1'!D102^2))+(0.3389*'Conversion 1'!D102)-1.431","v":-1.431},101,{"$f":"'Conversion 1'!B102","v":0},{"$f":"'Conversion 1'!B102/0.4","v":0},{"$f":"'Conversion 1'!B102/0.4","v":0},{"$f":"'Conversion 1'!B102","v":0},{"$f":"'Conversion 1'!B102/0.07","v":0},{"$f":"'Conversion 1'!B102/0.056","v":0},{"$f":"'Conversion 1'!B102/0.1","v":0},{"$f":"'Conversion 1'!B102/0.058","v":0},{"$f":"'Conversion 1'!B102/0.01","v":0},{"$f":"'Conversion 1'!B102/0.02","v":0},{"$f":"'Conversion 1'!B102/0.56","v":0},{"$f":"'Conversion 1'!B102/0.4","v":0}]
[null,{"$f":"0.1423*('Conversion 1'!D103^1.2528)","v":0},{"$f":"(0.00005*('Conversion 1'!D103^2))+(0.3389*'Conversion 1'!D103)-1.431","v":-1.431},102,{"$f":"'Conversion 1'!B103","v":0},{"$f":"'Conversion 1'!B103/0.4","v":0},{"$f":"'Conversion 1'!B103/0.4","v":0},{"$f":"'Conversion 1'!B103","v":0},{"$f":"'Conversion 1'!B103/0.07","v":0},{"$f":"'Conversion 1'!B103/0.056","v":0},{"$f":"'Conversion 1'!B103/0.1","v":0},{"$f":"'Conversion 1'!B103/0.058","v":0},{"$f":"'Conversion 1'!B103/0.01","v":0},{"$f":"'Conversion 1'!B103/0.02","v":0},{"$f":"'Conversion 1'!B103/0.56","v":0},{"$f":"'Conversion 1'!B103/0.4","v":0}]
[null,{"$f":"0.1423*('Conversion 1'!D104^1.2528)","v":0},{"$f":"(0.00005*('Conversion 1'!D104^2))+(0.3389*'Conversion 1'!D104)-1.431","v":-1.431},103,{"$f":"'Conversion 1'!B104","v":0},{"$f":"'Conversion 1'!B104/0.4","v":0},{"$f":"'Conversion 1'!B104/0.4","v":0},{"$f":"'Conversion 1'!B104","v":0},{"$f":"'Conversion 1'!B104/0.07","v":0},{"$f":"'Conversion 1'!B104/0.056","v":0},{"$f":"'Conversion 1'!B104/0.1","v":0},{"$f":"'Conversion 1'!B104/0.058","v":0},{"$f":"'Conversion 1'!B104/0.01","v":0},{"$f":"'Conversion 1'!B104/0.02","v":0},{"$f":"'Conversion 1'!B104/0.56","v":0},{"$f":"'Conversion 1'!B104/0.4","v":0}]
[null,{"$f":"0.1423*('Conversion 1'!D105^1.2528)","v":0},{"$f":"(0.00005*('Conversion 1'!D105^2))+(0.3389*'Conversion 1'!D105)-1.431","v":-1.431},104,{"$f":"'Conversion 1'!B105","v":0},{"$f":"'Conversion 1'!B105/0.4","v":0},{"$f":"'Conversion 1'!B105/0.4","v":0},{"$f":"'Conversion 1'!B105","v":0},{"$f":"'Conversion 1'!B105/0.07","v":0},{"$f":"'Conversion 1'!B105/0.056","v":0},{"$f":"'Conversion 1'!B105/0.1","v":0},{"$f":"'Conversion 1'!B105/0.058","v":0},{"$f":"'Conversion 1'!B105/0.01","v":0},{"$f":"'Conversion 1'!B105/0.02","v":0},{"$f":"'Conversion 1'!B105/0.56","v":0},{"$f":"'Conversion 1'!B105/0.4","v":0}]
[null,{"$f":"0.1423*('Conversion 1'!D106^1.2528)","v":0},{"$f":"(0.00005*('Conversion 1'!D106^2))+(0.3389*'Conversion 1'!D106)-1.431","v":-1.431},105,{"$f":"'Conversion 1'!B106","v":0},{"$f":"'Conversion 1'!B106/0.4","v":0},{"$f":"'Conversion 1'!B106/0.4","v":0},{"$f":"'Conversion 1'!B106","v":0},{"$f":"'Conversion 1'!B106/0.07","v":0},{"$f":"'Conversion 1'!B106/0.056","v":0},{"$f":"'Conversion 1'!B106/0.1","v":0},{"$f":"'Conversion 1'!B106/0.058","v":0},{"$f":"'Conversion 1'!B106/0.01","v":0},{"$f":"'Conversion 1'!B106/0.02","v":0},{"$f":"'Conversion 1'!B106/0.56","v":0},{"$f":"'Conversion 1'!B106/0.4","v":0}]
[null,{"$f":"0.1423*('Conversion 1'!D107^1.2528)","v":0},{"$f":"(0.00005*('Conversion 1'!D107^2))+(0.3389*'Conversion 1'!D107)-1.431","v":-1.431},106,{"$f":"'Conversion 1'!B107","v":0},{"$f":"'Conversion 1'!B107/0.4","v":0},{"$f":"'Conversion 1'!B107/0.4","v":0},{"$f":"'Conversion 1'!B107","v":0},{"$f":"'Conversion 1'!B107/0.07","v":0},{"$f":"'Conversion 1'!B107/0.056","v":0},{"$f":"'Conversion 1'!B107/0.1","v":0},{"$f":"'Conversion 1'!B107/0.058","v":0},{"$f":"'Conversion 1'!B107/0.01","v":0},{"$f":"'Conversion 1'!B107/0.02","v":0},{"$f":"'Conversion 1'!B107/0.56","v":0},{"$f":"'Conversion 1'!B107/0.4","v":0}]
[null,{"$f":"0.1423*('Conversion 1'!D108^1.2528)","v":0},{"$f":"(0.00005*('Conversion 1'!D108^2))+(0.3389*'Conversion 1'!D108)-1.431","v":-1.431},107,{"$f":"'Conversion 1'!B108","v":0},{"$f":"'Conversion 1'!B108/0.4","v":0},{"$f":"'Conversion 1'!B108/0.4","v":0},{"$f":"'Conversion 1'!B108","v":0},{"$f":"'Conversion 1'!B108/0.07","v":0},{"$f":"'Conversion 1'!B108/0.056","v":0},{"$f":"'Conversion 1'!B108/0.1","v":0},{"$f":"'Conversion 1'!B108/0.058","v":0},{"$f":"'Conversion 1'!B108/0.01","v":0},{"$f":"'Conversion 1'!B108/0.02","v":0},{"$f":"'Conversion 1'!B108/0.56","v":0},{"$f":"'Conversion 1'!B108/0.4","v":0}]
[null,{"$f":"0.1423*('Conversion 1'!D109^1.2528)","v":0},{"$f":"(0.00005*('Conversion 1'!D109^2))+(0.3389*'Conversion 1'!D109)-1.431","v":-1.431},108,{"$f":"'Conversion 1'!B109","v":0},{"$f":"'Conversion 1'!B109/0.4","v":0},{"$f":"'Conversion 1'!B109/0.4","v":0},{"$f":"'Conversion 1'!B109","v":0},{"$f":"'Conversion 1'!B109/0.07","v":0},{"$f":"'Conversion 1'!B109/0.056","v":0},{"$f":"'Conversion 1'!B109/0.1","v":0},{"$f":"'Conversion 1'!B109/0.058","v":0},{"$f":"'Conversion 1'!B109/0.01","v":0},{"$f":"'Conversion 1'!B109/0.02","v":0},{"$f":"'Conversion 1'!B109/0.56","v":0},{"$f":"'Conversion 1'!B109/0.4","v":0}]
[null,{"$f":"0.1423*('Conversion 1'!D110^1.2528)","v":0},{"$f":"(0.00005*('Conversion 1'!D110^2))+(0.3389*'Conversion 1'!D110)-1.431","v":-1.431},109,{"$f":"'Conversion 1'!B110","v":0},{"$f":"'Conversion 1'!B110/0.4","v":0},{"$f":"'Conversion 1'!B110/0.4","v":0},{"$f":"'Conversion 1'!B110","v":0},{"$f":"'Conversion 1'!B110/0.07","v":0},{"$f":"'Conversion 1'!B110/0.056","v":0},{"$f":"'Conversion 1'!B110/0.1","v":0},{"$f":"'Conversion 1'!B110/0.058","v":0},{"$f":"'Conversion 1'!B110/0.01","v":0},{"$f":"'Conversion 1'!B110/0.02","v":0},{"$f":"'Conversion 1'!B110/0.56","v":0},{"$f":"'Conversion 1'!B110/0.4","v":0}]
[null,{"$f":"0.1423*('Conversion 1'!D111^1.2528)","v":0},{"$f":"(0.00005*('Conversion 1'!D111^2))+(0.3389*'Conversion 1'!D111)-1.431","v":-1.431},110,{"$f":"'Conversion 1'!B111","v":0},{"$f":"'Conversion 1'!B111/0.4","v":0},{"$f":"'Conversion 1'!B111/0.4","v":0},{"$f":"'Conversion 1'!B111","v":0},{"$f":"'Conversion 1'!B111/0.07","v":0},{"$f":"'Conversion 1'!B111/0.056","v":0},{"$f":"'Conversion 1'!B111/0.1","v":0},{"$f":"'Conversion 1'!B111/0.058","v":0},{"$f":"'Conversion 1'!B111/0.01","v":0},{"$f":"'Conversion 1'!B111/0.02","v":0},{"$f":"'Conversion 1'!B111/0.56","v":0},{"$f":"'Conversion 1'!B111/0.4","v":0}]
[null,{"$f":"0.1423*('Conversion 1'!D112^1.2528)","v":0},{"$f":"(0.00005*('Conversion 1'!D112^2))+(0.3389*'Conversion 1'!D112)-1.431","v":-1.431},111,{"$f":"'Conversion 1'!B112","v":0},{"$f":"'Conversion 1'!B112/0.4","v":0},{"$f":"'Conversion 1'!B112/0.4","v":0},{"$f":"'Conversion 1'!B112","v":0},{"$f":"'Conversion 1'!B112/0.07","v":0},{"$f":"'Conversion 1'!B112/0.056","v":0},{"$f":"'Conversion 1'!B112/0.1","v":0},{"$f":"'Conversion 1'!B112/0.058","v":0},{"$f":"'Conversion 1'!B112/0.01","v":0},{"$f":"'Conversion 1'!B112/0.02","v":0},{"$f":"'Conversion 1'!B112/0.56","v":0},{"$f":"'Conversion 1'!B112/0.4","v":0}]
[null,{"$f":"0.1423*('Conversion 1'!D113^1.2528)","v":0},{"$f":"(0.00005*('Conversion 1'!D113^2))+(0.3389*'Conversion 1'!D113)-1.431","v":-1.431},112,{"$f":"'Conversion 1'!B113","v":0},{"$f":"'Conversion 1'!B113/0.4","v":0},{"$f":"'Conversion 1'!B113/0.4","v":0},{"$f":"'Conversion 1'!B113","v":0},{"$f":"'Conversion 1'!B113/0.07","v":0},{"$f":"'Conversion 1'!B113/0.056","v":0},{"$f":"'Conversion 1'!B113/0.1","v":0},{"$f":"'Conversion 1'!B113/0.058","v":0},{"$f":"'Conversion 1'!B113/0.01","v":0},{"$f":"'Conversion 1'!B113/0.02","v":0},{"$f":"'Conversion 1'!B113/0.56","v":0},{"$f":"'Conversion 1'!B113/0.4","v":0}]
[null,{"$f":"0.1423*('Conversion 1'!D114^1.2528)","v":0},{"$f":"(0.00005*('Conversion 1'!D114^2))+(0.3389*'Conversion 1'!D114)-1.431","v":-1.431},113,{"$f":"'Conversion 1'!B114","v":0},{"$f":"'Conversion 1'!B114/0.4","v":0},{"$f":"'Conversion 1'!B114/0.4","v":0},{"$f":"'Conversion 1'!B114","v":0},{"$f":"'Conversion 1'!B114/0.07","v":0},{"$f":"'Conversion 1'!B114/0.056","v":0},{"$f":"'Conversion 1'!B114/0.1","v":0},{"$f":"'Conversion 1'!B114/0.058","v":0},{"$f":"'Conversion 1'!B114/0.01","v":0},{"$f":"'Conversion 1'!B114/0.02","v":0},{"$f":"'Conversion 1'!B114/0.56","v":0},{"$f":"'Conversion 1'!B114/0.4","v":0}]
[null,{"$f":"0.1423*('Conversion 1'!D115^1.2528)","v":0},{"$f":"(0.00005*('Conversion 1'!D115^2))+(0.3389*'Conversion 1'!D115)-1.431","v":-1.431},114,{"$f":"'Conversion 1'!B115","v":0},{"$f":"'Conversion 1'!B115/0.4","v":0},{"$f":"'Conversion 1'!B115/0.4","v":0},{"$f":"'Conversion 1'!B115","v":0},{"$f":"'Conversion 1'!B115/0.07","v":0},{"$f":"'Conversion 1'!B115/0.056","v":0},{"$f":"'Conversion 1'!B115/0.1","v":0},{"$f":"'Conversion 1'!B115/0.058","v":0},{"$f":"'Conversion 1'!B115/0.01","v":0},{"$f":"'Conversion 1'!B115/0.02","v":0},{"$f":"'Conversion 1'!B115/0.56","v":0},{"$f":"'Conversion 1'!B115/0.4","v":0}]
[null,{"$f":"0.1423*('Conversion 1'!D116^1.2528)","v":0},{"$f":"(0.00005*('Conversion 1'!D116^2))+(0.3389*'Conversion 1'!D116)-1.431","v":-1.431},115,{"$f":"'Conversion 1'!B116","v":0},{"$f":"'Conversion 1'!B116/0.4","v":0},{"$f":"'Conversion 1'!B116/0.4","v":0},{"$f":"'Conversion 1'!B116","v":0},{"$f":"'Conversion 1'!B116/0.07","v":0},{"$f":"'Conversion 1'!B116/0.056","v":0},{"$f":"'Conversion 1'!B116/0.1","v":0},{"$f":"'Conversion 1'!B116/0.058","v":0},{"$f":"'Conversion 1'!B116/0.01","v":0},{"$f":"'Conversion 1'!B116/0.02","v":0},{"$f":"'Conversion 1'!B116/0.56","v":0},{"$f":"'Conversion 1'!B116/0.4","v":0}]
[null,{"$f":"0.1423*('Conversion 1'!D117^1.2528)","v":0},{"$f":"(0.00005*('Conversion 1'!D117^2))+(0.3389*'Conversion 1'!D117)-1.431","v":-1.431},116,{"$f":"'Conversion 1'!B117","v":0},{"$f":"'Conversion 1'!B117/0.4","v":0},{"$f":"'Conversion 1'!B117/0.4","v":0},{"$f":"'Conversion 1'!B117","v":0},{"$f":"'Conversion 1'!B117/0.07","v":0},{"$f":"'Conversion 1'!B117/0.056","v":0},{"$f":"'Conversion 1'!B117/0.1","v":0},{"$f":"'Conversion 1'!B117/0.058","v":0},{"$f":"'Conversion 1'!B117/0.01","v":0},{"$f":"'Conversion 1'!B117/0.02","v":0},{"$f":"'Conversion 1'!B117/0.56","v":0},{"$f":"'Conversion 1'!B117/0.4","v":0}]
[null,{"$f":"0.1423*('Conversion 1'!D118^1.2528)","v":0},{"$f":"(0.00005*('Conversion 1'!D118^2))+(0.3389*'Conversion 1'!D118)-1.431","v":-1.431},117,{"$f":"'Conversion 1'!B118","v":0},{"$f":"'Conversion 1'!B118/0.4","v":0},{"$f":"'Conversion 1'!B118/0.4","v":0},{"$f":"'Conversion 1'!B118","v":0},{"$f":"'Conversion 1'!B118/0.07","v":0},{"$f":"'Conversion 1'!B118/0.056","v":0},{"$f":"'Conversion 1'!B118/0.1","v":0},{"$f":"'Conversion 1'!B118/0.058","v":0},{"$f":"'Conversion 1'!B118/0.01","v":0},{"$f":"'Conversion 1'!B118/0.02","v":0},{"$f":"'Conversion 1'!B118/0.56","v":0},{"$f":"'Conversion 1'!B118/0.4","v":0}]
[null,{"$f":"0.1423*('Conversion 1'!D119^1.2528)","v":0},{"$f":"(0.00005*('Conversion 1'!D119^2))+(0.3389*'Conversion 1'!D119)-1.431","v":-1.431},118,{"$f":"'Conversion 1'!B119","v":0},{"$f":"'Conversion 1'!B119/0.4","v":0},{"$f":"'Conversion 1'!B119/0.4","v":0},{"$f":"'Conversion 1'!B119","v":0},{"$f":"'Conversion 1'!B119/0.07","v":0},{"$f":"'Conversion 1'!B119/0.056","v":0},{"$f":"'Conversion 1'!B119/0.1","v":0},{"$f":"'Conversion 1'!B119/0.058","v":0},{"$f":"'Conversion 1'!B119/0.01","v":0},{"$f":"'Conversion 1'!B119/0.02","v":0},{"$f":"'Conversion 1'!B119/0.56","v":0},{"$f":"'Conversion 1'!B119/0.4","v":0}]
[null,{"$f":"0.1423*('Conversion 1'!D120^1.2528)","v":0},{"$f":"(0.00005*('Conversion 1'!D120^2))+(0.3389*'Conversion 1'!D120)-1.431","v":-1.431},119,{"$f":"'Conversion 1'!B120","v":0},{"$f":"'Conversion 1'!B120/0.4","v":0},{"$f":"'Conversion 1'!B120/0.4","v":0},{"$f":"'Conversion 1'!B120","v":0},{"$f":"'Conversion 1'!B120/0.07","v":0},{"$f":"'Conversion 1'!B120/0.056","v":0},{"$f":"'Conversion 1'!B120/0.1","v":0},{"$f":"'Conversion 1'!B120/0.058","v":0},{"$f":"'Conversion 1'!B120/0.01","v":0},{"$f":"'Conversion 1'!B120/0.02","v":0},{"$f":"'Conversion 1'!B120/0.56","v":0},{"$f":"'Conversion 1'!B120/0.4","v":0}]
[null,{"$f":"0.1423*('Conversion 1'!D121^1.2528)","v":0},{"$f":"(0.00005*('Conversion 1'!D121^2))+(0.3389*'Conversion 1'!D121)-1.431","v":-1.431},120,{"$f":"'Conversion 1'!B121","v":0},{"$f":"'Conversion 1'!B121/0.4","v":0},{"$f":"'Conversion 1'!B121/0.4","v":0},{"$f":"'Conversion 1'!B121","v":0},{"$f":"'Conversion 1'!B121/0.07","v":0},{"$f":"'Conversion 1'!B121/0.056","v":0},{"$f":"'Conversion 1'!B121/0.1","v":0},{"$f":"'Conversion 1'!B121/0.058","v":0},{"$f":"'Conversion 1'!B121/0.01","v":0},{"$f":"'Conversion 1'!B121/0.02","v":0},{"$f":"'Conversion 1'!B121/0.56","v":0},{"$f":"'Conversion 1'!B121/0.4","v":0}]
[null,{"$f":"0.1423*('Conversion 1'!D122^1.2528)","v":0},{"$f":"(0.00005*('Conversion 1'!D122^2))+(0.3389*'Conversion 1'!D122)-1.431","v":-1.431},121,{"$f":"'Conversion 1'!B122","v":0},{"$f":"'Conversion 1'!B122/0.4","v":0},{"$f":"'Conversion 1'!B122/0.4","v":0},{"$f":"'Conversion 1'!B122","v":0},{"$f":"'Conversion 1'!B122/0.07","v":0},{"$f":"'Conversion 1'!B122/0.056","v":0},{"$f":"'Conversion 1'!B122/0.1","v":0},{"$f":"'Conversion 1'!B122/0.058","v":0},{"$f":"'Conversion 1'!B122/0.01","v":0},{"$f":"'Conversion 1'!B122/0.02","v":0},{"$f":"'Conversion 1'!B122/0.56","v":0},{"$f":"'Conversion 1'!B122/0.4","v":0}]
[null,{"$f":"0.1423*('Conversion 1'!D123^1.2528)","v":0},{"$f":"(0.00005*('Conversion 1'!D123^2))+(0.3389*'Conversion 1'!D123)-1.431","v":-1.431},122,{"$f":"'Conversion 1'!B123","v":0},{"$f":"'Conversion 1'!B123/0.4","v":0},{"$f":"'Conversion 1'!B123/0.4","v":0},{"$f":"'Conversion 1'!B123","v":0},{"$f":"'Conversion 1'!B123/0.07","v":0},{"$f":"'Conversion 1'!B123/0.056","v":0},{"$f":"'Conversion 1'!B123/0.1","v":0},{"$f":"'Conversion 1'!B123/0.058","v":0},{"$f":"'Conversion 1'!B123/0.01","v":0},{"$f":"'Conversion 1'!B123/0.02","v":0},{"$f":"'Conversion 1'!B123/0.56","v":0},{"$f":"'Conversion 1'!B123/0.4","v":0}]
[null,{"$f":"0.1423*('Conversion 1'!D124^1.2528)","v":0},{"$f":"(0.00005*('Conversion 1'!D124^2))+(0.3389*'Conversion 1'!D124)-1.431","v":-1.431},123,{"$f":"'Conversion 1'!B124","v":0},{"$f":"'Conversion 1'!B124/0.4","v":0},{"$f":"'Conversion 1'!B124/0.4","v":0},{"$f":"'Conversion 1'!B124","v":0},{"$f":"'Conversion 1'!B124/0.07","v":0},{"$f":"'Conversion 1'!B124/0.056","v":0},{"$f":"'Conversion 1'!B124/0.1","v":0},{"$f":"'Conversion 1'!B124/0.058","v":0},{"$f":"'Conversion 1'!B124/0.01","v":0},{"$f":"'Conversion 1'!B124/0.02","v":0},{"$f":"'Conversion 1'!B124/0.56","v":0},{"$f":"'Conversion 1'!B124/0.4","v":0}]
[null,{"$f":"0.1423*('Conversion 1'!D125^1.2528)","v":0},{"$f":"(0.00005*('Conversion 1'!D125^2))+(0.3389*'Conversion 1'!D125)-1.431","v":-1.431},124,{"$f":"'Conversion 1'!B125","v":0},{"$f":"'Conversion 1'!B125/0.4","v":0},{"$f":"'Conversion 1'!B125/0.4","v":0},{"$f":"'Conversion 1'!B125","v":0},{"$f":"'Conversion 1'!B125/0.07","v":0},{"$f":"'Conversion 1'!B125/0.056","v":0},{"$f":"'Conversion 1'!B125/0.1","v":0},{"$f":"'Conversion 1'!B125/0.058","v":0},{"$f":"'Conversion 1'!B125/0.01","v":0},{"$f":"'Conversion 1'!B125/0.02","v":0},{"$f":"'Conversion 1'!B125/0.56","v":0},{"$f":"'Conversion 1'!B125/0.4","v":0}]
[null,{"$f":"0.1423*('Conversion 1'!D126^1.2528)","v":0},{"$f":"(0.00005*('Conversion 1'!D126^2))+(0.3389*'Conversion 1'!D126)-1.431","v":-1.431},125,{"$f":"'Conversion 1'!B126","v":0},{"$f":"'Conversion 1'!B126/0.4","v":0},{"$f":"'Conversion 1'!B126/0.4","v":0},{"$f":"'Conversion 1'!B126","v":0},{"$f":"'Conversion 1'!B126/0.07","v":0},{"$f":"'Conversion 1'!B126/0.056","v":0},{"$f":"'Conversion 1'!B126/0.1","v":0},{"$f":"'Conversion 1'!B126/0.058","v":0},{"$f":"'Conversion 1'!B126/0.01","v":0},{"$f":"'Conversion 1'!B126/0.02","v":0},{"$f":"'Conversion 1'!B126/0.56","v":0},{"$f":"'Conversion 1'!B126/0.4","v":0}]
[null,{"$f":"0.1423*('Conversion 1'!D127^1.2528)","v":0},{"$f":"(0.00005*('Conversion 1'!D127^2))+(0.3389*'Conversion 1'!D127)-1.431","v":-1.431},126,{"$f":"'Conversion 1'!B127","v":0},{"$f":"'Conversion 1'!B127/0.4","v":0},{"$f":"'Conversion 1'!B127/0.4","v":0},{"$f":"'Conversion 1'!B127","v":0},{"$f":"'Conversion 1'!B127/0.07","v":0},{"$f":"'Conversion 1'!B127/0.056","v":0},{"$f":"'Conversion 1'!B127/0.1","v":0},{"$f":"'Conversion 1'!B127/0.058","v":0},{"$f":"'Conversion 1'!B127/0.01","v":0},{"$f":"'Conversion 1'!B127/0.02","v":0},{"$f":"'Conversion 1'!B127/0.56","v":0},{"$f":"'Conversion 1'!B127/0.4","v":0}]
[null,{"$f":"0.1423*('Conversion 1'!D128^1.2528)","v":0},{"$f":"(0.00005*('Conversion 1'!D128^2))+(0.3389*'Conversion 1'!D128)-1.431","v":-1.431},127,{"$f":"'Conversion 1'!B128","v":0},{"$f":"'Conversion 1'!B128/0.4","v":0},{"$f":"'Conversion 1'!B128/0.4","v":0},{"$f":"'Conversion 1'!B128","v":0},{"$f":"'Conversion 1'!B128/0.07","v":0},{"$f":"'Conversion 1'!B128/0.056","v":0},{"$f":"'Conversion 1'!B128/0.1","v":0},{"$f":"'Conversion 1'!B128/0.058","v":0},{"$f":"'Conversion 1'!B128/0.01","v":0},{"$f":"'Conversion 1'!B128/0.02","v":0},{"$f":"'Conversion 1'!B128/0.56","v":0},{"$f":"'Conversion 1'!B128/0.4","v":0}]
[null,{"$f":"0.1423*('Conversion 1'!D129^1.2528)","v":0},{"$f":"(0.00005*('Conversion 1'!D129^2))+(0.3389*'Conversion 1'!D129)-1.431","v":-1.431},128,{"$f":"'Conversion 1'!B129","v":0},{"$f":"'Conversion 1'!B129/0.4","v":0},{"$f":"'Conversion 1'!B129/0.4","v":0},{"$f":"'Conversion 1'!B129","v":0},{"$f":"'Conversion 1'!B129/0.07","v":0},{"$f":"'Conversion 1'!B129/0.056","v":0},{"$f":"'Conversion 1'!B129/0.1","v":0},{"$f":"'Conversion 1'!B129/0.058","v":0},{"$f":"'Conversion 1'!B129/0.01","v":0},{"$f":"'Conversion 1'!B129/0.02","v":0},{"$f":"'Conversion 1'!B129/0.56","v":0},{"$f":"'Conversion 1'!B129/0.4","v":0}]
[null,{"$f":"0.1423*('Conversion 1'!D130^1.2528)","v":0},{"$f":"(0.00005*('Conversion 1'!D130^2))+(0.3389*'Conversion 1'!D130)-1.431","v":-1.431},129,{"$f":"'Conversion 1'!B130","v":0},{"$f":"'Conversion 1'!B130/0.4","v":0},{"$f":"'Conversion 1'!B130/0.4","v":0},{"$f":"'Conversion 1'!B130","v":0},{"$f":"'Conversion 1'!B130/0.07","v":0},{"$f":"'Conversion 1'!B130/0.056","v":0},{"$f":"'Conversion 1'!B130/0.1","v":0},{"$f":"'Conversion 1'!B130/0.058","v":0},{"$f":"'Conversion 1'!B130/0.01","v":0},{"$f":"'Conversion 1'!B130/0.02","v":0},{"$f":"'Conversion 1'!B130/0.56","v":0},{"$f":"'Conversion 1'!B130/0.4","v":0}]
[null,{"$f":"0.1423*('Conversion 1'!D131^1.2528)","v":0},{"$f":"(0.00005*('Conversion 1'!D131^2))+(0.3389*'Conversion 1'!D131)-1.431","v":-1.431},130,{"$f":"'Conversion 1'!B131","v":0},{"$f":"'Conversion 1'!B131/0.4","v":0},{"$f":"'Conversion 1'!B131/0.4","v":0},{"$f":"'Conversion 1'!B131","v":0},{"$f":"'Conversion 1'!B131/0.07","v":0},{"$f":"'Conversion 1'!B131/0.056","v":0},{"$f":"'Conversion 1'!B131/0.1","v":0},{"$f":"'Conversion 1'!B131/0.058","v":0},{"$f":"'Conversion 1'!B131/0.01","v":0},{"$f":"'Conversion 1'!B131/0.02","v":0},{"$f":"'Conversion 1'!B131/0.56","v":0},{"$f":"'Conversion 1'!B131/0.4","v":0}]
[null,{"$f":"0.1423*('Conversion 1'!D132^1.2528)","v":0},{"$f":"(0.00005*('Conversion 1'!D132^2))+(0.3389*'Conversion 1'!D132)-1.431","v":-1.431},131,{"$f":"'Conversion 1'!B132","v":0},{"$f":"'Conversion 1'!B132/0.4","v":0},{"$f":"'Conversion 1'!B132/0.4","v":0},{"$f":"'Conversion 1'!B132","v":0},{"$f":"'Conversion 1'!B132/0.07","v":0},{"$f":"'Conversion 1'!B132/0.056","v":0},{"$f":"'Conversion 1'!B132/0.1","v":0},{"$f":"'Conversion 1'!B132/0.058","v":0},{"$f":"'Conversion 1'!B132/0.01","v":0},{"$f":"'Conversion 1'!B132/0.02","v":0},{"$f":"'Conversion 1'!B132/0.56","v":0},{"$f":"'Conversion 1'!B132/0.4","v":0}]
[null,{"$f":"0.1423*('Conversion 1'!D133^1.2528)","v":0},{"$f":"(0.00005*('Conversion 1'!D133^2))+(0.3389*'Conversion 1'!D133)-1.431","v":-1.431},132,{"$f":"'Conversion 1'!B133","v":0},{"$f":"'Conversion 1'!B133/0.4","v":0},{"$f":"'Conversion 1'!B133/0.4","v":0},{"$f":"'Conversion 1'!B133","v":0},{"$f":"'Conversion 1'!B133/0.07","v":0},{"$f":"'Conversion 1'!B133/0.056","v":0},{"$f":"'Conversion 1'!B133/0.1","v":0},{"$f":"'Conversion 1'!B133/0.058","v":0},{"$f":"'Conversion 1'!B133/0.01","v":0},{"$f":"'Conversion 1'!B133/0.02","v":0},{"$f":"'Conversion 1'!B133/0.56","v":0},{"$f":"'Conversion 1'!B133/0.4","v":0}]
[null,{"$f":"0.1423*('Conversion 1'!D134^1.2528)","v":0},{"$f":"(0.00005*('Conversion 1'!D134^2))+(0.3389*'Conversion 1'!D134)-1.431","v":-1.431},133,{"$f":"'Conversion 1'!B134","v":0},{"$f":"'Conversion 1'!B134/0.4","v":0},{"$f":"'Conversion 1'!B134/0.4","v":0},{"$f":"'Conversion 1'!B134","v":0},{"$f":"'Conversion 1'!B134/0.07","v":0},{"$f":"'Conversion 1'!B134/0.056","v":0},{"$f":"'Conversion 1'!B134/0.1","v":0},{"$f":"'Conversion 1'!B134/0.058","v":0},{"$f":"'Conversion 1'!B134/0.01","v":0},{"$f":"'Conversion 1'!B134/0.02","v":0},{"$f":"'Conversion 1'!B134/0.56","v":0},{"$f":"'Conversion 1'!B134/0.4","v":0}]
[null,{"$f":"0.1423*('Conversion 1'!D135^1.2528)","v":0},{"$f":"(0.00005*('Conversion 1'!D135^2))+(0.3389*'Conversion 1'!D135)-1.431","v":-1.431},134,{"$f":"'Conversion 1'!B135","v":0},{"$f":"'Conversion 1'!B135/0.4","v":0},{"$f":"'Conversion 1'!B135/0.4","v":0},{"$f":"'Conversion 1'!B135","v":0},{"$f":"'Conversion 1'!B135/0.07","v":0},{"$f":"'Conversion 1'!B135/0.056","v":0},{"$f":"'Conversion 1'!B135/0.1","v":0},{"$f":"'Conversion 1'!B135/0.058","v":0},{"$f":"'Conversion 1'!B135/0.01","v":0},{"$f":"'Conversion 1'!B135/0.02","v":0},{"$f":"'Conversion 1'!B135/0.56","v":0},{"$f":"'Conversion 1'!B135/0.4","v":0}]
[null,{"$f":"0.1423*('Conversion 1'!D136^1.2528)","v":0},{"$f":"(0.00005*('Conversion 1'!D136^2))+(0.3389*'Conversion 1'!D136)-1.431","v":-1.431},135,{"$f":"'Conversion 1'!B136","v":0},{"$f":"'Conversion 1'!B136/0.4","v":0},{"$f":"'Conversion 1'!B136/0.4","v":0},{"$f":"'Conversion 1'!B136","v":0},{"$f":"'Conversion 1'!B136/0.07","v":0},{"$f":"'Conversion 1'!B136/0.056","v":0},{"$f":"'Conversion 1'!B136/0.1","v":0},{"$f":"'Conversion 1'!B136/0.058","v":0},{"$f":"'Conversion 1'!B136/0.01","v":0},{"$f":"'Conversion 1'!B136/0.02","v":0},{"$f":"'Conversion 1'!B136/0.56","v":0},{"$f":"'Conversion 1'!B136/0.4","v":0}]
[null,{"$f":"0.1423*('Conversion 1'!D137^1.2528)","v":0},{"$f":"(0.00005*('Conversion 1'!D137^2))+(0.3389*'Conversion 1'!D137)-1.431","v":-1.431},136,{"$f":"'Conversion 1'!B137","v":0},{"$f":"'Conversion 1'!B137/0.4","v":0},{"$f":"'Conversion 1'!B137/0.4","v":0},{"$f":"'Conversion 1'!B137","v":0},{"$f":"'Conversion 1'!B137/0.07","v":0},{"$f":"'Conversion 1'!B137/0.056","v":0},{"$f":"'Conversion 1'!B137/0.1","v":0},{"$f":"'Conversion 1'!B137/0.058","v":0},{"$f":"'Conversion 1'!B137/0.01","v":0},{"$f":"'Conversion 1'!B137/0.02","v":0},{"$f":"'Conversion 1'!B137/0.56","v":0},{"$f":"'Conversion 1'!B137/0.4","v":0}]
[null,{"$f":"0.1423*('Conversion 1'!D138^1.2528)","v":0},{"$f":"(0.00005*('Conversion 1'!D138^2))+(0.3389*'Conversion 1'!D138)-1.431","v":-1.431},137,{"$f":"'Conversion 1'!B138","v":0},{"$f":"'Conversion 1'!B138/0.4","v":0},{"$f":"'Conversion 1'!B138/0.4","v":0},{"$f":"'Conversion 1'!B138","v":0},{"$f":"'Conversion 1'!B138/0.07","v":0},{"$f":"'Conversion 1'!B138/0.056","v":0},{"$f":"'Conversion 1'!B138/0.1","v":0},{"$f":"'Conversion 1'!B138/0.058","v":0},{"$f":"'Conversion 1'!B138/0.01","v":0},{"$f":"'Conversion 1'!B138/0.02","v":0},{"$f":"'Conversion 1'!B138/0.56","v":0},{"$f":"'Conversion 1'!B138/0.4","v":0}]
[null,{"$f":"0.1423*('Conversion 1'!D139^1.2528)","v":0},{"$f":"(0.00005*('Conversion 1'!D139^2))+(0.3389*'Conversion 1'!D139)-1.431","v":-1.431},138,{"$f":"'Conversion 1'!B139","v":0},{"$f":"'Conversion 1'!B139/0.4","v":0},{"$f":"'Conversion 1'!B139/0.4","v":0},{"$f":"'Conversion 1'!B139","v":0},{"$f":"'Conversion 1'!B139/0.07","v":0},{"$f":"'Conversion 1'!B139/0.056","v":0},{"$f":"'Conversion 1'!B139/0.1","v":0},{"$f":"'Conversion 1'!B139/0.058","v":0},{"$f":"'Conversion 1'!B139/0.01","v":0},{"$f":"'Conversion 1'!B139/0.02","v":0},{"$f":"'Conversion 1'!B139/0.56","v":0},{"$f":"'Conversion 1'!B139/0.4","v":0}]
[null,{"$f":"0.1423*('Conversion 1'!D140^1.2528)","v":0},{"$f":"(0.00005*('Conversion 1'!D140^2))+(0.3389*'Conversion 1'!D140)-1.431","v":-1.431},139,{"$f":"'Conversion 1'!B140","v":0},{"$f":"'Conversion 1'!B140/0.4","v":0},{"$f":"'Conversion 1'!B140/0.4","v":0},{"$f":"'Conversion 1'!B140","v":0},{"$f":"'Conversion 1'!B140/0.07","v":0},{"$f":"'Conversion 1'!B140/0.056","v":0},{"$f":"'Conversion 1'!B140/0.1","v":0},{"$f":"'Conversion 1'!B140/0.058","v":0},{"$f":"'Conversion 1'!B140/0.01","v":0},{"$f":"'Conversion 1'!B140/0.02","v":0},{"$f":"'Conversion 1'!B140/0.56","v":0},{"$f":"'Conversion 1'!B140/0.4","v":0}]
[null,{"$f":"0.1423*('Conversion 1'!D141^1.2528)","v":0},{"$f":"(0.00005*('Conversion 1'!D141^2))+(0.3389*'Conversion 1'!D141)-1.431","v":-1.431},140,{"$f":"'Conversion 1'!B141","v":0},{"$f":"'Conversion 1'!B141/0.4","v":0},{"$f":"'Conversion 1'!B141/0.4","v":0},{"$f":"'Conversion 1'!B141","v":0},{"$f":"'Conversion 1'!B141/0.07","v":0},{"$f":"'Conversion 1'!B141/0.056","v":0},{"$f":"'Conversion 1'!B141/0.1","v":0},{"$f":"'Conversion 1'!B141/0.058","v":0},{"$f":"'Conversion 1'!B141/0.01","v":0},{"$f":"'Conversion 1'!B141/0.02","v":0},{"$f":"'Conversion 1'!B141/0.56","v":0},{"$f":"'Conversion 1'!B141/0.4","v":0}]
[null,{"$f":"0.1423*('Conversion 1'!D142^1.2528)","v":0},{"$f":"(0.00005*('Conversion 1'!D142^2))+(0.3389*'Conversion 1'!D142)-1.431","v":-1.431},141,{"$f":"'Conversion 1'!B142","v":0},{"$f":"'Conversion 1'!B142/0.4","v":0},{"$f":"'Conversion 1'!B142/0.4","v":0},{"$f":"'Conversion 1'!B142","v":0},{"$f":"'Conversion 1'!B142/0.07","v":0},{"$f":"'Conversion 1'!B142/0.056","v":0},{"$f":"'Conversion 1'!B142/0.1","v":0},{"$f":"'Conversion 1'!B142/0.058","v":0},{"$f":"'Conversion 1'!B142/0.01","v":0},{"$f":"'Conversion 1'!B142/0.02","v":0},{"$f":"'Conversion 1'!B142/0.56","v":0},{"$f":"'Conversion 1'!B142/0.4","v":0}]
[null,{"$f":"0.1423*('Conversion 1'!D143^1.2528)","v":0},{"$f":"(0.00005*('Conversion 1'!D143^2))+(0.3389*'Conversion 1'!D143)-1.431","v":-1.431},142,{"$f":"'Conversion 1'!B143","v":0},{"$f":"'Conversion 1'!B143/0.4","v":0},{"$f":"'Conversion 1'!B143/0.4","v":0},{"$f":"'Conversion 1'!B143","v":0},{"$f":"'Conversion 1'!B143/0.07","v":0},{"$f":"'Conversion 1'!B143/0.056","v":0},{"$f":"'Conversion 1'!B143/0.1","v":0},{"$f":"'Conversion 1'!B143/0.058","v":0},{"$f":"'Conversion 1'!B143/0.01","v":0},{"$f":"'Conversion 1'!B143/0.02","v":0},{"$f":"'Conversion 1'!B143/0.56","v":0},{"$f":"'Conversion 1'!B143/0.4","v":0}]
[null,{"$f":"0.1423*('Conversion 1'!D144^1.2528)","v":0},{"$f":"(0.00005*('Conversion 1'!D144^2))+(0.3389*'Conversion 1'!D144)-1.431","v":-1.431},143,{"$f":"'Conversion 1'!B144","v":0},{"$f":"'Conversion 1'!B144/0.4","v":0},{"$f":"'Conversion 1'!B144/0.4","v":0},{"$f":"'Conversion 1'!B144","v":0},{"$f":"'Conversion 1'!B144/0.07","v":0},{"$f":"'Conversion 1'!B144/0.056","v":0},{"$f":"'Conversion 1'!B144/0.1","v":0},{"$f":"'Conversion 1'!B144/0.058","v":0},{"$f":"'Conversion 1'!B144/0.01","v":0},{"$f":"'Conversion 1'!B144/0.02","v":0},{"$f":"'Conversion 1'!B144/0.56","v":0},{"$f":"'Conversion 1'!B144/0.4","v":0}]
[null,{"$f":"0.1423*('Conversion 1'!D145^1.2528)","v":0},{"$f":"(0.00005*('Conversion 1'!D145^2))+(0.3389*'Conversion 1'!D145)-1.431","v":-1.431},144,{"$f":"'Conversion 1'!B145","v":0},{"$f":"'Conversion 1'!B145/0.4","v":0},{"$f":"'Conversion 1'!B145/0.4","v":0},{"$f":"'Conversion 1'!B145","v":0},{"$f":"'Conversion 1'!B145/0.07","v":0},{"$f":"'Conversion 1'!B145/0.056","v":0},{"$f":"'Conversion 1'!B145/0.1","v":0},{"$f":"'Conversion 1'!B145/0.058","v":0},{"$f":"'Conversion 1'!B145/0.01","v":0},{"$f":"'Conversion 1'!B145/0.02","v":0},{"$f":"'Conversion 1'!B145/0.56","v":0},{"$f":"'Conversion 1'!B145/0.4","v":0}]
[null,{"$f":"0.1423*('Conversion 1'!D146^1.2528)","v":0},{"$f":"(0.00005*('Conversion 1'!D146^2))+(0.3389*'Conversion 1'!D146)-1.431","v":-1.431},145,{"$f":"'Conversion 1'!B146","v":0},{"$f":"'Conversion 1'!B146/0.4","v":0},{"$f":"'Conversion 1'!B146/0.4","v":0},{"$f":"'Conversion 1'!B146","v":0},{"$f":"'Conversion 1'!B146/0.07","v":0},{"$f":"'Conversion 1'!B146/0.056","v":0},{"$f":"'Conversion 1'!B146/0.1","v":0},{"$f":"'Conversion 1'!B146/0.058","v":0},{"$f":"'Conversion 1'!B146/0.01","v":0},{"$f":"'Conversion 1'!B146/0.02","v":0},{"$f":"'Conversion 1'!B146/0.56","v":0},{"$f":"'Conversion 1'!B146/0.4","v":0}]
[null,{"$f":"0.1423*('Conversion 1'!D147^1.2528)","v":0},{"$f":"(0.00005*('Conversion 1'!D147^2))+(0.3389*'Conversion 1'!D147)-1.431","v":-1.431},146,{"$f":"'Conversion 1'!B147","v":0},{"$f":"'Conversion 1'!B147/0.4","v":0},{"$f":"'Conversion 1'!B147/0.4","v":0},{"$f":"'Conversion 1'!B147","v":0},{"$f":"'Conversion 1'!B147/0.07","v":0},{"$f":"'Conversion 1'!B147/0.056","v":0},{"$f":"'Conversion 1'!B147/0.1","v":0},{"$f":"'Conversion 1'!B147/0.058","v":0},{"$f":"'Conversion 1'!B147/0.01","v":0},{"$f":"'Conversion 1'!B147/0.02","v":0},{"$f":"'Conversion 1'!B147/0.56","v":0},{"$f":"'Conversion 1'!B147/0.4","v":0}]
[null,{"$f":"0.1423*('Conversion 1'!D148^1.2528)","v":0},{"$f":"(0.00005*('Conversion 1'!D148^2))+(0.3389*'Conversion 1'!D148)-1.431","v":-1.431},147,{"$f":"'Conversion 1'!B148","v":0},{"$f":"'Conversion 1'!B148/0.4","v":0},{"$f":"'Conversion 1'!B148/0.4","v":0},{"$f":"'Conversion 1'!B148","v":0},{"$f":"'Conversion 1'!B148/0.07","v":0},{"$f":"'Conversion 1'!B148/0.056","v":0},{"$f":"'Conversion 1'!B148/0.1","v":0},{"$f":"'Conversion 1'!B148/0.058","v":0},{"$f":"'Conversion 1'!B148/0.01","v":0},{"$f":"'Conversion 1'!B148/0.02","v":0},{"$f":"'Conversion 1'!B148/0.56","v":0},{"$f":"'Conversion 1'!B148/0.4","v":0}]
[null,{"$f":"0.1423*('Conversion 1'!D149^1.2528)","v":0},{"$f":"(0.00005*('Conversion 1'!D149^2))+(0.3389*'Conversion 1'!D149)-1.431","v":-1.431},148,{"$f":"'Conversion 1'!B149","v":0},{"$f":"'Conversion 1'!B149/0.4","v":0},{"$f":"'Conversion 1'!B149/0.4","v":0},{"$f":"'Conversion 1'!B149","v":0},{"$f":"'Conversion 1'!B149/0.07","v":0},{"$f":"'Conversion 1'!B149/0.056","v":0},{"$f":"'Conversion 1'!B149/0.1","v":0},{"$f":"'Conversion 1'!B149/0.058","v":0},{"$f":"'Conversion 1'!B149/0.01","v":0},{"$f":"'Conversion 1'!B149/0.02","v":0},{"$f":"'Conversion 1'!B149/0.56","v":0},{"$f":"'Conversion 1'!B149/0.4","v":0}]
[null,{"$f":"0.1423*('Conversion 1'!D150^1.2528)","v":0},{"$f":"(0.00005*('Conversion 1'!D150^2))+(0.3389*'Conversion 1'!D150)-1.431","v":-1.431},149,{"$f":"'Conversion 1'!B150","v":0},{"$f":"'Conversion 1'!B150/0.4","v":0},{"$f":"'Conversion 1'!B150/0.4","v":0},{"$f":"'Conversion 1'!B150","v":0},{"$f":"'Conversion 1'!B150/0.07","v":0},{"$f":"'Conversion 1'!B150/0.056","v":0},{"$f":"'Conversion 1'!B150/0.1","v":0},{"$f":"'Conversion 1'!B150/0.058","v":0},{"$f":"'Conversion 1'!B150/0.01","v":0},{"$f":"'Conversion 1'!B150/0.02","v":0},{"$f":"'Conversion 1'!B150/0.56","v":0},{"$f":"'Conversion 1'!B150/0.4","v":0}]
[null,{"$f":"0.1423*('Conversion 1'!D151^1.2528)","v":0},{"$f":"(0.00005*('Conversion 1'!D151^2))+(0.3389*'Conversion 1'!D151)-1.431","v":-1.431},150,{"$f":"'Conversion 1'!B151","v":0},{"$f":"'Conversion 1'!B151/0.4","v":0},{"$f":"'Conversion 1'!B151/0.4","v":0},{"$f":"'Conversion 1'!B151","v":0},{"$f":"'Conversion 1'!B151/0.07","v":0},{"$f":"'Conversion 1'!B151/0.056","v":0},{"$f":"'Conversion 1'!B151/0.1","v":0},{"$f":"'Conversion 1'!B151/0.058","v":0},{"$f":"'Conversion 1'!B151/0.01","v":0},{"$f":"'Conversion 1'!B151/0.02","v":0},{"$f":"'Conversion 1'!B151/0.56","v":0},{"$f":"'Conversion 1'!B151/0.4","v":0}]
[null,{"$f":"0.1423*('Conversion 1'!D152^1.2528)","v":0},{"$f":"(0.00005*('Conversion 1'!D152^2))+(0.3389*'Conversion 1'!D152)-1.431","v":-1.431},151,{"$f":"'Conversion 1'!B152","v":0},{"$f":"'Conversion 1'!B152/0.4","v":0},{"$f":"'Conversion 1'!B152/0.4","v":0},{"$f":"'Conversion 1'!B152","v":0},{"$f":"'Conversion 1'!B152/0.07","v":0},{"$f":"'Conversion 1'!B152/0.056","v":0},{"$f":"'Conversion 1'!B152/0.1","v":0},{"$f":"'Conversion 1'!B152/0.058","v":0},{"$f":"'Conversion 1'!B152/0.01","v":0},{"$f":"'Conversion 1'!B152/0.02","v":0},{"$f":"'Conversion 1'!B152/0.56","v":0},{"$f":"'Conversion 1'!B152/0.4","v":0}]
[null,{"$f":"0.1423*('Conversion 1'!D153^1.2528)","v":0},{"$f":"(0.00005*('Conversion 1'!D153^2))+(0.3389*'Conversion 1'!D153)-1.431","v":-1.431},152,{"$f":"'Conversion 1'!B153","v":0},{"$f":"'Conversion 1'!B153/0.4","v":0},{"$f":"'Conversion 1'!B153/0.4","v":0},{"$f":"'Conversion 1'!B153","v":0},{"$f":"'Conversion 1'!B153/0.07","v":0},{"$f":"'Conversion 1'!B153/0.056","v":0},{"$f":"'Conversion 1'!B153/0.1","v":0},{"$f":"'Conversion 1'!B153/0.058","v":0},{"$f":"'Conversion 1'!B153/0.01","v":0},{"$f":"'Conversion 1'!B153/0.02","v":0},{"$f":"'Conversion 1'!B153/0.56","v":0},{"$f":"'Conversion 1'!B153/0.4","v":0}]
[null,{"$f":"0.1423*('Conversion 1'!D154^1.2528)","v":0},{"$f":"(0.00005*('Conversion 1'!D154^2))+(0.3389*'Conversion 1'!D154)-1.431","v":-1.431},153,{"$f":"'Conversion 1'!B154","v":0},{"$f":"'Conversion 1'!B154/0.4","v":0},{"$f":"'Conversion 1'!B154/0.4","v":0},{"$f":"'Conversion 1'!B154","v":0},{"$f":"'Conversion 1'!B154/0.07","v":0},{"$f":"'Conversion 1'!B154/0.056","v":0},{"$f":"'Conversion 1'!B154/0.1","v":0},{"$f":"'Conversion 1'!B154/0.058","v":0},{"$f":"'Conversion 1'!B154/0.01","v":0},{"$f":"'Conversion 1'!B154/0.02","v":0},{"$f":"'Conversion 1'!B154/0.56","v":0},{"$f":"'Conversion 1'!B154/0.4","v":0}]
[null,{"$f":"0.1423*('Conversion 1'!D155^1.2528)","v":0},{"$f":"(0.00005*('Conversion 1'!D155^2))+(0.3389*'Conversion 1'!D155)-1.431","v":-1.431},154,{"$f":"'Conversion 1'!B155","v":0},{"$f":"'Conversion 1'!B155/0.4","v":0},{"$f":"'Conversion 1'!B155/0.4","v":0},{"$f":"'Conversion 1'!B155","v":0},{"$f":"'Conversion 1'!B155/0.07","v":0},{"$f":"'Conversion 1'!B155/0.056","v":0},{"$f":"'Conversion 1'!B155/0.1","v":0},{"$f":"'Conversion 1'!B155/0.058","v":0},{"$f":"'Conversion 1'!B155/0.01","v":0},{"$f":"'Conversion 1'!B155/0.02","v":0},{"$f":"'Conversion 1'!B155/0.56","v":0},{"$f":"'Conversion 1'!B155/0.4","v":0}]
[null,{"$f":"0.1423*('Conversion 1'!D156^1.2528)","v":0},{"$f":"(0.00005*('Conversion 1'!D156^2))+(0.3389*'Conversion 1'!D156)-1.431","v":-1.431},155,{"$f":"'Conversion 1'!B156","v":0},{"$f":"'Conversion 1'!B156/0.4","v":0},{"$f":"'Conversion 1'!B156/0.4","v":0},{"$f":"'Conversion 1'!B156","v":0},{"$f":"'Conversion 1'!B156/0.07","v":0},{"$f":"'Conversion 1'!B156/0.056","v":0},{"$f":"'Conversion 1'!B156/0.1","v":0},{"$f":"'Conversion 1'!B156/0.058","v":0},{"$f":"'Conversion 1'!B156/0.01","v":0},{"$f":"'Conversion 1'!B156/0.02","v":0},{"$f":"'Conversion 1'!B156/0.56","v":0},{"$f":"'Conversion 1'!B156/0.4","v":0}]
[null,{"$f":"0.1423*('Conversion 1'!D157^1.2528)","v":0},{"$f":"(0.00005*('Conversion 1'!D157^2))+(0.3389*'Conversion 1'!D157)-1.431","v":-1.431},156,{"$f":"'Conversion 1'!B157","v":0},{"$f":"'Conversion 1'!B157/0.4","v":0},{"$f":"'Conversion 1'!B157/0.4","v":0},{"$f":"'Conversion 1'!B157","v":0},{"$f":"'Conversion 1'!B157/0.07","v":0},{"$f":"'Conversion 1'!B157/0.056","v":0},{"$f":"'Conversion 1'!B157/0.1","v":0},{"$f":"'Conversion 1'!B157/0.058","v":0},{"$f":"'Conversion 1'!B157/0.01","v":0},{"$f":"'Conversion 1'!B157/0.02","v":0},{"$f":"'Conversion 1'!B157/0.56","v":0},{"$f":"'Conversion 1'!B157/0.4","v":0}]
[null,{"$f":"0.1423*('Conversion 1'!D158^1.2528)","v":0},{"$f":"(0.00005*('Conversion 1'!D158^2))+(0.3389*'Conversion 1'!D158)-1.431","v":-1.431},157,{"$f":"'Conversion 1'!B158","v":0},{"$f":"'Conversion 1'!B158/0.4","v":0},{"$f":"'Conversion 1'!B158/0.4","v":0},{"$f":"'Conversion 1'!B158","v":0},{"$f":"'Conversion 1'!B158/0.07","v":0},{"$f":"'Conversion 1'!B158/0.056","v":0},{"$f":"'Conversion 1'!B158/0.1","v":0},{"$f":"'Conversion 1'!B158/0.058","v":0},{"$f":"'Conversion 1'!B158/0.01","v":0},{"$f":"'Conversion 1'!B158/0.02","v":0},{"$f":"'Conversion 1'!B158/0.56","v":0},{"$f":"'Conversion 1'!B158/0.4","v":0}]
[null,{"$f":"0.1423*('Conversion 1'!D159^1.2528)","v":0},{"$f":"(0.00005*('Conversion 1'!D159^2))+(0.3389*'Conversion 1'!D159)-1.431","v":-1.431},158,{"$f":"'Conversion 1'!B159","v":0},{"$f":"'Conversion 1'!B159/0.4","v":0},{"$f":"'Conversion 1'!B159/0.4","v":0},{"$f":"'Conversion 1'!B159","v":0},{"$f":"'Conversion 1'!B159/0.07","v":0},{"$f":"'Conversion 1'!B159/0.056","v":0},{"$f":"'Conversion 1'!B159/0.1","v":0},{"$f":"'Conversion 1'!B159/0.058","v":0},{"$f":"'Conversion 1'!B159/0.01","v":0},{"$f":"'Conversion 1'!B159/0.02","v":0},{"$f":"'Conversion 1'!B159/0.56","v":0},{"$f":"'Conversion 1'!B159/0.4","v":0}]
[null,{"$f":"0.1423*('Conversion 1'!D160^1.2528)","v":0},{"$f":"(0.00005*('Conversion 1'!D160^2))+(0.3389*'Conversion 1'!D160)-1.431","v":-1.431},159,{"$f":"'Conversion 1'!B160","v":0},{"$f":"'Conversion 1'!B160/0.4","v":0},{"$f":"'Conversion 1'!B160/0.4","v":0},{"$f":"'Conversion 1'!B160","v":0},{"$f":"'Conversion 1'!B160/0.07","v":0},{"$f":"'Conversion 1'!B160/0.056","v":0},{"$f":"'Conversion 1'!B160/0.1","v":0},{"$f":"'Conversion 1'!B160/0.058","v":0},{"$f":"'Conversion 1'!B160/0.01","v":0},{"$f":"'Conversion 1'!B160/0.02","v":0},{"$f":"'Conversion 1'!B160/0.56","v":0},{"$f":"'Conversion 1'!B160/0.4","v":0}]
[null,{"$f":"0.1423*('Conversion 1'!D161^1.2528)","v":0},{"$f":"(0.00005*('Conversion 1'!D161^2))+(0.3389*'Conversion 1'!D161)-1.431","v":-1.431},160,{"$f":"'Conversion 1'!B161","v":0},{"$f":"'Conversion 1'!B161/0.4","v":0},{"$f":"'Conversion 1'!B161/0.4","v":0},{"$f":"'Conversion 1'!B161","v":0},{"$f":"'Conversion 1'!B161/0.07","v":0},{"$f":"'Conversion 1'!B161/0.056","v":0},{"$f":"'Conversion 1'!B161/0.1","v":0},{"$f":"'Conversion 1'!B161/0.058","v":0},{"$f":"'Conversion 1'!B161/0.01","v":0},{"$f":"'Conversion 1'!B161/0.02","v":0},{"$f":"'Conversion 1'!B161/0.56","v":0},{"$f":"'Conversion 1'!B161/0.4","v":0}]
[null,{"$f":"0.1423*('Conversion 1'!D162^1.2528)","v":0},{"$f":"(0.00005*('Conversion 1'!D162^2))+(0.3389*'Conversion 1'!D162)-1.431","v":-1.431},161,{"$f":"'Conversion 1'!B162","v":0},{"$f":"'Conversion 1'!B162/0.4","v":0},{"$f":"'Conversion 1'!B162/0.4","v":0},{"$f":"'Conversion 1'!B162","v":0},{"$f":"'Conversion 1'!B162/0.07","v":0},{"$f":"'Conversion 1'!B162/0.056","v":0},{"$f":"'Conversion 1'!B162/0.1","v":0},{"$f":"'Conversion 1'!B162/0.058","v":0},{"$f":"'Conversion 1'!B162/0.01","v":0},{"$f":"'Conversion 1'!B162/0.02","v":0},{"$f":"'Conversion 1'!B162/0.56","v":0},{"$f":"'Conversion 1'!B162/0.4","v":0}]
[null,{"$f":"0.1423*('Conversion 1'!D163^1.2528)","v":0},{"$f":"(0.00005*('Conversion 1'!D163^2))+(0.3389*'Conversion 1'!D163)-1.431","v":-1.431},162,{"$f":"'Conversion 1'!B163","v":0},{"$f":"'Conversion 1'!B163/0.4","v":0},{"$f":"'Conversion 1'!B163/0.4","v":0},{"$f":"'Conversion 1'!B163","v":0},{"$f":"'Conversion 1'!B163/0.07","v":0},{"$f":"'Conversion 1'!B163/0.056","v":0},{"$f":"'Conversion 1'!B163/0.1","v":0},{"$f":"'Conversion 1'!B163/0.058","v":0},{"$f":"'Conversion 1'!B163/0.01","v":0},{"$f":"'Conversion 1'!B163/0.02","v":0},{"$f":"'Conversion 1'!B163/0.56","v":0},{"$f":"'Conversion 1'!B163/0.4","v":0}]
[null,{"$f":"0.1423*('Conversion 1'!D164^1.2528)","v":0},{"$f":"(0.00005*('Conversion 1'!D164^2))+(0.3389*'Conversion 1'!D164)-1.431","v":-1.431},163,{"$f":"'Conversion 1'!B164","v":0},{"$f":"'Conversion 1'!B164/0.4","v":0},{"$f":"'Conversion 1'!B164/0.4","v":0},{"$f":"'Conversion 1'!B164","v":0},{"$f":"'Conversion 1'!B164/0.07","v":0},{"$f":"'Conversion 1'!B164/0.056","v":0},{"$f":"'Conversion 1'!B164/0.1","v":0},{"$f":"'Conversion 1'!B164/0.058","v":0},{"$f":"'Conversion 1'!B164/0.01","v":0},{"$f":"'Conversion 1'!B164/0.02","v":0},{"$f":"'Conversion 1'!B164/0.56","v":0},{"$f":"'Conversion 1'!B164/0.4","v":0}]
[null,{"$f":"0.1423*('Conversion 1'!D165^1.2528)","v":0},{"$f":"(0.00005*('Conversion 1'!D165^2))+(0.3389*'Conversion 1'!D165)-1.431","v":-1.431},164,{"$f":"'Conversion 1'!B165","v":0},{"$f":"'Conversion 1'!B165/0.4","v":0},{"$f":"'Conversion 1'!B165/0.4","v":0},{"$f":"'Conversion 1'!B165","v":0},{"$f":"'Conversion 1'!B165/0.07","v":0},{"$f":"'Conversion 1'!B165/0.056","v":0},{"$f":"'Conversion 1'!B165/0.1","v":0},{"$f":"'Conversion 1'!B165/0.058","v":0},{"$f":"'Conversion 1'!B165/0.01","v":0},{"$f":"'Conversion 1'!B165/0.02","v":0},{"$f":"'Conversion 1'!B165/0.56","v":0},{"$f":"'Conversion 1'!B165/0.4","v":0}]
[null,{"$f":"0.1423*('Conversion 1'!D166^1.2528)","v":0},{"$f":"(0.00005*('Conversion 1'!D166^2))+(0.3389*'Conversion 1'!D166)-1.431","v":-1.431},165,{"$f":"'Conversion 1'!B166","v":0},{"$f":"'Conversion 1'!B166/0.4","v":0},{"$f":"'Conversion 1'!B166/0.4","v":0},{"$f":"'Conversion 1'!B166","v":0},{"$f":"'Conversion 1'!B166/0.07","v":0},{"$f":"'Conversion 1'!B166/0.056","v":0},{"$f":"'Conversion 1'!B166/0.1","v":0},{"$f":"'Conversion 1'!B166/0.058","v":0},{"$f":"'Conversion 1'!B166/0.01","v":0},{"$f":"'Conversion 1'!B166/0.02","v":0},{"$f":"'Conversion 1'!B166/0.56","v":0},{"$f":"'Conversion 1'!B166/0.4","v":0}]
[null,{"$f":"0.1423*('Conversion 1'!D167^1.2528)","v":0},{"$f":"(0.00005*('Conversion 1'!D167^2))+(0.3389*'Conversion 1'!D167)-1.431","v":-1.431},166,{"$f":"'Conversion 1'!B167","v":0},{"$f":"'Conversion 1'!B167/0.4","v":0},{"$f":"'Conversion 1'!B167/0.4","v":0},{"$f":"'Conversion 1'!B167","v":0},{"$f":"'Conversion 1'!B167/0.07","v":0},{"$f":"'Conversion 1'!B167/0.056","v":0},{"$f":"'Conversion 1'!B167/0.1","v":0},{"$f":"'Conversion 1'!B167/0.058","v":0},{"$f":"'Conversion 1'!B167/0.01","v":0},{"$f":"'Conversion 1'!B167/0.02","v":0},{"$f":"'Conversion 1'!B167/0.56","v":0},{"$f":"'Conversion 1'!B167/0.4","v":0}]
[null,{"$f":"0.1423*('Conversion 1'!D168^1.2528)","v":0},{"$f":"(0.00005*('Conversion 1'!D168^2))+(0.3389*'Conversion 1'!D168)-1.431","v":-1.431},167,{"$f":"'Conversion 1'!B168","v":0},{"$f":"'Conversion 1'!B168/0.4","v":0},{"$f":"'Conversion 1'!B168/0.4","v":0},{"$f":"'Conversion 1'!B168","v":0},{"$f":"'Conversion 1'!B168/0.07","v":0},{"$f":"'Conversion 1'!B168/0.056","v":0},{"$f":"'Conversion 1'!B168/0.1","v":0},{"$f":"'Conversion 1'!B168/0.058","v":0},{"$f":"'Conversion 1'!B168/0.01","v":0},{"$f":"'Conversion 1'!B168/0.02","v":0},{"$f":"'Conversion 1'!B168/0.56","v":0},{"$f":"'Conversion 1'!B168/0.4","v":0}]
[null,{"$f":"0.1423*('Conversion 1'!D169^1.2528)","v":0},{"$f":"(0.00005*('Conversion 1'!D169^2))+(0.3389*'Conversion 1'!D169)-1.431","v":-1.431},168,{"$f":"'Conversion 1'!B169","v":0},{"$f":"'Conversion 1'!B169/0.4","v":0},{"$f":"'Conversion 1'!B169/0.4","v":0},{"$f":"'Conversion 1'!B169","v":0},{"$f":"'Conversion 1'!B169/0.07","v":0},{"$f":"'Conversion 1'!B169/0.056","v":0},{"$f":"'Conversion 1'!B169/0.1","v":0},{"$f":"'Conversion 1'!B169/0.058","v":0},{"$f":"'Conversion 1'!B169/0.01","v":0},{"$f":"'Conversion 1'!B169/0.02","v":0},{"$f":"'Conversion 1'!B169/0.56","v":0},{"$f":"'Conversion 1'!B169/0.4","v":0}]
[null,{"$f":"0.1423*('Conversion 1'!D170^1.2528)","v":0},{"$f":"(0.00005*('Conversion 1'!D170^2))+(0.3389*'Conversion 1'!D170)-1.431","v":-1.431},169,{"$f":"'Conversion 1'!B170","v":0},{"$f":"'Conversion 1'!B170/0.4","v":0},{"$f":"'Conversion 1'!B170/0.4","v":0},{"$f":"'Conversion 1'!B170","v":0},{"$f":"'Conversion 1'!B170/0.07","v":0},{"$f":"'Conversion 1'!B170/0.056","v":0},{"$f":"'Conversion 1'!B170/0.1","v":0},{"$f":"'Conversion 1'!B170/0.058","v":0},{"$f":"'Conversion 1'!B170/0.01","v":0},{"$f":"'Conversion 1'!B170/0.02","v":0},{"$f":"'Conversion 1'!B170/0.56","v":0},{"$f":"'Conversion 1'!B170/0.4","v":0}]
[null,{"$f":"0.1423*('Conversion 1'!D171^1.2528)","v":0},{"$f":"(0.00005*('Conversion 1'!D171^2))+(0.3389*'Conversion 1'!D171)-1.431","v":-1.431},170,{"$f":"'Conversion 1'!B171","v":0},{"$f":"'Conversion 1'!B171/0.4","v":0},{"$f":"'Conversion 1'!B171/0.4","v":0},{"$f":"'Conversion 1'!B171","v":0},{"$f":"'Conversion 1'!B171/0.07","v":0},{"$f":"'Conversion 1'!B171/0.056","v":0},{"$f":"'Conversion 1'!B171/0.1","v":0},{"$f":"'Conversion 1'!B171/0.058","v":0},{"$f":"'Conversion 1'!B171/0.01","v":0},{"$f":"'Conversion 1'!B171/0.02","v":0},{"$f":"'Conversion 1'!B171/0.56","v":0},{"$f":"'Conversion 1'!B171/0.4","v":0}]
[null,{"$f":"0.1423*('Conversion 1'!D172^1.2528)","v":0},{"$f":"(0.00005*('Conversion 1'!D172^2))+(0.3389*'Conversion 1'!D172)-1.431","v":-1.431},171,{"$f":"'Conversion 1'!B172","v":0},{"$f":"'Conversion 1'!B172/0.4","v":0},{"$f":"'Conversion 1'!B172/0.4","v":0},{"$f":"'Conversion 1'!B172","v":0},{"$f":"'Conversion 1'!B172/0.07","v":0},{"$f":"'Conversion 1'!B172/0.056","v":0},{"$f":"'Conversion 1'!B172/0.1","v":0},{"$f":"'Conversion 1'!B172/0.058","v":0},{"$f":"'Conversion 1'!B172/0.01","v":0},{"$f":"'Conversion 1'!B172/0.02","v":0},{"$f":"'Conversion 1'!B172/0.56","v":0},{"$f":"'Conversion 1'!B172/0.4","v":0}]
[null,{"$f":"0.1423*('Conversion 1'!D173^1.2528)","v":0},{"$f":"(0.00005*('Conversion 1'!D173^2))+(0.3389*'Conversion 1'!D173)-1.431","v":-1.431},172,{"$f":"'Conversion 1'!B173","v":0},{"$f":"'Conversion 1'!B173/0.4","v":0},{"$f":"'Conversion 1'!B173/0.4","v":0},{"$f":"'Conversion 1'!B173","v":0},{"$f":"'Conversion 1'!B173/0.07","v":0},{"$f":"'Conversion 1'!B173/0.056","v":0},{"$f":"'Conversion 1'!B173/0.1","v":0},{"$f":"'Conversion 1'!B173/0.058","v":0},{"$f":"'Conversion 1'!B173/0.01","v":0},{"$f":"'Conversion 1'!B173/0.02","v":0},{"$f":"'Conversion 1'!B173/0.56","v":0},{"$f":"'Conversion 1'!B173/0.4","v":0}]
[null,{"$f":"0.1423*('Conversion 1'!D174^1.2528)","v":0},{"$f":"(0.00005*('Conversion 1'!D174^2))+(0.3389*'Conversion 1'!D174)-1.431","v":-1.431},173,{"$f":"'Conversion 1'!B174","v":0},{"$f":"'Conversion 1'!B174/0.4","v":0},{"$f":"'Conversion 1'!B174/0.4","v":0},{"$f":"'Conversion 1'!B174","v":0},{"$f":"'Conversion 1'!B174/0.07","v":0},{"$f":"'Conversion 1'!B174/0.056","v":0},{"$f":"'Conversion 1'!B174/0.1","v":0},{"$f":"'Conversion 1'!B174/0.058","v":0},{"$f":"'Conversion 1'!B174/0.01","v":0},{"$f":"'Conversion 1'!B174/0.02","v":0},{"$f":"'Conversion 1'!B174/0.56","v":0},{"$f":"'Conversion 1'!B174/0.4","v":0}]
[null,{"$f":"0.1423*('Conversion 1'!D175^1.2528)","v":0},{"$f":"(0.00005*('Conversion 1'!D175^2))+(0.3389*'Conversion 1'!D175)-1.431","v":-1.431},174,{"$f":"'Conversion 1'!B175","v":0},{"$f":"'Conversion 1'!B175/0.4","v":0},{"$f":"'Conversion 1'!B175/0.4","v":0},{"$f":"'Conversion 1'!B175","v":0},{"$f":"'Conversion 1'!B175/0.07","v":0},{"$f":"'Conversion 1'!B175/0.056","v":0},{"$f":"'Conversion 1'!B175/0.1","v":0},{"$f":"'Conversion 1'!B175/0.058","v":0},{"$f":"'Conversion 1'!B175/0.01","v":0},{"$f":"'Conversion 1'!B175/0.02","v":0},{"$f":"'Conversion 1'!B175/0.56","v":0},{"$f":"'Conversion 1'!B175/0.4","v":0}]
[null,{"$f":"0.1423*('Conversion 1'!D176^1.2528)","v":0},{"$f":"(0.00005*('Conversion 1'!D176^2))+(0.3389*'Conversion 1'!D176)-1.431","v":-1.431},175,{"$f":"'Conversion 1'!B176","v":0},{"$f":"'Conversion 1'!B176/0.4","v":0},{"$f":"'Conversion 1'!B176/0.4","v":0},{"$f":"'Conversion 1'!B176","v":0},{"$f":"'Conversion 1'!B176/0.07","v":0},{"$f":"'Conversion 1'!B176/0.056","v":0},{"$f":"'Conversion 1'!B176/0.1","v":0},{"$f":"'Conversion 1'!B176/0.058","v":0},{"$f":"'Conversion 1'!B176/0.01","v":0},{"$f":"'Conversion 1'!B176/0.02","v":0},{"$f":"'Conversion 1'!B176/0.56","v":0},{"$f":"'Conversion 1'!B176/0.4","v":0}]
[null,{"$f":"0.1423*('Conversion 1'!D177^1.2528)","v":0},{"$f":"(0.00005*('Conversion 1'!D177^2))+(0.3389*'Conversion 1'!D177)-1.431","v":-1.431},176,{"$f":"'Conversion 1'!B177","v":0},{"$f":"'Conversion 1'!B177/0.4","v":0},{"$f":"'Conversion 1'!B177/0.4","v":0},{"$f":"'Conversion 1'!B177","v":0},{"$f":"'Conversion 1'!B177/0.07","v":0},{"$f":"'Conversion 1'!B177/0.056","v":0},{"$f":"'Conversion 1'!B177/0.1","v":0},{"$f":"'Conversion 1'!B177/0.058","v":0},{"$f":"'Conversion 1'!B177/0.01","v":0},{"$f":"'Conversion 1'!B177/0.02","v":0},{"$f":"'Conversion 1'!B177/0.56","v":0},{"$f":"'Conversion 1'!B177/0.4","v":0}]
[null,{"$f":"0.1423*('Conversion 1'!D178^1.2528)","v":0},{"$f":"(0.00005*('Conversion 1'!D178^2))+(0.3389*'Conversion 1'!D178)-1.431","v":-1.431},177,{"$f":"'Conversion 1'!B178","v":0},{"$f":"'Conversion 1'!B178/0.4","v":0},{"$f":"'Conversion 1'!B178/0.4","v":0},{"$f":"'Conversion 1'!B178","v":0},{"$f":"'Conversion 1'!B178/0.07","v":0},{"$f":"'Conversion 1'!B178/0.056","v":0},{"$f":"'Conversion 1'!B178/0.1","v":0},{"$f":"'Conversion 1'!B178/0.058","v":0},{"$f":"'Conversion 1'!B178/0.01","v":0},{"$f":"'Conversion 1'!B178/0.02","v":0},{"$f":"'Conversion 1'!B178/0.56","v":0},{"$f":"'Conversion 1'!B178/0.4","v":0}]
[null,{"$f":"0.1423*('Conversion 1'!D179^1.2528)","v":0},{"$f":"(0.00005*('Conversion 1'!D179^2))+(0.3389*'Conversion 1'!D179)-1.431","v":-1.431},178,{"$f":"'Conversion 1'!B179","v":0},{"$f":"'Conversion 1'!B179/0.4","v":0},{"$f":"'Conversion 1'!B179/0.4","v":0},{"$f":"'Conversion 1'!B179","v":0},{"$f":"'Conversion 1'!B179/0.07","v":0},{"$f":"'Conversion 1'!B179/0.056","v":0},{"$f":"'Conversion 1'!B179/0.1","v":0},{"$f":"'Conversion 1'!B179/0.058","v":0},{"$f":"'Conversion 1'!B179/0.01","v":0},{"$f":"'Conversion 1'!B179/0.02","v":0},{"$f":"'Conversion 1'!B179/0.56","v":0},{"$f":"'Conversion 1'!B179/0.4","v":0}]
[null,{"$f":"0.1423*('Conversion 1'!D180^1.2528)","v":0},{"$f":"(0.00005*('Conversion 1'!D180^2))+(0.3389*'Conversion 1'!D180)-1.431","v":-1.431},179,{"$f":"'Conversion 1'!B180","v":0},{"$f":"'Conversion 1'!B180/0.4","v":0},{"$f":"'Conversion 1'!B180/0.4","v":0},{"$f":"'Conversion 1'!B180","v":0},{"$f":"'Conversion 1'!B180/0.07","v":0},{"$f":"'Conversion 1'!B180/0.056","v":0},{"$f":"'Conversion 1'!B180/0.1","v":0},{"$f":"'Conversion 1'!B180/0.058","v":0},{"$f":"'Conversion 1'!B180/0.01","v":0},{"$f":"'Conversion 1'!B180/0.02","v":0},{"$f":"'Conversion 1'!B180/0.56","v":0},{"$f":"'Conversion 1'!B180/0.4","v":0}]
[null,{"$f":"0.1423*('Conversion 1'!D181^1.2528)","v":0},{"$f":"(0.00005*('Conversion 1'!D181^2))+(0.3389*'Conversion 1'!D181)-1.431","v":-1.431},180,{"$f":"'Conversion 1'!B181","v":0},{"$f":"'Conversion 1'!B181/0.4","v":0},{"$f":"'Conversion 1'!B181/0.4","v":0},{"$f":"'Conversion 1'!B181","v":0},{"$f":"'Conversion 1'!B181/0.07","v":0},{"$f":"'Conversion 1'!B181/0.056","v":0},{"$f":"'Conversion 1'!B181/0.1","v":0},{"$f":"'Conversion 1'!B181/0.058","v":0},{"$f":"'Conversion 1'!B181/0.01","v":0},{"$f":"'Conversion 1'!B181/0.02","v":0},{"$f":"'Conversion 1'!B181/0.56","v":0},{"$f":"'Conversion 1'!B181/0.4","v":0}]
[null,{"$f":"0.1423*('Conversion 1'!D182^1.2528)","v":0},{"$f":"(0.00005*('Conversion 1'!D182^2))+(0.3389*'Conversion 1'!D182)-1.431","v":-1.431},181,{"$f":"'Conversion 1'!B182","v":0},{"$f":"'Conversion 1'!B182/0.4","v":0},{"$f":"'Conversion 1'!B182/0.4","v":0},{"$f":"'Conversion 1'!B182","v":0},{"$f":"'Conversion 1'!B182/0.07","v":0},{"$f":"'Conversion 1'!B182/0.056","v":0},{"$f":"'Conversion 1'!B182/0.1","v":0},{"$f":"'Conversion 1'!B182/0.058","v":0},{"$f":"'Conversion 1'!B182/0.01","v":0},{"$f":"'Conversion 1'!B182/0.02","v":0},{"$f":"'Conversion 1'!B182/0.56","v":0},{"$f":"'Conversion 1'!B182/0.4","v":0}]
[null,{"$f":"0.1423*('Conversion 1'!D183^1.2528)","v":0},{"$f":"(0.00005*('Conversion 1'!D183^2))+(0.3389*'Conversion 1'!D183)-1.431","v":-1.431},182,{"$f":"'Conversion 1'!B183","v":0},{"$f":"'Conversion 1'!B183/0.4","v":0},{"$f":"'Conversion 1'!B183/0.4","v":0},{"$f":"'Conversion 1'!B183","v":0},{"$f":"'Conversion 1'!B183/0.07","v":0},{"$f":"'Conversion 1'!B183/0.056","v":0},{"$f":"'Conversion 1'!B183/0.1","v":0},{"$f":"'Conversion 1'!B183/0.058","v":0},{"$f":"'Conversion 1'!B183/0.01","v":0},{"$f":"'Conversion 1'!B183/0.02","v":0},{"$f":"'Conversion 1'!B183/0.56","v":0},{"$f":"'Conversion 1'!B183/0.4","v":0}]
[null,{"$f":"0.1423*('Conversion 1'!D184^1.2528)","v":0},{"$f":"(0.00005*('Conversion 1'!D184^2))+(0.3389*'Conversion 1'!D184)-1.431","v":-1.431},183,{"$f":"'Conversion 1'!B184","v":0},{"$f":"'Conversion 1'!B184/0.4","v":0},{"$f":"'Conversion 1'!B184/0.4","v":0},{"$f":"'Conversion 1'!B184","v":0},{"$f":"'Conversion 1'!B184/0.07","v":0},{"$f":"'Conversion 1'!B184/0.056","v":0},{"$f":"'Conversion 1'!B184/0.1","v":0},{"$f":"'Conversion 1'!B184/0.058","v":0},{"$f":"'Conversion 1'!B184/0.01","v":0},{"$f":"'Conversion 1'!B184/0.02","v":0},{"$f":"'Conversion 1'!B184/0.56","v":0},{"$f":"'Conversion 1'!B184/0.4","v":0}]
[null,{"$f":"0.1423*('Conversion 1'!D185^1.2528)","v":0},{"$f":"(0.00005*('Conversion 1'!D185^2))+(0.3389*'Conversion 1'!D185)-1.431","v":-1.431},184,{"$f":"'Conversion 1'!B185","v":0},{"$f":"'Conversion 1'!B185/0.4","v":0},{"$f":"'Conversion 1'!B185/0.4","v":0},{"$f":"'Conversion 1'!B185","v":0},{"$f":"'Conversion 1'!B185/0.07","v":0},{"$f":"'Conversion 1'!B185/0.056","v":0},{"$f":"'Conversion 1'!B185/0.1","v":0},{"$f":"'Conversion 1'!B185/0.058","v":0},{"$f":"'Conversion 1'!B185/0.01","v":0},{"$f":"'Conversion 1'!B185/0.02","v":0},{"$f":"'Conversion 1'!B185/0.56","v":0},{"$f":"'Conversion 1'!B185/0.4","v":0}]
[null,{"$f":"0.1423*('Conversion 1'!D186^1.2528)","v":0},{"$f":"(0.00005*('Conversion 1'!D186^2))+(0.3389*'Conversion 1'!D186)-1.431","v":-1.431},185,{"$f":"'Conversion 1'!B186","v":0},{"$f":"'Conversion 1'!B186/0.4","v":0},{"$f":"'Conversion 1'!B186/0.4","v":0},{"$f":"'Conversion 1'!B186","v":0},{"$f":"'Conversion 1'!B186/0.07","v":0},{"$f":"'Conversion 1'!B186/0.056","v":0},{"$f":"'Conversion 1'!B186/0.1","v":0},{"$f":"'Conversion 1'!B186/0.058","v":0},{"$f":"'Conversion 1'!B186/0.01","v":0},{"$f":"'Conversion 1'!B186/0.02","v":0},{"$f":"'Conversion 1'!B186/0.56","v":0},{"$f":"'Conversion 1'!B186/0.4","v":0}]
[null,{"$f":"0.1423*('Conversion 1'!D187^1.2528)","v":0},{"$f":"(0.00005*('Conversion 1'!D187^2))+(0.3389*'Conversion 1'!D187)-1.431","v":-1.431},186,{"$f":"'Conversion 1'!B187","v":0},{"$f":"'Conversion 1'!B187/0.4","v":0},{"$f":"'Conversion 1'!B187/0.4","v":0},{"$f":"'Conversion 1'!B187","v":0},{"$f":"'Conversion 1'!B187/0.07","v":0},{"$f":"'Conversion 1'!B187/0.056","v":0},{"$f":"'Conversion 1'!B187/0.1","v":0},{"$f":"'Conversion 1'!B187/0.058","v":0},{"$f":"'Conversion 1'!B187/0.01","v":0},{"$f":"'Conversion 1'!B187/0.02","v":0},{"$f":"'Conversion 1'!B187/0.56","v":0},{"$f":"'Conversion 1'!B187/0.4","v":0}]
[null,{"$f":"0.1423*('Conversion 1'!D188^1.2528)","v":0},{"$f":"(0.00005*('Conversion 1'!D188^2))+(0.3389*'Conversion 1'!D188)-1.431","v":-1.431},187,{"$f":"'Conversion 1'!B188","v":0},{"$f":"'Conversion 1'!B188/0.4","v":0},{"$f":"'Conversion 1'!B188/0.4","v":0},{"$f":"'Conversion 1'!B188","v":0},{"$f":"'Conversion 1'!B188/0.07","v":0},{"$f":"'Conversion 1'!B188/0.056","v":0},{"$f":"'Conversion 1'!B188/0.1","v":0},{"$f":"'Conversion 1'!B188/0.058","v":0},{"$f":"'Conversion 1'!B188/0.01","v":0},{"$f":"'Conversion 1'!B188/0.02","v":0},{"$f":"'Conversion 1'!B188/0.56","v":0},{"$f":"'Conversion 1'!B188/0.4","v":0}]
[null,{"$f":"0.1423*('Conversion 1'!D189^1.2528)","v":0},{"$f":"(0.00005*('Conversion 1'!D189^2))+(0.3389*'Conversion 1'!D189)-1.431","v":-1.431},188,{"$f":"'Conversion 1'!B189","v":0},{"$f":"'Conversion 1'!B189/0.4","v":0},{"$f":"'Conversion 1'!B189/0.4","v":0},{"$f":"'Conversion 1'!B189","v":0},{"$f":"'Conversion 1'!B189/0.07","v":0},{"$f":"'Conversion 1'!B189/0.056","v":0},{"$f":"'Conversion 1'!B189/0.1","v":0},{"$f":"'Conversion 1'!B189/0.058","v":0},{"$f":"'Conversion 1'!B189/0.01","v":0},{"$f":"'Conversion 1'!B189/0.02","v":0},{"$f":"'Conversion 1'!B189/0.56","v":0},{"$f":"'Conversion 1'!B189/0.4","v":0}]
[null,{"$f":"0.1423*('Conversion 1'!D190^1.2528)","v":0},{"$f":"(0.00005*('Conversion 1'!D190^2))+(0.3389*'Conversion 1'!D190)-1.431","v":-1.431},189,{"$f":"'Conversion 1'!B190","v":0},{"$f":"'Conversion 1'!B190/0.4","v":0},{"$f":"'Conversion 1'!B190/0.4","v":0},{"$f":"'Conversion 1'!B190","v":0},{"$f":"'Conversion 1'!B190/0.07","v":0},{"$f":"'Conversion 1'!B190/0.056","v":0},{"$f":"'Conversion 1'!B190/0.1","v":0},{"$f":"'Conversion 1'!B190/0.058","v":0},{"$f":"'Conversion 1'!B190/0.01","v":0},{"$f":"'Conversion 1'!B190/0.02","v":0},{"$f":"'Conversion 1'!B190/0.56","v":0},{"$f":"'Conversion 1'!B190/0.4","v":0}]
[null,{"$f":"0.1423*('Conversion 1'!D191^1.2528)","v":0},{"$f":"(0.00005*('Conversion 1'!D191^2))+(0.3389*'Conversion 1'!D191)-1.431","v":-1.431},190,{"$f":"'Conversion 1'!B191","v":0},{"$f":"'Conversion 1'!B191/0.4","v":0},{"$f":"'Conversion 1'!B191/0.4","v":0},{"$f":"'Conversion 1'!B191","v":0},{"$f":"'Conversion 1'!B191/0.07","v":0},{"$f":"'Conversion 1'!B191/0.056","v":0},{"$f":"'Conversion 1'!B191/0.1","v":0},{"$f":"'Conversion 1'!B191/0.058","v":0},{"$f":"'Conversion 1'!B191/0.01","v":0},{"$f":"'Conversion 1'!B191/0.02","v":0},{"$f":"'Conversion 1'!B191/0.56","v":0},{"$f":"'Conversion 1'!B191/0.4","v":0}]
[null,{"$f":"0.1423*('Conversion 1'!D192^1.2528)","v":0},{"$f":"(0.00005*('Conversion 1'!D192^2))+(0.3389*'Conversion 1'!D192)-1.431","v":-1.431},191,{"$f":"'Conversion 1'!B192","v":0},{"$f":"'Conversion 1'!B192/0.4","v":0},{"$f":"'Conversion 1'!B192/0.4","v":0},{"$f":"'Conversion 1'!B192","v":0},{"$f":"'Conversion 1'!B192/0.07","v":0},{"$f":"'Conversion 1'!B192/0.056","v":0},{"$f":"'Conversion 1'!B192/0.1","v":0},{"$f":"'Conversion 1'!B192/0.058","v":0},{"$f":"'Conversion 1'!B192/0.01","v":0},{"$f":"'Conversion 1'!B192/0.02","v":0},{"$f":"'Conversion 1'!B192/0.56","v":0},{"$f":"'Conversion 1'!B192/0.4","v":0}]
[null,{"$f":"0.1423*('Conversion 1'!D193^1.2528)","v":0},{"$f":"(0.00005*('Conversion 1'!D193^2))+(0.3389*'Conversion 1'!D193)-1.431","v":-1.431},192,{"$f":"'Conversion 1'!B193","v":0},{"$f":"'Conversion 1'!B193/0.4","v":0},{"$f":"'Conversion 1'!B193/0.4","v":0},{"$f":"'Conversion 1'!B193","v":0},{"$f":"'Conversion 1'!B193/0.07","v":0},{"$f":"'Conversion 1'!B193/0.056","v":0},{"$f":"'Conversion 1'!B193/0.1","v":0},{"$f":"'Conversion 1'!B193/0.058","v":0},{"$f":"'Conversion 1'!B193/0.01","v":0},{"$f":"'Conversion 1'!B193/0.02","v":0},{"$f":"'Conversion 1'!B193/0.56","v":0},{"$f":"'Conversion 1'!B193/0.4","v":0}]
[null,{"$f":"0.1423*('Conversion 1'!D194^1.2528)","v":0},{"$f":"(0.00005*('Conversion 1'!D194^2))+(0.3389*'Conversion 1'!D194)-1.431","v":-1.431},193,{"$f":"'Conversion 1'!B194","v":0},{"$f":"'Conversion 1'!B194/0.4","v":0},{"$f":"'Conversion 1'!B194/0.4","v":0},{"$f":"'Conversion 1'!B194","v":0},{"$f":"'Conversion 1'!B194/0.07","v":0},{"$f":"'Conversion 1'!B194/0.056","v":0},{"$f":"'Conversion 1'!B194/0.1","v":0},{"$f":"'Conversion 1'!B194/0.058","v":0},{"$f":"'Conversion 1'!B194/0.01","v":0},{"$f":"'Conversion 1'!B194/0.02","v":0},{"$f":"'Conversion 1'!B194/0.56","v":0},{"$f":"'Conversion 1'!B194/0.4","v":0}]
[null,{"$f":"0.1423*('Conversion 1'!D195^1.2528)","v":0},{"$f":"(0.00005*('Conversion 1'!D195^2))+(0.3389*'Conversion 1'!D195)-1.431","v":-1.431},194,{"$f":"'Conversion 1'!B195","v":0},{"$f":"'Conversion 1'!B195/0.4","v":0},{"$f":"'Conversion 1'!B195/0.4","v":0},{"$f":"'Conversion 1'!B195","v":0},{"$f":"'Conversion 1'!B195/0.07","v":0},{"$f":"'Conversion 1'!B195/0.056","v":0},{"$f":"'Conversion 1'!B195/0.1","v":0},{"$f":"'Conversion 1'!B195/0.058","v":0},{"$f":"'Conversion 1'!B195/0.01","v":0},{"$f":"'Conversion 1'!B195/0.02","v":0},{"$f":"'Conversion 1'!B195/0.56","v":0},{"$f":"'Conversion 1'!B195/0.4","v":0}]
[null,{"$f":"0.1423*('Conversion 1'!D196^1.2528)","v":0},{"$f":"(0.00005*('Conversion 1'!D196^2))+(0.3389*'Conversion 1'!D196)-1.431","v":-1.431},195,{"$f":"'Conversion 1'!B196","v":0},{"$f":"'Conversion 1'!B196/0.4","v":0},{"$f":"'Conversion 1'!B196/0.4","v":0},{"$f":"'Conversion 1'!B196","v":0},{"$f":"'Conversion 1'!B196/0.07","v":0},{"$f":"'Conversion 1'!B196/0.056","v":0},{"$f":"'Conversion 1'!B196/0.1","v":0},{"$f":"'Conversion 1'!B196/0.058","v":0},{"$f":"'Conversion 1'!B196/0.01","v":0},{"$f":"'Conversion 1'!B196/0.02","v":0},{"$f":"'Conversion 1'!B196/0.56","v":0},{"$f":"'Conversion 1'!B196/0.4","v":0}]
[null,{"$f":"0.1423*('Conversion 1'!D197^1.2528)","v":0},{"$f":"(0.00005*('Conversion 1'!D197^2))+(0.3389*'Conversion 1'!D197)-1.431","v":-1.431},196,{"$f":"'Conversion 1'!B197","v":0},{"$f":"'Conversion 1'!B197/0.4","v":0},{"$f":"'Conversion 1'!B197/0.4","v":0},{"$f":"'Conversion 1'!B197","v":0},{"$f":"'Conversion 1'!B197/0.07","v":0},{"$f":"'Conversion 1'!B197/0.056","v":0},{"$f":"'Conversion 1'!B197/0.1","v":0},{"$f":"'Conversion 1'!B197/0.058","v":0},{"$f":"'Conversion 1'!B197/0.01","v":0},{"$f":"'Conversion 1'!B197/0.02","v":0},{"$f":"'Conversion 1'!B197/0.56","v":0},{"$f":"'Conversion 1'!B197/0.4","v":0}]
[null,{"$f":"0.1423*('Conversion 1'!D198^1.2528)","v":0},{"$f":"(0.00005*('Conversion 1'!D198^2))+(0.3389*'Conversion 1'!D198)-1.431","v":-1.431},197,{"$f":"'Conversion 1'!B198","v":0},{"$f":"'Conversion 1'!B198/0.4","v":0},{"$f":"'Conversion 1'!B198/0.4","v":0},{"$f":"'Conversion 1'!B198","v":0},{"$f":"'Conversion 1'!B198/0.07","v":0},{"$f":"'Conversion 1'!B198/0.056","v":0},{"$f":"'Conversion 1'!B198/0.1","v":0},{"$f":"'Conversion 1'!B198/0.058","v":0},{"$f":"'Conversion 1'!B198/0.01","v":0},{"$f":"'Conversion 1'!B198/0.02","v":0},{"$f":"'Conversion 1'!B198/0.56","v":0},{"$f":"'Conversion 1'!B198/0.4","v":0}]
[null,{"$f":"0.1423*('Conversion 1'!D199^1.2528)","v":0},{"$f":"(0.00005*('Conversion 1'!D199^2))+(0.3389*'Conversion 1'!D199)-1.431","v":-1.431},198,{"$f":"'Conversion 1'!B199","v":0},{"$f":"'Conversion 1'!B199/0.4","v":0},{"$f":"'Conversion 1'!B199/0.4","v":0},{"$f":"'Conversion 1'!B199","v":0},{"$f":"'Conversion 1'!B199/0.07","v":0},{"$f":"'Conversion 1'!B199/0.056","v":0},{"$f":"'Conversion 1'!B199/0.1","v":0},{"$f":"'Conversion 1'!B199/0.058","v":0},{"$f":"'Conversion 1'!B199/0.01","v":0},{"$f":"'Conversion 1'!B199/0.02","v":0},{"$f":"'Conversion 1'!B199/0.56","v":0},{"$f":"'Conversion 1'!B199/0.4","v":0}]
[null,{"$f":"0.1423*('Conversion 1'!D200^1.2528)","v":0},{"$f":"(0.00005*('Conversion 1'!D200^2))+(0.3389*'Conversion 1'!D200)-1.431","v":-1.431},199,{"$f":"'Conversion 1'!B200","v":0},{"$f":"'Conversion 1'!B200/0.4","v":0},{"$f":"'Conversion 1'!B200/0.4","v":0},{"$f":"'Conversion 1'!B200","v":0},{"$f":"'Conversion 1'!B200/0.07","v":0},{"$f":"'Conversion 1'!B200/0.056","v":0},{"$f":"'Conversion 1'!B200/0.1","v":0},{"$f":"'Conversion 1'!B200/0.058","v":0},{"$f":"'Conversion 1'!B200/0.01","v":0},{"$f":"'Conversion 1'!B200/0.02","v":0},{"$f":"'Conversion 1'!B200/0.56","v":0},{"$f":"'Conversion 1'!B200/0.4","v":0}]
[null,{"$f":"0.1423*('Conversion 1'!D201^1.2528)","v":0},{"$f":"(0.00005*('Conversion 1'!D201^2))+(0.3389*'Conversion 1'!D201)-1.431","v":-1.431},200,{"$f":"'Conversion 1'!B201","v":0},{"$f":"'Conversion 1'!B201/0.4","v":0},{"$f":"'Conversion 1'!B201/0.4","v":0},{"$f":"'Conversion 1'!B201","v":0},{"$f":"'Conversion 1'!B201/0.07","v":0},{"$f":"'Conversion 1'!B201/0.056","v":0},{"$f":"'Conversion 1'!B201/0.1","v":0},{"$f":"'Conversion 1'!B201/0.058","v":0},{"$f":"'Conversion 1'!B201/0.01","v":0},{"$f":"'Conversion 1'!B201/0.02","v":0},{"$f":"'Conversion 1'!B201/0.56","v":0},{"$f":"'Conversion 1'!B201/0.4","v":0}]
[null,{"$f":"0.1423*('Conversion 1'!D202^1.2528)","v":0},{"$f":"(0.00005*('Conversion 1'!D202^2))+(0.3389*'Conversion 1'!D202)-1.431","v":-1.431},201,{"$f":"'Conversion 1'!B202","v":0},{"$f":"'Conversion 1'!B202/0.4","v":0},{"$f":"'Conversion 1'!B202/0.4","v":0},{"$f":"'Conversion 1'!B202","v":0},{"$f":"'Conversion 1'!B202/0.07","v":0},{"$f":"'Conversion 1'!B202/0.056","v":0},{"$f":"'Conversion 1'!B202/0.1","v":0},{"$f":"'Conversion 1'!B202/0.058","v":0},{"$f":"'Conversion 1'!B202/0.01","v":0},{"$f":"'Conversion 1'!B202/0.02","v":0},{"$f":"'Conversion 1'!B202/0.56","v":0},{"$f":"'Conversion 1'!B202/0.4","v":0}]
[null,{"$f":"0.1423*('Conversion 1'!D203^1.2528)","v":0},{"$f":"(0.00005*('Conversion 1'!D203^2))+(0.3389*'Conversion 1'!D203)-1.431","v":-1.431},202,{"$f":"'Conversion 1'!B203","v":0},{"$f":"'Conversion 1'!B203/0.4","v":0},{"$f":"'Conversion 1'!B203/0.4","v":0},{"$f":"'Conversion 1'!B203","v":0},{"$f":"'Conversion 1'!B203/0.07","v":0},{"$f":"'Conversion 1'!B203/0.056","v":0},{"$f":"'Conversion 1'!B203/0.1","v":0},{"$f":"'Conversion 1'!B203/0.058","v":0},{"$f":"'Conversion 1'!B203/0.01","v":0},{"$f":"'Conversion 1'!B203/0.02","v":0},{"$f":"'Conversion 1'!B203/0.56","v":0},{"$f":"'Conversion 1'!B203/0.4","v":0}]
[null,{"$f":"0.1423*('Conversion 1'!D204^1.2528)","v":0},{"$f":"(0.00005*('Conversion 1'!D204^2))+(0.3389*'Conversion 1'!D204)-1.431","v":-1.431},203,{"$f":"'Conversion 1'!B204","v":0},{"$f":"'Conversion 1'!B204/0.4","v":0},{"$f":"'Conversion 1'!B204/0.4","v":0},{"$f":"'Conversion 1'!B204","v":0},{"$f":"'Conversion 1'!B204/0.07","v":0},{"$f":"'Conversion 1'!B204/0.056","v":0},{"$f":"'Conversion 1'!B204/0.1","v":0},{"$f":"'Conversion 1'!B204/0.058","v":0},{"$f":"'Conversion 1'!B204/0.01","v":0},{"$f":"'Conversion 1'!B204/0.02","v":0},{"$f":"'Conversion 1'!B204/0.56","v":0},{"$f":"'Conversion 1'!B204/0.4","v":0}]
[null,{"$f":"0.1423*('Conversion 1'!D205^1.2528)","v":0},{"$f":"(0.00005*('Conversion 1'!D205^2))+(0.3389*'Conversion 1'!D205)-1.431","v":-1.431},204,{"$f":"'Conversion 1'!B205","v":0},{"$f":"'Conversion 1'!B205/0.4","v":0},{"$f":"'Conversion 1'!B205/0.4","v":0},{"$f":"'Conversion 1'!B205","v":0},{"$f":"'Conversion 1'!B205/0.07","v":0},{"$f":"'Conversion 1'!B205/0.056","v":0},{"$f":"'Conversion 1'!B205/0.1","v":0},{"$f":"'Conversion 1'!B205/0.058","v":0},{"$f":"'Conversion 1'!B205/0.01","v":0},{"$f":"'Conversion 1'!B205/0.02","v":0},{"$f":"'Conversion 1'!B205/0.56","v":0},{"$f":"'Conversion 1'!B205/0.4","v":0}]
[null,{"$f":"0.1423*('Conversion 1'!D206^1.2528)","v":0},{"$f":"(0.00005*('Conversion 1'!D206^2))+(0.3389*'Conversion 1'!D206)-1.431","v":-1.431},205,{"$f":"'Conversion 1'!B206","v":0},{"$f":"'Conversion 1'!B206/0.4","v":0},{"$f":"'Conversion 1'!B206/0.4","v":0},{"$f":"'Conversion 1'!B206","v":0},{"$f":"'Conversion 1'!B206/0.07","v":0},{"$f":"'Conversion 1'!B206/0.056","v":0},{"$f":"'Conversion 1'!B206/0.1","v":0},{"$f":"'Conversion 1'!B206/0.058","v":0},{"$f":"'Conversion 1'!B206/0.01","v":0},{"$f":"'Conversion 1'!B206/0.02","v":0},{"$f":"'Conversion 1'!B206/0.56","v":0},{"$f":"'Conversion 1'!B206/0.4","v":0}]
[null,{"$f":"0.1423*('Conversion 1'!D207^1.2528)","v":0},{"$f":"(0.00005*('Conversion 1'!D207^2))+(0.3389*'Conversion 1'!D207)-1.431","v":-1.431},206,{"$f":"'Conversion 1'!B207","v":0},{"$f":"'Conversion 1'!B207/0.4","v":0},{"$f":"'Conversion 1'!B207/0.4","v":0},{"$f":"'Conversion 1'!B207","v":0},{"$f":"'Conversion 1'!B207/0.07","v":0},{"$f":"'Conversion 1'!B207/0.056","v":0},{"$f":"'Conversion 1'!B207/0.1","v":0},{"$f":"'Conversion 1'!B207/0.058","v":0},{"$f":"'Conversion 1'!B207/0.01","v":0},{"$f":"'Conversion 1'!B207/0.02","v":0},{"$f":"'Conversion 1'!B207/0.56","v":0},{"$f":"'Conversion 1'!B207/0.4","v":0}]
[null,{"$f":"0.1423*('Conversion 1'!D208^1.2528)","v":0},{"$f":"(0.00005*('Conversion 1'!D208^2))+(0.3389*'Conversion 1'!D208)-1.431","v":-1.431},207,{"$f":"'Conversion 1'!B208","v":0},{"$f":"'Conversion 1'!B208/0.4","v":0},{"$f":"'Conversion 1'!B208/0.4","v":0},{"$f":"'Conversion 1'!B208","v":0},{"$f":"'Conversion 1'!B208/0.07","v":0},{"$f":"'Conversion 1'!B208/0.056","v":0},{"$f":"'Conversion 1'!B208/0.1","v":0},{"$f":"'Conversion 1'!B208/0.058","v":0},{"$f":"'Conversion 1'!B208/0.01","v":0},{"$f":"'Conversion 1'!B208/0.02","v":0},{"$f":"'Conversion 1'!B208/0.56","v":0},{"$f":"'Conversion 1'!B208/0.4","v":0}]
[null,{"$f":"0.1423*('Conversion 1'!D209^1.2528)","v":0},{"$f":"(0.00005*('Conversion 1'!D209^2))+(0.3389*'Conversion 1'!D209)-1.431","v":-1.431},208,{"$f":"'Conversion 1'!B209","v":0},{"$f":"'Conversion 1'!B209/0.4","v":0},{"$f":"'Conversion 1'!B209/0.4","v":0},{"$f":"'Conversion 1'!B209","v":0},{"$f":"'Conversion 1'!B209/0.07","v":0},{"$f":"'Conversion 1'!B209/0.056","v":0},{"$f":"'Conversion 1'!B209/0.1","v":0},{"$f":"'Conversion 1'!B209/0.058","v":0},{"$f":"'Conversion 1'!B209/0.01","v":0},{"$f":"'Conversion 1'!B209/0.02","v":0},{"$f":"'Conversion 1'!B209/0.56","v":0},{"$f":"'Conversion 1'!B209/0.4","v":0}]
[null,{"$f":"0.1423*('Conversion 1'!D210^1.2528)","v":0},{"$f":"(0.00005*('Conversion 1'!D210^2))+(0.3389*'Conversion 1'!D210)-1.431","v":-1.431},209,{"$f":"'Conversion 1'!B210","v":0},{"$f":"'Conversion 1'!B210/0.4","v":0},{"$f":"'Conversion 1'!B210/0.4","v":0},{"$f":"'Conversion 1'!B210","v":0},{"$f":"'Conversion 1'!B210/0.07","v":0},{"$f":"'Conversion 1'!B210/0.056","v":0},{"$f":"'Conversion 1'!B210/0.1","v":0},{"$f":"'Conversion 1'!B210/0.058","v":0},{"$f":"'Conversion 1'!B210/0.01","v":0},{"$f":"'Conversion 1'!B210/0.02","v":0},{"$f":"'Conversion 1'!B210/0.56","v":0},{"$f":"'Conversion 1'!B210/0.4","v":0}]
[null,{"$f":"0.1423*('Conversion 1'!D211^1.2528)","v":0},{"$f":"(0.00005*('Conversion 1'!D211^2))+(0.3389*'Conversion 1'!D211)-1.431","v":-1.431},210,{"$f":"'Conversion 1'!B211","v":0},{"$f":"'Conversion 1'!B211/0.4","v":0},{"$f":"'Conversion 1'!B211/0.4","v":0},{"$f":"'Conversion 1'!B211","v":0},{"$f":"'Conversion 1'!B211/0.07","v":0},{"$f":"'Conversion 1'!B211/0.056","v":0},{"$f":"'Conversion 1'!B211/0.1","v":0},{"$f":"'Conversion 1'!B211/0.058","v":0},{"$f":"'Conversion 1'!B211/0.01","v":0},{"$f":"'Conversion 1'!B211/0.02","v":0},{"$f":"'Conversion 1'!B211/0.56","v":0},{"$f":"'Conversion 1'!B211/0.4","v":0}]
[null,{"$f":"0.1423*('Conversion 1'!D212^1.2528)","v":0},{"$f":"(0.00005*('Conversion 1'!D212^2))+(0.3389*'Conversion 1'!D212)-1.431","v":-1.431},211,{"$f":"'Conversion 1'!B212","v":0},{"$f":"'Conversion 1'!B212/0.4","v":0},{"$f":"'Conversion 1'!B212/0.4","v":0},{"$f":"'Conversion 1'!B212","v":0},{"$f":"'Conversion 1'!B212/0.07","v":0},{"$f":"'Conversion 1'!B212/0.056","v":0},{"$f":"'Conversion 1'!B212/0.1","v":0},{"$f":"'Conversion 1'!B212/0.058","v":0},{"$f":"'Conversion 1'!B212/0.01","v":0},{"$f":"'Conversion 1'!B212/0.02","v":0},{"$f":"'Conversion 1'!B212/0.56","v":0},{"$f":"'Conversion 1'!B212/0.4","v":0}]
[null,{"$f":"0.1423*('Conversion 1'!D213^1.2528)","v":0},{"$f":"(0.00005*('Conversion 1'!D213^2))+(0.3389*'Conversion 1'!D213)-1.431","v":-1.431},212,{"$f":"'Conversion 1'!B213","v":0},{"$f":"'Conversion 1'!B213/0.4","v":0},{"$f":"'Conversion 1'!B213/0.4","v":0},{"$f":"'Conversion 1'!B213","v":0},{"$f":"'Conversion 1'!B213/0.07","v":0},{"$f":"'Conversion 1'!B213/0.056","v":0},{"$f":"'Conversion 1'!B213/0.1","v":0},{"$f":"'Conversion 1'!B213/0.058","v":0},{"$f":"'Conversion 1'!B213/0.01","v":0},{"$f":"'Conversion 1'!B213/0.02","v":0},{"$f":"'Conversion 1'!B213/0.56","v":0},{"$f":"'Conversion 1'!B213/0.4","v":0}]
[null,{"$f":"0.1423*('Conversion 1'!D214^1.2528)","v":0},{"$f":"(0.00005*('Conversion 1'!D214^2))+(0.3389*'Conversion 1'!D214)-1.431","v":-1.431},213,{"$f":"'Conversion 1'!B214","v":0},{"$f":"'Conversion 1'!B214/0.4","v":0},{"$f":"'Conversion 1'!B214/0.4","v":0},{"$f":"'Conversion 1'!B214","v":0},{"$f":"'Conversion 1'!B214/0.07","v":0},{"$f":"'Conversion 1'!B214/0.056","v":0},{"$f":"'Conversion 1'!B214/0.1","v":0},{"$f":"'Conversion 1'!B214/0.058","v":0},{"$f":"'Conversion 1'!B214/0.01","v":0},{"$f":"'Conversion 1'!B214/0.02","v":0},{"$f":"'Conversion 1'!B214/0.56","v":0},{"$f":"'Conversion 1'!B214/0.4","v":0}]
[null,{"$f":"0.1423*('Conversion 1'!D215^1.2528)","v":0},{"$f":"(0.00005*('Conversion 1'!D215^2))+(0.3389*'Conversion 1'!D215)-1.431","v":-1.431},214,{"$f":"'Conversion 1'!B215","v":0},{"$f":"'Conversion 1'!B215/0.4","v":0},{"$f":"'Conversion 1'!B215/0.4","v":0},{"$f":"'Conversion 1'!B215","v":0},{"$f":"'Conversion 1'!B215/0.07","v":0},{"$f":"'Conversion 1'!B215/0.056","v":0},{"$f":"'Conversion 1'!B215/0.1","v":0},{"$f":"'Conversion 1'!B215/0.058","v":0},{"$f":"'Conversion 1'!B215/0.01","v":0},{"$f":"'Conversion 1'!B215/0.02","v":0},{"$f":"'Conversion 1'!B215/0.56","v":0},{"$f":"'Conversion 1'!B215/0.4","v":0}]
[null,{"$f":"0.1423*('Conversion 1'!D216^1.2528)","v":0},{"$f":"(0.00005*('Conversion 1'!D216^2))+(0.3389*'Conversion 1'!D216)-1.431","v":-1.431},215,{"$f":"'Conversion 1'!B216","v":0},{"$f":"'Conversion 1'!B216/0.4","v":0},{"$f":"'Conversion 1'!B216/0.4","v":0},{"$f":"'Conversion 1'!B216","v":0},{"$f":"'Conversion 1'!B216/0.07","v":0},{"$f":"'Conversion 1'!B216/0.056","v":0},{"$f":"'Conversion 1'!B216/0.1","v":0},{"$f":"'Conversion 1'!B216/0.058","v":0},{"$f":"'Conversion 1'!B216/0.01","v":0},{"$f":"'Conversion 1'!B216/0.02","v":0},{"$f":"'Conversion 1'!B216/0.56","v":0},{"$f":"'Conversion 1'!B216/0.4","v":0}]
[null,{"$f":"0.1423*('Conversion 1'!D217^1.2528)","v":0},{"$f":"(0.00005*('Conversion 1'!D217^2))+(0.3389*'Conversion 1'!D217)-1.431","v":-1.431},216,{"$f":"'Conversion 1'!B217","v":0},{"$f":"'Conversion 1'!B217/0.4","v":0},{"$f":"'Conversion 1'!B217/0.4","v":0},{"$f":"'Conversion 1'!B217","v":0},{"$f":"'Conversion 1'!B217/0.07","v":0},{"$f":"'Conversion 1'!B217/0.056","v":0},{"$f":"'Conversion 1'!B217/0.1","v":0},{"$f":"'Conversion 1'!B217/0.058","v":0},{"$f":"'Conversion 1'!B217/0.01","v":0},{"$f":"'Conversion 1'!B217/0.02","v":0},{"$f":"'Conversion 1'!B217/0.56","v":0},{"$f":"'Conversion 1'!B217/0.4","v":0}]
[null,{"$f":"0.1423*('Conversion 1'!D218^1.2528)","v":0},{"$f":"(0.00005*('Conversion 1'!D218^2))+(0.3389*'Conversion 1'!D218)-1.431","v":-1.431},217,{"$f":"'Conversion 1'!B218","v":0},{"$f":"'Conversion 1'!B218/0.4","v":0},{"$f":"'Conversion 1'!B218/0.4","v":0},{"$f":"'Conversion 1'!B218","v":0},{"$f":"'Conversion 1'!B218/0.07","v":0},{"$f":"'Conversion 1'!B218/0.056","v":0},{"$f":"'Conversion 1'!B218/0.1","v":0},{"$f":"'Conversion 1'!B218/0.058","v":0},{"$f":"'Conversion 1'!B218/0.01","v":0},{"$f":"'Conversion 1'!B218/0.02","v":0},{"$f":"'Conversion 1'!B218/0.56","v":0},{"$f":"'Conversion 1'!B218/0.4","v":0}]
[null,{"$f":"0.1423*('Conversion 1'!D219^1.2528)","v":0},{"$f":"(0.00005*('Conversion 1'!D219^2))+(0.3389*'Conversion 1'!D219)-1.431","v":-1.431},218,{"$f":"'Conversion 1'!B219","v":0},{"$f":"'Conversion 1'!B219/0.4","v":0},{"$f":"'Conversion 1'!B219/0.4","v":0},{"$f":"'Conversion 1'!B219","v":0},{"$f":"'Conversion 1'!B219/0.07","v":0},{"$f":"'Conversion 1'!B219/0.056","v":0},{"$f":"'Conversion 1'!B219/0.1","v":0},{"$f":"'Conversion 1'!B219/0.058","v":0},{"$f":"'Conversion 1'!B219/0.01","v":0},{"$f":"'Conversion 1'!B219/0.02","v":0},{"$f":"'Conversion 1'!B219/0.56","v":0},{"$f":"'Conversion 1'!B219/0.4","v":0}]
[null,{"$f":"0.1423*('Conversion 1'!D220^1.2528)","v":0},{"$f":"(0.00005*('Conversion 1'!D220^2))+(0.3389*'Conversion 1'!D220)-1.431","v":-1.431},219,{"$f":"'Conversion 1'!B220","v":0},{"$f":"'Conversion 1'!B220/0.4","v":0},{"$f":"'Conversion 1'!B220/0.4","v":0},{"$f":"'Conversion 1'!B220","v":0},{"$f":"'Conversion 1'!B220/0.07","v":0},{"$f":"'Conversion 1'!B220/0.056","v":0},{"$f":"'Conversion 1'!B220/0.1","v":0},{"$f":"'Conversion 1'!B220/0.058","v":0},{"$f":"'Conversion 1'!B220/0.01","v":0},{"$f":"'Conversion 1'!B220/0.02","v":0},{"$f":"'Conversion 1'!B220/0.56","v":0},{"$f":"'Conversion 1'!B220/0.4","v":0}]
[null,{"$f":"0.1423*('Conversion 1'!D221^1.2528)","v":0},{"$f":"(0.00005*('Conversion 1'!D221^2))+(0.3389*'Conversion 1'!D221)-1.431","v":-1.431},220,{"$f":"'Conversion 1'!B221","v":0},{"$f":"'Conversion 1'!B221/0.4","v":0},{"$f":"'Conversion 1'!B221/0.4","v":0},{"$f":"'Conversion 1'!B221","v":0},{"$f":"'Conversion 1'!B221/0.07","v":0},{"$f":"'Conversion 1'!B221/0.056","v":0},{"$f":"'Conversion 1'!B221/0.1","v":0},{"$f":"'Conversion 1'!B221/0.058","v":0},{"$f":"'Conversion 1'!B221/0.01","v":0},{"$f":"'Conversion 1'!B221/0.02","v":0},{"$f":"'Conversion 1'!B221/0.56","v":0},{"$f":"'Conversion 1'!B221/0.4","v":0}]
[null,{"$f":"0.1423*('Conversion 1'!D222^1.2528)","v":0},{"$f":"(0.00005*('Conversion 1'!D222^2))+(0.3389*'Conversion 1'!D222)-1.431","v":-1.431},221,{"$f":"'Conversion 1'!B222","v":0},{"$f":"'Conversion 1'!B222/0.4","v":0},{"$f":"'Conversion 1'!B222/0.4","v":0},{"$f":"'Conversion 1'!B222","v":0},{"$f":"'Conversion 1'!B222/0.07","v":0},{"$f":"'Conversion 1'!B222/0.056","v":0},{"$f":"'Conversion 1'!B222/0.1","v":0},{"$f":"'Conversion 1'!B222/0.058","v":0},{"$f":"'Conversion 1'!B222/0.01","v":0},{"$f":"'Conversion 1'!B222/0.02","v":0},{"$f":"'Conversion 1'!B222/0.56","v":0},{"$f":"'Conversion 1'!B222/0.4","v":0}]
[null,{"$f":"0.1423*('Conversion 1'!D223^1.2528)","v":0},{"$f":"(0.00005*('Conversion 1'!D223^2))+(0.3389*'Conversion 1'!D223)-1.431","v":-1.431},222,{"$f":"'Conversion 1'!B223","v":0},{"$f":"'Conversion 1'!B223/0.4","v":0},{"$f":"'Conversion 1'!B223/0.4","v":0},{"$f":"'Conversion 1'!B223","v":0},{"$f":"'Conversion 1'!B223/0.07","v":0},{"$f":"'Conversion 1'!B223/0.056","v":0},{"$f":"'Conversion 1'!B223/0.1","v":0},{"$f":"'Conversion 1'!B223/0.058","v":0},{"$f":"'Conversion 1'!B223/0.01","v":0},{"$f":"'Conversion 1'!B223/0.02","v":0},{"$f":"'Conversion 1'!B223/0.56","v":0},{"$f":"'Conversion 1'!B223/0.4","v":0}]
[null,{"$f":"0.1423*('Conversion 1'!D224^1.2528)","v":0},{"$f":"(0.00005*('Conversion 1'!D224^2))+(0.3389*'Conversion 1'!D224)-1.431","v":-1.431},223,{"$f":"'Conversion 1'!B224","v":0},{"$f":"'Conversion 1'!B224/0.4","v":0},{"$f":"'Conversion 1'!B224/0.4","v":0},{"$f":"'Conversion 1'!B224","v":0},{"$f":"'Conversion 1'!B224/0.07","v":0},{"$f":"'Conversion 1'!B224/0.056","v":0},{"$f":"'Conversion 1'!B224/0.1","v":0},{"$f":"'Conversion 1'!B224/0.058","v":0},{"$f":"'Conversion 1'!B224/0.01","v":0},{"$f":"'Conversion 1'!B224/0.02","v":0},{"$f":"'Conversion 1'!B224/0.56","v":0},{"$f":"'Conversion 1'!B224/0.4","v":0}]
[null,{"$f":"0.1423*('Conversion 1'!D225^1.2528)","v":0},{"$f":"(0.00005*('Conversion 1'!D225^2))+(0.3389*'Conversion 1'!D225)-1.431","v":-1.431},224,{"$f":"'Conversion 1'!B225","v":0},{"$f":"'Conversion 1'!B225/0.4","v":0},{"$f":"'Conversion 1'!B225/0.4","v":0},{"$f":"'Conversion 1'!B225","v":0},{"$f":"'Conversion 1'!B225/0.07","v":0},{"$f":"'Conversion 1'!B225/0.056","v":0},{"$f":"'Conversion 1'!B225/0.1","v":0},{"$f":"'Conversion 1'!B225/0.058","v":0},{"$f":"'Conversion 1'!B225/0.01","v":0},{"$f":"'Conversion 1'!B225/0.02","v":0},{"$f":"'Conversion 1'!B225/0.56","v":0},{"$f":"'Conversion 1'!B225/0.4","v":0}]
[null,{"$f":"0.1423*('Conversion 1'!D226^1.2528)","v":0},{"$f":"(0.00005*('Conversion 1'!D226^2))+(0.3389*'Conversion 1'!D226)-1.431","v":-1.431},225,{"$f":"'Conversion 1'!B226","v":0},{"$f":"'Conversion 1'!B226/0.4","v":0},{"$f":"'Conversion 1'!B226/0.4","v":0},{"$f":"'Conversion 1'!B226","v":0},{"$f":"'Conversion 1'!B226/0.07","v":0},{"$f":"'Conversion 1'!B226/0.056","v":0},{"$f":"'Conversion 1'!B226/0.1","v":0},{"$f":"'Conversion 1'!B226/0.058","v":0},{"$f":"'Conversion 1'!B226/0.01","v":0},{"$f":"'Conversion 1'!B226/0.02","v":0},{"$f":"'Conversion 1'!B226/0.56","v":0},{"$f":"'Conversion 1'!B226/0.4","v":0}]
[null,{"$f":"0.1423*('Conversion 1'!D227^1.2528)","v":0},{"$f":"(0.00005*('Conversion 1'!D227^2))+(0.3389*'Conversion 1'!D227)-1.431","v":-1.431},226,{"$f":"'Conversion 1'!B227","v":0},{"$f":"'Conversion 1'!B227/0.4","v":0},{"$f":"'Conversion 1'!B227/0.4","v":0},{"$f":"'Conversion 1'!B227","v":0},{"$f":"'Conversion 1'!B227/0.07","v":0},{"$f":"'Conversion 1'!B227/0.056","v":0},{"$f":"'Conversion 1'!B227/0.1","v":0},{"$f":"'Conversion 1'!B227/0.058","v":0},{"$f":"'Conversion 1'!B227/0.01","v":0},{"$f":"'Conversion 1'!B227/0.02","v":0},{"$f":"'Conversion 1'!B227/0.56","v":0},{"$f":"'Conversion 1'!B227/0.4","v":0}]
[null,{"$f":"0.1423*('Conversion 1'!D228^1.2528)","v":0},{"$f":"(0.00005*('Conversion 1'!D228^2))+(0.3389*'Conversion 1'!D228)-1.431","v":-1.431},227,{"$f":"'Conversion 1'!B228","v":0},{"$f":"'Conversion 1'!B228/0.4","v":0},{"$f":"'Conversion 1'!B228/0.4","v":0},{"$f":"'Conversion 1'!B228","v":0},{"$f":"'Conversion 1'!B228/0.07","v":0},{"$f":"'Conversion 1'!B228/0.056","v":0},{"$f":"'Conversion 1'!B228/0.1","v":0},{"$f":"'Conversion 1'!B228/0.058","v":0},{"$f":"'Conversion 1'!B228/0.01","v":0},{"$f":"'Conversion 1'!B228/0.02","v":0},{"$f":"'Conversion 1'!B228/0.56","v":0},{"$f":"'Conversion 1'!B228/0.4","v":0}]
[null,{"$f":"0.1423*('Conversion 1'!D229^1.2528)","v":0},{"$f":"(0.00005*('Conversion 1'!D229^2))+(0.3389*'Conversion 1'!D229)-1.431","v":-1.431},228,{"$f":"'Conversion 1'!B229","v":0},{"$f":"'Conversion 1'!B229/0.4","v":0},{"$f":"'Conversion 1'!B229/0.4","v":0},{"$f":"'Conversion 1'!B229","v":0},{"$f":"'Conversion 1'!B229/0.07","v":0},{"$f":"'Conversion 1'!B229/0.056","v":0},{"$f":"'Conversion 1'!B229/0.1","v":0},{"$f":"'Conversion 1'!B229/0.058","v":0},{"$f":"'Conversion 1'!B229/0.01","v":0},{"$f":"'Conversion 1'!B229/0.02","v":0},{"$f":"'Conversion 1'!B229/0.56","v":0},{"$f":"'Conversion 1'!B229/0.4","v":0}]
[null,{"$f":"0.1423*('Conversion 1'!D230^1.2528)","v":0},{"$f":"(0.00005*('Conversion 1'!D230^2))+(0.3389*'Conversion 1'!D230)-1.431","v":-1.431},229,{"$f":"'Conversion 1'!B230","v":0},{"$f":"'Conversion 1'!B230/0.4","v":0},{"$f":"'Conversion 1'!B230/0.4","v":0},{"$f":"'Conversion 1'!B230","v":0},{"$f":"'Conversion 1'!B230/0.07","v":0},{"$f":"'Conversion 1'!B230/0.056","v":0},{"$f":"'Conversion 1'!B230/0.1","v":0},{"$f":"'Conversion 1'!B230/0.058","v":0},{"$f":"'Conversion 1'!B230/0.01","v":0},{"$f":"'Conversion 1'!B230/0.02","v":0},{"$f":"'Conversion 1'!B230/0.56","v":0},{"$f":"'Conversion 1'!B230/0.4","v":0}]
[null,{"$f":"0.1423*('Conversion 1'!D231^1.2528)","v":0},{"$f":"(0.00005*('Conversion 1'!D231^2))+(0.3389*'Conversion 1'!D231)-1.431","v":-1.431},230,{"$f":"'Conversion 1'!B231","v":0},{"$f":"'Conversion 1'!B231/0.4","v":0},{"$f":"'Conversion 1'!B231/0.4","v":0},{"$f":"'Conversion 1'!B231","v":0},{"$f":"'Conversion 1'!B231/0.07","v":0},{"$f":"'Conversion 1'!B231/0.056","v":0},{"$f":"'Conversion 1'!B231/0.1","v":0},{"$f":"'Conversion 1'!B231/0.058","v":0},{"$f":"'Conversion 1'!B231/0.01","v":0},{"$f":"'Conversion 1'!B231/0.02","v":0},{"$f":"'Conversion 1'!B231/0.56","v":0},{"$f":"'Conversion 1'!B231/0.4","v":0}]
[null,{"$f":"0.1423*('Conversion 1'!D232^1.2528)","v":0},{"$f":"(0.00005*('Conversion 1'!D232^2))+(0.3389*'Conversion 1'!D232)-1.431","v":-1.431},231,{"$f":"'Conversion 1'!B232","v":0},{"$f":"'Conversion 1'!B232/0.4","v":0},{"$f":"'Conversion 1'!B232/0.4","v":0},{"$f":"'Conversion 1'!B232","v":0},{"$f":"'Conversion 1'!B232/0.07","v":0},{"$f":"'Conversion 1'!B232/0.056","v":0},{"$f":"'Conversion 1'!B232/0.1","v":0},{"$f":"'Conversion 1'!B232/0.058","v":0},{"$f":"'Conversion 1'!B232/0.01","v":0},{"$f":"'Conversion 1'!B232/0.02","v":0},{"$f":"'Conversion 1'!B232/0.56","v":0},{"$f":"'Conversion 1'!B232/0.4","v":0}]
[null,{"$f":"0.1423*('Conversion 1'!D233^1.2528)","v":0},{"$f":"(0.00005*('Conversion 1'!D233^2))+(0.3389*'Conversion 1'!D233)-1.431","v":-1.431},232,{"$f":"'Conversion 1'!B233","v":0},{"$f":"'Conversion 1'!B233/0.4","v":0},{"$f":"'Conversion 1'!B233/0.4","v":0},{"$f":"'Conversion 1'!B233","v":0},{"$f":"'Conversion 1'!B233/0.07","v":0},{"$f":"'Conversion 1'!B233/0.056","v":0},{"$f":"'Conversion 1'!B233/0.1","v":0},{"$f":"'Conversion 1'!B233/0.058","v":0},{"$f":"'Conversion 1'!B233/0.01","v":0},{"$f":"'Conversion 1'!B233/0.02","v":0},{"$f":"'Conversion 1'!B233/0.56","v":0},{"$f":"'Conversion 1'!B233/0.4","v":0}]
[null,{"$f":"0.1423*('Conversion 1'!D234^1.2528)","v":0},{"$f":"(0.00005*('Conversion 1'!D234^2))+(0.3389*'Conversion 1'!D234)-1.431","v":-1.431},233,{"$f":"'Conversion 1'!B234","v":0},{"$f":"'Conversion 1'!B234/0.4","v":0},{"$f":"'Conversion 1'!B234/0.4","v":0},{"$f":"'Conversion 1'!B234","v":0},{"$f":"'Conversion 1'!B234/0.07","v":0},{"$f":"'Conversion 1'!B234/0.056","v":0},{"$f":"'Conversion 1'!B234/0.1","v":0},{"$f":"'Conversion 1'!B234/0.058","v":0},{"$f":"'Conversion 1'!B234/0.01","v":0},{"$f":"'Conversion 1'!B234/0.02","v":0},{"$f":"'Conversion 1'!B234/0.56","v":0},{"$f":"'Conversion 1'!B234/0.4","v":0}]
[null,{"$f":"0.1423*('Conversion 1'!D235^1.2528)","v":0},{"$f":"(0.00005*('Conversion 1'!D235^2))+(0.3389*'Conversion 1'!D235)-1.431","v":-1.431},234,{"$f":"'Conversion 1'!B235","v":0},{"$f":"'Conversion 1'!B235/0.4","v":0},{"$f":"'Conversion 1'!B235/0.4","v":0},{"$f":"'Conversion 1'!B235","v":0},{"$f":"'Conversion 1'!B235/0.07","v":0},{"$f":"'Conversion 1'!B235/0.056","v":0},{"$f":"'Conversion 1'!B235/0.1","v":0},{"$f":"'Conversion 1'!B235/0.058","v":0},{"$f":"'Conversion 1'!B235/0.01","v":0},{"$f":"'Conversion 1'!B235/0.02","v":0},{"$f":"'Conversion 1'!B235/0.56","v":0},{"$f":"'Conversion 1'!B235/0.4","v":0}]
[null,{"$f":"0.1423*('Conversion 1'!D236^1.2528)","v":0},{"$f":"(0.00005*('Conversion 1'!D236^2))+(0.3389*'Conversion 1'!D236)-1.431","v":-1.431},235,{"$f":"'Conversion 1'!B236","v":0},{"$f":"'Conversion 1'!B236/0.4","v":0},{"$f":"'Conversion 1'!B236/0.4","v":0},{"$f":"'Conversion 1'!B236","v":0},{"$f":"'Conversion 1'!B236/0.07","v":0},{"$f":"'Conversion 1'!B236/0.056","v":0},{"$f":"'Conversion 1'!B236/0.1","v":0},{"$f":"'Conversion 1'!B236/0.058","v":0},{"$f":"'Conversion 1'!B236/0.01","v":0},{"$f":"'Conversion 1'!B236/0.02","v":0},{"$f":"'Conversion 1'!B236/0.56","v":0},{"$f":"'Conversion 1'!B236/0.4","v":0}]
[null,{"$f":"0.1423*('Conversion 1'!D237^1.2528)","v":0},{"$f":"(0.00005*('Conversion 1'!D237^2))+(0.3389*'Conversion 1'!D237)-1.431","v":-1.431},236,{"$f":"'Conversion 1'!B237","v":0},{"$f":"'Conversion 1'!B237/0.4","v":0},{"$f":"'Conversion 1'!B237/0.4","v":0},{"$f":"'Conversion 1'!B237","v":0},{"$f":"'Conversion 1'!B237/0.07","v":0},{"$f":"'Conversion 1'!B237/0.056","v":0},{"$f":"'Conversion 1'!B237/0.1","v":0},{"$f":"'Conversion 1'!B237/0.058","v":0},{"$f":"'Conversion 1'!B237/0.01","v":0},{"$f":"'Conversion 1'!B237/0.02","v":0},{"$f":"'Conversion 1'!B237/0.56","v":0},{"$f":"'Conversion 1'!B237/0.4","v":0}]
[null,{"$f":"0.1423*('Conversion 1'!D238^1.2528)","v":0},{"$f":"(0.00005*('Conversion 1'!D238^2))+(0.3389*'Conversion 1'!D238)-1.431","v":-1.431},237,{"$f":"'Conversion 1'!B238","v":0},{"$f":"'Conversion 1'!B238/0.4","v":0},{"$f":"'Conversion 1'!B238/0.4","v":0},{"$f":"'Conversion 1'!B238","v":0},{"$f":"'Conversion 1'!B238/0.07","v":0},{"$f":"'Conversion 1'!B238/0.056","v":0},{"$f":"'Conversion 1'!B238/0.1","v":0},{"$f":"'Conversion 1'!B238/0.058","v":0},{"$f":"'Conversion 1'!B238/0.01","v":0},{"$f":"'Conversion 1'!B238/0.02","v":0},{"$f":"'Conversion 1'!B238/0.56","v":0},{"$f":"'Conversion 1'!B238/0.4","v":0}]
[null,{"$f":"0.1423*('Conversion 1'!D239^1.2528)","v":0},{"$f":"(0.00005*('Conversion 1'!D239^2))+(0.3389*'Conversion 1'!D239)-1.431","v":-1.431},238,{"$f":"'Conversion 1'!B239","v":0},{"$f":"'Conversion 1'!B239/0.4","v":0},{"$f":"'Conversion 1'!B239/0.4","v":0},{"$f":"'Conversion 1'!B239","v":0},{"$f":"'Conversion 1'!B239/0.07","v":0},{"$f":"'Conversion 1'!B239/0.056","v":0},{"$f":"'Conversion 1'!B239/0.1","v":0},{"$f":"'Conversion 1'!B239/0.058","v":0},{"$f":"'Conversion 1'!B239/0.01","v":0},{"$f":"'Conversion 1'!B239/0.02","v":0},{"$f":"'Conversion 1'!B239/0.56","v":0},{"$f":"'Conversion 1'!B239/0.4","v":0}]
[null,{"$f":"0.1423*('Conversion 1'!D240^1.2528)","v":0},{"$f":"(0.00005*('Conversion 1'!D240^2))+(0.3389*'Conversion 1'!D240)-1.431","v":-1.431},239,{"$f":"'Conversion 1'!B240","v":0},{"$f":"'Conversion 1'!B240/0.4","v":0},{"$f":"'Conversion 1'!B240/0.4","v":0},{"$f":"'Conversion 1'!B240","v":0},{"$f":"'Conversion 1'!B240/0.07","v":0},{"$f":"'Conversion 1'!B240/0.056","v":0},{"$f":"'Conversion 1'!B240/0.1","v":0},{"$f":"'Conversion 1'!B240/0.058","v":0},{"$f":"'Conversion 1'!B240/0.01","v":0},{"$f":"'Conversion 1'!B240/0.02","v":0},{"$f":"'Conversion 1'!B240/0.56","v":0},{"$f":"'Conversion 1'!B240/0.4","v":0}]
[null,{"$f":"0.1423*('Conversion 1'!D241^1.2528)","v":0},{"$f":"(0.00005*('Conversion 1'!D241^2))+(0.3389*'Conversion 1'!D241)-1.431","v":-1.431},240,{"$f":"'Conversion 1'!B241","v":0},{"$f":"'Conversion 1'!B241/0.4","v":0},{"$f":"'Conversion 1'!B241/0.4","v":0},{"$f":"'Conversion 1'!B241","v":0},{"$f":"'Conversion 1'!B241/0.07","v":0},{"$f":"'Conversion 1'!B241/0.056","v":0},{"$f":"'Conversion 1'!B241/0.1","v":0},{"$f":"'Conversion 1'!B241/0.058","v":0},{"$f":"'Conversion 1'!B241/0.01","v":0},{"$f":"'Conversion 1'!B241/0.02","v":0},{"$f":"'Conversion 1'!B241/0.56","v":0},{"$f":"'Conversion 1'!B241/0.4","v":0}]
[null,{"$f":"0.1423*('Conversion 1'!D242^1.2528)","v":0},{"$f":"(0.00005*('Conversion 1'!D242^2))+(0.3389*'Conversion 1'!D242)-1.431","v":-1.431},241,{"$f":"'Conversion 1'!B242","v":0},{"$f":"'Conversion 1'!B242/0.4","v":0},{"$f":"'Conversion 1'!B242/0.4","v":0},{"$f":"'Conversion 1'!B242","v":0},{"$f":"'Conversion 1'!B242/0.07","v":0},{"$f":"'Conversion 1'!B242/0.056","v":0},{"$f":"'Conversion 1'!B242/0.1","v":0},{"$f":"'Conversion 1'!B242/0.058","v":0},{"$f":"'Conversion 1'!B242/0.01","v":0},{"$f":"'Conversion 1'!B242/0.02","v":0},{"$f":"'Conversion 1'!B242/0.56","v":0},{"$f":"'Conversion 1'!B242/0.4","v":0}]
[null,{"$f":"0.1423*('Conversion 1'!D243^1.2528)","v":0},{"$f":"(0.00005*('Conversion 1'!D243^2))+(0.3389*'Conversion 1'!D243)-1.431","v":-1.431},242,{"$f":"'Conversion 1'!B243","v":0},{"$f":"'Conversion 1'!B243/0.4","v":0},{"$f":"'Conversion 1'!B243/0.4","v":0},{"$f":"'Conversion 1'!B243","v":0},{"$f":"'Conversion 1'!B243/0.07","v":0},{"$f":"'Conversion 1'!B243/0.056","v":0},{"$f":"'Conversion 1'!B243/0.1","v":0},{"$f":"'Conversion 1'!B243/0.058","v":0},{"$f":"'Conversion 1'!B243/0.01","v":0},{"$f":"'Conversion 1'!B243/0.02","v":0},{"$f":"'Conversion 1'!B243/0.56","v":0},{"$f":"'Conversion 1'!B243/0.4","v":0}]
[null,{"$f":"0.1423*('Conversion 1'!D244^1.2528)","v":0},{"$f":"(0.00005*('Conversion 1'!D244^2))+(0.3389*'Conversion 1'!D244)-1.431","v":-1.431},243,{"$f":"'Conversion 1'!B244","v":0},{"$f":"'Conversion 1'!B244/0.4","v":0},{"$f":"'Conversion 1'!B244/0.4","v":0},{"$f":"'Conversion 1'!B244","v":0},{"$f":"'Conversion 1'!B244/0.07","v":0},{"$f":"'Conversion 1'!B244/0.056","v":0},{"$f":"'Conversion 1'!B244/0.1","v":0},{"$f":"'Conversion 1'!B244/0.058","v":0},{"$f":"'Conversion 1'!B244/0.01","v":0},{"$f":"'Conversion 1'!B244/0.02","v":0},{"$f":"'Conversion 1'!B244/0.56","v":0},{"$f":"'Conversion 1'!B244/0.4","v":0}]
[null,{"$f":"0.1423*('Conversion 1'!D245^1.2528)","v":0},{"$f":"(0.00005*('Conversion 1'!D245^2))+(0.3389*'Conversion 1'!D245)-1.431","v":-1.431},244,{"$f":"'Conversion 1'!B245","v":0},{"$f":"'Conversion 1'!B245/0.4","v":0},{"$f":"'Conversion 1'!B245/0.4","v":0},{"$f":"'Conversion 1'!B245","v":0},{"$f":"'Conversion 1'!B245/0.07","v":0},{"$f":"'Conversion 1'!B245/0.056","v":0},{"$f":"'Conversion 1'!B245/0.1","v":0},{"$f":"'Conversion 1'!B245/0.058","v":0},{"$f":"'Conversion 1'!B245/0.01","v":0},{"$f":"'Conversion 1'!B245/0.02","v":0},{"$f":"'Conversion 1'!B245/0.56","v":0},{"$f":"'Conversion 1'!B245/0.4","v":0}]
[null,{"$f":"0.1423*('Conversion 1'!D246^1.2528)","v":0},{"$f":"(0.00005*('Conversion 1'!D246^2))+(0.3389*'Conversion 1'!D246)-1.431","v":-1.431},245,{"$f":"'Conversion 1'!B246","v":0},{"$f":"'Conversion 1'!B246/0.4","v":0},{"$f":"'Conversion 1'!B246/0.4","v":0},{"$f":"'Conversion 1'!B246","v":0},{"$f":"'Conversion 1'!B246/0.07","v":0},{"$f":"'Conversion 1'!B246/0.056","v":0},{"$f":"'Conversion 1'!B246/0.1","v":0},{"$f":"'Conversion 1'!B246/0.058","v":0},{"$f":"'Conversion 1'!B246/0.01","v":0},{"$f":"'Conversion 1'!B246/0.02","v":0},{"$f":"'Conversion 1'!B246/0.56","v":0},{"$f":"'Conversion 1'!B246/0.4","v":0}]
[null,{"$f":"0.1423*('Conversion 1'!D247^1.2528)","v":0},{"$f":"(0.00005*('Conversion 1'!D247^2))+(0.3389*'Conversion 1'!D247)-1.431","v":-1.431},246,{"$f":"'Conversion 1'!B247","v":0},{"$f":"'Conversion 1'!B247/0.4","v":0},{"$f":"'Conversion 1'!B247/0.4","v":0},{"$f":"'Conversion 1'!B247","v":0},{"$f":"'Conversion 1'!B247/0.07","v":0},{"$f":"'Conversion 1'!B247/0.056","v":0},{"$f":"'Conversion 1'!B247/0.1","v":0},{"$f":"'Conversion 1'!B247/0.058","v":0},{"$f":"'Conversion 1'!B247/0.01","v":0},{"$f":"'Conversion 1'!B247/0.02","v":0},{"$f":"'Conversion 1'!B247/0.56","v":0},{"$f":"'Conversion 1'!B247/0.4","v":0}]
[null,{"$f":"0.1423*('Conversion 1'!D248^1.2528)","v":0},{"$f":"(0.00005*('Conversion 1'!D248^2))+(0.3389*'Conversion 1'!D248)-1.431","v":-1.431},247,{"$f":"'Conversion 1'!B248","v":0},{"$f":"'Conversion 1'!B248/0.4","v":0},{"$f":"'Conversion 1'!B248/0.4","v":0},{"$f":"'Conversion 1'!B248","v":0},{"$f":"'Conversion 1'!B248/0.07","v":0},{"$f":"'Conversion 1'!B248/0.056","v":0},{"$f":"'Conversion 1'!B248/0.1","v":0},{"$f":"'Conversion 1'!B248/0.058","v":0},{"$f":"'Conversion 1'!B248/0.01","v":0},{"$f":"'Conversion 1'!B248/0.02","v":0},{"$f":"'Conversion 1'!B248/0.56","v":0},{"$f":"'Conversion 1'!B248/0.4","v":0}]
[null,{"$f":"0.1423*('Conversion 1'!D249^1.2528)","v":0},{"$f":"(0.00005*('Conversion 1'!D249^2))+(0.3389*'Conversion 1'!D249)-1.431","v":-1.431},248,{"$f":"'Conversion 1'!B249","v":0},{"$f":"'Conversion 1'!B249/0.4","v":0},{"$f":"'Conversion 1'!B249/0.4","v":0},{"$f":"'Conversion 1'!B249","v":0},{"$f":"'Conversion 1'!B249/0.07","v":0},{"$f":"'Conversion 1'!B249/0.056","v":0},{"$f":"'Conversion 1'!B249/0.1","v":0},{"$f":"'Conversion 1'!B249/0.058","v":0},{"$f":"'Conversion 1'!B249/0.01","v":0},{"$f":"'Conversion 1'!B249/0.02","v":0},{"$f":"'Conversion 1'!B249/0.56","v":0},{"$f":"'Conversion 1'!B249/0.4","v":0}]
[null,{"$f":"0.1423*('Conversion 1'!D250^1.2528)","v":0},{"$f":"(0.00005*('Conversion 1'!D250^2))+(0.3389*'Conversion 1'!D250)-1.431","v":-1.431},249,{"$f":"'Conversion 1'!B250","v":0},{"$f":"'Conversion 1'!B250/0.4","v":0},{"$f":"'Conversion 1'!B250/0.4","v":0},{"$f":"'Conversion 1'!B250","v":0},{"$f":"'Conversion 1'!B250/0.07","v":0},{"$f":"'Conversion 1'!B250/0.056","v":0},{"$f":"'Conversion 1'!B250/0.1","v":0},{"$f":"'Conversion 1'!B250/0.058","v":0},{"$f":"'Conversion 1'!B250/0.01","v":0},{"$f":"'Conversion 1'!B250/0.02","v":0},{"$f":"'Conversion 1'!B250/0.56","v":0},{"$f":"'Conversion 1'!B250/0.4","v":0}]
[null,{"$f":"0.1423*('Conversion 1'!D251^1.2528)","v":0},{"$f":"(0.00005*('Conversion 1'!D251^2))+(0.3389*'Conversion 1'!D251)-1.431","v":-1.431},250,{"$f":"'Conversion 1'!B251","v":0},{"$f":"'Conversion 1'!B251/0.4","v":0},{"$f":"'Conversion 1'!B251/0.4","v":0},{"$f":"'Conversion 1'!B251","v":0},{"$f":"'Conversion 1'!B251/0.07","v":0},{"$f":"'Conversion 1'!B251/0.056","v":0},{"$f":"'Conversion 1'!B251/0.1","v":0},{"$f":"'Conversion 1'!B251/0.058","v":0},{"$f":"'Conversion 1'!B251/0.01","v":0},{"$f":"'Conversion 1'!B251/0.02","v":0},{"$f":"'Conversion 1'!B251/0.56","v":0},{"$f":"'Conversion 1'!B251/0.4","v":0}]
[null,{"$f":"0.1423*('Conversion 1'!D252^1.2528)","v":0},{"$f":"(0.00005*('Conversion 1'!D252^2))+(0.3389*'Conversion 1'!D252)-1.431","v":-1.431},251,{"$f":"'Conversion 1'!B252","v":0},{"$f":"'Conversion 1'!B252/0.4","v":0},{"$f":"'Conversion 1'!B252/0.4","v":0},{"$f":"'Conversion 1'!B252","v":0},{"$f":"'Conversion 1'!B252/0.07","v":0},{"$f":"'Conversion 1'!B252/0.056","v":0},{"$f":"'Conversion 1'!B252/0.1","v":0},{"$f":"'Conversion 1'!B252/0.058","v":0},{"$f":"'Conversion 1'!B252/0.01","v":0},{"$f":"'Conversion 1'!B252/0.02","v":0},{"$f":"'Conversion 1'!B252/0.56","v":0},{"$f":"'Conversion 1'!B252/0.4","v":0}]
[null,{"$f":"0.1423*('Conversion 1'!D253^1.2528)","v":0},{"$f":"(0.00005*('Conversion 1'!D253^2))+(0.3389*'Conversion 1'!D253)-1.431","v":-1.431},252,{"$f":"'Conversion 1'!B253","v":0},{"$f":"'Conversion 1'!B253/0.4","v":0},{"$f":"'Conversion 1'!B253/0.4","v":0},{"$f":"'Conversion 1'!B253","v":0},{"$f":"'Conversion 1'!B253/0.07","v":0},{"$f":"'Conversion 1'!B253/0.056","v":0},{"$f":"'Conversion 1'!B253/0.1","v":0},{"$f":"'Conversion 1'!B253/0.058","v":0},{"$f":"'Conversion 1'!B253/0.01","v":0},{"$f":"'Conversion 1'!B253/0.02","v":0},{"$f":"'Conversion 1'!B253/0.56","v":0},{"$f":"'Conversion 1'!B253/0.4","v":0}]
[null,{"$f":"0.1423*('Conversion 1'!D254^1.2528)","v":0},{"$f":"(0.00005*('Conversion 1'!D254^2))+(0.3389*'Conversion 1'!D254)-1.431","v":-1.431},253,{"$f":"'Conversion 1'!B254","v":0},{"$f":"'Conversion 1'!B254/0.4","v":0},{"$f":"'Conversion 1'!B254/0.4","v":0},{"$f":"'Conversion 1'!B254","v":0},{"$f":"'Conversion 1'!B254/0.07","v":0},{"$f":"'Conversion 1'!B254/0.056","v":0},{"$f":"'Conversion 1'!B254/0.1","v":0},{"$f":"'Conversion 1'!B254/0.058","v":0},{"$f":"'Conversion 1'!B254/0.01","v":0},{"$f":"'Conversion 1'!B254/0.02","v":0},{"$f":"'Conversion 1'!B254/0.56","v":0},{"$f":"'Conversion 1'!B254/0.4","v":0}]
[null,{"$f":"0.1423*('Conversion 1'!D255^1.2528)","v":0},{"$f":"(0.00005*('Conversion 1'!D255^2))+(0.3389*'Conversion 1'!D255)-1.431","v":-1.431},254,{"$f":"'Conversion 1'!B255","v":0},{"$f":"'Conversion 1'!B255/0.4","v":0},{"$f":"'Conversion 1'!B255/0.4","v":0},{"$f":"'Conversion 1'!B255","v":0},{"$f":"'Conversion 1'!B255/0.07","v":0},{"$f":"'Conversion 1'!B255/0.056","v":0},{"$f":"'Conversion 1'!B255/0.1","v":0},{"$f":"'Conversion 1'!B255/0.058","v":0},{"$f":"'Conversion 1'!B255/0.01","v":0},{"$f":"'Conversion 1'!B255/0.02","v":0},{"$f":"'Conversion 1'!B255/0.56","v":0},{"$f":"'Conversion 1'!B255/0.4","v":0}]
[null,{"$f":"0.1423*('Conversion 1'!D256^1.2528)","v":0},{"$f":"(0.00005*('Conversion 1'!D256^2))+(0.3389*'Conversion 1'!D256)-1.431","v":-1.431},255,{"$f":"'Conversion 1'!B256","v":0},{"$f":"'Conversion 1'!B256/0.4","v":0},{"$f":"'Conversion 1'!B256/0.4","v":0},{"$f":"'Conversion 1'!B256","v":0},{"$f":"'Conversion 1'!B256/0.07","v":0},{"$f":"'Conversion 1'!B256/0.056","v":0},{"$f":"'Conversion 1'!B256/0.1","v":0},{"$f":"'Conversion 1'!B256/0.058","v":0},{"$f":"'Conversion 1'!B256/0.01","v":0},{"$f":"'Conversion 1'!B256/0.02","v":0},{"$f":"'Conversion 1'!B256/0.56","v":0},{"$f":"'Conversion 1'!B256/0.4","v":0}]
[null,{"$f":"0.1423*('Conversion 1'!D257^1.2528)","v":0},{"$f":"(0.00005*('Conversion 1'!D257^2))+(0.3389*'Conversion 1'!D257)-1.431","v":-1.431},256,{"$f":"'Conversion 1'!B257","v":0},{"$f":"'Conversion 1'!B257/0.4","v":0},{"$f":"'Conversion 1'!B257/0.4","v":0},{"$f":"'Conversion 1'!B257","v":0},{"$f":"'Conversion 1'!B257/0.07","v":0},{"$f":"'Conversion 1'!B257/0.056","v":0},{"$f":"'Conversion 1'!B257/0.1","v":0},{"$f":"'Conversion 1'!B257/0.058","v":0},{"$f":"'Conversion 1'!B257/0.01","v":0},{"$f":"'Conversion 1'!B257/0.02","v":0},{"$f":"'Conversion 1'!B257/0.56","v":0},{"$f":"'Conversion 1'!B257/0.4","v":0}]
[null,{"$f":"0.1423*('Conversion 1'!D258^1.2528)","v":0},{"$f":"(0.00005*('Conversion 1'!D258^2))+(0.3389*'Conversion 1'!D258)-1.431","v":-1.431},257,{"$f":"'Conversion 1'!B258","v":0},{"$f":"'Conversion 1'!B258/0.4","v":0},{"$f":"'Conversion 1'!B258/0.4","v":0},{"$f":"'Conversion 1'!B258","v":0},{"$f":"'Conversion 1'!B258/0.07","v":0},{"$f":"'Conversion 1'!B258/0.056","v":0},{"$f":"'Conversion 1'!B258/0.1","v":0},{"$f":"'Conversion 1'!B258/0.058","v":0},{"$f":"'Conversion 1'!B258/0.01","v":0},{"$f":"'Conversion 1'!B258/0.02","v":0},{"$f":"'Conversion 1'!B258/0.56","v":0},{"$f":"'Conversion 1'!B258/0.4","v":0}]
[null,{"$f":"0.1423*('Conversion 1'!D259^1.2528)","v":0},{"$f":"(0.00005*('Conversion 1'!D259^2))+(0.3389*'Conversion 1'!D259)-1.431","v":-1.431},258,{"$f":"'Conversion 1'!B259","v":0},{"$f":"'Conversion 1'!B259/0.4","v":0},{"$f":"'Conversion 1'!B259/0.4","v":0},{"$f":"'Conversion 1'!B259","v":0},{"$f":"'Conversion 1'!B259/0.07","v":0},{"$f":"'Conversion 1'!B259/0.056","v":0},{"$f":"'Conversion 1'!B259/0.1","v":0},{"$f":"'Conversion 1'!B259/0.058","v":0},{"$f":"'Conversion 1'!B259/0.01","v":0},{"$f":"'Conversion 1'!B259/0.02","v":0},{"$f":"'Conversion 1'!B259/0.56","v":0},{"$f":"'Conversion 1'!B259/0.4","v":0}]
[null,{"$f":"0.1423*('Conversion 1'!D260^1.2528)","v":0},{"$f":"(0.00005*('Conversion 1'!D260^2))+(0.3389*'Conversion 1'!D260)-1.431","v":-1.431},259,{"$f":"'Conversion 1'!B260","v":0},{"$f":"'Conversion 1'!B260/0.4","v":0},{"$f":"'Conversion 1'!B260/0.4","v":0},{"$f":"'Conversion 1'!B260","v":0},{"$f":"'Conversion 1'!B260/0.07","v":0},{"$f":"'Conversion 1'!B260/0.056","v":0},{"$f":"'Conversion 1'!B260/0.1","v":0},{"$f":"'Conversion 1'!B260/0.058","v":0},{"$f":"'Conversion 1'!B260/0.01","v":0},{"$f":"'Conversion 1'!B260/0.02","v":0},{"$f":"'Conversion 1'!B260/0.56","v":0},{"$f":"'Conversion 1'!B260/0.4","v":0}]
[null,{"$f":"0.1423*('Conversion 1'!D261^1.2528)","v":0},{"$f":"(0.00005*('Conversion 1'!D261^2))+(0.3389*'Conversion 1'!D261)-1.431","v":-1.431},260,{"$f":"'Conversion 1'!B261","v":0},{"$f":"'Conversion 1'!B261/0.4","v":0},{"$f":"'Conversion 1'!B261/0.4","v":0},{"$f":"'Conversion 1'!B261","v":0},{"$f":"'Conversion 1'!B261/0.07","v":0},{"$f":"'Conversion 1'!B261/0.056","v":0},{"$f":"'Conversion 1'!B261/0.1","v":0},{"$f":"'Conversion 1'!B261/0.058","v":0},{"$f":"'Conversion 1'!B261/0.01","v":0},{"$f":"'Conversion 1'!B261/0.02","v":0},{"$f":"'Conversion 1'!B261/0.56","v":0},{"$f":"'Conversion 1'!B261/0.4","v":0}]
[null,{"$f":"0.1423*('Conversion 1'!D262^1.2528)","v":0},{"$f":"(0.00005*('Conversion 1'!D262^2))+(0.3389*'Conversion 1'!D262)-1.431","v":-1.431},261,{"$f":"'Conversion 1'!B262","v":0},{"$f":"'Conversion 1'!B262/0.4","v":0},{"$f":"'Conversion 1'!B262/0.4","v":0},{"$f":"'Conversion 1'!B262","v":0},{"$f":"'Conversion 1'!B262/0.07","v":0},{"$f":"'Conversion 1'!B262/0.056","v":0},{"$f":"'Conversion 1'!B262/0.1","v":0},{"$f":"'Conversion 1'!B262/0.058","v":0},{"$f":"'Conversion 1'!B262/0.01","v":0},{"$f":"'Conversion 1'!B262/0.02","v":0},{"$f":"'Conversion 1'!B262/0.56","v":0},{"$f":"'Conversion 1'!B262/0.4","v":0}]
[null,{"$f":"0.1423*('Conversion 1'!D263^1.2528)","v":0},{"$f":"(0.00005*('Conversion 1'!D263^2))+(0.3389*'Conversion 1'!D263)-1.431","v":-1.431},262,{"$f":"'Conversion 1'!B263","v":0},{"$f":"'Conversion 1'!B263/0.4","v":0},{"$f":"'Conversion 1'!B263/0.4","v":0},{"$f":"'Conversion 1'!B263","v":0},{"$f":"'Conversion 1'!B263/0.07","v":0},{"$f":"'Conversion 1'!B263/0.056","v":0},{"$f":"'Conversion 1'!B263/0.1","v":0},{"$f":"'Conversion 1'!B263/0.058","v":0},{"$f":"'Conversion 1'!B263/0.01","v":0},{"$f":"'Conversion 1'!B263/0.02","v":0},{"$f":"'Conversion 1'!B263/0.56","v":0},{"$f":"'Conversion 1'!B263/0.4","v":0}]
[null,{"$f":"0.1423*('Conversion 1'!D264^1.2528)","v":0},{"$f":"(0.00005*('Conversion 1'!D264^2))+(0.3389*'Conversion 1'!D264)-1.431","v":-1.431},263,{"$f":"'Conversion 1'!B264","v":0},{"$f":"'Conversion 1'!B264/0.4","v":0},{"$f":"'Conversion 1'!B264/0.4","v":0},{"$f":"'Conversion 1'!B264","v":0},{"$f":"'Conversion 1'!B264/0.07","v":0},{"$f":"'Conversion 1'!B264/0.056","v":0},{"$f":"'Conversion 1'!B264/0.1","v":0},{"$f":"'Conversion 1'!B264/0.058","v":0},{"$f":"'Conversion 1'!B264/0.01","v":0},{"$f":"'Conversion 1'!B264/0.02","v":0},{"$f":"'Conversion 1'!B264/0.56","v":0},{"$f":"'Conversion 1'!B264/0.4","v":0}]
[null,{"$f":"0.1423*('Conversion 1'!D265^1.2528)","v":0},{"$f":"(0.00005*('Conversion 1'!D265^2))+(0.3389*'Conversion 1'!D265)-1.431","v":-1.431},264,{"$f":"'Conversion 1'!B265","v":0},{"$f":"'Conversion 1'!B265/0.4","v":0},{"$f":"'Conversion 1'!B265/0.4","v":0},{"$f":"'Conversion 1'!B265","v":0},{"$f":"'Conversion 1'!B265/0.07","v":0},{"$f":"'Conversion 1'!B265/0.056","v":0},{"$f":"'Conversion 1'!B265/0.1","v":0},{"$f":"'Conversion 1'!B265/0.058","v":0},{"$f":"'Conversion 1'!B265/0.01","v":0},{"$f":"'Conversion 1'!B265/0.02","v":0},{"$f":"'Conversion 1'!B265/0.56","v":0},{"$f":"'Conversion 1'!B265/0.4","v":0}]
[null,{"$f":"0.1423*('Conversion 1'!D266^1.2528)","v":0},{"$f":"(0.00005*('Conversion 1'!D266^2))+(0.3389*'Conversion 1'!D266)-1.431","v":-1.431},265,{"$f":"'Conversion 1'!B266","v":0},{"$f":"'Conversion 1'!B266/0.4","v":0},{"$f":"'Conversion 1'!B266/0.4","v":0},{"$f":"'Conversion 1'!B266","v":0},{"$f":"'Conversion 1'!B266/0.07","v":0},{"$f":"'Conversion 1'!B266/0.056","v":0},{"$f":"'Conversion 1'!B266/0.1","v":0},{"$f":"'Conversion 1'!B266/0.058","v":0},{"$f":"'Conversion 1'!B266/0.01","v":0},{"$f":"'Conversion 1'!B266/0.02","v":0},{"$f":"'Conversion 1'!B266/0.56","v":0},{"$f":"'Conversion 1'!B266/0.4","v":0}]
[null,{"$f":"0.1423*('Conversion 1'!D267^1.2528)","v":0},{"$f":"(0.00005*('Conversion 1'!D267^2))+(0.3389*'Conversion 1'!D267)-1.431","v":-1.431},266,{"$f":"'Conversion 1'!B267","v":0},{"$f":"'Conversion 1'!B267/0.4","v":0},{"$f":"'Conversion 1'!B267/0.4","v":0},{"$f":"'Conversion 1'!B267","v":0},{"$f":"'Conversion 1'!B267/0.07","v":0},{"$f":"'Conversion 1'!B267/0.056","v":0},{"$f":"'Conversion 1'!B267/0.1","v":0},{"$f":"'Conversion 1'!B267/0.058","v":0},{"$f":"'Conversion 1'!B267/0.01","v":0},{"$f":"'Conversion 1'!B267/0.02","v":0},{"$f":"'Conversion 1'!B267/0.56","v":0},{"$f":"'Conversion 1'!B267/0.4","v":0}]
[null,{"$f":"0.1423*('Conversion 1'!D268^1.2528)","v":0},{"$f":"(0.00005*('Conversion 1'!D268^2))+(0.3389*'Conversion 1'!D268)-1.431","v":-1.431},267,{"$f":"'Conversion 1'!B268","v":0},{"$f":"'Conversion 1'!B268/0.4","v":0},{"$f":"'Conversion 1'!B268/0.4","v":0},{"$f":"'Conversion 1'!B268","v":0},{"$f":"'Conversion 1'!B268/0.07","v":0},{"$f":"'Conversion 1'!B268/0.056","v":0},{"$f":"'Conversion 1'!B268/0.1","v":0},{"$f":"'Conversion 1'!B268/0.058","v":0},{"$f":"'Conversion 1'!B268/0.01","v":0},{"$f":"'Conversion 1'!B268/0.02","v":0},{"$f":"'Conversion 1'!B268/0.56","v":0},{"$f":"'Conversion 1'!B268/0.4","v":0}]
[null,{"$f":"0.1423*('Conversion 1'!D269^1.2528)","v":0},{"$f":"(0.00005*('Conversion 1'!D269^2))+(0.3389*'Conversion 1'!D269)-1.431","v":-1.431},268,{"$f":"'Conversion 1'!B269","v":0},{"$f":"'Conversion 1'!B269/0.4","v":0},{"$f":"'Conversion 1'!B269/0.4","v":0},{"$f":"'Conversion 1'!B269","v":0},{"$f":"'Conversion 1'!B269/0.07","v":0},{"$f":"'Conversion 1'!B269/0.056","v":0},{"$f":"'Conversion 1'!B269/0.1","v":0},{"$f":"'Conversion 1'!B269/0.058","v":0},{"$f":"'Conversion 1'!B269/0.01","v":0},{"$f":"'Conversion 1'!B269/0.02","v":0},{"$f":"'Conversion 1'!B269/0.56","v":0},{"$f":"'Conversion 1'!B269/0.4","v":0}]
[null,{"$f":"0.1423*('Conversion 1'!D270^1.2528)","v":0},{"$f":"(0.00005*('Conversion 1'!D270^2))+(0.3389*'Conversion 1'!D270)-1.431","v":-1.431},269,{"$f":"'Conversion 1'!B270","v":0},{"$f":"'Conversion 1'!B270/0.4","v":0},{"$f":"'Conversion 1'!B270/0.4","v":0},{"$f":"'Conversion 1'!B270","v":0},{"$f":"'Conversion 1'!B270/0.07","v":0},{"$f":"'Conversion 1'!B270/0.056","v":0},{"$f":"'Conversion 1'!B270/0.1","v":0},{"$f":"'Conversion 1'!B270/0.058","v":0},{"$f":"'Conversion 1'!B270/0.01","v":0},{"$f":"'Conversion 1'!B270/0.02","v":0},{"$f":"'Conversion 1'!B270/0.56","v":0},{"$f":"'Conversion 1'!B270/0.4","v":0}]
[null,{"$f":"0.1423*('Conversion 1'!D271^1.2528)","v":0},{"$f":"(0.00005*('Conversion 1'!D271^2))+(0.3389*'Conversion 1'!D271)-1.431","v":-1.431},270,{"$f":"'Conversion 1'!B271","v":0},{"$f":"'Conversion 1'!B271/0.4","v":0},{"$f":"'Conversion 1'!B271/0.4","v":0},{"$f":"'Conversion 1'!B271","v":0},{"$f":"'Conversion 1'!B271/0.07","v":0},{"$f":"'Conversion 1'!B271/0.056","v":0},{"$f":"'Conversion 1'!B271/0.1","v":0},{"$f":"'Conversion 1'!B271/0.058","v":0},{"$f":"'Conversion 1'!B271/0.01","v":0},{"$f":"'Conversion 1'!B271/0.02","v":0},{"$f":"'Conversion 1'!B271/0.56","v":0},{"$f":"'Conversion 1'!B271/0.4","v":0}]
[null,{"$f":"0.1423*('Conversion 1'!D272^1.2528)","v":0},{"$f":"(0.00005*('Conversion 1'!D272^2))+(0.3389*'Conversion 1'!D272)-1.431","v":-1.431},271,{"$f":"'Conversion 1'!B272","v":0},{"$f":"'Conversion 1'!B272/0.4","v":0},{"$f":"'Conversion 1'!B272/0.4","v":0},{"$f":"'Conversion 1'!B272","v":0},{"$f":"'Conversion 1'!B272/0.07","v":0},{"$f":"'Conversion 1'!B272/0.056","v":0},{"$f":"'Conversion 1'!B272/0.1","v":0},{"$f":"'Conversion 1'!B272/0.058","v":0},{"$f":"'Conversion 1'!B272/0.01","v":0},{"$f":"'Conversion 1'!B272/0.02","v":0},{"$f":"'Conversion 1'!B272/0.56","v":0},{"$f":"'Conversion 1'!B272/0.4","v":0}]
[null,{"$f":"0.1423*('Conversion 1'!D273^1.2528)","v":0},{"$f":"(0.00005*('Conversion 1'!D273^2))+(0.3389*'Conversion 1'!D273)-1.431","v":-1.431},272,{"$f":"'Conversion 1'!B273","v":0},{"$f":"'Conversion 1'!B273/0.4","v":0},{"$f":"'Conversion 1'!B273/0.4","v":0},{"$f":"'Conversion 1'!B273","v":0},{"$f":"'Conversion 1'!B273/0.07","v":0},{"$f":"'Conversion 1'!B273/0.056","v":0},{"$f":"'Conversion 1'!B273/0.1","v":0},{"$f":"'Conversion 1'!B273/0.058","v":0},{"$f":"'Conversion 1'!B273/0.01","v":0},{"$f":"'Conversion 1'!B273/0.02","v":0},{"$f":"'Conversion 1'!B273/0.56","v":0},{"$f":"'Conversion 1'!B273/0.4","v":0}]
[null,{"$f":"0.1423*('Conversion 1'!D274^1.2528)","v":0},{"$f":"(0.00005*('Conversion 1'!D274^2))+(0.3389*'Conversion 1'!D274)-1.431","v":-1.431},273,{"$f":"'Conversion 1'!B274","v":0},{"$f":"'Conversion 1'!B274/0.4","v":0},{"$f":"'Conversion 1'!B274/0.4","v":0},{"$f":"'Conversion 1'!B274","v":0},{"$f":"'Conversion 1'!B274/0.07","v":0},{"$f":"'Conversion 1'!B274/0.056","v":0},{"$f":"'Conversion 1'!B274/0.1","v":0},{"$f":"'Conversion 1'!B274/0.058","v":0},{"$f":"'Conversion 1'!B274/0.01","v":0},{"$f":"'Conversion 1'!B274/0.02","v":0},{"$f":"'Conversion 1'!B274/0.56","v":0},{"$f":"'Conversion 1'!B274/0.4","v":0}]
[null,{"$f":"0.1423*('Conversion 1'!D275^1.2528)","v":0},{"$f":"(0.00005*('Conversion 1'!D275^2))+(0.3389*'Conversion 1'!D275)-1.431","v":-1.431},274,{"$f":"'Conversion 1'!B275","v":0},{"$f":"'Conversion 1'!B275/0.4","v":0},{"$f":"'Conversion 1'!B275/0.4","v":0},{"$f":"'Conversion 1'!B275","v":0},{"$f":"'Conversion 1'!B275/0.07","v":0},{"$f":"'Conversion 1'!B275/0.056","v":0},{"$f":"'Conversion 1'!B275/0.1","v":0},{"$f":"'Conversion 1'!B275/0.058","v":0},{"$f":"'Conversion 1'!B275/0.01","v":0},{"$f":"'Conversion 1'!B275/0.02","v":0},{"$f":"'Conversion 1'!B275/0.56","v":0},{"$f":"'Conversion 1'!B275/0.4","v":0}]
[null,{"$f":"0.1423*('Conversion 1'!D276^1.2528)","v":0},{"$f":"(0.00005*('Conversion 1'!D276^2))+(0.3389*'Conversion 1'!D276)-1.431","v":-1.431},275,{"$f":"'Conversion 1'!B276","v":0},{"$f":"'Conversion 1'!B276/0.4","v":0},{"$f":"'Conversion 1'!B276/0.4","v":0},{"$f":"'Conversion 1'!B276","v":0},{"$f":"'Conversion 1'!B276/0.07","v":0},{"$f":"'Conversion 1'!B276/0.056","v":0},{"$f":"'Conversion 1'!B276/0.1","v":0},{"$f":"'Conversion 1'!B276/0.058","v":0},{"$f":"'Conversion 1'!B276/0.01","v":0},{"$f":"'Conversion 1'!B276/0.02","v":0},{"$f":"'Conversion 1'!B276/0.56","v":0},{"$f":"'Conversion 1'!B276/0.4","v":0}]
[null,{"$f":"0.1423*('Conversion 1'!D277^1.2528)","v":0},{"$f":"(0.00005*('Conversion 1'!D277^2))+(0.3389*'Conversion 1'!D277)-1.431","v":-1.431},276,{"$f":"'Conversion 1'!B277","v":0},{"$f":"'Conversion 1'!B277/0.4","v":0},{"$f":"'Conversion 1'!B277/0.4","v":0},{"$f":"'Conversion 1'!B277","v":0},{"$f":"'Conversion 1'!B277/0.07","v":0},{"$f":"'Conversion 1'!B277/0.056","v":0},{"$f":"'Conversion 1'!B277/0.1","v":0},{"$f":"'Conversion 1'!B277/0.058","v":0},{"$f":"'Conversion 1'!B277/0.01","v":0},{"$f":"'Conversion 1'!B277/0.02","v":0},{"$f":"'Conversion 1'!B277/0.56","v":0},{"$f":"'Conversion 1'!B277/0.4","v":0}]
[null,{"$f":"0.1423*('Conversion 1'!D278^1.2528)","v":0},{"$f":"(0.00005*('Conversion 1'!D278^2))+(0.3389*'Conversion 1'!D278)-1.431","v":-1.431},277,{"$f":"'Conversion 1'!B278","v":0},{"$f":"'Conversion 1'!B278/0.4","v":0},{"$f":"'Conversion 1'!B278/0.4","v":0},{"$f":"'Conversion 1'!B278","v":0},{"$f":"'Conversion 1'!B278/0.07","v":0},{"$f":"'Conversion 1'!B278/0.056","v":0},{"$f":"'Conversion 1'!B278/0.1","v":0},{"$f":"'Conversion 1'!B278/0.058","v":0},{"$f":"'Conversion 1'!B278/0.01","v":0},{"$f":"'Conversion 1'!B278/0.02","v":0},{"$f":"'Conversion 1'!B278/0.56","v":0},{"$f":"'Conversion 1'!B278/0.4","v":0}]
[null,{"$f":"0.1423*('Conversion 1'!D279^1.2528)","v":0},{"$f":"(0.00005*('Conversion 1'!D279^2))+(0.3389*'Conversion 1'!D279)-1.431","v":-1.431},278,{"$f":"'Conversion 1'!B279","v":0},{"$f":"'Conversion 1'!B279/0.4","v":0},{"$f":"'Conversion 1'!B279/0.4","v":0},{"$f":"'Conversion 1'!B279","v":0},{"$f":"'Conversion 1'!B279/0.07","v":0},{"$f":"'Conversion 1'!B279/0.056","v":0},{"$f":"'Conversion 1'!B279/0.1","v":0},{"$f":"'Conversion 1'!B279/0.058","v":0},{"$f":"'Conversion 1'!B279/0.01","v":0},{"$f":"'Conversion 1'!B279/0.02","v":0},{"$f":"'Conversion 1'!B279/0.56","v":0},{"$f":"'Conversion 1'!B279/0.4","v":0}]
[null,{"$f":"0.1423*('Conversion 1'!D280^1.2528)","v":0},{"$f":"(0.00005*('Conversion 1'!D280^2))+(0.3389*'Conversion 1'!D280)-1.431","v":-1.431},279,{"$f":"'Conversion 1'!B280","v":0},{"$f":"'Conversion 1'!B280/0.4","v":0},{"$f":"'Conversion 1'!B280/0.4","v":0},{"$f":"'Conversion 1'!B280","v":0},{"$f":"'Conversion 1'!B280/0.07","v":0},{"$f":"'Conversion 1'!B280/0.056","v":0},{"$f":"'Conversion 1'!B280/0.1","v":0},{"$f":"'Conversion 1'!B280/0.058","v":0},{"$f":"'Conversion 1'!B280/0.01","v":0},{"$f":"'Conversion 1'!B280/0.02","v":0},{"$f":"'Conversion 1'!B280/0.56","v":0},{"$f":"'Conversion 1'!B280/0.4","v":0}]
[null,{"$f":"0.1423*('Conversion 1'!D281^1.2528)","v":0},{"$f":"(0.00005*('Conversion 1'!D281^2))+(0.3389*'Conversion 1'!D281)-1.431","v":-1.431},280,{"$f":"'Conversion 1'!B281","v":0},{"$f":"'Conversion 1'!B281/0.4","v":0},{"$f":"'Conversion 1'!B281/0.4","v":0},{"$f":"'Conversion 1'!B281","v":0},{"$f":"'Conversion 1'!B281/0.07","v":0},{"$f":"'Conversion 1'!B281/0.056","v":0},{"$f":"'Conversion 1'!B281/0.1","v":0},{"$f":"'Conversion 1'!B281/0.058","v":0},{"$f":"'Conversion 1'!B281/0.01","v":0},{"$f":"'Conversion 1'!B281/0.02","v":0},{"$f":"'Conversion 1'!B281/0.56","v":0},{"$f":"'Conversion 1'!B281/0.4","v":0}]
[null,{"$f":"0.1423*('Conversion 1'!D282^1.2528)","v":0},{"$f":"(0.00005*('Conversion 1'!D282^2))+(0.3389*'Conversion 1'!D282)-1.431","v":-1.431},281,{"$f":"'Conversion 1'!B282","v":0},{"$f":"'Conversion 1'!B282/0.4","v":0},{"$f":"'Conversion 1'!B282/0.4","v":0},{"$f":"'Conversion 1'!B282","v":0},{"$f":"'Conversion 1'!B282/0.07","v":0},{"$f":"'Conversion 1'!B282/0.056","v":0},{"$f":"'Conversion 1'!B282/0.1","v":0},{"$f":"'Conversion 1'!B282/0.058","v":0},{"$f":"'Conversion 1'!B282/0.01","v":0},{"$f":"'Conversion 1'!B282/0.02","v":0},{"$f":"'Conversion 1'!B282/0.56","v":0},{"$f":"'Conversion 1'!B282/0.4","v":0}]
[null,{"$f":"0.1423*('Conversion 1'!D283^1.2528)","v":0},{"$f":"(0.00005*('Conversion 1'!D283^2))+(0.3389*'Conversion 1'!D283)-1.431","v":-1.431},282,{"$f":"'Conversion 1'!B283","v":0},{"$f":"'Conversion 1'!B283/0.4","v":0},{"$f":"'Conversion 1'!B283/0.4","v":0},{"$f":"'Conversion 1'!B283","v":0},{"$f":"'Conversion 1'!B283/0.07","v":0},{"$f":"'Conversion 1'!B283/0.056","v":0},{"$f":"'Conversion 1'!B283/0.1","v":0},{"$f":"'Conversion 1'!B283/0.058","v":0},{"$f":"'Conversion 1'!B283/0.01","v":0},{"$f":"'Conversion 1'!B283/0.02","v":0},{"$f":"'Conversion 1'!B283/0.56","v":0},{"$f":"'Conversion 1'!B283/0.4","v":0}]
[null,{"$f":"0.1423*('Conversion 1'!D284^1.2528)","v":0},{"$f":"(0.00005*('Conversion 1'!D284^2))+(0.3389*'Conversion 1'!D284)-1.431","v":-1.431},283,{"$f":"'Conversion 1'!B284","v":0},{"$f":"'Conversion 1'!B284/0.4","v":0},{"$f":"'Conversion 1'!B284/0.4","v":0},{"$f":"'Conversion 1'!B284","v":0},{"$f":"'Conversion 1'!B284/0.07","v":0},{"$f":"'Conversion 1'!B284/0.056","v":0},{"$f":"'Conversion 1'!B284/0.1","v":0},{"$f":"'Conversion 1'!B284/0.058","v":0},{"$f":"'Conversion 1'!B284/0.01","v":0},{"$f":"'Conversion 1'!B284/0.02","v":0},{"$f":"'Conversion 1'!B284/0.56","v":0},{"$f":"'Conversion 1'!B284/0.4","v":0}]
[null,{"$f":"0.1423*('Conversion 1'!D285^1.2528)","v":0},{"$f":"(0.00005*('Conversion 1'!D285^2))+(0.3389*'Conversion 1'!D285)-1.431","v":-1.431},284,{"$f":"'Conversion 1'!B285","v":0},{"$f":"'Conversion 1'!B285/0.4","v":0},{"$f":"'Conversion 1'!B285/0.4","v":0},{"$f":"'Conversion 1'!B285","v":0},{"$f":"'Conversion 1'!B285/0.07","v":0},{"$f":"'Conversion 1'!B285/0.056","v":0},{"$f":"'Conversion 1'!B285/0.1","v":0},{"$f":"'Conversion 1'!B285/0.058","v":0},{"$f":"'Conversion 1'!B285/0.01","v":0},{"$f":"'Conversion 1'!B285/0.02","v":0},{"$f":"'Conversion 1'!B285/0.56","v":0},{"$f":"'Conversion 1'!B285/0.4","v":0}]
[null,{"$f":"0.1423*('Conversion 1'!D286^1.2528)","v":0},{"$f":"(0.00005*('Conversion 1'!D286^2))+(0.3389*'Conversion 1'!D286)-1.431","v":-1.431},285,{"$f":"'Conversion 1'!B286","v":0},{"$f":"'Conversion 1'!B286/0.4","v":0},{"$f":"'Conversion 1'!B286/0.4","v":0},{"$f":"'Conversion 1'!B286","v":0},{"$f":"'Conversion 1'!B286/0.07","v":0},{"$f":"'Conversion 1'!B286/0.056","v":0},{"$f":"'Conversion 1'!B286/0.1","v":0},{"$f":"'Conversion 1'!B286/0.058","v":0},{"$f":"'Conversion 1'!B286/0.01","v":0},{"$f":"'Conversion 1'!B286/0.02","v":0},{"$f":"'Conversion 1'!B286/0.56","v":0},{"$f":"'Conversion 1'!B286/0.4","v":0}]
[null,{"$f":"0.1423*('Conversion 1'!D287^1.2528)","v":0},{"$f":"(0.00005*('Conversion 1'!D287^2))+(0.3389*'Conversion 1'!D287)-1.431","v":-1.431},286,{"$f":"'Conversion 1'!B287","v":0},{"$f":"'Conversion 1'!B287/0.4","v":0},{"$f":"'Conversion 1'!B287/0.4","v":0},{"$f":"'Conversion 1'!B287","v":0},{"$f":"'Conversion 1'!B287/0.07","v":0},{"$f":"'Conversion 1'!B287/0.056","v":0},{"$f":"'Conversion 1'!B287/0.1","v":0},{"$f":"'Conversion 1'!B287/0.058","v":0},{"$f":"'Conversion 1'!B287/0.01","v":0},{"$f":"'Conversion 1'!B287/0.02","v":0},{"$f":"'Conversion 1'!B287/0.56","v":0},{"$f":"'Conversion 1'!B287/0.4","v":0}]
[null,{"$f":"0.1423*('Conversion 1'!D288^1.2528)","v":0},{"$f":"(0.00005*('Conversion 1'!D288^2))+(0.3389*'Conversion 1'!D288)-1.431","v":-1.431},287,{"$f":"'Conversion 1'!B288","v":0},{"$f":"'Conversion 1'!B288/0.4","v":0},{"$f":"'Conversion 1'!B288/0.4","v":0},{"$f":"'Conversion 1'!B288","v":0},{"$f":"'Conversion 1'!B288/0.07","v":0},{"$f":"'Conversion 1'!B288/0.056","v":0},{"$f":"'Conversion 1'!B288/0.1","v":0},{"$f":"'Conversion 1'!B288/0.058","v":0},{"$f":"'Conversion 1'!B288/0.01","v":0},{"$f":"'Conversion 1'!B288/0.02","v":0},{"$f":"'Conversion 1'!B288/0.56","v":0},{"$f":"'Conversion 1'!B288/0.4","v":0}]
[null,{"$f":"0.1423*('Conversion 1'!D289^1.2528)","v":0},{"$f":"(0.00005*('Conversion 1'!D289^2))+(0.3389*'Conversion 1'!D289)-1.431","v":-1.431},288,{"$f":"'Conversion 1'!B289","v":0},{"$f":"'Conversion 1'!B289/0.4","v":0},{"$f":"'Conversion 1'!B289/0.4","v":0},{"$f":"'Conversion 1'!B289","v":0},{"$f":"'Conversion 1'!B289/0.07","v":0},{"$f":"'Conversion 1'!B289/0.056","v":0},{"$f":"'Conversion 1'!B289/0.1","v":0},{"$f":"'Conversion 1'!B289/0.058","v":0},{"$f":"'Conversion 1'!B289/0.01","v":0},{"$f":"'Conversion 1'!B289/0.02","v":0},{"$f":"'Conversion 1'!B289/0.56","v":0},{"$f":"'Conversion 1'!B289/0.4","v":0}]
[null,{"$f":"0.1423*('Conversion 1'!D290^1.2528)","v":0},{"$f":"(0.00005*('Conversion 1'!D290^2))+(0.3389*'Conversion 1'!D290)-1.431","v":-1.431},289,{"$f":"'Conversion 1'!B290","v":0},{"$f":"'Conversion 1'!B290/0.4","v":0},{"$f":"'Conversion 1'!B290/0.4","v":0},{"$f":"'Conversion 1'!B290","v":0},{"$f":"'Conversion 1'!B290/0.07","v":0},{"$f":"'Conversion 1'!B290/0.056","v":0},{"$f":"'Conversion 1'!B290/0.1","v":0},{"$f":"'Conversion 1'!B290/0.058","v":0},{"$f":"'Conversion 1'!B290/0.01","v":0},{"$f":"'Conversion 1'!B290/0.02","v":0},{"$f":"'Conversion 1'!B290/0.56","v":0},{"$f":"'Conversion 1'!B290/0.4","v":0}]
[null,{"$f":"0.1423*('Conversion 1'!D291^1.2528)","v":0},{"$f":"(0.00005*('Conversion 1'!D291^2))+(0.3389*'Conversion 1'!D291)-1.431","v":-1.431},290,{"$f":"'Conversion 1'!B291","v":0},{"$f":"'Conversion 1'!B291/0.4","v":0},{"$f":"'Conversion 1'!B291/0.4","v":0},{"$f":"'Conversion 1'!B291","v":0},{"$f":"'Conversion 1'!B291/0.07","v":0},{"$f":"'Conversion 1'!B291/0.056","v":0},{"$f":"'Conversion 1'!B291/0.1","v":0},{"$f":"'Conversion 1'!B291/0.058","v":0},{"$f":"'Conversion 1'!B291/0.01","v":0},{"$f":"'Conversion 1'!B291/0.02","v":0},{"$f":"'Conversion 1'!B291/0.56","v":0},{"$f":"'Conversion 1'!B291/0.4","v":0}]
[null,{"$f":"0.1423*('Conversion 1'!D292^1.2528)","v":0},{"$f":"(0.00005*('Conversion 1'!D292^2))+(0.3389*'Conversion 1'!D292)-1.431","v":-1.431},291,{"$f":"'Conversion 1'!B292","v":0},{"$f":"'Conversion 1'!B292/0.4","v":0},{"$f":"'Conversion 1'!B292/0.4","v":0},{"$f":"'Conversion 1'!B292","v":0},{"$f":"'Conversion 1'!B292/0.07","v":0},{"$f":"'Conversion 1'!B292/0.056","v":0},{"$f":"'Conversion 1'!B292/0.1","v":0},{"$f":"'Conversion 1'!B292/0.058","v":0},{"$f":"'Conversion 1'!B292/0.01","v":0},{"$f":"'Conversion 1'!B292/0.02","v":0},{"$f":"'Conversion 1'!B292/0.56","v":0},{"$f":"'Conversion 1'!B292/0.4","v":0}]
[null,{"$f":"0.1423*('Conversion 1'!D293^1.2528)","v":0},{"$f":"(0.00005*('Conversion 1'!D293^2))+(0.3389*'Conversion 1'!D293)-1.431","v":-1.431},292,{"$f":"'Conversion 1'!B293","v":0},{"$f":"'Conversion 1'!B293/0.4","v":0},{"$f":"'Conversion 1'!B293/0.4","v":0},{"$f":"'Conversion 1'!B293","v":0},{"$f":"'Conversion 1'!B293/0.07","v":0},{"$f":"'Conversion 1'!B293/0.056","v":0},{"$f":"'Conversion 1'!B293/0.1","v":0},{"$f":"'Conversion 1'!B293/0.058","v":0},{"$f":"'Conversion 1'!B293/0.01","v":0},{"$f":"'Conversion 1'!B293/0.02","v":0},{"$f":"'Conversion 1'!B293/0.56","v":0},{"$f":"'Conversion 1'!B293/0.4","v":0}]
[null,{"$f":"0.1423*('Conversion 1'!D294^1.2528)","v":0},{"$f":"(0.00005*('Conversion 1'!D294^2))+(0.3389*'Conversion 1'!D294)-1.431","v":-1.431},293,{"$f":"'Conversion 1'!B294","v":0},{"$f":"'Conversion 1'!B294/0.4","v":0},{"$f":"'Conversion 1'!B294/0.4","v":0},{"$f":"'Conversion 1'!B294","v":0},{"$f":"'Conversion 1'!B294/0.07","v":0},{"$f":"'Conversion 1'!B294/0.056","v":0},{"$f":"'Conversion 1'!B294/0.1","v":0},{"$f":"'Conversion 1'!B294/0.058","v":0},{"$f":"'Conversion 1'!B294/0.01","v":0},{"$f":"'Conversion 1'!B294/0.02","v":0},{"$f":"'Conversion 1'!B294/0.56","v":0},{"$f":"'Conversion 1'!B294/0.4","v":0}]
[null,{"$f":"0.1423*('Conversion 1'!D295^1.2528)","v":0},{"$f":"(0.00005*('Conversion 1'!D295^2))+(0.3389*'Conversion 1'!D295)-1.431","v":-1.431},294,{"$f":"'Conversion 1'!B295","v":0},{"$f":"'Conversion 1'!B295/0.4","v":0},{"$f":"'Conversion 1'!B295/0.4","v":0},{"$f":"'Conversion 1'!B295","v":0},{"$f":"'Conversion 1'!B295/0.07","v":0},{"$f":"'Conversion 1'!B295/0.056","v":0},{"$f":"'Conversion 1'!B295/0.1","v":0},{"$f":"'Conversion 1'!B295/0.058","v":0},{"$f":"'Conversion 1'!B295/0.01","v":0},{"$f":"'Conversion 1'!B295/0.02","v":0},{"$f":"'Conversion 1'!B295/0.56","v":0},{"$f":"'Conversion 1'!B295/0.4","v":0}]
[null,{"$f":"0.1423*('Conversion 1'!D296^1.2528)","v":0},{"$f":"(0.00005*('Conversion 1'!D296^2))+(0.3389*'Conversion 1'!D296)-1.431","v":-1.431},295,{"$f":"'Conversion 1'!B296","v":0},{"$f":"'Conversion 1'!B296/0.4","v":0},{"$f":"'Conversion 1'!B296/0.4","v":0},{"$f":"'Conversion 1'!B296","v":0},{"$f":"'Conversion 1'!B296/0.07","v":0},{"$f":"'Conversion 1'!B296/0.056","v":0},{"$f":"'Conversion 1'!B296/0.1","v":0},{"$f":"'Conversion 1'!B296/0.058","v":0},{"$f":"'Conversion 1'!B296/0.01","v":0},{"$f":"'Conversion 1'!B296/0.02","v":0},{"$f":"'Conversion 1'!B296/0.56","v":0},{"$f":"'Conversion 1'!B296/0.4","v":0}]
[null,{"$f":"0.1423*('Conversion 1'!D297^1.2528)","v":0},{"$f":"(0.00005*('Conversion 1'!D297^2))+(0.3389*'Conversion 1'!D297)-1.431","v":-1.431},296,{"$f":"'Conversion 1'!B297","v":0},{"$f":"'Conversion 1'!B297/0.4","v":0},{"$f":"'Conversion 1'!B297/0.4","v":0},{"$f":"'Conversion 1'!B297","v":0},{"$f":"'Conversion 1'!B297/0.07","v":0},{"$f":"'Conversion 1'!B297/0.056","v":0},{"$f":"'Conversion 1'!B297/0.1","v":0},{"$f":"'Conversion 1'!B297/0.058","v":0},{"$f":"'Conversion 1'!B297/0.01","v":0},{"$f":"'Conversion 1'!B297/0.02","v":0},{"$f":"'Conversion 1'!B297/0.56","v":0},{"$f":"'Conversion 1'!B297/0.4","v":0}]
[null,{"$f":"0.1423*('Conversion 1'!D298^1.2528)","v":0},{"$f":"(0.00005*('Conversion 1'!D298^2))+(0.3389*'Conversion 1'!D298)-1.431","v":-1.431},297,{"$f":"'Conversion 1'!B298","v":0},{"$f":"'Conversion 1'!B298/0.4","v":0},{"$f":"'Conversion 1'!B298/0.4","v":0},{"$f":"'Conversion 1'!B298","v":0},{"$f":"'Conversion 1'!B298/0.07","v":0},{"$f":"'Conversion 1'!B298/0.056","v":0},{"$f":"'Conversion 1'!B298/0.1","v":0},{"$f":"'Conversion 1'!B298/0.058","v":0},{"$f":"'Conversion 1'!B298/0.01","v":0},{"$f":"'Conversion 1'!B298/0.02","v":0},{"$f":"'Conversion 1'!B298/0.56","v":0},{"$f":"'Conversion 1'!B298/0.4","v":0}]
[null,{"$f":"0.1423*('Conversion 1'!D299^1.2528)","v":0},{"$f":"(0.00005*('Conversion 1'!D299^2))+(0.3389*'Conversion 1'!D299)-1.431","v":-1.431},298,{"$f":"'Conversion 1'!B299","v":0},{"$f":"'Conversion 1'!B299/0.4","v":0},{"$f":"'Conversion 1'!B299/0.4","v":0},{"$f":"'Conversion 1'!B299","v":0},{"$f":"'Conversion 1'!B299/0.07","v":0},{"$f":"'Conversion 1'!B299/0.056","v":0},{"$f":"'Conversion 1'!B299/0.1","v":0},{"$f":"'Conversion 1'!B299/0.058","v":0},{"$f":"'Conversion 1'!B299/0.01","v":0},{"$f":"'Conversion 1'!B299/0.02","v":0},{"$f":"'Conversion 1'!B299/0.56","v":0},{"$f":"'Conversion 1'!B299/0.4","v":0}]
[null,{"$f":"0.1423*('Conversion 1'!D300^1.2528)","v":0},{"$f":"(0.00005*('Conversion 1'!D300^2))+(0.3389*'Conversion 1'!D300)-1.431","v":-1.431},299,{"$f":"'Conversion 1'!B300","v":0},{"$f":"'Conversion 1'!B300/0.4","v":0},{"$f":"'Conversion 1'!B300/0.4","v":0},{"$f":"'Conversion 1'!B300","v":0},{"$f":"'Conversion 1'!B300/0.07","v":0},{"$f":"'Conversion 1'!B300/0.056","v":0},{"$f":"'Conversion 1'!B300/0.1","v":0},{"$f":"'Conversion 1'!B300/0.058","v":0},{"$f":"'Conversion 1'!B300/0.01","v":0},{"$f":"'Conversion 1'!B300/0.02","v":0},{"$f":"'Conversion 1'!B300/0.56","v":0},{"$f":"'Conversion 1'!B300/0.4","v":0}]
[null,{"$f":"0.1423*('Conversion 1'!D301^1.2528)","v":0},{"$f":"(0.00005*('Conversion 1'!D301^2))+(0.3389*'Conversion 1'!D301)-1.431","v":-1.431},300,{"$f":"'Conversion 1'!B301","v":0},{"$f":"'Conversion 1'!B301/0.4","v":0},{"$f":"'Conversion 1'!B301/0.4","v":0},{"$f":"'Conversion 1'!B301","v":0},{"$f":"'Conversion 1'!B301/0.07","v":0},{"$f":"'Conversion 1'!B301/0.056","v":0},{"$f":"'Conversion 1'!B301/0.1","v":0},{"$f":"'Conversion 1'!B301/0.058","v":0},{"$f":"'Conversion 1'!B301/0.01","v":0},{"$f":"'Conversion 1'!B301/0.02","v":0},{"$f":"'Conversion 1'!B301/0.56","v":0},{"$f":"'Conversion 1'!B301/0.4","v":0}]
[null,{"$f":"0.1423*('Conversion 1'!D302^1.2528)","v":0},{"$f":"(0.00005*('Conversion 1'!D302^2))+(0.3389*'Conversion 1'!D302)-1.431","v":-1.431},301,{"$f":"'Conversion 1'!B302","v":0},{"$f":"'Conversion 1'!B302/0.4","v":0},{"$f":"'Conversion 1'!B302/0.4","v":0},{"$f":"'Conversion 1'!B302","v":0},{"$f":"'Conversion 1'!B302/0.07","v":0},{"$f":"'Conversion 1'!B302/0.056","v":0},{"$f":"'Conversion 1'!B302/0.1","v":0},{"$f":"'Conversion 1'!B302/0.058","v":0},{"$f":"'Conversion 1'!B302/0.01","v":0},{"$f":"'Conversion 1'!B302/0.02","v":0},{"$f":"'Conversion 1'!B302/0.56","v":0},{"$f":"'Conversion 1'!B302/0.4","v":0}]
[null,{"$f":"0.1423*('Conversion 1'!D303^1.2528)","v":0},{"$f":"(0.00005*('Conversion 1'!D303^2))+(0.3389*'Conversion 1'!D303)-1.431","v":-1.431},302,{"$f":"'Conversion 1'!B303","v":0},{"$f":"'Conversion 1'!B303/0.4","v":0},{"$f":"'Conversion 1'!B303/0.4","v":0},{"$f":"'Conversion 1'!B303","v":0},{"$f":"'Conversion 1'!B303/0.07","v":0},{"$f":"'Conversion 1'!B303/0.056","v":0},{"$f":"'Conversion 1'!B303/0.1","v":0},{"$f":"'Conversion 1'!B303/0.058","v":0},{"$f":"'Conversion 1'!B303/0.01","v":0},{"$f":"'Conversion 1'!B303/0.02","v":0},{"$f":"'Conversion 1'!B303/0.56","v":0},{"$f":"'Conversion 1'!B303/0.4","v":0}]
[null,{"$f":"0.1423*('Conversion 1'!D304^1.2528)","v":0},{"$f":"(0.00005*('Conversion 1'!D304^2))+(0.3389*'Conversion 1'!D304)-1.431","v":-1.431},303,{"$f":"'Conversion 1'!B304","v":0},{"$f":"'Conversion 1'!B304/0.4","v":0},{"$f":"'Conversion 1'!B304/0.4","v":0},{"$f":"'Conversion 1'!B304","v":0},{"$f":"'Conversion 1'!B304/0.07","v":0},{"$f":"'Conversion 1'!B304/0.056","v":0},{"$f":"'Conversion 1'!B304/0.1","v":0},{"$f":"'Conversion 1'!B304/0.058","v":0},{"$f":"'Conversion 1'!B304/0.01","v":0},{"$f":"'Conversion 1'!B304/0.02","v":0},{"$f":"'Conversion 1'!B304/0.56","v":0},{"$f":"'Conversion 1'!B304/0.4","v":0}]
[null,{"$f":"0.1423*('Conversion 1'!D305^1.2528)","v":0},{"$f":"(0.00005*('Conversion 1'!D305^2))+(0.3389*'Conversion 1'!D305)-1.431","v":-1.431},304,{"$f":"'Conversion 1'!B305","v":0},{"$f":"'Conversion 1'!B305/0.4","v":0},{"$f":"'Conversion 1'!B305/0.4","v":0},{"$f":"'Conversion 1'!B305","v":0},{"$f":"'Conversion 1'!B305/0.07","v":0},{"$f":"'Conversion 1'!B305/0.056","v":0},{"$f":"'Conversion 1'!B305/0.1","v":0},{"$f":"'Conversion 1'!B305/0.058","v":0},{"$f":"'Conversion 1'!B305/0.01","v":0},{"$f":"'Conversion 1'!B305/0.02","v":0},{"$f":"'Conversion 1'!B305/0.56","v":0},{"$f":"'Conversion 1'!B305/0.4","v":0}]
[null,{"$f":"0.1423*('Conversion 1'!D306^1.2528)","v":0},{"$f":"(0.00005*('Conversion 1'!D306^2))+(0.3389*'Conversion 1'!D306)-1.431","v":-1.431},305,{"$f":"'Conversion 1'!B306","v":0},{"$f":"'Conversion 1'!B306/0.4","v":0},{"$f":"'Conversion 1'!B306/0.4","v":0},{"$f":"'Conversion 1'!B306","v":0},{"$f":"'Conversion 1'!B306/0.07","v":0},{"$f":"'Conversion 1'!B306/0.056","v":0},{"$f":"'Conversion 1'!B306/0.1","v":0},{"$f":"'Conversion 1'!B306/0.058","v":0},{"$f":"'Conversion 1'!B306/0.01","v":0},{"$f":"'Conversion 1'!B306/0.02","v":0},{"$f":"'Conversion 1'!B306/0.56","v":0},{"$f":"'Conversion 1'!B306/0.4","v":0}]
[null,{"$f":"0.1423*('Conversion 1'!D307^1.2528)","v":0},{"$f":"(0.00005*('Conversion 1'!D307^2))+(0.3389*'Conversion 1'!D307)-1.431","v":-1.431},306,{"$f":"'Conversion 1'!B307","v":0},{"$f":"'Conversion 1'!B307/0.4","v":0},{"$f":"'Conversion 1'!B307/0.4","v":0},{"$f":"'Conversion 1'!B307","v":0},{"$f":"'Conversion 1'!B307/0.07","v":0},{"$f":"'Conversion 1'!B307/0.056","v":0},{"$f":"'Conversion 1'!B307/0.1","v":0},{"$f":"'Conversion 1'!B307/0.058","v":0},{"$f":"'Conversion 1'!B307/0.01","v":0},{"$f":"'Conversion 1'!B307/0.02","v":0},{"$f":"'Conversion 1'!B307/0.56","v":0},{"$f":"'Conversion 1'!B307/0.4","v":0}]
[null,{"$f":"0.1423*('Conversion 1'!D308^1.2528)","v":0},{"$f":"(0.00005*('Conversion 1'!D308^2))+(0.3389*'Conversion 1'!D308)-1.431","v":-1.431},307,{"$f":"'Conversion 1'!B308","v":0},{"$f":"'Conversion 1'!B308/0.4","v":0},{"$f":"'Conversion 1'!B308/0.4","v":0},{"$f":"'Conversion 1'!B308","v":0},{"$f":"'Conversion 1'!B308/0.07","v":0},{"$f":"'Conversion 1'!B308/0.056","v":0},{"$f":"'Conversion 1'!B308/0.1","v":0},{"$f":"'Conversion 1'!B308/0.058","v":0},{"$f":"'Conversion 1'!B308/0.01","v":0},{"$f":"'Conversion 1'!B308/0.02","v":0},{"$f":"'Conversion 1'!B308/0.56","v":0},{"$f":"'Conversion 1'!B308/0.4","v":0}]
[null,{"$f":"0.1423*('Conversion 1'!D309^1.2528)","v":0},{"$f":"(0.00005*('Conversion 1'!D309^2))+(0.3389*'Conversion 1'!D309)-1.431","v":-1.431},308,{"$f":"'Conversion 1'!B309","v":0},{"$f":"'Conversion 1'!B309/0.4","v":0},{"$f":"'Conversion 1'!B309/0.4","v":0},{"$f":"'Conversion 1'!B309","v":0},{"$f":"'Conversion 1'!B309/0.07","v":0},{"$f":"'Conversion 1'!B309/0.056","v":0},{"$f":"'Conversion 1'!B309/0.1","v":0},{"$f":"'Conversion 1'!B309/0.058","v":0},{"$f":"'Conversion 1'!B309/0.01","v":0},{"$f":"'Conversion 1'!B309/0.02","v":0},{"$f":"'Conversion 1'!B309/0.56","v":0},{"$f":"'Conversion 1'!B309/0.4","v":0}]
[null,{"$f":"0.1423*('Conversion 1'!D310^1.2528)","v":0},{"$f":"(0.00005*('Conversion 1'!D310^2))+(0.3389*'Conversion 1'!D310)-1.431","v":-1.431},309,{"$f":"'Conversion 1'!B310","v":0},{"$f":"'Conversion 1'!B310/0.4","v":0},{"$f":"'Conversion 1'!B310/0.4","v":0},{"$f":"'Conversion 1'!B310","v":0},{"$f":"'Conversion 1'!B310/0.07","v":0},{"$f":"'Conversion 1'!B310/0.056","v":0},{"$f":"'Conversion 1'!B310/0.1","v":0},{"$f":"'Conversion 1'!B310/0.058","v":0},{"$f":"'Conversion 1'!B310/0.01","v":0},{"$f":"'Conversion 1'!B310/0.02","v":0},{"$f":"'Conversion 1'!B310/0.56","v":0},{"$f":"'Conversion 1'!B310/0.4","v":0}]
[null,{"$f":"0.1423*('Conversion 1'!D311^1.2528)","v":0},{"$f":"(0.00005*('Conversion 1'!D311^2))+(0.3389*'Conversion 1'!D311)-1.431","v":-1.431},310,{"$f":"'Conversion 1'!B311","v":0},{"$f":"'Conversion 1'!B311/0.4","v":0},{"$f":"'Conversion 1'!B311/0.4","v":0},{"$f":"'Conversion 1'!B311","v":0},{"$f":"'Conversion 1'!B311/0.07","v":0},{"$f":"'Conversion 1'!B311/0.056","v":0},{"$f":"'Conversion 1'!B311/0.1","v":0},{"$f":"'Conversion 1'!B311/0.058","v":0},{"$f":"'Conversion 1'!B311/0.01","v":0},{"$f":"'Conversion 1'!B311/0.02","v":0},{"$f":"'Conversion 1'!B311/0.56","v":0},{"$f":"'Conversion 1'!B311/0.4","v":0}]
[null,{"$f":"0.1423*('Conversion 1'!D312^1.2528)","v":0},{"$f":"(0.00005*('Conversion 1'!D312^2))+(0.3389*'Conversion 1'!D312)-1.431","v":-1.431},311,{"$f":"'Conversion 1'!B312","v":0},{"$f":"'Conversion 1'!B312/0.4","v":0},{"$f":"'Conversion 1'!B312/0.4","v":0},{"$f":"'Conversion 1'!B312","v":0},{"$f":"'Conversion 1'!B312/0.07","v":0},{"$f":"'Conversion 1'!B312/0.056","v":0},{"$f":"'Conversion 1'!B312/0.1","v":0},{"$f":"'Conversion 1'!B312/0.058","v":0},{"$f":"'Conversion 1'!B312/0.01","v":0},{"$f":"'Conversion 1'!B312/0.02","v":0},{"$f":"'Conversion 1'!B312/0.56","v":0},{"$f":"'Conversion 1'!B312/0.4","v":0}]
[null,{"$f":"0.1423*('Conversion 1'!D313^1.2528)","v":0},{"$f":"(0.00005*('Conversion 1'!D313^2))+(0.3389*'Conversion 1'!D313)-1.431","v":-1.431},312,{"$f":"'Conversion 1'!B313","v":0},{"$f":"'Conversion 1'!B313/0.4","v":0},{"$f":"'Conversion 1'!B313/0.4","v":0},{"$f":"'Conversion 1'!B313","v":0},{"$f":"'Conversion 1'!B313/0.07","v":0},{"$f":"'Conversion 1'!B313/0.056","v":0},{"$f":"'Conversion 1'!B313/0.1","v":0},{"$f":"'Conversion 1'!B313/0.058","v":0},{"$f":"'Conversion 1'!B313/0.01","v":0},{"$f":"'Conversion 1'!B313/0.02","v":0},{"$f":"'Conversion 1'!B313/0.56","v":0},{"$f":"'Conversion 1'!B313/0.4","v":0}]
[null,{"$f":"0.1423*('Conversion 1'!D314^1.2528)","v":0},{"$f":"(0.00005*('Conversion 1'!D314^2))+(0.3389*'Conversion 1'!D314)-1.431","v":-1.431},313,{"$f":"'Conversion 1'!B314","v":0},{"$f":"'Conversion 1'!B314/0.4","v":0},{"$f":"'Conversion 1'!B314/0.4","v":0},{"$f":"'Conversion 1'!B314","v":0},{"$f":"'Conversion 1'!B314/0.07","v":0},{"$f":"'Conversion 1'!B314/0.056","v":0},{"$f":"'Conversion 1'!B314/0.1","v":0},{"$f":"'Conversion 1'!B314/0.058","v":0},{"$f":"'Conversion 1'!B314/0.01","v":0},{"$f":"'Conversion 1'!B314/0.02","v":0},{"$f":"'Conversion 1'!B314/0.56","v":0},{"$f":"'Conversion 1'!B314/0.4","v":0}]
[null,{"$f":"0.1423*('Conversion 1'!D315^1.2528)","v":0},{"$f":"(0.00005*('Conversion 1'!D315^2))+(0.3389*'Conversion 1'!D315)-1.431","v":-1.431},314,{"$f":"'Conversion 1'!B315","v":0},{"$f":"'Conversion 1'!B315/0.4","v":0},{"$f":"'Conversion 1'!B315/0.4","v":0},{"$f":"'Conversion 1'!B315","v":0},{"$f":"'Conversion 1'!B315/0.07","v":0},{"$f":"'Conversion 1'!B315/0.056","v":0},{"$f":"'Conversion 1'!B315/0.1","v":0},{"$f":"'Conversion 1'!B315/0.058","v":0},{"$f":"'Conversion 1'!B315/0.01","v":0},{"$f":"'Conversion 1'!B315/0.02","v":0},{"$f":"'Conversion 1'!B315/0.56","v":0},{"$f":"'Conversion 1'!B315/0.4","v":0}]
[null,{"$f":"0.1423*('Conversion 1'!D316^1.2528)","v":0},{"$f":"(0.00005*('Conversion 1'!D316^2))+(0.3389*'Conversion 1'!D316)-1.431","v":-1.431},315,{"$f":"'Conversion 1'!B316","v":0},{"$f":"'Conversion 1'!B316/0.4","v":0},{"$f":"'Conversion 1'!B316/0.4","v":0},{"$f":"'Conversion 1'!B316","v":0},{"$f":"'Conversion 1'!B316/0.07","v":0},{"$f":"'Conversion 1'!B316/0.056","v":0},{"$f":"'Conversion 1'!B316/0.1","v":0},{"$f":"'Conversion 1'!B316/0.058","v":0},{"$f":"'Conversion 1'!B316/0.01","v":0},{"$f":"'Conversion 1'!B316/0.02","v":0},{"$f":"'Conversion 1'!B316/0.56","v":0},{"$f":"'Conversion 1'!B316/0.4","v":0}]
[null,{"$f":"0.1423*('Conversion 1'!D317^1.2528)","v":0},{"$f":"(0.00005*('Conversion 1'!D317^2))+(0.3389*'Conversion 1'!D317)-1.431","v":-1.431},316,{"$f":"'Conversion 1'!B317","v":0},{"$f":"'Conversion 1'!B317/0.4","v":0},{"$f":"'Conversion 1'!B317/0.4","v":0},{"$f":"'Conversion 1'!B317","v":0},{"$f":"'Conversion 1'!B317/0.07","v":0},{"$f":"'Conversion 1'!B317/0.056","v":0},{"$f":"'Conversion 1'!B317/0.1","v":0},{"$f":"'Conversion 1'!B317/0.058","v":0},{"$f":"'Conversion 1'!B317/0.01","v":0},{"$f":"'Conversion 1'!B317/0.02","v":0},{"$f":"'Conversion 1'!B317/0.56","v":0},{"$f":"'Conversion 1'!B317/0.4","v":0}]
[null,{"$f":"0.1423*('Conversion 1'!D318^1.2528)","v":0},{"$f":"(0.00005*('Conversion 1'!D318^2))+(0.3389*'Conversion 1'!D318)-1.431","v":-1.431},317,{"$f":"'Conversion 1'!B318","v":0},{"$f":"'Conversion 1'!B318/0.4","v":0},{"$f":"'Conversion 1'!B318/0.4","v":0},{"$f":"'Conversion 1'!B318","v":0},{"$f":"'Conversion 1'!B318/0.07","v":0},{"$f":"'Conversion 1'!B318/0.056","v":0},{"$f":"'Conversion 1'!B318/0.1","v":0},{"$f":"'Conversion 1'!B318/0.058","v":0},{"$f":"'Conversion 1'!B318/0.01","v":0},{"$f":"'Conversion 1'!B318/0.02","v":0},{"$f":"'Conversion 1'!B318/0.56","v":0},{"$f":"'Conversion 1'!B318/0.4","v":0}]
[null,{"$f":"0.1423*('Conversion 1'!D319^1.2528)","v":0},{"$f":"(0.00005*('Conversion 1'!D319^2))+(0.3389*'Conversion 1'!D319)-1.431","v":-1.431},318,{"$f":"'Conversion 1'!B319","v":0},{"$f":"'Conversion 1'!B319/0.4","v":0},{"$f":"'Conversion 1'!B319/0.4","v":0},{"$f":"'Conversion 1'!B319","v":0},{"$f":"'Conversion 1'!B319/0.07","v":0},{"$f":"'Conversion 1'!B319/0.056","v":0},{"$f":"'Conversion 1'!B319/0.1","v":0},{"$f":"'Conversion 1'!B319/0.058","v":0},{"$f":"'Conversion 1'!B319/0.01","v":0},{"$f":"'Conversion 1'!B319/0.02","v":0},{"$f":"'Conversion 1'!B319/0.56","v":0},{"$f":"'Conversion 1'!B319/0.4","v":0}]
[null,{"$f":"0.1423*('Conversion 1'!D320^1.2528)","v":0},{"$f":"(0.00005*('Conversion 1'!D320^2))+(0.3389*'Conversion 1'!D320)-1.431","v":-1.431},319,{"$f":"'Conversion 1'!B320","v":0},{"$f":"'Conversion 1'!B320/0.4","v":0},{"$f":"'Conversion 1'!B320/0.4","v":0},{"$f":"'Conversion 1'!B320","v":0},{"$f":"'Conversion 1'!B320/0.07","v":0},{"$f":"'Conversion 1'!B320/0.056","v":0},{"$f":"'Conversion 1'!B320/0.1","v":0},{"$f":"'Conversion 1'!B320/0.058","v":0},{"$f":"'Conversion 1'!B320/0.01","v":0},{"$f":"'Conversion 1'!B320/0.02","v":0},{"$f":"'Conversion 1'!B320/0.56","v":0},{"$f":"'Conversion 1'!B320/0.4","v":0}]
[null,{"$f":"0.1423*('Conversion 1'!D321^1.2528)","v":0},{"$f":"(0.00005*('Conversion 1'!D321^2))+(0.3389*'Conversion 1'!D321)-1.431","v":-1.431},320,{"$f":"'Conversion 1'!B321","v":0},{"$f":"'Conversion 1'!B321/0.4","v":0},{"$f":"'Conversion 1'!B321/0.4","v":0},{"$f":"'Conversion 1'!B321","v":0},{"$f":"'Conversion 1'!B321/0.07","v":0},{"$f":"'Conversion 1'!B321/0.056","v":0},{"$f":"'Conversion 1'!B321/0.1","v":0},{"$f":"'Conversion 1'!B321/0.058","v":0},{"$f":"'Conversion 1'!B321/0.01","v":0},{"$f":"'Conversion 1'!B321/0.02","v":0},{"$f":"'Conversion 1'!B321/0.56","v":0},{"$f":"'Conversion 1'!B321/0.4","v":0}]
[null,{"$f":"0.1423*('Conversion 1'!D322^1.2528)","v":0},{"$f":"(0.00005*('Conversion 1'!D322^2))+(0.3389*'Conversion 1'!D322)-1.431","v":-1.431},321,{"$f":"'Conversion 1'!B322","v":0},{"$f":"'Conversion 1'!B322/0.4","v":0},{"$f":"'Conversion 1'!B322/0.4","v":0},{"$f":"'Conversion 1'!B322","v":0},{"$f":"'Conversion 1'!B322/0.07","v":0},{"$f":"'Conversion 1'!B322/0.056","v":0},{"$f":"'Conversion 1'!B322/0.1","v":0},{"$f":"'Conversion 1'!B322/0.058","v":0},{"$f":"'Conversion 1'!B322/0.01","v":0},{"$f":"'Conversion 1'!B322/0.02","v":0},{"$f":"'Conversion 1'!B322/0.56","v":0},{"$f":"'Conversion 1'!B322/0.4","v":0}]
[null,{"$f":"0.1423*('Conversion 1'!D323^1.2528)","v":0},{"$f":"(0.00005*('Conversion 1'!D323^2))+(0.3389*'Conversion 1'!D323)-1.431","v":-1.431},322,{"$f":"'Conversion 1'!B323","v":0},{"$f":"'Conversion 1'!B323/0.4","v":0},{"$f":"'Conversion 1'!B323/0.4","v":0},{"$f":"'Conversion 1'!B323","v":0},{"$f":"'Conversion 1'!B323/0.07","v":0},{"$f":"'Conversion 1'!B323/0.056","v":0},{"$f":"'Conversion 1'!B323/0.1","v":0},{"$f":"'Conversion 1'!B323/0.058","v":0},{"$f":"'Conversion 1'!B323/0.01","v":0},{"$f":"'Conversion 1'!B323/0.02","v":0},{"$f":"'Conversion 1'!B323/0.56","v":0},{"$f":"'Conversion 1'!B323/0.4","v":0}]
[null,{"$f":"0.1423*('Conversion 1'!D324^1.2528)","v":0},{"$f":"(0.00005*('Conversion 1'!D324^2))+(0.3389*'Conversion 1'!D324)-1.431","v":-1.431},323,{"$f":"'Conversion 1'!B324","v":0},{"$f":"'Conversion 1'!B324/0.4","v":0},{"$f":"'Conversion 1'!B324/0.4","v":0},{"$f":"'Conversion 1'!B324","v":0},{"$f":"'Conversion 1'!B324/0.07","v":0},{"$f":"'Conversion 1'!B324/0.056","v":0},{"$f":"'Conversion 1'!B324/0.1","v":0},{"$f":"'Conversion 1'!B324/0.058","v":0},{"$f":"'Conversion 1'!B324/0.01","v":0},{"$f":"'Conversion 1'!B324/0.02","v":0},{"$f":"'Conversion 1'!B324/0.56","v":0},{"$f":"'Conversion 1'!B324/0.4","v":0}]
[null,{"$f":"0.1423*('Conversion 1'!D325^1.2528)","v":0},{"$f":"(0.00005*('Conversion 1'!D325^2))+(0.3389*'Conversion 1'!D325)-1.431","v":-1.431},324,{"$f":"'Conversion 1'!B325","v":0},{"$f":"'Conversion 1'!B325/0.4","v":0},{"$f":"'Conversion 1'!B325/0.4","v":0},{"$f":"'Conversion 1'!B325","v":0},{"$f":"'Conversion 1'!B325/0.07","v":0},{"$f":"'Conversion 1'!B325/0.056","v":0},{"$f":"'Conversion 1'!B325/0.1","v":0},{"$f":"'Conversion 1'!B325/0.058","v":0},{"$f":"'Conversion 1'!B325/0.01","v":0},{"$f":"'Conversion 1'!B325/0.02","v":0},{"$f":"'Conversion 1'!B325/0.56","v":0},{"$f":"'Conversion 1'!B325/0.4","v":0}]
[null,{"$f":"0.1423*('Conversion 1'!D326^1.2528)","v":0},{"$f":"(0.00005*('Conversion 1'!D326^2))+(0.3389*'Conversion 1'!D326)-1.431","v":-1.431},325,{"$f":"'Conversion 1'!B326","v":0},{"$f":"'Conversion 1'!B326/0.4","v":0},{"$f":"'Conversion 1'!B326/0.4","v":0},{"$f":"'Conversion 1'!B326","v":0},{"$f":"'Conversion 1'!B326/0.07","v":0},{"$f":"'Conversion 1'!B326/0.056","v":0},{"$f":"'Conversion 1'!B326/0.1","v":0},{"$f":"'Conversion 1'!B326/0.058","v":0},{"$f":"'Conversion 1'!B326/0.01","v":0},{"$f":"'Conversion 1'!B326/0.02","v":0},{"$f":"'Conversion 1'!B326/0.56","v":0},{"$f":"'Conversion 1'!B326/0.4","v":0}]
[null,{"$f":"0.1423*('Conversion 1'!D327^1.2528)","v":0},{"$f":"(0.00005*('Conversion 1'!D327^2))+(0.3389*'Conversion 1'!D327)-1.431","v":-1.431},326,{"$f":"'Conversion 1'!B327","v":0},{"$f":"'Conversion 1'!B327/0.4","v":0},{"$f":"'Conversion 1'!B327/0.4","v":0},{"$f":"'Conversion 1'!B327","v":0},{"$f":"'Conversion 1'!B327/0.07","v":0},{"$f":"'Conversion 1'!B327/0.056","v":0},{"$f":"'Conversion 1'!B327/0.1","v":0},{"$f":"'Conversion 1'!B327/0.058","v":0},{"$f":"'Conversion 1'!B327/0.01","v":0},{"$f":"'Conversion 1'!B327/0.02","v":0},{"$f":"'Conversion 1'!B327/0.56","v":0},{"$f":"'Conversion 1'!B327/0.4","v":0}]
[null,{"$f":"0.1423*('Conversion 1'!D328^1.2528)","v":0},{"$f":"(0.00005*('Conversion 1'!D328^2))+(0.3389*'Conversion 1'!D328)-1.431","v":-1.431},327,{"$f":"'Conversion 1'!B328","v":0},{"$f":"'Conversion 1'!B328/0.4","v":0},{"$f":"'Conversion 1'!B328/0.4","v":0},{"$f":"'Conversion 1'!B328","v":0},{"$f":"'Conversion 1'!B328/0.07","v":0},{"$f":"'Conversion 1'!B328/0.056","v":0},{"$f":"'Conversion 1'!B328/0.1","v":0},{"$f":"'Conversion 1'!B328/0.058","v":0},{"$f":"'Conversion 1'!B328/0.01","v":0},{"$f":"'Conversion 1'!B328/0.02","v":0},{"$f":"'Conversion 1'!B328/0.56","v":0},{"$f":"'Conversion 1'!B328/0.4","v":0}]
[null,{"$f":"0.1423*('Conversion 1'!D329^1.2528)","v":0},{"$f":"(0.00005*('Conversion 1'!D329^2))+(0.3389*'Conversion 1'!D329)-1.431","v":-1.431},328,{"$f":"'Conversion 1'!B329","v":0},{"$f":"'Conversion 1'!B329/0.4","v":0},{"$f":"'Conversion 1'!B329/0.4","v":0},{"$f":"'Conversion 1'!B329","v":0},{"$f":"'Conversion 1'!B329/0.07","v":0},{"$f":"'Conversion 1'!B329/0.056","v":0},{"$f":"'Conversion 1'!B329/0.1","v":0},{"$f":"'Conversion 1'!B329/0.058","v":0},{"$f":"'Conversion 1'!B329/0.01","v":0},{"$f":"'Conversion 1'!B329/0.02","v":0},{"$f":"'Conversion 1'!B329/0.56","v":0},{"$f":"'Conversion 1'!B329/0.4","v":0}]
[null,{"$f":"0.1423*('Conversion 1'!D330^1.2528)","v":0},{"$f":"(0.00005*('Conversion 1'!D330^2))+(0.3389*'Conversion 1'!D330)-1.431","v":-1.431},329,{"$f":"'Conversion 1'!B330","v":0},{"$f":"'Conversion 1'!B330/0.4","v":0},{"$f":"'Conversion 1'!B330/0.4","v":0},{"$f":"'Conversion 1'!B330","v":0},{"$f":"'Conversion 1'!B330/0.07","v":0},{"$f":"'Conversion 1'!B330/0.056","v":0},{"$f":"'Conversion 1'!B330/0.1","v":0},{"$f":"'Conversion 1'!B330/0.058","v":0},{"$f":"'Conversion 1'!B330/0.01","v":0},{"$f":"'Conversion 1'!B330/0.02","v":0},{"$f":"'Conversion 1'!B330/0.56","v":0},{"$f":"'Conversion 1'!B330/0.4","v":0}]
[null,{"$f":"0.1423*('Conversion 1'!D331^1.2528)","v":0},{"$f":"(0.00005*('Conversion 1'!D331^2))+(0.3389*'Conversion 1'!D331)-1.431","v":-1.431},330,{"$f":"'Conversion 1'!B331","v":0},{"$f":"'Conversion 1'!B331/0.4","v":0},{"$f":"'Conversion 1'!B331/0.4","v":0},{"$f":"'Conversion 1'!B331","v":0},{"$f":"'Conversion 1'!B331/0.07","v":0},{"$f":"'Conversion 1'!B331/0.056","v":0},{"$f":"'Conversion 1'!B331/0.1","v":0},{"$f":"'Conversion 1'!B331/0.058","v":0},{"$f":"'Conversion 1'!B331/0.01","v":0},{"$f":"'Conversion 1'!B331/0.02","v":0},{"$f":"'Conversion 1'!B331/0.56","v":0},{"$f":"'Conversion 1'!B331/0.4","v":0}]
[null,{"$f":"0.1423*('Conversion 1'!D332^1.2528)","v":0},{"$f":"(0.00005*('Conversion 1'!D332^2))+(0.3389*'Conversion 1'!D332)-1.431","v":-1.431},331,{"$f":"'Conversion 1'!B332","v":0},{"$f":"'Conversion 1'!B332/0.4","v":0},{"$f":"'Conversion 1'!B332/0.4","v":0},{"$f":"'Conversion 1'!B332","v":0},{"$f":"'Conversion 1'!B332/0.07","v":0},{"$f":"'Conversion 1'!B332/0.056","v":0},{"$f":"'Conversion 1'!B332/0.1","v":0},{"$f":"'Conversion 1'!B332/0.058","v":0},{"$f":"'Conversion 1'!B332/0.01","v":0},{"$f":"'Conversion 1'!B332/0.02","v":0},{"$f":"'Conversion 1'!B332/0.56","v":0},{"$f":"'Conversion 1'!B332/0.4","v":0}]
[null,{"$f":"0.1423*('Conversion 1'!D333^1.2528)","v":0},{"$f":"(0.00005*('Conversion 1'!D333^2))+(0.3389*'Conversion 1'!D333)-1.431","v":-1.431},332,{"$f":"'Conversion 1'!B333","v":0},{"$f":"'Conversion 1'!B333/0.4","v":0},{"$f":"'Conversion 1'!B333/0.4","v":0},{"$f":"'Conversion 1'!B333","v":0},{"$f":"'Conversion 1'!B333/0.07","v":0},{"$f":"'Conversion 1'!B333/0.056","v":0},{"$f":"'Conversion 1'!B333/0.1","v":0},{"$f":"'Conversion 1'!B333/0.058","v":0},{"$f":"'Conversion 1'!B333/0.01","v":0},{"$f":"'Conversion 1'!B333/0.02","v":0},{"$f":"'Conversion 1'!B333/0.56","v":0},{"$f":"'Conversion 1'!B333/0.4","v":0}]
[null,{"$f":"0.1423*('Conversion 1'!D334^1.2528)","v":0},{"$f":"(0.00005*('Conversion 1'!D334^2))+(0.3389*'Conversion 1'!D334)-1.431","v":-1.431},333,{"$f":"'Conversion 1'!B334","v":0},{"$f":"'Conversion 1'!B334/0.4","v":0},{"$f":"'Conversion 1'!B334/0.4","v":0},{"$f":"'Conversion 1'!B334","v":0},{"$f":"'Conversion 1'!B334/0.07","v":0},{"$f":"'Conversion 1'!B334/0.056","v":0},{"$f":"'Conversion 1'!B334/0.1","v":0},{"$f":"'Conversion 1'!B334/0.058","v":0},{"$f":"'Conversion 1'!B334/0.01","v":0},{"$f":"'Conversion 1'!B334/0.02","v":0},{"$f":"'Conversion 1'!B334/0.56","v":0},{"$f":"'Conversion 1'!B334/0.4","v":0}]
[null,{"$f":"0.1423*('Conversion 1'!D335^1.2528)","v":0},{"$f":"(0.00005*('Conversion 1'!D335^2))+(0.3389*'Conversion 1'!D335)-1.431","v":-1.431},334,{"$f":"'Conversion 1'!B335","v":0},{"$f":"'Conversion 1'!B335/0.4","v":0},{"$f":"'Conversion 1'!B335/0.4","v":0},{"$f":"'Conversion 1'!B335","v":0},{"$f":"'Conversion 1'!B335/0.07","v":0},{"$f":"'Conversion 1'!B335/0.056","v":0},{"$f":"'Conversion 1'!B335/0.1","v":0},{"$f":"'Conversion 1'!B335/0.058","v":0},{"$f":"'Conversion 1'!B335/0.01","v":0},{"$f":"'Conversion 1'!B335/0.02","v":0},{"$f":"'Conversion 1'!B335/0.56","v":0},{"$f":"'Conversion 1'!B335/0.4","v":0}]
[null,{"$f":"0.1423*('Conversion 1'!D336^1.2528)","v":0},{"$f":"(0.00005*('Conversion 1'!D336^2))+(0.3389*'Conversion 1'!D336)-1.431","v":-1.431},335,{"$f":"'Conversion 1'!B336","v":0},{"$f":"'Conversion 1'!B336/0.4","v":0},{"$f":"'Conversion 1'!B336/0.4","v":0},{"$f":"'Conversion 1'!B336","v":0},{"$f":"'Conversion 1'!B336/0.07","v":0},{"$f":"'Conversion 1'!B336/0.056","v":0},{"$f":"'Conversion 1'!B336/0.1","v":0},{"$f":"'Conversion 1'!B336/0.058","v":0},{"$f":"'Conversion 1'!B336/0.01","v":0},{"$f":"'Conversion 1'!B336/0.02","v":0},{"$f":"'Conversion 1'!B336/0.56","v":0},{"$f":"'Conversion 1'!B336/0.4","v":0}]
[null,{"$f":"0.1423*('Conversion 1'!D337^1.2528)","v":0},{"$f":"(0.00005*('Conversion 1'!D337^2))+(0.3389*'Conversion 1'!D337)-1.431","v":-1.431},336,{"$f":"'Conversion 1'!B337","v":0},{"$f":"'Conversion 1'!B337/0.4","v":0},{"$f":"'Conversion 1'!B337/0.4","v":0},{"$f":"'Conversion 1'!B337","v":0},{"$f":"'Conversion 1'!B337/0.07","v":0},{"$f":"'Conversion 1'!B337/0.056","v":0},{"$f":"'Conversion 1'!B337/0.1","v":0},{"$f":"'Conversion 1'!B337/0.058","v":0},{"$f":"'Conversion 1'!B337/0.01","v":0},{"$f":"'Conversion 1'!B337/0.02","v":0},{"$f":"'Conversion 1'!B337/0.56","v":0},{"$f":"'Conversion 1'!B337/0.4","v":0}]
[null,{"$f":"0.1423*('Conversion 1'!D338^1.2528)","v":0},{"$f":"(0.00005*('Conversion 1'!D338^2))+(0.3389*'Conversion 1'!D338)-1.431","v":-1.431},337,{"$f":"'Conversion 1'!B338","v":0},{"$f":"'Conversion 1'!B338/0.4","v":0},{"$f":"'Conversion 1'!B338/0.4","v":0},{"$f":"'Conversion 1'!B338","v":0},{"$f":"'Conversion 1'!B338/0.07","v":0},{"$f":"'Conversion 1'!B338/0.056","v":0},{"$f":"'Conversion 1'!B338/0.1","v":0},{"$f":"'Conversion 1'!B338/0.058","v":0},{"$f":"'Conversion 1'!B338/0.01","v":0},{"$f":"'Conversion 1'!B338/0.02","v":0},{"$f":"'Conversion 1'!B338/0.56","v":0},{"$f":"'Conversion 1'!B338/0.4","v":0}]
[null,{"$f":"0.1423*('Conversion 1'!D339^1.2528)","v":0},{"$f":"(0.00005*('Conversion 1'!D339^2))+(0.3389*'Conversion 1'!D339)-1.431","v":-1.431},338,{"$f":"'Conversion 1'!B339","v":0},{"$f":"'Conversion 1'!B339/0.4","v":0},{"$f":"'Conversion 1'!B339/0.4","v":0},{"$f":"'Conversion 1'!B339","v":0},{"$f":"'Conversion 1'!B339/0.07","v":0},{"$f":"'Conversion 1'!B339/0.056","v":0},{"$f":"'Conversion 1'!B339/0.1","v":0},{"$f":"'Conversion 1'!B339/0.058","v":0},{"$f":"'Conversion 1'!B339/0.01","v":0},{"$f":"'Conversion 1'!B339/0.02","v":0},{"$f":"'Conversion 1'!B339/0.56","v":0},{"$f":"'Conversion 1'!B339/0.4","v":0}]
[null,{"$f":"0.1423*('Conversion 1'!D340^1.2528)","v":0},{"$f":"(0.00005*('Conversion 1'!D340^2))+(0.3389*'Conversion 1'!D340)-1.431","v":-1.431},339,{"$f":"'Conversion 1'!B340","v":0},{"$f":"'Conversion 1'!B340/0.4","v":0},{"$f":"'Conversion 1'!B340/0.4","v":0},{"$f":"'Conversion 1'!B340","v":0},{"$f":"'Conversion 1'!B340/0.07","v":0},{"$f":"'Conversion 1'!B340/0.056","v":0},{"$f":"'Conversion 1'!B340/0.1","v":0},{"$f":"'Conversion 1'!B340/0.058","v":0},{"$f":"'Conversion 1'!B340/0.01","v":0},{"$f":"'Conversion 1'!B340/0.02","v":0},{"$f":"'Conversion 1'!B340/0.56","v":0},{"$f":"'Conversion 1'!B340/0.4","v":0}]
[null,{"$f":"0.1423*('Conversion 1'!D341^1.2528)","v":0},{"$f":"(0.00005*('Conversion 1'!D341^2))+(0.3389*'Conversion 1'!D341)-1.431","v":-1.431},340,{"$f":"'Conversion 1'!B341","v":0},{"$f":"'Conversion 1'!B341/0.4","v":0},{"$f":"'Conversion 1'!B341/0.4","v":0},{"$f":"'Conversion 1'!B341","v":0},{"$f":"'Conversion 1'!B341/0.07","v":0},{"$f":"'Conversion 1'!B341/0.056","v":0},{"$f":"'Conversion 1'!B341/0.1","v":0},{"$f":"'Conversion 1'!B341/0.058","v":0},{"$f":"'Conversion 1'!B341/0.01","v":0},{"$f":"'Conversion 1'!B341/0.02","v":0},{"$f":"'Conversion 1'!B341/0.56","v":0},{"$f":"'Conversion 1'!B341/0.4","v":0}]
[null,{"$f":"0.1423*('Conversion 1'!D342^1.2528)","v":0},{"$f":"(0.00005*('Conversion 1'!D342^2))+(0.3389*'Conversion 1'!D342)-1.431","v":-1.431},341,{"$f":"'Conversion 1'!B342","v":0},{"$f":"'Conversion 1'!B342/0.4","v":0},{"$f":"'Conversion 1'!B342/0.4","v":0},{"$f":"'Conversion 1'!B342","v":0},{"$f":"'Conversion 1'!B342/0.07","v":0},{"$f":"'Conversion 1'!B342/0.056","v":0},{"$f":"'Conversion 1'!B342/0.1","v":0},{"$f":"'Conversion 1'!B342/0.058","v":0},{"$f":"'Conversion 1'!B342/0.01","v":0},{"$f":"'Conversion 1'!B342/0.02","v":0},{"$f":"'Conversion 1'!B342/0.56","v":0},{"$f":"'Conversion 1'!B342/0.4","v":0}]
[null,{"$f":"0.1423*('Conversion 1'!D343^1.2528)","v":0},{"$f":"(0.00005*('Conversion 1'!D343^2))+(0.3389*'Conversion 1'!D343)-1.431","v":-1.431},342,{"$f":"'Conversion 1'!B343","v":0},{"$f":"'Conversion 1'!B343/0.4","v":0},{"$f":"'Conversion 1'!B343/0.4","v":0},{"$f":"'Conversion 1'!B343","v":0},{"$f":"'Conversion 1'!B343/0.07","v":0},{"$f":"'Conversion 1'!B343/0.056","v":0},{"$f":"'Conversion 1'!B343/0.1","v":0},{"$f":"'Conversion 1'!B343/0.058","v":0},{"$f":"'Conversion 1'!B343/0.01","v":0},{"$f":"'Conversion 1'!B343/0.02","v":0},{"$f":"'Conversion 1'!B343/0.56","v":0},{"$f":"'Conversion 1'!B343/0.4","v":0}]
[null,{"$f":"0.1423*('Conversion 1'!D344^1.2528)","v":0},{"$f":"(0.00005*('Conversion 1'!D344^2))+(0.3389*'Conversion 1'!D344)-1.431","v":-1.431},343,{"$f":"'Conversion 1'!B344","v":0},{"$f":"'Conversion 1'!B344/0.4","v":0},{"$f":"'Conversion 1'!B344/0.4","v":0},{"$f":"'Conversion 1'!B344","v":0},{"$f":"'Conversion 1'!B344/0.07","v":0},{"$f":"'Conversion 1'!B344/0.056","v":0},{"$f":"'Conversion 1'!B344/0.1","v":0},{"$f":"'Conversion 1'!B344/0.058","v":0},{"$f":"'Conversion 1'!B344/0.01","v":0},{"$f":"'Conversion 1'!B344/0.02","v":0},{"$f":"'Conversion 1'!B344/0.56","v":0},{"$f":"'Conversion 1'!B344/0.4","v":0}]
[null,{"$f":"0.1423*('Conversion 1'!D345^1.2528)","v":0},{"$f":"(0.00005*('Conversion 1'!D345^2))+(0.3389*'Conversion 1'!D345)-1.431","v":-1.431},344,{"$f":"'Conversion 1'!B345","v":0},{"$f":"'Conversion 1'!B345/0.4","v":0},{"$f":"'Conversion 1'!B345/0.4","v":0},{"$f":"'Conversion 1'!B345","v":0},{"$f":"'Conversion 1'!B345/0.07","v":0},{"$f":"'Conversion 1'!B345/0.056","v":0},{"$f":"'Conversion 1'!B345/0.1","v":0},{"$f":"'Conversion 1'!B345/0.058","v":0},{"$f":"'Conversion 1'!B345/0.01","v":0},{"$f":"'Conversion 1'!B345/0.02","v":0},{"$f":"'Conversion 1'!B345/0.56","v":0},{"$f":"'Conversion 1'!B345/0.4","v":0}]
[null,{"$f":"0.1423*('Conversion 1'!D346^1.2528)","v":0},{"$f":"(0.00005*('Conversion 1'!D346^2))+(0.3389*'Conversion 1'!D346)-1.431","v":-1.431},345,{"$f":"'Conversion 1'!B346","v":0},{"$f":"'Conversion 1'!B346/0.4","v":0},{"$f":"'Conversion 1'!B346/0.4","v":0},{"$f":"'Conversion 1'!B346","v":0},{"$f":"'Conversion 1'!B346/0.07","v":0},{"$f":"'Conversion 1'!B346/0.056","v":0},{"$f":"'Conversion 1'!B346/0.1","v":0},{"$f":"'Conversion 1'!B346/0.058","v":0},{"$f":"'Conversion 1'!B346/0.01","v":0},{"$f":"'Conversion 1'!B346/0.02","v":0},{"$f":"'Conversion 1'!B346/0.56","v":0},{"$f":"'Conversion 1'!B346/0.4","v":0}]
[null,{"$f":"0.1423*('Conversion 1'!D347^1.2528)","v":0},{"$f":"(0.00005*('Conversion 1'!D347^2))+(0.3389*'Conversion 1'!D347)-1.431","v":-1.431},346,{"$f":"'Conversion 1'!B347","v":0},{"$f":"'Conversion 1'!B347/0.4","v":0},{"$f":"'Conversion 1'!B347/0.4","v":0},{"$f":"'Conversion 1'!B347","v":0},{"$f":"'Conversion 1'!B347/0.07","v":0},{"$f":"'Conversion 1'!B347/0.056","v":0},{"$f":"'Conversion 1'!B347/0.1","v":0},{"$f":"'Conversion 1'!B347/0.058","v":0},{"$f":"'Conversion 1'!B347/0.01","v":0},{"$f":"'Conversion 1'!B347/0.02","v":0},{"$f":"'Conversion 1'!B347/0.56","v":0},{"$f":"'Conversion 1'!B347/0.4","v":0}]
[null,{"$f":"0.1423*('Conversion 1'!D348^1.2528)","v":0},{"$f":"(0.00005*('Conversion 1'!D348^2))+(0.3389*'Conversion 1'!D348)-1.431","v":-1.431},347,{"$f":"'Conversion 1'!B348","v":0},{"$f":"'Conversion 1'!B348/0.4","v":0},{"$f":"'Conversion 1'!B348/0.4","v":0},{"$f":"'Conversion 1'!B348","v":0},{"$f":"'Conversion 1'!B348/0.07","v":0},{"$f":"'Conversion 1'!B348/0.056","v":0},{"$f":"'Conversion 1'!B348/0.1","v":0},{"$f":"'Conversion 1'!B348/0.058","v":0},{"$f":"'Conversion 1'!B348/0.01","v":0},{"$f":"'Conversion 1'!B348/0.02","v":0},{"$f":"'Conversion 1'!B348/0.56","v":0},{"$f":"'Conversion 1'!B348/0.4","v":0}]
[null,{"$f":"0.1423*('Conversion 1'!D349^1.2528)","v":0},{"$f":"(0.00005*('Conversion 1'!D349^2))+(0.3389*'Conversion 1'!D349)-1.431","v":-1.431},348,{"$f":"'Conversion 1'!B349","v":0},{"$f":"'Conversion 1'!B349/0.4","v":0},{"$f":"'Conversion 1'!B349/0.4","v":0},{"$f":"'Conversion 1'!B349","v":0},{"$f":"'Conversion 1'!B349/0.07","v":0},{"$f":"'Conversion 1'!B349/0.056","v":0},{"$f":"'Conversion 1'!B349/0.1","v":0},{"$f":"'Conversion 1'!B349/0.058","v":0},{"$f":"'Conversion 1'!B349/0.01","v":0},{"$f":"'Conversion 1'!B349/0.02","v":0},{"$f":"'Conversion 1'!B349/0.56","v":0},{"$f":"'Conversion 1'!B349/0.4","v":0}]
[null,{"$f":"0.1423*('Conversion 1'!D350^1.2528)","v":0},{"$f":"(0.00005*('Conversion 1'!D350^2))+(0.3389*'Conversion 1'!D350)-1.431","v":-1.431},349,{"$f":"'Conversion 1'!B350","v":0},{"$f":"'Conversion 1'!B350/0.4","v":0},{"$f":"'Conversion 1'!B350/0.4","v":0},{"$f":"'Conversion 1'!B350","v":0},{"$f":"'Conversion 1'!B350/0.07","v":0},{"$f":"'Conversion 1'!B350/0.056","v":0},{"$f":"'Conversion 1'!B350/0.1","v":0},{"$f":"'Conversion 1'!B350/0.058","v":0},{"$f":"'Conversion 1'!B350/0.01","v":0},{"$f":"'Conversion 1'!B350/0.02","v":0},{"$f":"'Conversion 1'!B350/0.56","v":0},{"$f":"'Conversion 1'!B350/0.4","v":0}]
[null,{"$f":"0.1423*('Conversion 1'!D351^1.2528)","v":0},{"$f":"(0.00005*('Conversion 1'!D351^2))+(0.3389*'Conversion 1'!D351)-1.431","v":-1.431},350,{"$f":"'Conversion 1'!B351","v":0},{"$f":"'Conversion 1'!B351/0.4","v":0},{"$f":"'Conversion 1'!B351/0.4","v":0},{"$f":"'Conversion 1'!B351","v":0},{"$f":"'Conversion 1'!B351/0.07","v":0},{"$f":"'Conversion 1'!B351/0.056","v":0},{"$f":"'Conversion 1'!B351/0.1","v":0},{"$f":"'Conversion 1'!B351/0.058","v":0},{"$f":"'Conversion 1'!B351/0.01","v":0},{"$f":"'Conversion 1'!B351/0.02","v":0},{"$f":"'Conversion 1'!B351/0.56","v":0},{"$f":"'Conversion 1'!B351/0.4","v":0}]
[null,{"$f":"0.1423*('Conversion 1'!D352^1.2528)","v":0},{"$f":"(0.00005*('Conversion 1'!D352^2))+(0.3389*'Conversion 1'!D352)-1.431","v":-1.431},351,{"$f":"'Conversion 1'!B352","v":0},{"$f":"'Conversion 1'!B352/0.4","v":0},{"$f":"'Conversion 1'!B352/0.4","v":0},{"$f":"'Conversion 1'!B352","v":0},{"$f":"'Conversion 1'!B352/0.07","v":0},{"$f":"'Conversion 1'!B352/0.056","v":0},{"$f":"'Conversion 1'!B352/0.1","v":0},{"$f":"'Conversion 1'!B352/0.058","v":0},{"$f":"'Conversion 1'!B352/0.01","v":0},{"$f":"'Conversion 1'!B352/0.02","v":0},{"$f":"'Conversion 1'!B352/0.56","v":0},{"$f":"'Conversion 1'!B352/0.4","v":0}]
[null,{"$f":"0.1423*('Conversion 1'!D353^1.2528)","v":0},{"$f":"(0.00005*('Conversion 1'!D353^2))+(0.3389*'Conversion 1'!D353)-1.431","v":-1.431},352,{"$f":"'Conversion 1'!B353","v":0},{"$f":"'Conversion 1'!B353/0.4","v":0},{"$f":"'Conversion 1'!B353/0.4","v":0},{"$f":"'Conversion 1'!B353","v":0},{"$f":"'Conversion 1'!B353/0.07","v":0},{"$f":"'Conversion 1'!B353/0.056","v":0},{"$f":"'Conversion 1'!B353/0.1","v":0},{"$f":"'Conversion 1'!B353/0.058","v":0},{"$f":"'Conversion 1'!B353/0.01","v":0},{"$f":"'Conversion 1'!B353/0.02","v":0},{"$f":"'Conversion 1'!B353/0.56","v":0},{"$f":"'Conversion 1'!B353/0.4","v":0}]
[null,{"$f":"0.1423*('Conversion 1'!D354^1.2528)","v":0},{"$f":"(0.00005*('Conversion 1'!D354^2))+(0.3389*'Conversion 1'!D354)-1.431","v":-1.431},353,{"$f":"'Conversion 1'!B354","v":0},{"$f":"'Conversion 1'!B354/0.4","v":0},{"$f":"'Conversion 1'!B354/0.4","v":0},{"$f":"'Conversion 1'!B354","v":0},{"$f":"'Conversion 1'!B354/0.07","v":0},{"$f":"'Conversion 1'!B354/0.056","v":0},{"$f":"'Conversion 1'!B354/0.1","v":0},{"$f":"'Conversion 1'!B354/0.058","v":0},{"$f":"'Conversion 1'!B354/0.01","v":0},{"$f":"'Conversion 1'!B354/0.02","v":0},{"$f":"'Conversion 1'!B354/0.56","v":0},{"$f":"'Conversion 1'!B354/0.4","v":0}]
[null,{"$f":"0.1423*('Conversion 1'!D355^1.2528)","v":0},{"$f":"(0.00005*('Conversion 1'!D355^2))+(0.3389*'Conversion 1'!D355)-1.431","v":-1.431},354,{"$f":"'Conversion 1'!B355","v":0},{"$f":"'Conversion 1'!B355/0.4","v":0},{"$f":"'Conversion 1'!B355/0.4","v":0},{"$f":"'Conversion 1'!B355","v":0},{"$f":"'Conversion 1'!B355/0.07","v":0},{"$f":"'Conversion 1'!B355/0.056","v":0},{"$f":"'Conversion 1'!B355/0.1","v":0},{"$f":"'Conversion 1'!B355/0.058","v":0},{"$f":"'Conversion 1'!B355/0.01","v":0},{"$f":"'Conversion 1'!B355/0.02","v":0},{"$f":"'Conversion 1'!B355/0.56","v":0},{"$f":"'Conversion 1'!B355/0.4","v":0}]
[null,{"$f":"0.1423*('Conversion 1'!D356^1.2528)","v":0},{"$f":"(0.00005*('Conversion 1'!D356^2))+(0.3389*'Conversion 1'!D356)-1.431","v":-1.431},355,{"$f":"'Conversion 1'!B356","v":0},{"$f":"'Conversion 1'!B356/0.4","v":0},{"$f":"'Conversion 1'!B356/0.4","v":0},{"$f":"'Conversion 1'!B356","v":0},{"$f":"'Conversion 1'!B356/0.07","v":0},{"$f":"'Conversion 1'!B356/0.056","v":0},{"$f":"'Conversion 1'!B356/0.1","v":0},{"$f":"'Conversion 1'!B356/0.058","v":0},{"$f":"'Conversion 1'!B356/0.01","v":0},{"$f":"'Conversion 1'!B356/0.02","v":0},{"$f":"'Conversion 1'!B356/0.56","v":0},{"$f":"'Conversion 1'!B356/0.4","v":0}]
[null,{"$f":"0.1423*('Conversion 1'!D357^1.2528)","v":0},{"$f":"(0.00005*('Conversion 1'!D357^2))+(0.3389*'Conversion 1'!D357)-1.431","v":-1.431},356,{"$f":"'Conversion 1'!B357","v":0},{"$f":"'Conversion 1'!B357/0.4","v":0},{"$f":"'Conversion 1'!B357/0.4","v":0},{"$f":"'Conversion 1'!B357","v":0},{"$f":"'Conversion 1'!B357/0.07","v":0},{"$f":"'Conversion 1'!B357/0.056","v":0},{"$f":"'Conversion 1'!B357/0.1","v":0},{"$f":"'Conversion 1'!B357/0.058","v":0},{"$f":"'Conversion 1'!B357/0.01","v":0},{"$f":"'Conversion 1'!B357/0.02","v":0},{"$f":"'Conversion 1'!B357/0.56","v":0},{"$f":"'Conversion 1'!B357/0.4","v":0}]
[null,{"$f":"0.1423*('Conversion 1'!D358^1.2528)","v":0},{"$f":"(0.00005*('Conversion 1'!D358^2))+(0.3389*'Conversion 1'!D358)-1.431","v":-1.431},357,{"$f":"'Conversion 1'!B358","v":0},{"$f":"'Conversion 1'!B358/0.4","v":0},{"$f":"'Conversion 1'!B358/0.4","v":0},{"$f":"'Conversion 1'!B358","v":0},{"$f":"'Conversion 1'!B358/0.07","v":0},{"$f":"'Conversion 1'!B358/0.056","v":0},{"$f":"'Conversion 1'!B358/0.1","v":0},{"$f":"'Conversion 1'!B358/0.058","v":0},{"$f":"'Conversion 1'!B358/0.01","v":0},{"$f":"'Conversion 1'!B358/0.02","v":0},{"$f":"'Conversion 1'!B358/0.56","v":0},{"$f":"'Conversion 1'!B358/0.4","v":0}]
[null,{"$f":"0.1423*('Conversion 1'!D359^1.2528)","v":0},{"$f":"(0.00005*('Conversion 1'!D359^2))+(0.3389*'Conversion 1'!D359)-1.431","v":-1.431},358,{"$f":"'Conversion 1'!B359","v":0},{"$f":"'Conversion 1'!B359/0.4","v":0},{"$f":"'Conversion 1'!B359/0.4","v":0},{"$f":"'Conversion 1'!B359","v":0},{"$f":"'Conversion 1'!B359/0.07","v":0},{"$f":"'Conversion 1'!B359/0.056","v":0},{"$f":"'Conversion 1'!B359/0.1","v":0},{"$f":"'Conversion 1'!B359/0.058","v":0},{"$f":"'Conversion 1'!B359/0.01","v":0},{"$f":"'Conversion 1'!B359/0.02","v":0},{"$f":"'Conversion 1'!B359/0.56","v":0},{"$f":"'Conversion 1'!B359/0.4","v":0}]
[null,{"$f":"0.1423*('Conversion 1'!D360^1.2528)","v":0},{"$f":"(0.00005*('Conversion 1'!D360^2))+(0.3389*'Conversion 1'!D360)-1.431","v":-1.431},359,{"$f":"'Conversion 1'!B360","v":0},{"$f":"'Conversion 1'!B360/0.4","v":0},{"$f":"'Conversion 1'!B360/0.4","v":0},{"$f":"'Conversion 1'!B360","v":0},{"$f":"'Conversion 1'!B360/0.07","v":0},{"$f":"'Conversion 1'!B360/0.056","v":0},{"$f":"'Conversion 1'!B360/0.1","v":0},{"$f":"'Conversion 1'!B360/0.058","v":0},{"$f":"'Conversion 1'!B360/0.01","v":0},{"$f":"'Conversion 1'!B360/0.02","v":0},{"$f":"'Conversion 1'!B360/0.56","v":0},{"$f":"'Conversion 1'!B360/0.4","v":0}]
[null,{"$f":"0.1423*('Conversion 1'!D361^1.2528)","v":0},{"$f":"(0.00005*('Conversion 1'!D361^2))+(0.3389*'Conversion 1'!D361)-1.431","v":-1.431},360,{"$f":"'Conversion 1'!B361","v":0},{"$f":"'Conversion 1'!B361/0.4","v":0},{"$f":"'Conversion 1'!B361/0.4","v":0},{"$f":"'Conversion 1'!B361","v":0},{"$f":"'Conversion 1'!B361/0.07","v":0},{"$f":"'Conversion 1'!B361/0.056","v":0},{"$f":"'Conversion 1'!B361/0.1","v":0},{"$f":"'Conversion 1'!B361/0.058","v":0},{"$f":"'Conversion 1'!B361/0.01","v":0},{"$f":"'Conversion 1'!B361/0.02","v":0},{"$f":"'Conversion 1'!B361/0.56","v":0},{"$f":"'Conversion 1'!B361/0.4","v":0}]
[null,{"$f":"0.1423*('Conversion 1'!D362^1.2528)","v":0},{"$f":"(0.00005*('Conversion 1'!D362^2))+(0.3389*'Conversion 1'!D362)-1.431","v":-1.431},361,{"$f":"'Conversion 1'!B362","v":0},{"$f":"'Conversion 1'!B362/0.4","v":0},{"$f":"'Conversion 1'!B362/0.4","v":0},{"$f":"'Conversion 1'!B362","v":0},{"$f":"'Conversion 1'!B362/0.07","v":0},{"$f":"'Conversion 1'!B362/0.056","v":0},{"$f":"'Conversion 1'!B362/0.1","v":0},{"$f":"'Conversion 1'!B362/0.058","v":0},{"$f":"'Conversion 1'!B362/0.01","v":0},{"$f":"'Conversion 1'!B362/0.02","v":0},{"$f":"'Conversion 1'!B362/0.56","v":0},{"$f":"'Conversion 1'!B362/0.4","v":0}]
[null,{"$f":"0.1423*('Conversion 1'!D363^1.2528)","v":0},{"$f":"(0.00005*('Conversion 1'!D363^2))+(0.3389*'Conversion 1'!D363)-1.431","v":-1.431},362,{"$f":"'Conversion 1'!B363","v":0},{"$f":"'Conversion 1'!B363/0.4","v":0},{"$f":"'Conversion 1'!B363/0.4","v":0},{"$f":"'Conversion 1'!B363","v":0},{"$f":"'Conversion 1'!B363/0.07","v":0},{"$f":"'Conversion 1'!B363/0.056","v":0},{"$f":"'Conversion 1'!B363/0.1","v":0},{"$f":"'Conversion 1'!B363/0.058","v":0},{"$f":"'Conversion 1'!B363/0.01","v":0},{"$f":"'Conversion 1'!B363/0.02","v":0},{"$f":"'Conversion 1'!B363/0.56","v":0},{"$f":"'Conversion 1'!B363/0.4","v":0}]
[null,{"$f":"0.1423*('Conversion 1'!D364^1.2528)","v":0},{"$f":"(0.00005*('Conversion 1'!D364^2))+(0.3389*'Conversion 1'!D364)-1.431","v":-1.431},363,{"$f":"'Conversion 1'!B364","v":0},{"$f":"'Conversion 1'!B364/0.4","v":0},{"$f":"'Conversion 1'!B364/0.4","v":0},{"$f":"'Conversion 1'!B364","v":0},{"$f":"'Conversion 1'!B364/0.07","v":0},{"$f":"'Conversion 1'!B364/0.056","v":0},{"$f":"'Conversion 1'!B364/0.1","v":0},{"$f":"'Conversion 1'!B364/0.058","v":0},{"$f":"'Conversion 1'!B364/0.01","v":0},{"$f":"'Conversion 1'!B364/0.02","v":0},{"$f":"'Conversion 1'!B364/0.56","v":0},{"$f":"'Conversion 1'!B364/0.4","v":0}]
[null,{"$f":"0.1423*('Conversion 1'!D365^1.2528)","v":0},{"$f":"(0.00005*('Conversion 1'!D365^2))+(0.3389*'Conversion 1'!D365)-1.431","v":-1.431},364,{"$f":"'Conversion 1'!B365","v":0},{"$f":"'Conversion 1'!B365/0.4","v":0},{"$f":"'Conversion 1'!B365/0.4","v":0},{"$f":"'Conversion 1'!B365","v":0},{"$f":"'Conversion 1'!B365/0.07","v":0},{"$f":"'Conversion 1'!B365/0.056","v":0},{"$f":"'Conversion 1'!B365/0.1","v":0},{"$f":"'Conversion 1'!B365/0.058","v":0},{"$f":"'Conversion 1'!B365/0.01","v":0},{"$f":"'Conversion 1'!B365/0.02","v":0},{"$f":"'Conversion 1'!B365/0.56","v":0},{"$f":"'Conversion 1'!B365/0.4","v":0}]
[null,{"$f":"0.1423*('Conversion 1'!D366^1.2528)","v":0},{"$f":"(0.00005*('Conversion 1'!D366^2))+(0.3389*'Conversion 1'!D366)-1.431","v":-1.431},365,{"$f":"'Conversion 1'!B366","v":0},{"$f":"'Conversion 1'!B366/0.4","v":0},{"$f":"'Conversion 1'!B366/0.4","v":0},{"$f":"'Conversion 1'!B366","v":0},{"$f":"'Conversion 1'!B366/0.07","v":0},{"$f":"'Conversion 1'!B366/0.056","v":0},{"$f":"'Conversion 1'!B366/0.1","v":0},{"$f":"'Conversion 1'!B366/0.058","v":0},{"$f":"'Conversion 1'!B366/0.01","v":0},{"$f":"'Conversion 1'!B366/0.02","v":0},{"$f":"'Conversion 1'!B366/0.56","v":0},{"$f":"'Conversion 1'!B366/0.4","v":0}]
[null,{"$f":"0.1423*('Conversion 1'!D367^1.2528)","v":0},{"$f":"(0.00005*('Conversion 1'!D367^2))+(0.3389*'Conversion 1'!D367)-1.431","v":-1.431},366,{"$f":"'Conversion 1'!B367","v":0},{"$f":"'Conversion 1'!B367/0.4","v":0},{"$f":"'Conversion 1'!B367/0.4","v":0},{"$f":"'Conversion 1'!B367","v":0},{"$f":"'Conversion 1'!B367/0.07","v":0},{"$f":"'Conversion 1'!B367/0.056","v":0},{"$f":"'Conversion 1'!B367/0.1","v":0},{"$f":"'Conversion 1'!B367/0.058","v":0},{"$f":"'Conversion 1'!B367/0.01","v":0},{"$f":"'Conversion 1'!B367/0.02","v":0},{"$f":"'Conversion 1'!B367/0.56","v":0},{"$f":"'Conversion 1'!B367/0.4","v":0}]
[null,{"$f":"0.1423*('Conversion 1'!D368^1.2528)","v":0},{"$f":"(0.00005*('Conversion 1'!D368^2))+(0.3389*'Conversion 1'!D368)-1.431","v":-1.431},367,{"$f":"'Conversion 1'!B368","v":0},{"$f":"'Conversion 1'!B368/0.4","v":0},{"$f":"'Conversion 1'!B368/0.4","v":0},{"$f":"'Conversion 1'!B368","v":0},{"$f":"'Conversion 1'!B368/0.07","v":0},{"$f":"'Conversion 1'!B368/0.056","v":0},{"$f":"'Conversion 1'!B368/0.1","v":0},{"$f":"'Conversion 1'!B368/0.058","v":0},{"$f":"'Conversion 1'!B368/0.01","v":0},{"$f":"'Conversion 1'!B368/0.02","v":0},{"$f":"'Conversion 1'!B368/0.56","v":0},{"$f":"'Conversion 1'!B368/0.4","v":0}]
[null,{"$f":"0.1423*('Conversion 1'!D369^1.2528)","v":0},{"$f":"(0.00005*('Conversion 1'!D369^2))+(0.3389*'Conversion 1'!D369)-1.431","v":-1.431},368,{"$f":"'Conversion 1'!B369","v":0},{"$f":"'Conversion 1'!B369/0.4","v":0},{"$f":"'Conversion 1'!B369/0.4","v":0},{"$f":"'Conversion 1'!B369","v":0},{"$f":"'Conversion 1'!B369/0.07","v":0},{"$f":"'Conversion 1'!B369/0.056","v":0},{"$f":"'Conversion 1'!B369/0.1","v":0},{"$f":"'Conversion 1'!B369/0.058","v":0},{"$f":"'Conversion 1'!B369/0.01","v":0},{"$f":"'Conversion 1'!B369/0.02","v":0},{"$f":"'Conversion 1'!B369/0.56","v":0},{"$f":"'Conversion 1'!B369/0.4","v":0}]
[null,{"$f":"0.1423*('Conversion 1'!D370^1.2528)","v":0},{"$f":"(0.00005*('Conversion 1'!D370^2))+(0.3389*'Conversion 1'!D370)-1.431","v":-1.431},369,{"$f":"'Conversion 1'!B370","v":0},{"$f":"'Conversion 1'!B370/0.4","v":0},{"$f":"'Conversion 1'!B370/0.4","v":0},{"$f":"'Conversion 1'!B370","v":0},{"$f":"'Conversion 1'!B370/0.07","v":0},{"$f":"'Conversion 1'!B370/0.056","v":0},{"$f":"'Conversion 1'!B370/0.1","v":0},{"$f":"'Conversion 1'!B370/0.058","v":0},{"$f":"'Conversion 1'!B370/0.01","v":0},{"$f":"'Conversion 1'!B370/0.02","v":0},{"$f":"'Conversion 1'!B370/0.56","v":0},{"$f":"'Conversion 1'!B370/0.4","v":0}]
[null,{"$f":"0.1423*('Conversion 1'!D371^1.2528)","v":0},{"$f":"(0.00005*('Conversion 1'!D371^2))+(0.3389*'Conversion 1'!D371)-1.431","v":-1.431},370,{"$f":"'Conversion 1'!B371","v":0},{"$f":"'Conversion 1'!B371/0.4","v":0},{"$f":"'Conversion 1'!B371/0.4","v":0},{"$f":"'Conversion 1'!B371","v":0},{"$f":"'Conversion 1'!B371/0.07","v":0},{"$f":"'Conversion 1'!B371/0.056","v":0},{"$f":"'Conversion 1'!B371/0.1","v":0},{"$f":"'Conversion 1'!B371/0.058","v":0},{"$f":"'Conversion 1'!B371/0.01","v":0},{"$f":"'Conversion 1'!B371/0.02","v":0},{"$f":"'Conversion 1'!B371/0.56","v":0},{"$f":"'Conversion 1'!B371/0.4","v":0}]
[null,{"$f":"0.1423*('Conversion 1'!D372^1.2528)","v":0},{"$f":"(0.00005*('Conversion 1'!D372^2))+(0.3389*'Conversion 1'!D372)-1.431","v":-1.431},371,{"$f":"'Conversion 1'!B372","v":0},{"$f":"'Conversion 1'!B372/0.4","v":0},{"$f":"'Conversion 1'!B372/0.4","v":0},{"$f":"'Conversion 1'!B372","v":0},{"$f":"'Conversion 1'!B372/0.07","v":0},{"$f":"'Conversion 1'!B372/0.056","v":0},{"$f":"'Conversion 1'!B372/0.1","v":0},{"$f":"'Conversion 1'!B372/0.058","v":0},{"$f":"'Conversion 1'!B372/0.01","v":0},{"$f":"'Conversion 1'!B372/0.02","v":0},{"$f":"'Conversion 1'!B372/0.56","v":0},{"$f":"'Conversion 1'!B372/0.4","v":0}]
[null,{"$f":"0.1423*('Conversion 1'!D373^1.2528)","v":0},{"$f":"(0.00005*('Conversion 1'!D373^2))+(0.3389*'Conversion 1'!D373)-1.431","v":-1.431},372,{"$f":"'Conversion 1'!B373","v":0},{"$f":"'Conversion 1'!B373/0.4","v":0},{"$f":"'Conversion 1'!B373/0.4","v":0},{"$f":"'Conversion 1'!B373","v":0},{"$f":"'Conversion 1'!B373/0.07","v":0},{"$f":"'Conversion 1'!B373/0.056","v":0},{"$f":"'Conversion 1'!B373/0.1","v":0},{"$f":"'Conversion 1'!B373/0.058","v":0},{"$f":"'Conversion 1'!B373/0.01","v":0},{"$f":"'Conversion 1'!B373/0.02","v":0},{"$f":"'Conversion 1'!B373/0.56","v":0},{"$f":"'Conversion 1'!B373/0.4","v":0}]
[null,{"$f":"0.1423*('Conversion 1'!D374^1.2528)","v":0},{"$f":"(0.00005*('Conversion 1'!D374^2))+(0.3389*'Conversion 1'!D374)-1.431","v":-1.431},373,{"$f":"'Conversion 1'!B374","v":0},{"$f":"'Conversion 1'!B374/0.4","v":0},{"$f":"'Conversion 1'!B374/0.4","v":0},{"$f":"'Conversion 1'!B374","v":0},{"$f":"'Conversion 1'!B374/0.07","v":0},{"$f":"'Conversion 1'!B374/0.056","v":0},{"$f":"'Conversion 1'!B374/0.1","v":0},{"$f":"'Conversion 1'!B374/0.058","v":0},{"$f":"'Conversion 1'!B374/0.01","v":0},{"$f":"'Conversion 1'!B374/0.02","v":0},{"$f":"'Conversion 1'!B374/0.56","v":0},{"$f":"'Conversion 1'!B374/0.4","v":0}]
[null,{"$f":"0.1423*('Conversion 1'!D375^1.2528)","v":0},{"$f":"(0.00005*('Conversion 1'!D375^2))+(0.3389*'Conversion 1'!D375)-1.431","v":-1.431},374,{"$f":"'Conversion 1'!B375","v":0},{"$f":"'Conversion 1'!B375/0.4","v":0},{"$f":"'Conversion 1'!B375/0.4","v":0},{"$f":"'Conversion 1'!B375","v":0},{"$f":"'Conversion 1'!B375/0.07","v":0},{"$f":"'Conversion 1'!B375/0.056","v":0},{"$f":"'Conversion 1'!B375/0.1","v":0},{"$f":"'Conversion 1'!B375/0.058","v":0},{"$f":"'Conversion 1'!B375/0.01","v":0},{"$f":"'Conversion 1'!B375/0.02","v":0},{"$f":"'Conversion 1'!B375/0.56","v":0},{"$f":"'Conversion 1'!B375/0.4","v":0}]
[null,{"$f":"0.1423*('Conversion 1'!D376^1.2528)","v":0},{"$f":"(0.00005*('Conversion 1'!D376^2))+(0.3389*'Conversion 1'!D376)-1.431","v":-1.431},375,{"$f":"'Conversion 1'!B376","v":0},{"$f":"'Conversion 1'!B376/0.4","v":0},{"$f":"'Conversion 1'!B376/0.4","v":0},{"$f":"'Conversion 1'!B376","v":0},{"$f":"'Conversion 1'!B376/0.07","v":0},{"$f":"'Conversion 1'!B376/0.056","v":0},{"$f":"'Conversion 1'!B376/0.1","v":0},{"$f":"'Conversion 1'!B376/0.058","v":0},{"$f":"'Conversion 1'!B376/0.01","v":0},{"$f":"'Conversion 1'!B376/0.02","v":0},{"$f":"'Conversion 1'!B376/0.56","v":0},{"$f":"'Conversion 1'!B376/0.4","v":0}]
[null,{"$f":"0.1423*('Conversion 1'!D377^1.2528)","v":0},{"$f":"(0.00005*('Conversion 1'!D377^2))+(0.3389*'Conversion 1'!D377)-1.431","v":-1.431},376,{"$f":"'Conversion 1'!B377","v":0},{"$f":"'Conversion 1'!B377/0.4","v":0},{"$f":"'Conversion 1'!B377/0.4","v":0},{"$f":"'Conversion 1'!B377","v":0},{"$f":"'Conversion 1'!B377/0.07","v":0},{"$f":"'Conversion 1'!B377/0.056","v":0},{"$f":"'Conversion 1'!B377/0.1","v":0},{"$f":"'Conversion 1'!B377/0.058","v":0},{"$f":"'Conversion 1'!B377/0.01","v":0},{"$f":"'Conversion 1'!B377/0.02","v":0},{"$f":"'Conversion 1'!B377/0.56","v":0},{"$f":"'Conversion 1'!B377/0.4","v":0}]
[null,{"$f":"0.1423*('Conversion 1'!D378^1.2528)","v":0},{"$f":"(0.00005*('Conversion 1'!D378^2))+(0.3389*'Conversion 1'!D378)-1.431","v":-1.431},377,{"$f":"'Conversion 1'!B378","v":0},{"$f":"'Conversion 1'!B378/0.4","v":0},{"$f":"'Conversion 1'!B378/0.4","v":0},{"$f":"'Conversion 1'!B378","v":0},{"$f":"'Conversion 1'!B378/0.07","v":0},{"$f":"'Conversion 1'!B378/0.056","v":0},{"$f":"'Conversion 1'!B378/0.1","v":0},{"$f":"'Conversion 1'!B378/0.058","v":0},{"$f":"'Conversion 1'!B378/0.01","v":0},{"$f":"'Conversion 1'!B378/0.02","v":0},{"$f":"'Conversion 1'!B378/0.56","v":0},{"$f":"'Conversion 1'!B378/0.4","v":0}]
[null,{"$f":"0.1423*('Conversion 1'!D379^1.2528)","v":0},{"$f":"(0.00005*('Conversion 1'!D379^2))+(0.3389*'Conversion 1'!D379)-1.431","v":-1.431},378,{"$f":"'Conversion 1'!B379","v":0},{"$f":"'Conversion 1'!B379/0.4","v":0},{"$f":"'Conversion 1'!B379/0.4","v":0},{"$f":"'Conversion 1'!B379","v":0},{"$f":"'Conversion 1'!B379/0.07","v":0},{"$f":"'Conversion 1'!B379/0.056","v":0},{"$f":"'Conversion 1'!B379/0.1","v":0},{"$f":"'Conversion 1'!B379/0.058","v":0},{"$f":"'Conversion 1'!B379/0.01","v":0},{"$f":"'Conversion 1'!B379/0.02","v":0},{"$f":"'Conversion 1'!B379/0.56","v":0},{"$f":"'Conversion 1'!B379/0.4","v":0}]
[null,{"$f":"0.1423*('Conversion 1'!D380^1.2528)","v":0},{"$f":"(0.00005*('Conversion 1'!D380^2))+(0.3389*'Conversion 1'!D380)-1.431","v":-1.431},379,{"$f":"'Conversion 1'!B380","v":0},{"$f":"'Conversion 1'!B380/0.4","v":0},{"$f":"'Conversion 1'!B380/0.4","v":0},{"$f":"'Conversion 1'!B380","v":0},{"$f":"'Conversion 1'!B380/0.07","v":0},{"$f":"'Conversion 1'!B380/0.056","v":0},{"$f":"'Conversion 1'!B380/0.1","v":0},{"$f":"'Conversion 1'!B380/0.058","v":0},{"$f":"'Conversion 1'!B380/0.01","v":0},{"$f":"'Conversion 1'!B380/0.02","v":0},{"$f":"'Conversion 1'!B380/0.56","v":0},{"$f":"'Conversion 1'!B380/0.4","v":0}]
[null,{"$f":"0.1423*('Conversion 1'!D381^1.2528)","v":0},{"$f":"(0.00005*('Conversion 1'!D381^2))+(0.3389*'Conversion 1'!D381)-1.431","v":-1.431},380,{"$f":"'Conversion 1'!B381","v":0},{"$f":"'Conversion 1'!B381/0.4","v":0},{"$f":"'Conversion 1'!B381/0.4","v":0},{"$f":"'Conversion 1'!B381","v":0},{"$f":"'Conversion 1'!B381/0.07","v":0},{"$f":"'Conversion 1'!B381/0.056","v":0},{"$f":"'Conversion 1'!B381/0.1","v":0},{"$f":"'Conversion 1'!B381/0.058","v":0},{"$f":"'Conversion 1'!B381/0.01","v":0},{"$f":"'Conversion 1'!B381/0.02","v":0},{"$f":"'Conversion 1'!B381/0.56","v":0},{"$f":"'Conversion 1'!B381/0.4","v":0}]
[null,{"$f":"0.1423*('Conversion 1'!D382^1.2528)","v":0},{"$f":"(0.00005*('Conversion 1'!D382^2))+(0.3389*'Conversion 1'!D382)-1.431","v":-1.431},381,{"$f":"'Conversion 1'!B382","v":0},{"$f":"'Conversion 1'!B382/0.4","v":0},{"$f":"'Conversion 1'!B382/0.4","v":0},{"$f":"'Conversion 1'!B382","v":0},{"$f":"'Conversion 1'!B382/0.07","v":0},{"$f":"'Conversion 1'!B382/0.056","v":0},{"$f":"'Conversion 1'!B382/0.1","v":0},{"$f":"'Conversion 1'!B382/0.058","v":0},{"$f":"'Conversion 1'!B382/0.01","v":0},{"$f":"'Conversion 1'!B382/0.02","v":0},{"$f":"'Conversion 1'!B382/0.56","v":0},{"$f":"'Conversion 1'!B382/0.4","v":0}]
[null,{"$f":"0.1423*('Conversion 1'!D383^1.2528)","v":0},{"$f":"(0.00005*('Conversion 1'!D383^2))+(0.3389*'Conversion 1'!D383)-1.431","v":-1.431},382,{"$f":"'Conversion 1'!B383","v":0},{"$f":"'Conversion 1'!B383/0.4","v":0},{"$f":"'Conversion 1'!B383/0.4","v":0},{"$f":"'Conversion 1'!B383","v":0},{"$f":"'Conversion 1'!B383/0.07","v":0},{"$f":"'Conversion 1'!B383/0.056","v":0},{"$f":"'Conversion 1'!B383/0.1","v":0},{"$f":"'Conversion 1'!B383/0.058","v":0},{"$f":"'Conversion 1'!B383/0.01","v":0},{"$f":"'Conversion 1'!B383/0.02","v":0},{"$f":"'Conversion 1'!B383/0.56","v":0},{"$f":"'Conversion 1'!B383/0.4","v":0}]
[null,{"$f":"0.1423*('Conversion 1'!D384^1.2528)","v":0},{"$f":"(0.00005*('Conversion 1'!D384^2))+(0.3389*'Conversion 1'!D384)-1.431","v":-1.431},383,{"$f":"'Conversion 1'!B384","v":0},{"$f":"'Conversion 1'!B384/0.4","v":0},{"$f":"'Conversion 1'!B384/0.4","v":0},{"$f":"'Conversion 1'!B384","v":0},{"$f":"'Conversion 1'!B384/0.07","v":0},{"$f":"'Conversion 1'!B384/0.056","v":0},{"$f":"'Conversion 1'!B384/0.1","v":0},{"$f":"'Conversion 1'!B384/0.058","v":0},{"$f":"'Conversion 1'!B384/0.01","v":0},{"$f":"'Conversion 1'!B384/0.02","v":0},{"$f":"'Conversion 1'!B384/0.56","v":0},{"$f":"'Conversion 1'!B384/0.4","v":0}]
[null,{"$f":"0.1423*('Conversion 1'!D385^1.2528)","v":0},{"$f":"(0.00005*('Conversion 1'!D385^2))+(0.3389*'Conversion 1'!D385)-1.431","v":-1.431},384,{"$f":"'Conversion 1'!B385","v":0},{"$f":"'Conversion 1'!B385/0.4","v":0},{"$f":"'Conversion 1'!B385/0.4","v":0},{"$f":"'Conversion 1'!B385","v":0},{"$f":"'Conversion 1'!B385/0.07","v":0},{"$f":"'Conversion 1'!B385/0.056","v":0},{"$f":"'Conversion 1'!B385/0.1","v":0},{"$f":"'Conversion 1'!B385/0.058","v":0},{"$f":"'Conversion 1'!B385/0.01","v":0},{"$f":"'Conversion 1'!B385/0.02","v":0},{"$f":"'Conversion 1'!B385/0.56","v":0},{"$f":"'Conversion 1'!B385/0.4","v":0}]
[null,{"$f":"0.1423*('Conversion 1'!D386^1.2528)","v":0},{"$f":"(0.00005*('Conversion 1'!D386^2))+(0.3389*'Conversion 1'!D386)-1.431","v":-1.431},385,{"$f":"'Conversion 1'!B386","v":0},{"$f":"'Conversion 1'!B386/0.4","v":0},{"$f":"'Conversion 1'!B386/0.4","v":0},{"$f":"'Conversion 1'!B386","v":0},{"$f":"'Conversion 1'!B386/0.07","v":0},{"$f":"'Conversion 1'!B386/0.056","v":0},{"$f":"'Conversion 1'!B386/0.1","v":0},{"$f":"'Conversion 1'!B386/0.058","v":0},{"$f":"'Conversion 1'!B386/0.01","v":0},{"$f":"'Conversion 1'!B386/0.02","v":0},{"$f":"'Conversion 1'!B386/0.56","v":0},{"$f":"'Conversion 1'!B386/0.4","v":0}]
[null,{"$f":"0.1423*('Conversion 1'!D387^1.2528)","v":0},{"$f":"(0.00005*('Conversion 1'!D387^2))+(0.3389*'Conversion 1'!D387)-1.431","v":-1.431},386,{"$f":"'Conversion 1'!B387","v":0},{"$f":"'Conversion 1'!B387/0.4","v":0},{"$f":"'Conversion 1'!B387/0.4","v":0},{"$f":"'Conversion 1'!B387","v":0},{"$f":"'Conversion 1'!B387/0.07","v":0},{"$f":"'Conversion 1'!B387/0.056","v":0},{"$f":"'Conversion 1'!B387/0.1","v":0},{"$f":"'Conversion 1'!B387/0.058","v":0},{"$f":"'Conversion 1'!B387/0.01","v":0},{"$f":"'Conversion 1'!B387/0.02","v":0},{"$f":"'Conversion 1'!B387/0.56","v":0},{"$f":"'Conversion 1'!B387/0.4","v":0}]
[null,{"$f":"0.1423*('Conversion 1'!D388^1.2528)","v":0},{"$f":"(0.00005*('Conversion 1'!D388^2))+(0.3389*'Conversion 1'!D388)-1.431","v":-1.431},387,{"$f":"'Conversion 1'!B388","v":0},{"$f":"'Conversion 1'!B388/0.4","v":0},{"$f":"'Conversion 1'!B388/0.4","v":0},{"$f":"'Conversion 1'!B388","v":0},{"$f":"'Conversion 1'!B388/0.07","v":0},{"$f":"'Conversion 1'!B388/0.056","v":0},{"$f":"'Conversion 1'!B388/0.1","v":0},{"$f":"'Conversion 1'!B388/0.058","v":0},{"$f":"'Conversion 1'!B388/0.01","v":0},{"$f":"'Conversion 1'!B388/0.02","v":0},{"$f":"'Conversion 1'!B388/0.56","v":0},{"$f":"'Conversion 1'!B388/0.4","v":0}]
[null,{"$f":"0.1423*('Conversion 1'!D389^1.2528)","v":0},{"$f":"(0.00005*('Conversion 1'!D389^2))+(0.3389*'Conversion 1'!D389)-1.431","v":-1.431},388,{"$f":"'Conversion 1'!B389","v":0},{"$f":"'Conversion 1'!B389/0.4","v":0},{"$f":"'Conversion 1'!B389/0.4","v":0},{"$f":"'Conversion 1'!B389","v":0},{"$f":"'Conversion 1'!B389/0.07","v":0},{"$f":"'Conversion 1'!B389/0.056","v":0},{"$f":"'Conversion 1'!B389/0.1","v":0},{"$f":"'Conversion 1'!B389/0.058","v":0},{"$f":"'Conversion 1'!B389/0.01","v":0},{"$f":"'Conversion 1'!B389/0.02","v":0},{"$f":"'Conversion 1'!B389/0.56","v":0},{"$f":"'Conversion 1'!B389/0.4","v":0}]
[null,{"$f":"0.1423*('Conversion 1'!D390^1.2528)","v":0},{"$f":"(0.00005*('Conversion 1'!D390^2))+(0.3389*'Conversion 1'!D390)-1.431","v":-1.431},389,{"$f":"'Conversion 1'!B390","v":0},{"$f":"'Conversion 1'!B390/0.4","v":0},{"$f":"'Conversion 1'!B390/0.4","v":0},{"$f":"'Conversion 1'!B390","v":0},{"$f":"'Conversion 1'!B390/0.07","v":0},{"$f":"'Conversion 1'!B390/0.056","v":0},{"$f":"'Conversion 1'!B390/0.1","v":0},{"$f":"'Conversion 1'!B390/0.058","v":0},{"$f":"'Conversion 1'!B390/0.01","v":0},{"$f":"'Conversion 1'!B390/0.02","v":0},{"$f":"'Conversion 1'!B390/0.56","v":0},{"$f":"'Conversion 1'!B390/0.4","v":0}]
[null,{"$f":"0.1423*('Conversion 1'!D391^1.2528)","v":0},{"$f":"(0.00005*('Conversion 1'!D391^2))+(0.3389*'Conversion 1'!D391)-1.431","v":-1.431},390,{"$f":"'Conversion 1'!B391","v":0},{"$f":"'Conversion 1'!B391/0.4","v":0},{"$f":"'Conversion 1'!B391/0.4","v":0},{"$f":"'Conversion 1'!B391","v":0},{"$f":"'Conversion 1'!B391/0.07","v":0},{"$f":"'Conversion 1'!B391/0.056","v":0},{"$f":"'Conversion 1'!B391/0.1","v":0},{"$f":"'Conversion 1'!B391/0.058","v":0},{"$f":"'Conversion 1'!B391/0.01","v":0},{"$f":"'Conversion 1'!B391/0.02","v":0},{"$f":"'Conversion 1'!B391/0.56","v":0},{"$f":"'Conversion 1'!B391/0.4","v":0}]
[null,{"$f":"0.1423*('Conversion 1'!D392^1.2528)","v":0},{"$f":"(0.00005*('Conversion 1'!D392^2))+(0.3389*'Conversion 1'!D392)-1.431","v":-1.431},391,{"$f":"'Conversion 1'!B392","v":0},{"$f":"'Conversion 1'!B392/0.4","v":0},{"$f":"'Conversion 1'!B392/0.4","v":0},{"$f":"'Conversion 1'!B392","v":0},{"$f":"'Conversion 1'!B392/0.07","v":0},{"$f":"'Conversion 1'!B392/0.056","v":0},{"$f":"'Conversion 1'!B392/0.1","v":0},{"$f":"'Conversion 1'!B392/0.058","v":0},{"$f":"'Conversion 1'!B392/0.01","v":0},{"$f":"'Conversion 1'!B392/0.02","v":0},{"$f":"'Conversion 1'!B392/0.56","v":0},{"$f":"'Conversion 1'!B392/0.4","v":0}]
[null,{"$f":"0.1423*('Conversion 1'!D393^1.2528)","v":0},{"$f":"(0.00005*('Conversion 1'!D393^2))+(0.3389*'Conversion 1'!D393)-1.431","v":-1.431},392,{"$f":"'Conversion 1'!B393","v":0},{"$f":"'Conversion 1'!B393/0.4","v":0},{"$f":"'Conversion 1'!B393/0.4","v":0},{"$f":"'Conversion 1'!B393","v":0},{"$f":"'Conversion 1'!B393/0.07","v":0},{"$f":"'Conversion 1'!B393/0.056","v":0},{"$f":"'Conversion 1'!B393/0.1","v":0},{"$f":"'Conversion 1'!B393/0.058","v":0},{"$f":"'Conversion 1'!B393/0.01","v":0},{"$f":"'Conversion 1'!B393/0.02","v":0},{"$f":"'Conversion 1'!B393/0.56","v":0},{"$f":"'Conversion 1'!B393/0.4","v":0}]
[null,{"$f":"0.1423*('Conversion 1'!D394^1.2528)","v":0},{"$f":"(0.00005*('Conversion 1'!D394^2))+(0.3389*'Conversion 1'!D394)-1.431","v":-1.431},393,{"$f":"'Conversion 1'!B394","v":0},{"$f":"'Conversion 1'!B394/0.4","v":0},{"$f":"'Conversion 1'!B394/0.4","v":0},{"$f":"'Conversion 1'!B394","v":0},{"$f":"'Conversion 1'!B394/0.07","v":0},{"$f":"'Conversion 1'!B394/0.056","v":0},{"$f":"'Conversion 1'!B394/0.1","v":0},{"$f":"'Conversion 1'!B394/0.058","v":0},{"$f":"'Conversion 1'!B394/0.01","v":0},{"$f":"'Conversion 1'!B394/0.02","v":0},{"$f":"'Conversion 1'!B394/0.56","v":0},{"$f":"'Conversion 1'!B394/0.4","v":0}]
[null,{"$f":"0.1423*('Conversion 1'!D395^1.2528)","v":0},{"$f":"(0.00005*('Conversion 1'!D395^2))+(0.3389*'Conversion 1'!D395)-1.431","v":-1.431},394,{"$f":"'Conversion 1'!B395","v":0},{"$f":"'Conversion 1'!B395/0.4","v":0},{"$f":"'Conversion 1'!B395/0.4","v":0},{"$f":"'Conversion 1'!B395","v":0},{"$f":"'Conversion 1'!B395/0.07","v":0},{"$f":"'Conversion 1'!B395/0.056","v":0},{"$f":"'Conversion 1'!B395/0.1","v":0},{"$f":"'Conversion 1'!B395/0.058","v":0},{"$f":"'Conversion 1'!B395/0.01","v":0},{"$f":"'Conversion 1'!B395/0.02","v":0},{"$f":"'Conversion 1'!B395/0.56","v":0},{"$f":"'Conversion 1'!B395/0.4","v":0}]
[null,{"$f":"0.1423*('Conversion 1'!D396^1.2528)","v":0},{"$f":"(0.00005*('Conversion 1'!D396^2))+(0.3389*'Conversion 1'!D396)-1.431","v":-1.431},395,{"$f":"'Conversion 1'!B396","v":0},{"$f":"'Conversion 1'!B396/0.4","v":0},{"$f":"'Conversion 1'!B396/0.4","v":0},{"$f":"'Conversion 1'!B396","v":0},{"$f":"'Conversion 1'!B396/0.07","v":0},{"$f":"'Conversion 1'!B396/0.056","v":0},{"$f":"'Conversion 1'!B396/0.1","v":0},{"$f":"'Conversion 1'!B396/0.058","v":0},{"$f":"'Conversion 1'!B396/0.01","v":0},{"$f":"'Conversion 1'!B396/0.02","v":0},{"$f":"'Conversion 1'!B396/0.56","v":0},{"$f":"'Conversion 1'!B396/0.4","v":0}]
[null,{"$f":"0.1423*('Conversion 1'!D397^1.2528)","v":0},{"$f":"(0.00005*('Conversion 1'!D397^2))+(0.3389*'Conversion 1'!D397)-1.431","v":-1.431},396,{"$f":"'Conversion 1'!B397","v":0},{"$f":"'Conversion 1'!B397/0.4","v":0},{"$f":"'Conversion 1'!B397/0.4","v":0},{"$f":"'Conversion 1'!B397","v":0},{"$f":"'Conversion 1'!B397/0.07","v":0},{"$f":"'Conversion 1'!B397/0.056","v":0},{"$f":"'Conversion 1'!B397/0.1","v":0},{"$f":"'Conversion 1'!B397/0.058","v":0},{"$f":"'Conversion 1'!B397/0.01","v":0},{"$f":"'Conversion 1'!B397/0.02","v":0},{"$f":"'Conversion 1'!B397/0.56","v":0},{"$f":"'Conversion 1'!B397/0.4","v":0}]
[null,{"$f":"0.1423*('Conversion 1'!D398^1.2528)","v":0},{"$f":"(0.00005*('Conversion 1'!D398^2))+(0.3389*'Conversion 1'!D398)-1.431","v":-1.431},397,{"$f":"'Conversion 1'!B398","v":0},{"$f":"'Conversion 1'!B398/0.4","v":0},{"$f":"'Conversion 1'!B398/0.4","v":0},{"$f":"'Conversion 1'!B398","v":0},{"$f":"'Conversion 1'!B398/0.07","v":0},{"$f":"'Conversion 1'!B398/0.056","v":0},{"$f":"'Conversion 1'!B398/0.1","v":0},{"$f":"'Conversion 1'!B398/0.058","v":0},{"$f":"'Conversion 1'!B398/0.01","v":0},{"$f":"'Conversion 1'!B398/0.02","v":0},{"$f":"'Conversion 1'!B398/0.56","v":0},{"$f":"'Conversion 1'!B398/0.4","v":0}]
[null,{"$f":"0.1423*('Conversion 1'!D399^1.2528)","v":0},{"$f":"(0.00005*('Conversion 1'!D399^2))+(0.3389*'Conversion 1'!D399)-1.431","v":-1.431},398,{"$f":"'Conversion 1'!B399","v":0},{"$f":"'Conversion 1'!B399/0.4","v":0},{"$f":"'Conversion 1'!B399/0.4","v":0},{"$f":"'Conversion 1'!B399","v":0},{"$f":"'Conversion 1'!B399/0.07","v":0},{"$f":"'Conversion 1'!B399/0.056","v":0},{"$f":"'Conversion 1'!B399/0.1","v":0},{"$f":"'Conversion 1'!B399/0.058","v":0},{"$f":"'Conversion 1'!B399/0.01","v":0},{"$f":"'Conversion 1'!B399/0.02","v":0},{"$f":"'Conversion 1'!B399/0.56","v":0},{"$f":"'Conversion 1'!B399/0.4","v":0}]
[null,{"$f":"0.1423*('Conversion 1'!D400^1.2528)","v":0},{"$f":"(0.00005*('Conversion 1'!D400^2))+(0.3389*'Conversion 1'!D400)-1.431","v":-1.431},399,{"$f":"'Conversion 1'!B400","v":0},{"$f":"'Conversion 1'!B400/0.4","v":0},{"$f":"'Conversion 1'!B400/0.4","v":0},{"$f":"'Conversion 1'!B400","v":0},{"$f":"'Conversion 1'!B400/0.07","v":0},{"$f":"'Conversion 1'!B400/0.056","v":0},{"$f":"'Conversion 1'!B400/0.1","v":0},{"$f":"'Conversion 1'!B400/0.058","v":0},{"$f":"'Conversion 1'!B400/0.01","v":0},{"$f":"'Conversion 1'!B400/0.02","v":0},{"$f":"'Conversion 1'!B400/0.56","v":0},{"$f":"'Conversion 1'!B400/0.4","v":0}]
[null,{"$f":"0.1423*('Conversion 1'!D401^1.2528)","v":0},{"$f":"(0.00005*('Conversion 1'!D401^2))+(0.3389*'Conversion 1'!D401)-1.431","v":-1.431},400,{"$f":"'Conversion 1'!B401","v":0},{"$f":"'Conversion 1'!B401/0.4","v":0},{"$f":"'Conversion 1'!B401/0.4","v":0},{"$f":"'Conversion 1'!B401","v":0},{"$f":"'Conversion 1'!B401/0.07","v":0},{"$f":"'Conversion 1'!B401/0.056","v":0},{"$f":"'Conversion 1'!B401/0.1","v":0},{"$f":"'Conversion 1'!B401/0.058","v":0},{"$f":"'Conversion 1'!B401/0.01","v":0},{"$f":"'Conversion 1'!B401/0.02","v":0},{"$f":"'Conversion 1'!B401/0.56","v":0},{"$f":"'Conversion 1'!B401/0.4","v":0}]
[null,{"$f":"0.1423*('Conversion 1'!D402^1.2528)","v":0},{"$f":"(0.00005*('Conversion 1'!D402^2))+(0.3389*'Conversion 1'!D402)-1.431","v":-1.431},401,{"$f":"'Conversion 1'!B402","v":0},{"$f":"'Conversion 1'!B402/0.4","v":0},{"$f":"'Conversion 1'!B402/0.4","v":0},{"$f":"'Conversion 1'!B402","v":0},{"$f":"'Conversion 1'!B402/0.07","v":0},{"$f":"'Conversion 1'!B402/0.056","v":0},{"$f":"'Conversion 1'!B402/0.1","v":0},{"$f":"'Conversion 1'!B402/0.058","v":0},{"$f":"'Conversion 1'!B402/0.01","v":0},{"$f":"'Conversion 1'!B402/0.02","v":0},{"$f":"'Conversion 1'!B402/0.56","v":0},{"$f":"'Conversion 1'!B402/0.4","v":0}]
[null,{"$f":"0.1423*('Conversion 1'!D403^1.2528)","v":0},{"$f":"(0.00005*('Conversion 1'!D403^2))+(0.3389*'Conversion 1'!D403)-1.431","v":-1.431},402,{"$f":"'Conversion 1'!B403","v":0},{"$f":"'Conversion 1'!B403/0.4","v":0},{"$f":"'Conversion 1'!B403/0.4","v":0},{"$f":"'Conversion 1'!B403","v":0},{"$f":"'Conversion 1'!B403/0.07","v":0},{"$f":"'Conversion 1'!B403/0.056","v":0},{"$f":"'Conversion 1'!B403/0.1","v":0},{"$f":"'Conversion 1'!B403/0.058","v":0},{"$f":"'Conversion 1'!B403/0.01","v":0},{"$f":"'Conversion 1'!B403/0.02","v":0},{"$f":"'Conversion 1'!B403/0.56","v":0},{"$f":"'Conversion 1'!B403/0.4","v":0}]
[null,{"$f":"0.1423*('Conversion 1'!D404^1.2528)","v":0},{"$f":"(0.00005*('Conversion 1'!D404^2))+(0.3389*'Conversion 1'!D404)-1.431","v":-1.431},403,{"$f":"'Conversion 1'!B404","v":0},{"$f":"'Conversion 1'!B404/0.4","v":0},{"$f":"'Conversion 1'!B404/0.4","v":0},{"$f":"'Conversion 1'!B404","v":0},{"$f":"'Conversion 1'!B404/0.07","v":0},{"$f":"'Conversion 1'!B404/0.056","v":0},{"$f":"'Conversion 1'!B404/0.1","v":0},{"$f":"'Conversion 1'!B404/0.058","v":0},{"$f":"'Conversion 1'!B404/0.01","v":0},{"$f":"'Conversion 1'!B404/0.02","v":0},{"$f":"'Conversion 1'!B404/0.56","v":0},{"$f":"'Conversion 1'!B404/0.4","v":0}]
[null,{"$f":"0.1423*('Conversion 1'!D405^1.2528)","v":0},{"$f":"(0.00005*('Conversion 1'!D405^2))+(0.3389*'Conversion 1'!D405)-1.431","v":-1.431},404,{"$f":"'Conversion 1'!B405","v":0},{"$f":"'Conversion 1'!B405/0.4","v":0},{"$f":"'Conversion 1'!B405/0.4","v":0},{"$f":"'Conversion 1'!B405","v":0},{"$f":"'Conversion 1'!B405/0.07","v":0},{"$f":"'Conversion 1'!B405/0.056","v":0},{"$f":"'Conversion 1'!B405/0.1","v":0},{"$f":"'Conversion 1'!B405/0.058","v":0},{"$f":"'Conversion 1'!B405/0.01","v":0},{"$f":"'Conversion 1'!B405/0.02","v":0},{"$f":"'Conversion 1'!B405/0.56","v":0},{"$f":"'Conversion 1'!B405/0.4","v":0}]
[null,{"$f":"0.1423*('Conversion 1'!D406^1.2528)","v":0},{"$f":"(0.00005*('Conversion 1'!D406^2))+(0.3389*'Conversion 1'!D406)-1.431","v":-1.431},405,{"$f":"'Conversion 1'!B406","v":0},{"$f":"'Conversion 1'!B406/0.4","v":0},{"$f":"'Conversion 1'!B406/0.4","v":0},{"$f":"'Conversion 1'!B406","v":0},{"$f":"'Conversion 1'!B406/0.07","v":0},{"$f":"'Conversion 1'!B406/0.056","v":0},{"$f":"'Conversion 1'!B406/0.1","v":0},{"$f":"'Conversion 1'!B406/0.058","v":0},{"$f":"'Conversion 1'!B406/0.01","v":0},{"$f":"'Conversion 1'!B406/0.02","v":0},{"$f":"'Conversion 1'!B406/0.56","v":0},{"$f":"'Conversion 1'!B406/0.4","v":0}]
[null,{"$f":"0.1423*('Conversion 1'!D407^1.2528)","v":0},{"$f":"(0.00005*('Conversion 1'!D407^2))+(0.3389*'Conversion 1'!D407)-1.431","v":-1.431},406,{"$f":"'Conversion 1'!B407","v":0},{"$f":"'Conversion 1'!B407/0.4","v":0},{"$f":"'Conversion 1'!B407/0.4","v":0},{"$f":"'Conversion 1'!B407","v":0},{"$f":"'Conversion 1'!B407/0.07","v":0},{"$f":"'Conversion 1'!B407/0.056","v":0},{"$f":"'Conversion 1'!B407/0.1","v":0},{"$f":"'Conversion 1'!B407/0.058","v":0},{"$f":"'Conversion 1'!B407/0.01","v":0},{"$f":"'Conversion 1'!B407/0.02","v":0},{"$f":"'Conversion 1'!B407/0.56","v":0},{"$f":"'Conversion 1'!B407/0.4","v":0}]
[null,{"$f":"0.1423*('Conversion 1'!D408^1.2528)","v":0},{"$f":"(0.00005*('Conversion 1'!D408^2))+(0.3389*'Conversion 1'!D408)-1.431","v":-1.431},407,{"$f":"'Conversion 1'!B408","v":0},{"$f":"'Conversion 1'!B408/0.4","v":0},{"$f":"'Conversion 1'!B408/0.4","v":0},{"$f":"'Conversion 1'!B408","v":0},{"$f":"'Conversion 1'!B408/0.07","v":0},{"$f":"'Conversion 1'!B408/0.056","v":0},{"$f":"'Conversion 1'!B408/0.1","v":0},{"$f":"'Conversion 1'!B408/0.058","v":0},{"$f":"'Conversion 1'!B408/0.01","v":0},{"$f":"'Conversion 1'!B408/0.02","v":0},{"$f":"'Conversion 1'!B408/0.56","v":0},{"$f":"'Conversion 1'!B408/0.4","v":0}]
[null,{"$f":"0.1423*('Conversion 1'!D409^1.2528)","v":0},{"$f":"(0.00005*('Conversion 1'!D409^2))+(0.3389*'Conversion 1'!D409)-1.431","v":-1.431},408,{"$f":"'Conversion 1'!B409","v":0},{"$f":"'Conversion 1'!B409/0.4","v":0},{"$f":"'Conversion 1'!B409/0.4","v":0},{"$f":"'Conversion 1'!B409","v":0},{"$f":"'Conversion 1'!B409/0.07","v":0},{"$f":"'Conversion 1'!B409/0.056","v":0},{"$f":"'Conversion 1'!B409/0.1","v":0},{"$f":"'Conversion 1'!B409/0.058","v":0},{"$f":"'Conversion 1'!B409/0.01","v":0},{"$f":"'Conversion 1'!B409/0.02","v":0},{"$f":"'Conversion 1'!B409/0.56","v":0},{"$f":"'Conversion 1'!B409/0.4","v":0}]
[null,{"$f":"0.1423*('Conversion 1'!D410^1.2528)","v":0},{"$f":"(0.00005*('Conversion 1'!D410^2))+(0.3389*'Conversion 1'!D410)-1.431","v":-1.431},409,{"$f":"'Conversion 1'!B410","v":0},{"$f":"'Conversion 1'!B410/0.4","v":0},{"$f":"'Conversion 1'!B410/0.4","v":0},{"$f":"'Conversion 1'!B410","v":0},{"$f":"'Conversion 1'!B410/0.07","v":0},{"$f":"'Conversion 1'!B410/0.056","v":0},{"$f":"'Conversion 1'!B410/0.1","v":0},{"$f":"'Conversion 1'!B410/0.058","v":0},{"$f":"'Conversion 1'!B410/0.01","v":0},{"$f":"'Conversion 1'!B410/0.02","v":0},{"$f":"'Conversion 1'!B410/0.56","v":0},{"$f":"'Conversion 1'!B410/0.4","v":0}]
[null,{"$f":"0.1423*('Conversion 1'!D411^1.2528)","v":0},{"$f":"(0.00005*('Conversion 1'!D411^2))+(0.3389*'Conversion 1'!D411)-1.431","v":-1.431},410,{"$f":"'Conversion 1'!B411","v":0},{"$f":"'Conversion 1'!B411/0.4","v":0},{"$f":"'Conversion 1'!B411/0.4","v":0},{"$f":"'Conversion 1'!B411","v":0},{"$f":"'Conversion 1'!B411/0.07","v":0},{"$f":"'Conversion 1'!B411/0.056","v":0},{"$f":"'Conversion 1'!B411/0.1","v":0},{"$f":"'Conversion 1'!B411/0.058","v":0},{"$f":"'Conversion 1'!B411/0.01","v":0},{"$f":"'Conversion 1'!B411/0.02","v":0},{"$f":"'Conversion 1'!B411/0.56","v":0},{"$f":"'Conversion 1'!B411/0.4","v":0}]
[null,{"$f":"0.1423*('Conversion 1'!D412^1.2528)","v":0},{"$f":"(0.00005*('Conversion 1'!D412^2))+(0.3389*'Conversion 1'!D412)-1.431","v":-1.431},411,{"$f":"'Conversion 1'!B412","v":0},{"$f":"'Conversion 1'!B412/0.4","v":0},{"$f":"'Conversion 1'!B412/0.4","v":0},{"$f":"'Conversion 1'!B412","v":0},{"$f":"'Conversion 1'!B412/0.07","v":0},{"$f":"'Conversion 1'!B412/0.056","v":0},{"$f":"'Conversion 1'!B412/0.1","v":0},{"$f":"'Conversion 1'!B412/0.058","v":0},{"$f":"'Conversion 1'!B412/0.01","v":0},{"$f":"'Conversion 1'!B412/0.02","v":0},{"$f":"'Conversion 1'!B412/0.56","v":0},{"$f":"'Conversion 1'!B412/0.4","v":0}]
[null,{"$f":"0.1423*('Conversion 1'!D413^1.2528)","v":0},{"$f":"(0.00005*('Conversion 1'!D413^2))+(0.3389*'Conversion 1'!D413)-1.431","v":-1.431},412,{"$f":"'Conversion 1'!B413","v":0},{"$f":"'Conversion 1'!B413/0.4","v":0},{"$f":"'Conversion 1'!B413/0.4","v":0},{"$f":"'Conversion 1'!B413","v":0},{"$f":"'Conversion 1'!B413/0.07","v":0},{"$f":"'Conversion 1'!B413/0.056","v":0},{"$f":"'Conversion 1'!B413/0.1","v":0},{"$f":"'Conversion 1'!B413/0.058","v":0},{"$f":"'Conversion 1'!B413/0.01","v":0},{"$f":"'Conversion 1'!B413/0.02","v":0},{"$f":"'Conversion 1'!B413/0.56","v":0},{"$f":"'Conversion 1'!B413/0.4","v":0}]
[null,{"$f":"0.1423*('Conversion 1'!D414^1.2528)","v":0},{"$f":"(0.00005*('Conversion 1'!D414^2))+(0.3389*'Conversion 1'!D414)-1.431","v":-1.431},413,{"$f":"'Conversion 1'!B414","v":0},{"$f":"'Conversion 1'!B414/0.4","v":0},{"$f":"'Conversion 1'!B414/0.4","v":0},{"$f":"'Conversion 1'!B414","v":0},{"$f":"'Conversion 1'!B414/0.07","v":0},{"$f":"'Conversion 1'!B414/0.056","v":0},{"$f":"'Conversion 1'!B414/0.1","v":0},{"$f":"'Conversion 1'!B414/0.058","v":0},{"$f":"'Conversion 1'!B414/0.01","v":0},{"$f":"'Conversion 1'!B414/0.02","v":0},{"$f":"'Conversion 1'!B414/0.56","v":0},{"$f":"'Conversion 1'!B414/0.4","v":0}]
[null,{"$f":"0.1423*('Conversion 1'!D415^1.2528)","v":0},{"$f":"(0.00005*('Conversion 1'!D415^2))+(0.3389*'Conversion 1'!D415)-1.431","v":-1.431},414,{"$f":"'Conversion 1'!B415","v":0},{"$f":"'Conversion 1'!B415/0.4","v":0},{"$f":"'Conversion 1'!B415/0.4","v":0},{"$f":"'Conversion 1'!B415","v":0},{"$f":"'Conversion 1'!B415/0.07","v":0},{"$f":"'Conversion 1'!B415/0.056","v":0},{"$f":"'Conversion 1'!B415/0.1","v":0},{"$f":"'Conversion 1'!B415/0.058","v":0},{"$f":"'Conversion 1'!B415/0.01","v":0},{"$f":"'Conversion 1'!B415/0.02","v":0},{"$f":"'Conversion 1'!B415/0.56","v":0},{"$f":"'Conversion 1'!B415/0.4","v":0}]
[null,{"$f":"0.1423*('Conversion 1'!D416^1.2528)","v":0},{"$f":"(0.00005*('Conversion 1'!D416^2))+(0.3389*'Conversion 1'!D416)-1.431","v":-1.431},415,{"$f":"'Conversion 1'!B416","v":0},{"$f":"'Conversion 1'!B416/0.4","v":0},{"$f":"'Conversion 1'!B416/0.4","v":0},{"$f":"'Conversion 1'!B416","v":0},{"$f":"'Conversion 1'!B416/0.07","v":0},{"$f":"'Conversion 1'!B416/0.056","v":0},{"$f":"'Conversion 1'!B416/0.1","v":0},{"$f":"'Conversion 1'!B416/0.058","v":0},{"$f":"'Conversion 1'!B416/0.01","v":0},{"$f":"'Conversion 1'!B416/0.02","v":0},{"$f":"'Conversion 1'!B416/0.56","v":0},{"$f":"'Conversion 1'!B416/0.4","v":0}]
[null,{"$f":"0.1423*('Conversion 1'!D417^1.2528)","v":0},{"$f":"(0.00005*('Conversion 1'!D417^2))+(0.3389*'Conversion 1'!D417)-1.431","v":-1.431},416,{"$f":"'Conversion 1'!B417","v":0},{"$f":"'Conversion 1'!B417/0.4","v":0},{"$f":"'Conversion 1'!B417/0.4","v":0},{"$f":"'Conversion 1'!B417","v":0},{"$f":"'Conversion 1'!B417/0.07","v":0},{"$f":"'Conversion 1'!B417/0.056","v":0},{"$f":"'Conversion 1'!B417/0.1","v":0},{"$f":"'Conversion 1'!B417/0.058","v":0},{"$f":"'Conversion 1'!B417/0.01","v":0},{"$f":"'Conversion 1'!B417/0.02","v":0},{"$f":"'Conversion 1'!B417/0.56","v":0},{"$f":"'Conversion 1'!B417/0.4","v":0}]
[null,{"$f":"0.1423*('Conversion 1'!D418^1.2528)","v":0},{"$f":"(0.00005*('Conversion 1'!D418^2))+(0.3389*'Conversion 1'!D418)-1.431","v":-1.431},417,{"$f":"'Conversion 1'!B418","v":0},{"$f":"'Conversion 1'!B418/0.4","v":0},{"$f":"'Conversion 1'!B418/0.4","v":0},{"$f":"'Conversion 1'!B418","v":0},{"$f":"'Conversion 1'!B418/0.07","v":0},{"$f":"'Conversion 1'!B418/0.056","v":0},{"$f":"'Conversion 1'!B418/0.1","v":0},{"$f":"'Conversion 1'!B418/0.058","v":0},{"$f":"'Conversion 1'!B418/0.01","v":0},{"$f":"'Conversion 1'!B418/0.02","v":0},{"$f":"'Conversion 1'!B418/0.56","v":0},{"$f":"'Conversion 1'!B418/0.4","v":0}]
[null,{"$f":"0.1423*('Conversion 1'!D419^1.2528)","v":0},{"$f":"(0.00005*('Conversion 1'!D419^2))+(0.3389*'Conversion 1'!D419)-1.431","v":-1.431},418,{"$f":"'Conversion 1'!B419","v":0},{"$f":"'Conversion 1'!B419/0.4","v":0},{"$f":"'Conversion 1'!B419/0.4","v":0},{"$f":"'Conversion 1'!B419","v":0},{"$f":"'Conversion 1'!B419/0.07","v":0},{"$f":"'Conversion 1'!B419/0.056","v":0},{"$f":"'Conversion 1'!B419/0.1","v":0},{"$f":"'Conversion 1'!B419/0.058","v":0},{"$f":"'Conversion 1'!B419/0.01","v":0},{"$f":"'Conversion 1'!B419/0.02","v":0},{"$f":"'Conversion 1'!B419/0.56","v":0},{"$f":"'Conversion 1'!B419/0.4","v":0}]
[null,{"$f":"0.1423*('Conversion 1'!D420^1.2528)","v":0},{"$f":"(0.00005*('Conversion 1'!D420^2))+(0.3389*'Conversion 1'!D420)-1.431","v":-1.431},419,{"$f":"'Conversion 1'!B420","v":0},{"$f":"'Conversion 1'!B420/0.4","v":0},{"$f":"'Conversion 1'!B420/0.4","v":0},{"$f":"'Conversion 1'!B420","v":0},{"$f":"'Conversion 1'!B420/0.07","v":0},{"$f":"'Conversion 1'!B420/0.056","v":0},{"$f":"'Conversion 1'!B420/0.1","v":0},{"$f":"'Conversion 1'!B420/0.058","v":0},{"$f":"'Conversion 1'!B420/0.01","v":0},{"$f":"'Conversion 1'!B420/0.02","v":0},{"$f":"'Conversion 1'!B420/0.56","v":0},{"$f":"'Conversion 1'!B420/0.4","v":0}]
[null,{"$f":"0.1423*('Conversion 1'!D421^1.2528)","v":0},{"$f":"(0.00005*('Conversion 1'!D421^2))+(0.3389*'Conversion 1'!D421)-1.431","v":-1.431},420,{"$f":"'Conversion 1'!B421","v":0},{"$f":"'Conversion 1'!B421/0.4","v":0},{"$f":"'Conversion 1'!B421/0.4","v":0},{"$f":"'Conversion 1'!B421","v":0},{"$f":"'Conversion 1'!B421/0.07","v":0},{"$f":"'Conversion 1'!B421/0.056","v":0},{"$f":"'Conversion 1'!B421/0.1","v":0},{"$f":"'Conversion 1'!B421/0.058","v":0},{"$f":"'Conversion 1'!B421/0.01","v":0},{"$f":"'Conversion 1'!B421/0.02","v":0},{"$f":"'Conversion 1'!B421/0.56","v":0},{"$f":"'Conversion 1'!B421/0.4","v":0}]
[null,{"$f":"0.1423*('Conversion 1'!D422^1.2528)","v":0},{"$f":"(0.00005*('Conversion 1'!D422^2))+(0.3389*'Conversion 1'!D422)-1.431","v":-1.431},421,{"$f":"'Conversion 1'!B422","v":0},{"$f":"'Conversion 1'!B422/0.4","v":0},{"$f":"'Conversion 1'!B422/0.4","v":0},{"$f":"'Conversion 1'!B422","v":0},{"$f":"'Conversion 1'!B422/0.07","v":0},{"$f":"'Conversion 1'!B422/0.056","v":0},{"$f":"'Conversion 1'!B422/0.1","v":0},{"$f":"'Conversion 1'!B422/0.058","v":0},{"$f":"'Conversion 1'!B422/0.01","v":0},{"$f":"'Conversion 1'!B422/0.02","v":0},{"$f":"'Conversion 1'!B422/0.56","v":0},{"$f":"'Conversion 1'!B422/0.4","v":0}]
[null,{"$f":"0.1423*('Conversion 1'!D423^1.2528)","v":0},{"$f":"(0.00005*('Conversion 1'!D423^2))+(0.3389*'Conversion 1'!D423)-1.431","v":-1.431},422,{"$f":"'Conversion 1'!B423","v":0},{"$f":"'Conversion 1'!B423/0.4","v":0},{"$f":"'Conversion 1'!B423/0.4","v":0},{"$f":"'Conversion 1'!B423","v":0},{"$f":"'Conversion 1'!B423/0.07","v":0},{"$f":"'Conversion 1'!B423/0.056","v":0},{"$f":"'Conversion 1'!B423/0.1","v":0},{"$f":"'Conversion 1'!B423/0.058","v":0},{"$f":"'Conversion 1'!B423/0.01","v":0},{"$f":"'Conversion 1'!B423/0.02","v":0},{"$f":"'Conversion 1'!B423/0.56","v":0},{"$f":"'Conversion 1'!B423/0.4","v":0}]
[null,{"$f":"0.1423*('Conversion 1'!D424^1.2528)","v":0},{"$f":"(0.00005*('Conversion 1'!D424^2))+(0.3389*'Conversion 1'!D424)-1.431","v":-1.431},423,{"$f":"'Conversion 1'!B424","v":0},{"$f":"'Conversion 1'!B424/0.4","v":0},{"$f":"'Conversion 1'!B424/0.4","v":0},{"$f":"'Conversion 1'!B424","v":0},{"$f":"'Conversion 1'!B424/0.07","v":0},{"$f":"'Conversion 1'!B424/0.056","v":0},{"$f":"'Conversion 1'!B424/0.1","v":0},{"$f":"'Conversion 1'!B424/0.058","v":0},{"$f":"'Conversion 1'!B424/0.01","v":0},{"$f":"'Conversion 1'!B424/0.02","v":0},{"$f":"'Conversion 1'!B424/0.56","v":0},{"$f":"'Conversion 1'!B424/0.4","v":0}]
[null,{"$f":"0.1423*('Conversion 1'!D425^1.2528)","v":0},{"$f":"(0.00005*('Conversion 1'!D425^2))+(0.3389*'Conversion 1'!D425)-1.431","v":-1.431},424,{"$f":"'Conversion 1'!B425","v":0},{"$f":"'Conversion 1'!B425/0.4","v":0},{"$f":"'Conversion 1'!B425/0.4","v":0},{"$f":"'Conversion 1'!B425","v":0},{"$f":"'Conversion 1'!B425/0.07","v":0},{"$f":"'Conversion 1'!B425/0.056","v":0},{"$f":"'Conversion 1'!B425/0.1","v":0},{"$f":"'Conversion 1'!B425/0.058","v":0},{"$f":"'Conversion 1'!B425/0.01","v":0},{"$f":"'Conversion 1'!B425/0.02","v":0},{"$f":"'Conversion 1'!B425/0.56","v":0},{"$f":"'Conversion 1'!B425/0.4","v":0}]
[null,{"$f":"0.1423*('Conversion 1'!D426^1.2528)","v":0},{"$f":"(0.00005*('Conversion 1'!D426^2))+(0.3389*'Conversion 1'!D426)-1.431","v":-1.431},425,{"$f":"'Conversion 1'!B426","v":0},{"$f":"'Conversion 1'!B426/0.4","v":0},{"$f":"'Conversion 1'!B426/0.4","v":0},{"$f":"'Conversion 1'!B426","v":0},{"$f":"'Conversion 1'!B426/0.07","v":0},{"$f":"'Conversion 1'!B426/0.056","v":0},{"$f":"'Conversion 1'!B426/0.1","v":0},{"$f":"'Conversion 1'!B426/0.058","v":0},{"$f":"'Conversion 1'!B426/0.01","v":0},{"$f":"'Conversion 1'!B426/0.02","v":0},{"$f":"'Conversion 1'!B426/0.56","v":0},{"$f":"'Conversion 1'!B426/0.4","v":0}]
[null,{"$f":"0.1423*('Conversion 1'!D427^1.2528)","v":0},{"$f":"(0.00005*('Conversion 1'!D427^2))+(0.3389*'Conversion 1'!D427)-1.431","v":-1.431},426,{"$f":"'Conversion 1'!B427","v":0},{"$f":"'Conversion 1'!B427/0.4","v":0},{"$f":"'Conversion 1'!B427/0.4","v":0},{"$f":"'Conversion 1'!B427","v":0},{"$f":"'Conversion 1'!B427/0.07","v":0},{"$f":"'Conversion 1'!B427/0.056","v":0},{"$f":"'Conversion 1'!B427/0.1","v":0},{"$f":"'Conversion 1'!B427/0.058","v":0},{"$f":"'Conversion 1'!B427/0.01","v":0},{"$f":"'Conversion 1'!B427/0.02","v":0},{"$f":"'Conversion 1'!B427/0.56","v":0},{"$f":"'Conversion 1'!B427/0.4","v":0}]
[null,{"$f":"0.1423*('Conversion 1'!D428^1.2528)","v":0},{"$f":"(0.00005*('Conversion 1'!D428^2))+(0.3389*'Conversion 1'!D428)-1.431","v":-1.431},427,{"$f":"'Conversion 1'!B428","v":0},{"$f":"'Conversion 1'!B428/0.4","v":0},{"$f":"'Conversion 1'!B428/0.4","v":0},{"$f":"'Conversion 1'!B428","v":0},{"$f":"'Conversion 1'!B428/0.07","v":0},{"$f":"'Conversion 1'!B428/0.056","v":0},{"$f":"'Conversion 1'!B428/0.1","v":0},{"$f":"'Conversion 1'!B428/0.058","v":0},{"$f":"'Conversion 1'!B428/0.01","v":0},{"$f":"'Conversion 1'!B428/0.02","v":0},{"$f":"'Conversion 1'!B428/0.56","v":0},{"$f":"'Conversion 1'!B428/0.4","v":0}]
[null,{"$f":"0.1423*('Conversion 1'!D429^1.2528)","v":0},{"$f":"(0.00005*('Conversion 1'!D429^2))+(0.3389*'Conversion 1'!D429)-1.431","v":-1.431},428,{"$f":"'Conversion 1'!B429","v":0},{"$f":"'Conversion 1'!B429/0.4","v":0},{"$f":"'Conversion 1'!B429/0.4","v":0},{"$f":"'Conversion 1'!B429","v":0},{"$f":"'Conversion 1'!B429/0.07","v":0},{"$f":"'Conversion 1'!B429/0.056","v":0},{"$f":"'Conversion 1'!B429/0.1","v":0},{"$f":"'Conversion 1'!B429/0.058","v":0},{"$f":"'Conversion 1'!B429/0.01","v":0},{"$f":"'Conversion 1'!B429/0.02","v":0},{"$f":"'Conversion 1'!B429/0.56","v":0},{"$f":"'Conversion 1'!B429/0.4","v":0}]
[null,{"$f":"0.1423*('Conversion 1'!D430^1.2528)","v":0},{"$f":"(0.00005*('Conversion 1'!D430^2))+(0.3389*'Conversion 1'!D430)-1.431","v":-1.431},429,{"$f":"'Conversion 1'!B430","v":0},{"$f":"'Conversion 1'!B430/0.4","v":0},{"$f":"'Conversion 1'!B430/0.4","v":0},{"$f":"'Conversion 1'!B430","v":0},{"$f":"'Conversion 1'!B430/0.07","v":0},{"$f":"'Conversion 1'!B430/0.056","v":0},{"$f":"'Conversion 1'!B430/0.1","v":0},{"$f":"'Conversion 1'!B430/0.058","v":0},{"$f":"'Conversion 1'!B430/0.01","v":0},{"$f":"'Conversion 1'!B430/0.02","v":0},{"$f":"'Conversion 1'!B430/0.56","v":0},{"$f":"'Conversion 1'!B430/0.4","v":0}]
[null,{"$f":"0.1423*('Conversion 1'!D431^1.2528)","v":0},{"$f":"(0.00005*('Conversion 1'!D431^2))+(0.3389*'Conversion 1'!D431)-1.431","v":-1.431},430,{"$f":"'Conversion 1'!B431","v":0},{"$f":"'Conversion 1'!B431/0.4","v":0},{"$f":"'Conversion 1'!B431/0.4","v":0},{"$f":"'Conversion 1'!B431","v":0},{"$f":"'Conversion 1'!B431/0.07","v":0},{"$f":"'Conversion 1'!B431/0.056","v":0},{"$f":"'Conversion 1'!B431/0.1","v":0},{"$f":"'Conversion 1'!B431/0.058","v":0},{"$f":"'Conversion 1'!B431/0.01","v":0},{"$f":"'Conversion 1'!B431/0.02","v":0},{"$f":"'Conversion 1'!B431/0.56","v":0},{"$f":"'Conversion 1'!B431/0.4","v":0}]
[null,{"$f":"0.1423*('Conversion 1'!D432^1.2528)","v":0},{"$f":"(0.00005*('Conversion 1'!D432^2))+(0.3389*'Conversion 1'!D432)-1.431","v":-1.431},431,{"$f":"'Conversion 1'!B432","v":0},{"$f":"'Conversion 1'!B432/0.4","v":0},{"$f":"'Conversion 1'!B432/0.4","v":0},{"$f":"'Conversion 1'!B432","v":0},{"$f":"'Conversion 1'!B432/0.07","v":0},{"$f":"'Conversion 1'!B432/0.056","v":0},{"$f":"'Conversion 1'!B432/0.1","v":0},{"$f":"'Conversion 1'!B432/0.058","v":0},{"$f":"'Conversion 1'!B432/0.01","v":0},{"$f":"'Conversion 1'!B432/0.02","v":0},{"$f":"'Conversion 1'!B432/0.56","v":0},{"$f":"'Conversion 1'!B432/0.4","v":0}]
[null,{"$f":"0.1423*('Conversion 1'!D433^1.2528)","v":0},{"$f":"(0.00005*('Conversion 1'!D433^2))+(0.3389*'Conversion 1'!D433)-1.431","v":-1.431},432,{"$f":"'Conversion 1'!B433","v":0},{"$f":"'Conversion 1'!B433/0.4","v":0},{"$f":"'Conversion 1'!B433/0.4","v":0},{"$f":"'Conversion 1'!B433","v":0},{"$f":"'Conversion 1'!B433/0.07","v":0},{"$f":"'Conversion 1'!B433/0.056","v":0},{"$f":"'Conversion 1'!B433/0.1","v":0},{"$f":"'Conversion 1'!B433/0.058","v":0},{"$f":"'Conversion 1'!B433/0.01","v":0},{"$f":"'Conversion 1'!B433/0.02","v":0},{"$f":"'Conversion 1'!B433/0.56","v":0},{"$f":"'Conversion 1'!B433/0.4","v":0}]
[null,{"$f":"0.1423*('Conversion 1'!D434^1.2528)","v":0},{"$f":"(0.00005*('Conversion 1'!D434^2))+(0.3389*'Conversion 1'!D434)-1.431","v":-1.431},433,{"$f":"'Conversion 1'!B434","v":0},{"$f":"'Conversion 1'!B434/0.4","v":0},{"$f":"'Conversion 1'!B434/0.4","v":0},{"$f":"'Conversion 1'!B434","v":0},{"$f":"'Conversion 1'!B434/0.07","v":0},{"$f":"'Conversion 1'!B434/0.056","v":0},{"$f":"'Conversion 1'!B434/0.1","v":0},{"$f":"'Conversion 1'!B434/0.058","v":0},{"$f":"'Conversion 1'!B434/0.01","v":0},{"$f":"'Conversion 1'!B434/0.02","v":0},{"$f":"'Conversion 1'!B434/0.56","v":0},{"$f":"'Conversion 1'!B434/0.4","v":0}]
[null,{"$f":"0.1423*('Conversion 1'!D435^1.2528)","v":0},{"$f":"(0.00005*('Conversion 1'!D435^2))+(0.3389*'Conversion 1'!D435)-1.431","v":-1.431},434,{"$f":"'Conversion 1'!B435","v":0},{"$f":"'Conversion 1'!B435/0.4","v":0},{"$f":"'Conversion 1'!B435/0.4","v":0},{"$f":"'Conversion 1'!B435","v":0},{"$f":"'Conversion 1'!B435/0.07","v":0},{"$f":"'Conversion 1'!B435/0.056","v":0},{"$f":"'Conversion 1'!B435/0.1","v":0},{"$f":"'Conversion 1'!B435/0.058","v":0},{"$f":"'Conversion 1'!B435/0.01","v":0},{"$f":"'Conversion 1'!B435/0.02","v":0},{"$f":"'Conversion 1'!B435/0.56","v":0},{"$f":"'Conversion 1'!B435/0.4","v":0}]
[null,{"$f":"0.1423*('Conversion 1'!D436^1.2528)","v":0},{"$f":"(0.00005*('Conversion 1'!D436^2))+(0.3389*'Conversion 1'!D436)-1.431","v":-1.431},435,{"$f":"'Conversion 1'!B436","v":0},{"$f":"'Conversion 1'!B436/0.4","v":0},{"$f":"'Conversion 1'!B436/0.4","v":0},{"$f":"'Conversion 1'!B436","v":0},{"$f":"'Conversion 1'!B436/0.07","v":0},{"$f":"'Conversion 1'!B436/0.056","v":0},{"$f":"'Conversion 1'!B436/0.1","v":0},{"$f":"'Conversion 1'!B436/0.058","v":0},{"$f":"'Conversion 1'!B436/0.01","v":0},{"$f":"'Conversion 1'!B436/0.02","v":0},{"$f":"'Conversion 1'!B436/0.56","v":0},{"$f":"'Conversion 1'!B436/0.4","v":0}]
[null,{"$f":"0.1423*('Conversion 1'!D437^1.2528)","v":0},{"$f":"(0.00005*('Conversion 1'!D437^2))+(0.3389*'Conversion 1'!D437)-1.431","v":-1.431},436,{"$f":"'Conversion 1'!B437","v":0},{"$f":"'Conversion 1'!B437/0.4","v":0},{"$f":"'Conversion 1'!B437/0.4","v":0},{"$f":"'Conversion 1'!B437","v":0},{"$f":"'Conversion 1'!B437/0.07","v":0},{"$f":"'Conversion 1'!B437/0.056","v":0},{"$f":"'Conversion 1'!B437/0.1","v":0},{"$f":"'Conversion 1'!B437/0.058","v":0},{"$f":"'Conversion 1'!B437/0.01","v":0},{"$f":"'Conversion 1'!B437/0.02","v":0},{"$f":"'Conversion 1'!B437/0.56","v":0},{"$f":"'Conversion 1'!B437/0.4","v":0}]
[null,{"$f":"0.1423*('Conversion 1'!D438^1.2528)","v":0},{"$f":"(0.00005*('Conversion 1'!D438^2))+(0.3389*'Conversion 1'!D438)-1.431","v":-1.431},437,{"$f":"'Conversion 1'!B438","v":0},{"$f":"'Conversion 1'!B438/0.4","v":0},{"$f":"'Conversion 1'!B438/0.4","v":0},{"$f":"'Conversion 1'!B438","v":0},{"$f":"'Conversion 1'!B438/0.07","v":0},{"$f":"'Conversion 1'!B438/0.056","v":0},{"$f":"'Conversion 1'!B438/0.1","v":0},{"$f":"'Conversion 1'!B438/0.058","v":0},{"$f":"'Conversion 1'!B438/0.01","v":0},{"$f":"'Conversion 1'!B438/0.02","v":0},{"$f":"'Conversion 1'!B438/0.56","v":0},{"$f":"'Conversion 1'!B438/0.4","v":0}]
[null,{"$f":"0.1423*('Conversion 1'!D439^1.2528)","v":0},{"$f":"(0.00005*('Conversion 1'!D439^2))+(0.3389*'Conversion 1'!D439)-1.431","v":-1.431},438,{"$f":"'Conversion 1'!B439","v":0},{"$f":"'Conversion 1'!B439/0.4","v":0},{"$f":"'Conversion 1'!B439/0.4","v":0},{"$f":"'Conversion 1'!B439","v":0},{"$f":"'Conversion 1'!B439/0.07","v":0},{"$f":"'Conversion 1'!B439/0.056","v":0},{"$f":"'Conversion 1'!B439/0.1","v":0},{"$f":"'Conversion 1'!B439/0.058","v":0},{"$f":"'Conversion 1'!B439/0.01","v":0},{"$f":"'Conversion 1'!B439/0.02","v":0},{"$f":"'Conversion 1'!B439/0.56","v":0},{"$f":"'Conversion 1'!B439/0.4","v":0}]
[null,{"$f":"0.1423*('Conversion 1'!D440^1.2528)","v":0},{"$f":"(0.00005*('Conversion 1'!D440^2))+(0.3389*'Conversion 1'!D440)-1.431","v":-1.431},439,{"$f":"'Conversion 1'!B440","v":0},{"$f":"'Conversion 1'!B440/0.4","v":0},{"$f":"'Conversion 1'!B440/0.4","v":0},{"$f":"'Conversion 1'!B440","v":0},{"$f":"'Conversion 1'!B440/0.07","v":0},{"$f":"'Conversion 1'!B440/0.056","v":0},{"$f":"'Conversion 1'!B440/0.1","v":0},{"$f":"'Conversion 1'!B440/0.058","v":0},{"$f":"'Conversion 1'!B440/0.01","v":0},{"$f":"'Conversion 1'!B440/0.02","v":0},{"$f":"'Conversion 1'!B440/0.56","v":0},{"$f":"'Conversion 1'!B440/0.4","v":0}]
[null,{"$f":"0.1423*('Conversion 1'!D441^1.2528)","v":0},{"$f":"(0.00005*('Conversion 1'!D441^2))+(0.3389*'Conversion 1'!D441)-1.431","v":-1.431},440,{"$f":"'Conversion 1'!B441","v":0},{"$f":"'Conversion 1'!B441/0.4","v":0},{"$f":"'Conversion 1'!B441/0.4","v":0},{"$f":"'Conversion 1'!B441","v":0},{"$f":"'Conversion 1'!B441/0.07","v":0},{"$f":"'Conversion 1'!B441/0.056","v":0},{"$f":"'Conversion 1'!B441/0.1","v":0},{"$f":"'Conversion 1'!B441/0.058","v":0},{"$f":"'Conversion 1'!B441/0.01","v":0},{"$f":"'Conversion 1'!B441/0.02","v":0},{"$f":"'Conversion 1'!B441/0.56","v":0},{"$f":"'Conversion 1'!B441/0.4","v":0}]
[null,{"$f":"0.1423*('Conversion 1'!D442^1.2528)","v":0},{"$f":"(0.00005*('Conversion 1'!D442^2))+(0.3389*'Conversion 1'!D442)-1.431","v":-1.431},441,{"$f":"'Conversion 1'!B442","v":0},{"$f":"'Conversion 1'!B442/0.4","v":0},{"$f":"'Conversion 1'!B442/0.4","v":0},{"$f":"'Conversion 1'!B442","v":0},{"$f":"'Conversion 1'!B442/0.07","v":0},{"$f":"'Conversion 1'!B442/0.056","v":0},{"$f":"'Conversion 1'!B442/0.1","v":0},{"$f":"'Conversion 1'!B442/0.058","v":0},{"$f":"'Conversion 1'!B442/0.01","v":0},{"$f":"'Conversion 1'!B442/0.02","v":0},{"$f":"'Conversion 1'!B442/0.56","v":0},{"$f":"'Conversion 1'!B442/0.4","v":0}]
[null,{"$f":"0.1423*('Conversion 1'!D443^1.2528)","v":0},{"$f":"(0.00005*('Conversion 1'!D443^2))+(0.3389*'Conversion 1'!D443)-1.431","v":-1.431},442,{"$f":"'Conversion 1'!B443","v":0},{"$f":"'Conversion 1'!B443/0.4","v":0},{"$f":"'Conversion 1'!B443/0.4","v":0},{"$f":"'Conversion 1'!B443","v":0},{"$f":"'Conversion 1'!B443/0.07","v":0},{"$f":"'Conversion 1'!B443/0.056","v":0},{"$f":"'Conversion 1'!B443/0.1","v":0},{"$f":"'Conversion 1'!B443/0.058","v":0},{"$f":"'Conversion 1'!B443/0.01","v":0},{"$f":"'Conversion 1'!B443/0.02","v":0},{"$f":"'Conversion 1'!B443/0.56","v":0},{"$f":"'Conversion 1'!B443/0.4","v":0}]
[null,{"$f":"0.1423*('Conversion 1'!D444^1.2528)","v":0},{"$f":"(0.00005*('Conversion 1'!D444^2))+(0.3389*'Conversion 1'!D444)-1.431","v":-1.431},443,{"$f":"'Conversion 1'!B444","v":0},{"$f":"'Conversion 1'!B444/0.4","v":0},{"$f":"'Conversion 1'!B444/0.4","v":0},{"$f":"'Conversion 1'!B444","v":0},{"$f":"'Conversion 1'!B444/0.07","v":0},{"$f":"'Conversion 1'!B444/0.056","v":0},{"$f":"'Conversion 1'!B444/0.1","v":0},{"$f":"'Conversion 1'!B444/0.058","v":0},{"$f":"'Conversion 1'!B444/0.01","v":0},{"$f":"'Conversion 1'!B444/0.02","v":0},{"$f":"'Conversion 1'!B444/0.56","v":0},{"$f":"'Conversion 1'!B444/0.4","v":0}]
[null,{"$f":"0.1423*('Conversion 1'!D445^1.2528)","v":0},{"$f":"(0.00005*('Conversion 1'!D445^2))+(0.3389*'Conversion 1'!D445)-1.431","v":-1.431},444,{"$f":"'Conversion 1'!B445","v":0},{"$f":"'Conversion 1'!B445/0.4","v":0},{"$f":"'Conversion 1'!B445/0.4","v":0},{"$f":"'Conversion 1'!B445","v":0},{"$f":"'Conversion 1'!B445/0.07","v":0},{"$f":"'Conversion 1'!B445/0.056","v":0},{"$f":"'Conversion 1'!B445/0.1","v":0},{"$f":"'Conversion 1'!B445/0.058","v":0},{"$f":"'Conversion 1'!B445/0.01","v":0},{"$f":"'Conversion 1'!B445/0.02","v":0},{"$f":"'Conversion 1'!B445/0.56","v":0},{"$f":"'Conversion 1'!B445/0.4","v":0}]
[null,{"$f":"0.1423*('Conversion 1'!D446^1.2528)","v":0},{"$f":"(0.00005*('Conversion 1'!D446^2))+(0.3389*'Conversion 1'!D446)-1.431","v":-1.431},445,{"$f":"'Conversion 1'!B446","v":0},{"$f":"'Conversion 1'!B446/0.4","v":0},{"$f":"'Conversion 1'!B446/0.4","v":0},{"$f":"'Conversion 1'!B446","v":0},{"$f":"'Conversion 1'!B446/0.07","v":0},{"$f":"'Conversion 1'!B446/0.056","v":0},{"$f":"'Conversion 1'!B446/0.1","v":0},{"$f":"'Conversion 1'!B446/0.058","v":0},{"$f":"'Conversion 1'!B446/0.01","v":0},{"$f":"'Conversion 1'!B446/0.02","v":0},{"$f":"'Conversion 1'!B446/0.56","v":0},{"$f":"'Conversion 1'!B446/0.4","v":0}]
[null,{"$f":"0.1423*('Conversion 1'!D447^1.2528)","v":0},{"$f":"(0.00005*('Conversion 1'!D447^2))+(0.3389*'Conversion 1'!D447)-1.431","v":-1.431},446,{"$f":"'Conversion 1'!B447","v":0},{"$f":"'Conversion 1'!B447/0.4","v":0},{"$f":"'Conversion 1'!B447/0.4","v":0},{"$f":"'Conversion 1'!B447","v":0},{"$f":"'Conversion 1'!B447/0.07","v":0},{"$f":"'Conversion 1'!B447/0.056","v":0},{"$f":"'Conversion 1'!B447/0.1","v":0},{"$f":"'Conversion 1'!B447/0.058","v":0},{"$f":"'Conversion 1'!B447/0.01","v":0},{"$f":"'Conversion 1'!B447/0.02","v":0},{"$f":"'Conversion 1'!B447/0.56","v":0},{"$f":"'Conversion 1'!B447/0.4","v":0}]
[null,{"$f":"0.1423*('Conversion 1'!D448^1.2528)","v":0},{"$f":"(0.00005*('Conversion 1'!D448^2))+(0.3389*'Conversion 1'!D448)-1.431","v":-1.431},447,{"$f":"'Conversion 1'!B448","v":0},{"$f":"'Conversion 1'!B448/0.4","v":0},{"$f":"'Conversion 1'!B448/0.4","v":0},{"$f":"'Conversion 1'!B448","v":0},{"$f":"'Conversion 1'!B448/0.07","v":0},{"$f":"'Conversion 1'!B448/0.056","v":0},{"$f":"'Conversion 1'!B448/0.1","v":0},{"$f":"'Conversion 1'!B448/0.058","v":0},{"$f":"'Conversion 1'!B448/0.01","v":0},{"$f":"'Conversion 1'!B448/0.02","v":0},{"$f":"'Conversion 1'!B448/0.56","v":0},{"$f":"'Conversion 1'!B448/0.4","v":0}]
[null,{"$f":"0.1423*('Conversion 1'!D449^1.2528)","v":0},{"$f":"(0.00005*('Conversion 1'!D449^2))+(0.3389*'Conversion 1'!D449)-1.431","v":-1.431},448,{"$f":"'Conversion 1'!B449","v":0},{"$f":"'Conversion 1'!B449/0.4","v":0},{"$f":"'Conversion 1'!B449/0.4","v":0},{"$f":"'Conversion 1'!B449","v":0},{"$f":"'Conversion 1'!B449/0.07","v":0},{"$f":"'Conversion 1'!B449/0.056","v":0},{"$f":"'Conversion 1'!B449/0.1","v":0},{"$f":"'Conversion 1'!B449/0.058","v":0},{"$f":"'Conversion 1'!B449/0.01","v":0},{"$f":"'Conversion 1'!B449/0.02","v":0},{"$f":"'Conversion 1'!B449/0.56","v":0},{"$f":"'Conversion 1'!B449/0.4","v":0}]
[null,{"$f":"0.1423*('Conversion 1'!D450^1.2528)","v":0},{"$f":"(0.00005*('Conversion 1'!D450^2))+(0.3389*'Conversion 1'!D450)-1.431","v":-1.431},449,{"$f":"'Conversion 1'!B450","v":0},{"$f":"'Conversion 1'!B450/0.4","v":0},{"$f":"'Conversion 1'!B450/0.4","v":0},{"$f":"'Conversion 1'!B450","v":0},{"$f":"'Conversion 1'!B450/0.07","v":0},{"$f":"'Conversion 1'!B450/0.056","v":0},{"$f":"'Conversion 1'!B450/0.1","v":0},{"$f":"'Conversion 1'!B450/0.058","v":0},{"$f":"'Conversion 1'!B450/0.01","v":0},{"$f":"'Conversion 1'!B450/0.02","v":0},{"$f":"'Conversion 1'!B450/0.56","v":0},{"$f":"'Conversion 1'!B450/0.4","v":0}]
[null,{"$f":"0.1423*('Conversion 1'!D451^1.2528)","v":0},{"$f":"(0.00005*('Conversion 1'!D451^2))+(0.3389*'Conversion 1'!D451)-1.431","v":-1.431},450,{"$f":"'Conversion 1'!B451","v":0},{"$f":"'Conversion 1'!B451/0.4","v":0},{"$f":"'Conversion 1'!B451/0.4","v":0},{"$f":"'Conversion 1'!B451","v":0},{"$f":"'Conversion 1'!B451/0.07","v":0},{"$f":"'Conversion 1'!B451/0.056","v":0},{"$f":"'Conversion 1'!B451/0.1","v":0},{"$f":"'Conversion 1'!B451/0.058","v":0},{"$f":"'Conversion 1'!B451/0.01","v":0},{"$f":"'Conversion 1'!B451/0.02","v":0},{"$f":"'Conversion 1'!B451/0.56","v":0},{"$f":"'Conversion 1'!B451/0.4","v":0}]
[null,{"$f":"0.1423*('Conversion 1'!D452^1.2528)","v":0},{"$f":"(0.00005*('Conversion 1'!D452^2))+(0.3389*'Conversion 1'!D452)-1.431","v":-1.431},451,{"$f":"'Conversion 1'!B452","v":0},{"$f":"'Conversion 1'!B452/0.4","v":0},{"$f":"'Conversion 1'!B452/0.4","v":0},{"$f":"'Conversion 1'!B452","v":0},{"$f":"'Conversion 1'!B452/0.07","v":0},{"$f":"'Conversion 1'!B452/0.056","v":0},{"$f":"'Conversion 1'!B452/0.1","v":0},{"$f":"'Conversion 1'!B452/0.058","v":0},{"$f":"'Conversion 1'!B452/0.01","v":0},{"$f":"'Conversion 1'!B452/0.02","v":0},{"$f":"'Conversion 1'!B452/0.56","v":0},{"$f":"'Conversion 1'!B452/0.4","v":0}]
[null,{"$f":"0.1423*('Conversion 1'!D453^1.2528)","v":0},{"$f":"(0.00005*('Conversion 1'!D453^2))+(0.3389*'Conversion 1'!D453)-1.431","v":-1.431},452,{"$f":"'Conversion 1'!B453","v":0},{"$f":"'Conversion 1'!B453/0.4","v":0},{"$f":"'Conversion 1'!B453/0.4","v":0},{"$f":"'Conversion 1'!B453","v":0},{"$f":"'Conversion 1'!B453/0.07","v":0},{"$f":"'Conversion 1'!B453/0.056","v":0},{"$f":"'Conversion 1'!B453/0.1","v":0},{"$f":"'Conversion 1'!B453/0.058","v":0},{"$f":"'Conversion 1'!B453/0.01","v":0},{"$f":"'Conversion 1'!B453/0.02","v":0},{"$f":"'Conversion 1'!B453/0.56","v":0},{"$f":"'Conversion 1'!B453/0.4","v":0}]
[null,{"$f":"0.1423*('Conversion 1'!D454^1.2528)","v":0},{"$f":"(0.00005*('Conversion 1'!D454^2))+(0.3389*'Conversion 1'!D454)-1.431","v":-1.431},453,{"$f":"'Conversion 1'!B454","v":0},{"$f":"'Conversion 1'!B454/0.4","v":0},{"$f":"'Conversion 1'!B454/0.4","v":0},{"$f":"'Conversion 1'!B454","v":0},{"$f":"'Conversion 1'!B454/0.07","v":0},{"$f":"'Conversion 1'!B454/0.056","v":0},{"$f":"'Conversion 1'!B454/0.1","v":0},{"$f":"'Conversion 1'!B454/0.058","v":0},{"$f":"'Conversion 1'!B454/0.01","v":0},{"$f":"'Conversion 1'!B454/0.02","v":0},{"$f":"'Conversion 1'!B454/0.56","v":0},{"$f":"'Conversion 1'!B454/0.4","v":0}]
[null,{"$f":"0.1423*('Conversion 1'!D455^1.2528)","v":0},{"$f":"(0.00005*('Conversion 1'!D455^2))+(0.3389*'Conversion 1'!D455)-1.431","v":-1.431},454,{"$f":"'Conversion 1'!B455","v":0},{"$f":"'Conversion 1'!B455/0.4","v":0},{"$f":"'Conversion 1'!B455/0.4","v":0},{"$f":"'Conversion 1'!B455","v":0},{"$f":"'Conversion 1'!B455/0.07","v":0},{"$f":"'Conversion 1'!B455/0.056","v":0},{"$f":"'Conversion 1'!B455/0.1","v":0},{"$f":"'Conversion 1'!B455/0.058","v":0},{"$f":"'Conversion 1'!B455/0.01","v":0},{"$f":"'Conversion 1'!B455/0.02","v":0},{"$f":"'Conversion 1'!B455/0.56","v":0},{"$f":"'Conversion 1'!B455/0.4","v":0}]
[null,{"$f":"0.1423*('Conversion 1'!D456^1.2528)","v":0},{"$f":"(0.00005*('Conversion 1'!D456^2))+(0.3389*'Conversion 1'!D456)-1.431","v":-1.431},455,{"$f":"'Conversion 1'!B456","v":0},{"$f":"'Conversion 1'!B456/0.4","v":0},{"$f":"'Conversion 1'!B456/0.4","v":0},{"$f":"'Conversion 1'!B456","v":0},{"$f":"'Conversion 1'!B456/0.07","v":0},{"$f":"'Conversion 1'!B456/0.056","v":0},{"$f":"'Conversion 1'!B456/0.1","v":0},{"$f":"'Conversion 1'!B456/0.058","v":0},{"$f":"'Conversion 1'!B456/0.01","v":0},{"$f":"'Conversion 1'!B456/0.02","v":0},{"$f":"'Conversion 1'!B456/0.56","v":0},{"$f":"'Conversion 1'!B456/0.4","v":0}]
[null,{"$f":"0.1423*('Conversion 1'!D457^1.2528)","v":0},{"$f":"(0.00005*('Conversion 1'!D457^2))+(0.3389*'Conversion 1'!D457)-1.431","v":-1.431},456,{"$f":"'Conversion 1'!B457","v":0},{"$f":"'Conversion 1'!B457/0.4","v":0},{"$f":"'Conversion 1'!B457/0.4","v":0},{"$f":"'Conversion 1'!B457","v":0},{"$f":"'Conversion 1'!B457/0.07","v":0},{"$f":"'Conversion 1'!B457/0.056","v":0},{"$f":"'Conversion 1'!B457/0.1","v":0},{"$f":"'Conversion 1'!B457/0.058","v":0},{"$f":"'Conversion 1'!B457/0.01","v":0},{"$f":"'Conversion 1'!B457/0.02","v":0},{"$f":"'Conversion 1'!B457/0.56","v":0},{"$f":"'Conversion 1'!B457/0.4","v":0}]
[null,{"$f":"0.1423*('Conversion 1'!D458^1.2528)","v":0},{"$f":"(0.00005*('Conversion 1'!D458^2))+(0.3389*'Conversion 1'!D458)-1.431","v":-1.431},457,{"$f":"'Conversion 1'!B458","v":0},{"$f":"'Conversion 1'!B458/0.4","v":0},{"$f":"'Conversion 1'!B458/0.4","v":0},{"$f":"'Conversion 1'!B458","v":0},{"$f":"'Conversion 1'!B458/0.07","v":0},{"$f":"'Conversion 1'!B458/0.056","v":0},{"$f":"'Conversion 1'!B458/0.1","v":0},{"$f":"'Conversion 1'!B458/0.058","v":0},{"$f":"'Conversion 1'!B458/0.01","v":0},{"$f":"'Conversion 1'!B458/0.02","v":0},{"$f":"'Conversion 1'!B458/0.56","v":0},{"$f":"'Conversion 1'!B458/0.4","v":0}]
[null,{"$f":"0.1423*('Conversion 1'!D459^1.2528)","v":0},{"$f":"(0.00005*('Conversion 1'!D459^2))+(0.3389*'Conversion 1'!D459)-1.431","v":-1.431},458,{"$f":"'Conversion 1'!B459","v":0},{"$f":"'Conversion 1'!B459/0.4","v":0},{"$f":"'Conversion 1'!B459/0.4","v":0},{"$f":"'Conversion 1'!B459","v":0},{"$f":"'Conversion 1'!B459/0.07","v":0},{"$f":"'Conversion 1'!B459/0.056","v":0},{"$f":"'Conversion 1'!B459/0.1","v":0},{"$f":"'Conversion 1'!B459/0.058","v":0},{"$f":"'Conversion 1'!B459/0.01","v":0},{"$f":"'Conversion 1'!B459/0.02","v":0},{"$f":"'Conversion 1'!B459/0.56","v":0},{"$f":"'Conversion 1'!B459/0.4","v":0}]
[null,{"$f":"0.1423*('Conversion 1'!D460^1.2528)","v":0},{"$f":"(0.00005*('Conversion 1'!D460^2))+(0.3389*'Conversion 1'!D460)-1.431","v":-1.431},459,{"$f":"'Conversion 1'!B460","v":0},{"$f":"'Conversion 1'!B460/0.4","v":0},{"$f":"'Conversion 1'!B460/0.4","v":0},{"$f":"'Conversion 1'!B460","v":0},{"$f":"'Conversion 1'!B460/0.07","v":0},{"$f":"'Conversion 1'!B460/0.056","v":0},{"$f":"'Conversion 1'!B460/0.1","v":0},{"$f":"'Conversion 1'!B460/0.058","v":0},{"$f":"'Conversion 1'!B460/0.01","v":0},{"$f":"'Conversion 1'!B460/0.02","v":0},{"$f":"'Conversion 1'!B460/0.56","v":0},{"$f":"'Conversion 1'!B460/0.4","v":0}]
[null,{"$f":"0.1423*('Conversion 1'!D461^1.2528)","v":0},{"$f":"(0.00005*('Conversion 1'!D461^2))+(0.3389*'Conversion 1'!D461)-1.431","v":-1.431},460,{"$f":"'Conversion 1'!B461","v":0},{"$f":"'Conversion 1'!B461/0.4","v":0},{"$f":"'Conversion 1'!B461/0.4","v":0},{"$f":"'Conversion 1'!B461","v":0},{"$f":"'Conversion 1'!B461/0.07","v":0},{"$f":"'Conversion 1'!B461/0.056","v":0},{"$f":"'Conversion 1'!B461/0.1","v":0},{"$f":"'Conversion 1'!B461/0.058","v":0},{"$f":"'Conversion 1'!B461/0.01","v":0},{"$f":"'Conversion 1'!B461/0.02","v":0},{"$f":"'Conversion 1'!B461/0.56","v":0},{"$f":"'Conversion 1'!B461/0.4","v":0}]
[null,{"$f":"0.1423*('Conversion 1'!D462^1.2528)","v":0},{"$f":"(0.00005*('Conversion 1'!D462^2))+(0.3389*'Conversion 1'!D462)-1.431","v":-1.431},461,{"$f":"'Conversion 1'!B462","v":0},{"$f":"'Conversion 1'!B462/0.4","v":0},{"$f":"'Conversion 1'!B462/0.4","v":0},{"$f":"'Conversion 1'!B462","v":0},{"$f":"'Conversion 1'!B462/0.07","v":0},{"$f":"'Conversion 1'!B462/0.056","v":0},{"$f":"'Conversion 1'!B462/0.1","v":0},{"$f":"'Conversion 1'!B462/0.058","v":0},{"$f":"'Conversion 1'!B462/0.01","v":0},{"$f":"'Conversion 1'!B462/0.02","v":0},{"$f":"'Conversion 1'!B462/0.56","v":0},{"$f":"'Conversion 1'!B462/0.4","v":0}]
[null,{"$f":"0.1423*('Conversion 1'!D463^1.2528)","v":0},{"$f":"(0.00005*('Conversion 1'!D463^2))+(0.3389*'Conversion 1'!D463)-1.431","v":-1.431},462,{"$f":"'Conversion 1'!B463","v":0},{"$f":"'Conversion 1'!B463/0.4","v":0},{"$f":"'Conversion 1'!B463/0.4","v":0},{"$f":"'Conversion 1'!B463","v":0},{"$f":"'Conversion 1'!B463/0.07","v":0},{"$f":"'Conversion 1'!B463/0.056","v":0},{"$f":"'Conversion 1'!B463/0.1","v":0},{"$f":"'Conversion 1'!B463/0.058","v":0},{"$f":"'Conversion 1'!B463/0.01","v":0},{"$f":"'Conversion 1'!B463/0.02","v":0},{"$f":"'Conversion 1'!B463/0.56","v":0},{"$f":"'Conversion 1'!B463/0.4","v":0}]
[null,{"$f":"0.1423*('Conversion 1'!D464^1.2528)","v":0},{"$f":"(0.00005*('Conversion 1'!D464^2))+(0.3389*'Conversion 1'!D464)-1.431","v":-1.431},463,{"$f":"'Conversion 1'!B464","v":0},{"$f":"'Conversion 1'!B464/0.4","v":0},{"$f":"'Conversion 1'!B464/0.4","v":0},{"$f":"'Conversion 1'!B464","v":0},{"$f":"'Conversion 1'!B464/0.07","v":0},{"$f":"'Conversion 1'!B464/0.056","v":0},{"$f":"'Conversion 1'!B464/0.1","v":0},{"$f":"'Conversion 1'!B464/0.058","v":0},{"$f":"'Conversion 1'!B464/0.01","v":0},{"$f":"'Conversion 1'!B464/0.02","v":0},{"$f":"'Conversion 1'!B464/0.56","v":0},{"$f":"'Conversion 1'!B464/0.4","v":0}]
[null,{"$f":"0.1423*('Conversion 1'!D465^1.2528)","v":0},{"$f":"(0.00005*('Conversion 1'!D465^2))+(0.3389*'Conversion 1'!D465)-1.431","v":-1.431},464,{"$f":"'Conversion 1'!B465","v":0},{"$f":"'Conversion 1'!B465/0.4","v":0},{"$f":"'Conversion 1'!B465/0.4","v":0},{"$f":"'Conversion 1'!B465","v":0},{"$f":"'Conversion 1'!B465/0.07","v":0},{"$f":"'Conversion 1'!B465/0.056","v":0},{"$f":"'Conversion 1'!B465/0.1","v":0},{"$f":"'Conversion 1'!B465/0.058","v":0},{"$f":"'Conversion 1'!B465/0.01","v":0},{"$f":"'Conversion 1'!B465/0.02","v":0},{"$f":"'Conversion 1'!B465/0.56","v":0},{"$f":"'Conversion 1'!B465/0.4","v":0}]
[null,{"$f":"0.1423*('Conversion 1'!D466^1.2528)","v":0},{"$f":"(0.00005*('Conversion 1'!D466^2))+(0.3389*'Conversion 1'!D466)-1.431","v":-1.431},465,{"$f":"'Conversion 1'!B466","v":0},{"$f":"'Conversion 1'!B466/0.4","v":0},{"$f":"'Conversion 1'!B466/0.4","v":0},{"$f":"'Conversion 1'!B466","v":0},{"$f":"'Conversion 1'!B466/0.07","v":0},{"$f":"'Conversion 1'!B466/0.056","v":0},{"$f":"'Conversion 1'!B466/0.1","v":0},{"$f":"'Conversion 1'!B466/0.058","v":0},{"$f":"'Conversion 1'!B466/0.01","v":0},{"$f":"'Conversion 1'!B466/0.02","v":0},{"$f":"'Conversion 1'!B466/0.56","v":0},{"$f":"'Conversion 1'!B466/0.4","v":0}]
[null,{"$f":"0.1423*('Conversion 1'!D467^1.2528)","v":0},{"$f":"(0.00005*('Conversion 1'!D467^2))+(0.3389*'Conversion 1'!D467)-1.431","v":-1.431},466,{"$f":"'Conversion 1'!B467","v":0},{"$f":"'Conversion 1'!B467/0.4","v":0},{"$f":"'Conversion 1'!B467/0.4","v":0},{"$f":"'Conversion 1'!B467","v":0},{"$f":"'Conversion 1'!B467/0.07","v":0},{"$f":"'Conversion 1'!B467/0.056","v":0},{"$f":"'Conversion 1'!B467/0.1","v":0},{"$f":"'Conversion 1'!B467/0.058","v":0},{"$f":"'Conversion 1'!B467/0.01","v":0},{"$f":"'Conversion 1'!B467/0.02","v":0},{"$f":"'Conversion 1'!B467/0.56","v":0},{"$f":"'Conversion 1'!B467/0.4","v":0}]
[null,{"$f":"0.1423*('Conversion 1'!D468^1.2528)","v":0},{"$f":"(0.00005*('Conversion 1'!D468^2))+(0.3389*'Conversion 1'!D468)-1.431","v":-1.431},467,{"$f":"'Conversion 1'!B468","v":0},{"$f":"'Conversion 1'!B468/0.4","v":0},{"$f":"'Conversion 1'!B468/0.4","v":0},{"$f":"'Conversion 1'!B468","v":0},{"$f":"'Conversion 1'!B468/0.07","v":0},{"$f":"'Conversion 1'!B468/0.056","v":0},{"$f":"'Conversion 1'!B468/0.1","v":0},{"$f":"'Conversion 1'!B468/0.058","v":0},{"$f":"'Conversion 1'!B468/0.01","v":0},{"$f":"'Conversion 1'!B468/0.02","v":0},{"$f":"'Conversion 1'!B468/0.56","v":0},{"$f":"'Conversion 1'!B468/0.4","v":0}]
[null,{"$f":"0.1423*('Conversion 1'!D469^1.2528)","v":0},{"$f":"(0.00005*('Conversion 1'!D469^2))+(0.3389*'Conversion 1'!D469)-1.431","v":-1.431},468,{"$f":"'Conversion 1'!B469","v":0},{"$f":"'Conversion 1'!B469/0.4","v":0},{"$f":"'Conversion 1'!B469/0.4","v":0},{"$f":"'Conversion 1'!B469","v":0},{"$f":"'Conversion 1'!B469/0.07","v":0},{"$f":"'Conversion 1'!B469/0.056","v":0},{"$f":"'Conversion 1'!B469/0.1","v":0},{"$f":"'Conversion 1'!B469/0.058","v":0},{"$f":"'Conversion 1'!B469/0.01","v":0},{"$f":"'Conversion 1'!B469/0.02","v":0},{"$f":"'Conversion 1'!B469/0.56","v":0},{"$f":"'Conversion 1'!B469/0.4","v":0}]
[null,{"$f":"0.1423*('Conversion 1'!D470^1.2528)","v":0},{"$f":"(0.00005*('Conversion 1'!D470^2))+(0.3389*'Conversion 1'!D470)-1.431","v":-1.431},469,{"$f":"'Conversion 1'!B470","v":0},{"$f":"'Conversion 1'!B470/0.4","v":0},{"$f":"'Conversion 1'!B470/0.4","v":0},{"$f":"'Conversion 1'!B470","v":0},{"$f":"'Conversion 1'!B470/0.07","v":0},{"$f":"'Conversion 1'!B470/0.056","v":0},{"$f":"'Conversion 1'!B470/0.1","v":0},{"$f":"'Conversion 1'!B470/0.058","v":0},{"$f":"'Conversion 1'!B470/0.01","v":0},{"$f":"'Conversion 1'!B470/0.02","v":0},{"$f":"'Conversion 1'!B470/0.56","v":0},{"$f":"'Conversion 1'!B470/0.4","v":0}]
[null,{"$f":"0.1423*('Conversion 1'!D471^1.2528)","v":0},{"$f":"(0.00005*('Conversion 1'!D471^2))+(0.3389*'Conversion 1'!D471)-1.431","v":-1.431},470,{"$f":"'Conversion 1'!B471","v":0},{"$f":"'Conversion 1'!B471/0.4","v":0},{"$f":"'Conversion 1'!B471/0.4","v":0},{"$f":"'Conversion 1'!B471","v":0},{"$f":"'Conversion 1'!B471/0.07","v":0},{"$f":"'Conversion 1'!B471/0.056","v":0},{"$f":"'Conversion 1'!B471/0.1","v":0},{"$f":"'Conversion 1'!B471/0.058","v":0},{"$f":"'Conversion 1'!B471/0.01","v":0},{"$f":"'Conversion 1'!B471/0.02","v":0},{"$f":"'Conversion 1'!B471/0.56","v":0},{"$f":"'Conversion 1'!B471/0.4","v":0}]
[null,{"$f":"0.1423*('Conversion 1'!D472^1.2528)","v":0},{"$f":"(0.00005*('Conversion 1'!D472^2))+(0.3389*'Conversion 1'!D472)-1.431","v":-1.431},471,{"$f":"'Conversion 1'!B472","v":0},{"$f":"'Conversion 1'!B472/0.4","v":0},{"$f":"'Conversion 1'!B472/0.4","v":0},{"$f":"'Conversion 1'!B472","v":0},{"$f":"'Conversion 1'!B472/0.07","v":0},{"$f":"'Conversion 1'!B472/0.056","v":0},{"$f":"'Conversion 1'!B472/0.1","v":0},{"$f":"'Conversion 1'!B472/0.058","v":0},{"$f":"'Conversion 1'!B472/0.01","v":0},{"$f":"'Conversion 1'!B472/0.02","v":0},{"$f":"'Conversion 1'!B472/0.56","v":0},{"$f":"'Conversion 1'!B472/0.4","v":0}]
[null,{"$f":"0.1423*('Conversion 1'!D473^1.2528)","v":0},{"$f":"(0.00005*('Conversion 1'!D473^2))+(0.3389*'Conversion 1'!D473)-1.431","v":-1.431},472,{"$f":"'Conversion 1'!B473","v":0},{"$f":"'Conversion 1'!B473/0.4","v":0},{"$f":"'Conversion 1'!B473/0.4","v":0},{"$f":"'Conversion 1'!B473","v":0},{"$f":"'Conversion 1'!B473/0.07","v":0},{"$f":"'Conversion 1'!B473/0.056","v":0},{"$f":"'Conversion 1'!B473/0.1","v":0},{"$f":"'Conversion 1'!B473/0.058","v":0},{"$f":"'Conversion 1'!B473/0.01","v":0},{"$f":"'Conversion 1'!B473/0.02","v":0},{"$f":"'Conversion 1'!B473/0.56","v":0},{"$f":"'Conversion 1'!B473/0.4","v":0}]
[null,{"$f":"0.1423*('Conversion 1'!D474^1.2528)","v":0},{"$f":"(0.00005*('Conversion 1'!D474^2))+(0.3389*'Conversion 1'!D474)-1.431","v":-1.431},473,{"$f":"'Conversion 1'!B474","v":0},{"$f":"'Conversion 1'!B474/0.4","v":0},{"$f":"'Conversion 1'!B474/0.4","v":0},{"$f":"'Conversion 1'!B474","v":0},{"$f":"'Conversion 1'!B474/0.07","v":0},{"$f":"'Conversion 1'!B474/0.056","v":0},{"$f":"'Conversion 1'!B474/0.1","v":0},{"$f":"'Conversion 1'!B474/0.058","v":0},{"$f":"'Conversion 1'!B474/0.01","v":0},{"$f":"'Conversion 1'!B474/0.02","v":0},{"$f":"'Conversion 1'!B474/0.56","v":0},{"$f":"'Conversion 1'!B474/0.4","v":0}]
[null,{"$f":"0.1423*('Conversion 1'!D475^1.2528)","v":0},{"$f":"(0.00005*('Conversion 1'!D475^2))+(0.3389*'Conversion 1'!D475)-1.431","v":-1.431},474,{"$f":"'Conversion 1'!B475","v":0},{"$f":"'Conversion 1'!B475/0.4","v":0},{"$f":"'Conversion 1'!B475/0.4","v":0},{"$f":"'Conversion 1'!B475","v":0},{"$f":"'Conversion 1'!B475/0.07","v":0},{"$f":"'Conversion 1'!B475/0.056","v":0},{"$f":"'Conversion 1'!B475/0.1","v":0},{"$f":"'Conversion 1'!B475/0.058","v":0},{"$f":"'Conversion 1'!B475/0.01","v":0},{"$f":"'Conversion 1'!B475/0.02","v":0},{"$f":"'Conversion 1'!B475/0.56","v":0},{"$f":"'Conversion 1'!B475/0.4","v":0}]
[null,{"$f":"0.1423*('Conversion 1'!D476^1.2528)","v":0},{"$f":"(0.00005*('Conversion 1'!D476^2))+(0.3389*'Conversion 1'!D476)-1.431","v":-1.431},475,{"$f":"'Conversion 1'!B476","v":0},{"$f":"'Conversion 1'!B476/0.4","v":0},{"$f":"'Conversion 1'!B476/0.4","v":0},{"$f":"'Conversion 1'!B476","v":0},{"$f":"'Conversion 1'!B476/0.07","v":0},{"$f":"'Conversion 1'!B476/0.056","v":0},{"$f":"'Conversion 1'!B476/0.1","v":0},{"$f":"'Conversion 1'!B476/0.058","v":0},{"$f":"'Conversion 1'!B476/0.01","v":0},{"$f":"'Conversion 1'!B476/0.02","v":0},{"$f":"'Conversion 1'!B476/0.56","v":0},{"$f":"'Conversion 1'!B476/0.4","v":0}]
[null,{"$f":"0.1423*('Conversion 1'!D477^1.2528)","v":0},{"$f":"(0.00005*('Conversion 1'!D477^2))+(0.3389*'Conversion 1'!D477)-1.431","v":-1.431},476,{"$f":"'Conversion 1'!B477","v":0},{"$f":"'Conversion 1'!B477/0.4","v":0},{"$f":"'Conversion 1'!B477/0.4","v":0},{"$f":"'Conversion 1'!B477","v":0},{"$f":"'Conversion 1'!B477/0.07","v":0},{"$f":"'Conversion 1'!B477/0.056","v":0},{"$f":"'Conversion 1'!B477/0.1","v":0},{"$f":"'Conversion 1'!B477/0.058","v":0},{"$f":"'Conversion 1'!B477/0.01","v":0},{"$f":"'Conversion 1'!B477/0.02","v":0},{"$f":"'Conversion 1'!B477/0.56","v":0},{"$f":"'Conversion 1'!B477/0.4","v":0}]
[null,{"$f":"0.1423*('Conversion 1'!D478^1.2528)","v":0},{"$f":"(0.00005*('Conversion 1'!D478^2))+(0.3389*'Conversion 1'!D478)-1.431","v":-1.431},477,{"$f":"'Conversion 1'!B478","v":0},{"$f":"'Conversion 1'!B478/0.4","v":0},{"$f":"'Conversion 1'!B478/0.4","v":0},{"$f":"'Conversion 1'!B478","v":0},{"$f":"'Conversion 1'!B478/0.07","v":0},{"$f":"'Conversion 1'!B478/0.056","v":0},{"$f":"'Conversion 1'!B478/0.1","v":0},{"$f":"'Conversion 1'!B478/0.058","v":0},{"$f":"'Conversion 1'!B478/0.01","v":0},{"$f":"'Conversion 1'!B478/0.02","v":0},{"$f":"'Conversion 1'!B478/0.56","v":0},{"$f":"'Conversion 1'!B478/0.4","v":0}]
[null,{"$f":"0.1423*('Conversion 1'!D479^1.2528)","v":0},{"$f":"(0.00005*('Conversion 1'!D479^2))+(0.3389*'Conversion 1'!D479)-1.431","v":-1.431},478,{"$f":"'Conversion 1'!B479","v":0},{"$f":"'Conversion 1'!B479/0.4","v":0},{"$f":"'Conversion 1'!B479/0.4","v":0},{"$f":"'Conversion 1'!B479","v":0},{"$f":"'Conversion 1'!B479/0.07","v":0},{"$f":"'Conversion 1'!B479/0.056","v":0},{"$f":"'Conversion 1'!B479/0.1","v":0},{"$f":"'Conversion 1'!B479/0.058","v":0},{"$f":"'Conversion 1'!B479/0.01","v":0},{"$f":"'Conversion 1'!B479/0.02","v":0},{"$f":"'Conversion 1'!B479/0.56","v":0},{"$f":"'Conversion 1'!B479/0.4","v":0}]
[null,{"$f":"0.1423*('Conversion 1'!D480^1.2528)","v":0},{"$f":"(0.00005*('Conversion 1'!D480^2))+(0.3389*'Conversion 1'!D480)-1.431","v":-1.431},479,{"$f":"'Conversion 1'!B480","v":0},{"$f":"'Conversion 1'!B480/0.4","v":0},{"$f":"'Conversion 1'!B480/0.4","v":0},{"$f":"'Conversion 1'!B480","v":0},{"$f":"'Conversion 1'!B480/0.07","v":0},{"$f":"'Conversion 1'!B480/0.056","v":0},{"$f":"'Conversion 1'!B480/0.1","v":0},{"$f":"'Conversion 1'!B480/0.058","v":0},{"$f":"'Conversion 1'!B480/0.01","v":0},{"$f":"'Conversion 1'!B480/0.02","v":0},{"$f":"'Conversion 1'!B480/0.56","v":0},{"$f":"'Conversion 1'!B480/0.4","v":0}]
[null,{"$f":"0.1423*('Conversion 1'!D481^1.2528)","v":0},{"$f":"(0.00005*('Conversion 1'!D481^2))+(0.3389*'Conversion 1'!D481)-1.431","v":-1.431},480,{"$f":"'Conversion 1'!B481","v":0},{"$f":"'Conversion 1'!B481/0.4","v":0},{"$f":"'Conversion 1'!B481/0.4","v":0},{"$f":"'Conversion 1'!B481","v":0},{"$f":"'Conversion 1'!B481/0.07","v":0},{"$f":"'Conversion 1'!B481/0.056","v":0},{"$f":"'Conversion 1'!B481/0.1","v":0},{"$f":"'Conversion 1'!B481/0.058","v":0},{"$f":"'Conversion 1'!B481/0.01","v":0},{"$f":"'Conversion 1'!B481/0.02","v":0},{"$f":"'Conversion 1'!B481/0.56","v":0},{"$f":"'Conversion 1'!B481/0.4","v":0}]
[null,{"$f":"0.1423*('Conversion 1'!D482^1.2528)","v":0},{"$f":"(0.00005*('Conversion 1'!D482^2))+(0.3389*'Conversion 1'!D482)-1.431","v":-1.431},481,{"$f":"'Conversion 1'!B482","v":0},{"$f":"'Conversion 1'!B482/0.4","v":0},{"$f":"'Conversion 1'!B482/0.4","v":0},{"$f":"'Conversion 1'!B482","v":0},{"$f":"'Conversion 1'!B482/0.07","v":0},{"$f":"'Conversion 1'!B482/0.056","v":0},{"$f":"'Conversion 1'!B482/0.1","v":0},{"$f":"'Conversion 1'!B482/0.058","v":0},{"$f":"'Conversion 1'!B482/0.01","v":0},{"$f":"'Conversion 1'!B482/0.02","v":0},{"$f":"'Conversion 1'!B482/0.56","v":0},{"$f":"'Conversion 1'!B482/0.4","v":0}]
[null,{"$f":"0.1423*('Conversion 1'!D483^1.2528)","v":0},{"$f":"(0.00005*('Conversion 1'!D483^2))+(0.3389*'Conversion 1'!D483)-1.431","v":-1.431},482,{"$f":"'Conversion 1'!B483","v":0},{"$f":"'Conversion 1'!B483/0.4","v":0},{"$f":"'Conversion 1'!B483/0.4","v":0},{"$f":"'Conversion 1'!B483","v":0},{"$f":"'Conversion 1'!B483/0.07","v":0},{"$f":"'Conversion 1'!B483/0.056","v":0},{"$f":"'Conversion 1'!B483/0.1","v":0},{"$f":"'Conversion 1'!B483/0.058","v":0},{"$f":"'Conversion 1'!B483/0.01","v":0},{"$f":"'Conversion 1'!B483/0.02","v":0},{"$f":"'Conversion 1'!B483/0.56","v":0},{"$f":"'Conversion 1'!B483/0.4","v":0}]
[null,{"$f":"0.1423*('Conversion 1'!D484^1.2528)","v":0},{"$f":"(0.00005*('Conversion 1'!D484^2))+(0.3389*'Conversion 1'!D484)-1.431","v":-1.431},483,{"$f":"'Conversion 1'!B484","v":0},{"$f":"'Conversion 1'!B484/0.4","v":0},{"$f":"'Conversion 1'!B484/0.4","v":0},{"$f":"'Conversion 1'!B484","v":0},{"$f":"'Conversion 1'!B484/0.07","v":0},{"$f":"'Conversion 1'!B484/0.056","v":0},{"$f":"'Conversion 1'!B484/0.1","v":0},{"$f":"'Conversion 1'!B484/0.058","v":0},{"$f":"'Conversion 1'!B484/0.01","v":0},{"$f":"'Conversion 1'!B484/0.02","v":0},{"$f":"'Conversion 1'!B484/0.56","v":0},{"$f":"'Conversion 1'!B484/0.4","v":0}]
[null,{"$f":"0.1423*('Conversion 1'!D485^1.2528)","v":0},{"$f":"(0.00005*('Conversion 1'!D485^2))+(0.3389*'Conversion 1'!D485)-1.431","v":-1.431},484,{"$f":"'Conversion 1'!B485","v":0},{"$f":"'Conversion 1'!B485/0.4","v":0},{"$f":"'Conversion 1'!B485/0.4","v":0},{"$f":"'Conversion 1'!B485","v":0},{"$f":"'Conversion 1'!B485/0.07","v":0},{"$f":"'Conversion 1'!B485/0.056","v":0},{"$f":"'Conversion 1'!B485/0.1","v":0},{"$f":"'Conversion 1'!B485/0.058","v":0},{"$f":"'Conversion 1'!B485/0.01","v":0},{"$f":"'Conversion 1'!B485/0.02","v":0},{"$f":"'Conversion 1'!B485/0.56","v":0},{"$f":"'Conversion 1'!B485/0.4","v":0}]
[null,{"$f":"0.1423*('Conversion 1'!D486^1.2528)","v":0},{"$f":"(0.00005*('Conversion 1'!D486^2))+(0.3389*'Conversion 1'!D486)-1.431","v":-1.431},485,{"$f":"'Conversion 1'!B486","v":0},{"$f":"'Conversion 1'!B486/0.4","v":0},{"$f":"'Conversion 1'!B486/0.4","v":0},{"$f":"'Conversion 1'!B486","v":0},{"$f":"'Conversion 1'!B486/0.07","v":0},{"$f":"'Conversion 1'!B486/0.056","v":0},{"$f":"'Conversion 1'!B486/0.1","v":0},{"$f":"'Conversion 1'!B486/0.058","v":0},{"$f":"'Conversion 1'!B486/0.01","v":0},{"$f":"'Conversion 1'!B486/0.02","v":0},{"$f":"'Conversion 1'!B486/0.56","v":0},{"$f":"'Conversion 1'!B486/0.4","v":0}]
[null,{"$f":"0.1423*('Conversion 1'!D487^1.2528)","v":0},{"$f":"(0.00005*('Conversion 1'!D487^2))+(0.3389*'Conversion 1'!D487)-1.431","v":-1.431},486,{"$f":"'Conversion 1'!B487","v":0},{"$f":"'Conversion 1'!B487/0.4","v":0},{"$f":"'Conversion 1'!B487/0.4","v":0},{"$f":"'Conversion 1'!B487","v":0},{"$f":"'Conversion 1'!B487/0.07","v":0},{"$f":"'Conversion 1'!B487/0.056","v":0},{"$f":"'Conversion 1'!B487/0.1","v":0},{"$f":"'Conversion 1'!B487/0.058","v":0},{"$f":"'Conversion 1'!B487/0.01","v":0},{"$f":"'Conversion 1'!B487/0.02","v":0},{"$f":"'Conversion 1'!B487/0.56","v":0},{"$f":"'Conversion 1'!B487/0.4","v":0}]
[null,{"$f":"0.1423*('Conversion 1'!D488^1.2528)","v":0},{"$f":"(0.00005*('Conversion 1'!D488^2))+(0.3389*'Conversion 1'!D488)-1.431","v":-1.431},487,{"$f":"'Conversion 1'!B488","v":0},{"$f":"'Conversion 1'!B488/0.4","v":0},{"$f":"'Conversion 1'!B488/0.4","v":0},{"$f":"'Conversion 1'!B488","v":0},{"$f":"'Conversion 1'!B488/0.07","v":0},{"$f":"'Conversion 1'!B488/0.056","v":0},{"$f":"'Conversion 1'!B488/0.1","v":0},{"$f":"'Conversion 1'!B488/0.058","v":0},{"$f":"'Conversion 1'!B488/0.01","v":0},{"$f":"'Conversion 1'!B488/0.02","v":0},{"$f":"'Conversion 1'!B488/0.56","v":0},{"$f":"'Conversion 1'!B488/0.4","v":0}]
[null,{"$f":"0.1423*('Conversion 1'!D489^1.2528)","v":0},{"$f":"(0.00005*('Conversion 1'!D489^2))+(0.3389*'Conversion 1'!D489)-1.431","v":-1.431},488,{"$f":"'Conversion 1'!B489","v":0},{"$f":"'Conversion 1'!B489/0.4","v":0},{"$f":"'Conversion 1'!B489/0.4","v":0},{"$f":"'Conversion 1'!B489","v":0},{"$f":"'Conversion 1'!B489/0.07","v":0},{"$f":"'Conversion 1'!B489/0.056","v":0},{"$f":"'Conversion 1'!B489/0.1","v":0},{"$f":"'Conversion 1'!B489/0.058","v":0},{"$f":"'Conversion 1'!B489/0.01","v":0},{"$f":"'Conversion 1'!B489/0.02","v":0},{"$f":"'Conversion 1'!B489/0.56","v":0},{"$f":"'Conversion 1'!B489/0.4","v":0}]
[null,{"$f":"0.1423*('Conversion 1'!D490^1.2528)","v":0},{"$f":"(0.00005*('Conversion 1'!D490^2))+(0.3389*'Conversion 1'!D490)-1.431","v":-1.431},489,{"$f":"'Conversion 1'!B490","v":0},{"$f":"'Conversion 1'!B490/0.4","v":0},{"$f":"'Conversion 1'!B490/0.4","v":0},{"$f":"'Conversion 1'!B490","v":0},{"$f":"'Conversion 1'!B490/0.07","v":0},{"$f":"'Conversion 1'!B490/0.056","v":0},{"$f":"'Conversion 1'!B490/0.1","v":0},{"$f":"'Conversion 1'!B490/0.058","v":0},{"$f":"'Conversion 1'!B490/0.01","v":0},{"$f":"'Conversion 1'!B490/0.02","v":0},{"$f":"'Conversion 1'!B490/0.56","v":0},{"$f":"'Conversion 1'!B490/0.4","v":0}]
[null,{"$f":"0.1423*('Conversion 1'!D491^1.2528)","v":0},{"$f":"(0.00005*('Conversion 1'!D491^2))+(0.3389*'Conversion 1'!D491)-1.431","v":-1.431},490,{"$f":"'Conversion 1'!B491","v":0},{"$f":"'Conversion 1'!B491/0.4","v":0},{"$f":"'Conversion 1'!B491/0.4","v":0},{"$f":"'Conversion 1'!B491","v":0},{"$f":"'Conversion 1'!B491/0.07","v":0},{"$f":"'Conversion 1'!B491/0.056","v":0},{"$f":"'Conversion 1'!B491/0.1","v":0},{"$f":"'Conversion 1'!B491/0.058","v":0},{"$f":"'Conversion 1'!B491/0.01","v":0},{"$f":"'Conversion 1'!B491/0.02","v":0},{"$f":"'Conversion 1'!B491/0.56","v":0},{"$f":"'Conversion 1'!B491/0.4","v":0}]
[null,{"$f":"0.1423*('Conversion 1'!D492^1.2528)","v":0},{"$f":"(0.00005*('Conversion 1'!D492^2))+(0.3389*'Conversion 1'!D492)-1.431","v":-1.431},491,{"$f":"'Conversion 1'!B492","v":0},{"$f":"'Conversion 1'!B492/0.4","v":0},{"$f":"'Conversion 1'!B492/0.4","v":0},{"$f":"'Conversion 1'!B492","v":0},{"$f":"'Conversion 1'!B492/0.07","v":0},{"$f":"'Conversion 1'!B492/0.056","v":0},{"$f":"'Conversion 1'!B492/0.1","v":0},{"$f":"'Conversion 1'!B492/0.058","v":0},{"$f":"'Conversion 1'!B492/0.01","v":0},{"$f":"'Conversion 1'!B492/0.02","v":0},{"$f":"'Conversion 1'!B492/0.56","v":0},{"$f":"'Conversion 1'!B492/0.4","v":0}]
[null,{"$f":"0.1423*('Conversion 1'!D493^1.2528)","v":0},{"$f":"(0.00005*('Conversion 1'!D493^2))+(0.3389*'Conversion 1'!D493)-1.431","v":-1.431},492,{"$f":"'Conversion 1'!B493","v":0},{"$f":"'Conversion 1'!B493/0.4","v":0},{"$f":"'Conversion 1'!B493/0.4","v":0},{"$f":"'Conversion 1'!B493","v":0},{"$f":"'Conversion 1'!B493/0.07","v":0},{"$f":"'Conversion 1'!B493/0.056","v":0},{"$f":"'Conversion 1'!B493/0.1","v":0},{"$f":"'Conversion 1'!B493/0.058","v":0},{"$f":"'Conversion 1'!B493/0.01","v":0},{"$f":"'Conversion 1'!B493/0.02","v":0},{"$f":"'Conversion 1'!B493/0.56","v":0},{"$f":"'Conversion 1'!B493/0.4","v":0}]
[null,{"$f":"0.1423*('Conversion 1'!D494^1.2528)","v":0},{"$f":"(0.00005*('Conversion 1'!D494^2))+(0.3389*'Conversion 1'!D494)-1.431","v":-1.431},493,{"$f":"'Conversion 1'!B494","v":0},{"$f":"'Conversion 1'!B494/0.4","v":0},{"$f":"'Conversion 1'!B494/0.4","v":0},{"$f":"'Conversion 1'!B494","v":0},{"$f":"'Conversion 1'!B494/0.07","v":0},{"$f":"'Conversion 1'!B494/0.056","v":0},{"$f":"'Conversion 1'!B494/0.1","v":0},{"$f":"'Conversion 1'!B494/0.058","v":0},{"$f":"'Conversion 1'!B494/0.01","v":0},{"$f":"'Conversion 1'!B494/0.02","v":0},{"$f":"'Conversion 1'!B494/0.56","v":0},{"$f":"'Conversion 1'!B494/0.4","v":0}]
[null,{"$f":"0.1423*('Conversion 1'!D495^1.2528)","v":0},{"$f":"(0.00005*('Conversion 1'!D495^2))+(0.3389*'Conversion 1'!D495)-1.431","v":-1.431},494,{"$f":"'Conversion 1'!B495","v":0},{"$f":"'Conversion 1'!B495/0.4","v":0},{"$f":"'Conversion 1'!B495/0.4","v":0},{"$f":"'Conversion 1'!B495","v":0},{"$f":"'Conversion 1'!B495/0.07","v":0},{"$f":"'Conversion 1'!B495/0.056","v":0},{"$f":"'Conversion 1'!B495/0.1","v":0},{"$f":"'Conversion 1'!B495/0.058","v":0},{"$f":"'Conversion 1'!B495/0.01","v":0},{"$f":"'Conversion 1'!B495/0.02","v":0},{"$f":"'Conversion 1'!B495/0.56","v":0},{"$f":"'Conversion 1'!B495/0.4","v":0}]
[null,{"$f":"0.1423*('Conversion 1'!D496^1.2528)","v":0},{"$f":"(0.00005*('Conversion 1'!D496^2))+(0.3389*'Conversion 1'!D496)-1.431","v":-1.431},495,{"$f":"'Conversion 1'!B496","v":0},{"$f":"'Conversion 1'!B496/0.4","v":0},{"$f":"'Conversion 1'!B496/0.4","v":0},{"$f":"'Conversion 1'!B496","v":0},{"$f":"'Conversion 1'!B496/0.07","v":0},{"$f":"'Conversion 1'!B496/0.056","v":0},{"$f":"'Conversion 1'!B496/0.1","v":0},{"$f":"'Conversion 1'!B496/0.058","v":0},{"$f":"'Conversion 1'!B496/0.01","v":0},{"$f":"'Conversion 1'!B496/0.02","v":0},{"$f":"'Conversion 1'!B496/0.56","v":0},{"$f":"'Conversion 1'!B496/0.4","v":0}]
[null,{"$f":"0.1423*('Conversion 1'!D497^1.2528)","v":0},{"$f":"(0.00005*('Conversion 1'!D497^2))+(0.3389*'Conversion 1'!D497)-1.431","v":-1.431},496,{"$f":"'Conversion 1'!B497","v":0},{"$f":"'Conversion 1'!B497/0.4","v":0},{"$f":"'Conversion 1'!B497/0.4","v":0},{"$f":"'Conversion 1'!B497","v":0},{"$f":"'Conversion 1'!B497/0.07","v":0},{"$f":"'Conversion 1'!B497/0.056","v":0},{"$f":"'Conversion 1'!B497/0.1","v":0},{"$f":"'Conversion 1'!B497/0.058","v":0},{"$f":"'Conversion 1'!B497/0.01","v":0},{"$f":"'Conversion 1'!B497/0.02","v":0},{"$f":"'Conversion 1'!B497/0.56","v":0},{"$f":"'Conversion 1'!B497/0.4","v":0}]
[null,{"$f":"0.1423*('Conversion 1'!D498^1.2528)","v":0},{"$f":"(0.00005*('Conversion 1'!D498^2))+(0.3389*'Conversion 1'!D498)-1.431","v":-1.431},497,{"$f":"'Conversion 1'!B498","v":0},{"$f":"'Conversion 1'!B498/0.4","v":0},{"$f":"'Conversion 1'!B498/0.4","v":0},{"$f":"'Conversion 1'!B498","v":0},{"$f":"'Conversion 1'!B498/0.07","v":0},{"$f":"'Conversion 1'!B498/0.056","v":0},{"$f":"'Conversion 1'!B498/0.1","v":0},{"$f":"'Conversion 1'!B498/0.058","v":0},{"$f":"'Conversion 1'!B498/0.01","v":0},{"$f":"'Conversion 1'!B498/0.02","v":0},{"$f":"'Conversion 1'!B498/0.56","v":0},{"$f":"'Conversion 1'!B498/0.4","v":0}]
[null,{"$f":"0.1423*('Conversion 1'!D499^1.2528)","v":0},{"$f":"(0.00005*('Conversion 1'!D499^2))+(0.3389*'Conversion 1'!D499)-1.431","v":-1.431},498,{"$f":"'Conversion 1'!B499","v":0},{"$f":"'Conversion 1'!B499/0.4","v":0},{"$f":"'Conversion 1'!B499/0.4","v":0},{"$f":"'Conversion 1'!B499","v":0},{"$f":"'Conversion 1'!B499/0.07","v":0},{"$f":"'Conversion 1'!B499/0.056","v":0},{"$f":"'Conversion 1'!B499/0.1","v":0},{"$f":"'Conversion 1'!B499/0.058","v":0},{"$f":"'Conversion 1'!B499/0.01","v":0},{"$f":"'Conversion 1'!B499/0.02","v":0},{"$f":"'Conversion 1'!B499/0.56","v":0},{"$f":"'Conversion 1'!B499/0.4","v":0}]
[null,{"$f":"0.1423*('Conversion 1'!D500^1.2528)","v":0},{"$f":"(0.00005*('Conversion 1'!D500^2))+(0.3389*'Conversion 1'!D500)-1.431","v":-1.431},499,{"$f":"'Conversion 1'!B500","v":0},{"$f":"'Conversion 1'!B500/0.4","v":0},{"$f":"'Conversion 1'!B500/0.4","v":0},{"$f":"'Conversion 1'!B500","v":0},{"$f":"'Conversion 1'!B500/0.07","v":0},{"$f":"'Conversion 1'!B500/0.056","v":0},{"$f":"'Conversion 1'!B500/0.1","v":0},{"$f":"'Conversion 1'!B500/0.058","v":0},{"$f":"'Conversion 1'!B500/0.01","v":0},{"$f":"'Conversion 1'!B500/0.02","v":0},{"$f":"'Conversion 1'!B500/0.56","v":0},{"$f":"'Conversion 1'!B500/0.4","v":0}]
[null,{"$f":"0.1423*('Conversion 1'!D501^1.2528)","v":0},{"$f":"(0.00005*('Conversion 1'!D501^2))+(0.3389*'Conversion 1'!D501)-1.431","v":-1.431},500,{"$f":"'Conversion 1'!B501","v":0},{"$f":"'Conversion 1'!B501/0.4","v":0},{"$f":"'Conversion 1'!B501/0.4","v":0},{"$f":"'Conversion 1'!B501","v":0},{"$f":"'Conversion 1'!B501/0.07","v":0},{"$f":"'Conversion 1'!B501/0.056","v":0},{"$f":"'Conversion 1'!B501/0.1","v":0},{"$f":"'Conversion 1'!B501/0.058","v":0},{"$f":"'Conversion 1'!B501/0.01","v":0},{"$f":"'Conversion 1'!B501/0.02","v":0},{"$f":"'Conversion 1'!B501/0.56","v":0},{"$f":"'Conversion 1'!B501/0.4","v":0}]
[null,{"$f":"0.1423*('Conversion 1'!D502^1.2528)","v":0},{"$f":"(0.00005*('Conversion 1'!D502^2))+(0.3389*'Conversion 1'!D502)-1.431","v":-1.431},501,{"$f":"'Conversion 1'!B502","v":0},{"$f":"'Conversion 1'!B502/0.4","v":0},{"$f":"'Conversion 1'!B502/0.4","v":0},{"$f":"'Conversion 1'!B502","v":0},{"$f":"'Conversion 1'!B502/0.07","v":0},{"$f":"'Conversion 1'!B502/0.056","v":0},{"$f":"'Conversion 1'!B502/0.1","v":0},{"$f":"'Conversion 1'!B502/0.058","v":0},{"$f":"'Conversion 1'!B502/0.01","v":0},{"$f":"'Conversion 1'!B502/0.02","v":0},{"$f":"'Conversion 1'!B502/0.56","v":0},{"$f":"'Conversion 1'!B502/0.4","v":0}]
[null,{"$f":"0.1423*('Conversion 1'!D503^1.2528)","v":0},{"$f":"(0.00005*('Conversion 1'!D503^2))+(0.3389*'Conversion 1'!D503)-1.431","v":-1.431},502,{"$f":"'Conversion 1'!B503","v":0},{"$f":"'Conversion 1'!B503/0.4","v":0},{"$f":"'Conversion 1'!B503/0.4","v":0},{"$f":"'Conversion 1'!B503","v":0},{"$f":"'Conversion 1'!B503/0.07","v":0},{"$f":"'Conversion 1'!B503/0.056","v":0},{"$f":"'Conversion 1'!B503/0.1","v":0},{"$f":"'Conversion 1'!B503/0.058","v":0},{"$f":"'Conversion 1'!B503/0.01","v":0},{"$f":"'Conversion 1'!B503/0.02","v":0},{"$f":"'Conversion 1'!B503/0.56","v":0},{"$f":"'Conversion 1'!B503/0.4","v":0}]
[null,{"$f":"0.1423*('Conversion 1'!D504^1.2528)","v":0},{"$f":"(0.00005*('Conversion 1'!D504^2))+(0.3389*'Conversion 1'!D504)-1.431","v":-1.431},503,{"$f":"'Conversion 1'!B504","v":0},{"$f":"'Conversion 1'!B504/0.4","v":0},{"$f":"'Conversion 1'!B504/0.4","v":0},{"$f":"'Conversion 1'!B504","v":0},{"$f":"'Conversion 1'!B504/0.07","v":0},{"$f":"'Conversion 1'!B504/0.056","v":0},{"$f":"'Conversion 1'!B504/0.1","v":0},{"$f":"'Conversion 1'!B504/0.058","v":0},{"$f":"'Conversion 1'!B504/0.01","v":0},{"$f":"'Conversion 1'!B504/0.02","v":0},{"$f":"'Conversion 1'!B504/0.56","v":0},{"$f":"'Conversion 1'!B504/0.4","v":0}]
[null,{"$f":"0.1423*('Conversion 1'!D505^1.2528)","v":0},{"$f":"(0.00005*('Conversion 1'!D505^2))+(0.3389*'Conversion 1'!D505)-1.431","v":-1.431},504,{"$f":"'Conversion 1'!B505","v":0},{"$f":"'Conversion 1'!B505/0.4","v":0},{"$f":"'Conversion 1'!B505/0.4","v":0},{"$f":"'Conversion 1'!B505","v":0},{"$f":"'Conversion 1'!B505/0.07","v":0},{"$f":"'Conversion 1'!B505/0.056","v":0},{"$f":"'Conversion 1'!B505/0.1","v":0},{"$f":"'Conversion 1'!B505/0.058","v":0},{"$f":"'Conversion 1'!B505/0.01","v":0},{"$f":"'Conversion 1'!B505/0.02","v":0},{"$f":"'Conversion 1'!B505/0.56","v":0},{"$f":"'Conversion 1'!B505/0.4","v":0}]
[null,{"$f":"0.1423*('Conversion 1'!D506^1.2528)","v":0},{"$f":"(0.00005*('Conversion 1'!D506^2))+(0.3389*'Conversion 1'!D506)-1.431","v":-1.431},505,{"$f":"'Conversion 1'!B506","v":0},{"$f":"'Conversion 1'!B506/0.4","v":0},{"$f":"'Conversion 1'!B506/0.4","v":0},{"$f":"'Conversion 1'!B506","v":0},{"$f":"'Conversion 1'!B506/0.07","v":0},{"$f":"'Conversion 1'!B506/0.056","v":0},{"$f":"'Conversion 1'!B506/0.1","v":0},{"$f":"'Conversion 1'!B506/0.058","v":0},{"$f":"'Conversion 1'!B506/0.01","v":0},{"$f":"'Conversion 1'!B506/0.02","v":0},{"$f":"'Conversion 1'!B506/0.56","v":0},{"$f":"'Conversion 1'!B506/0.4","v":0}]
[null,{"$f":"0.1423*('Conversion 1'!D507^1.2528)","v":0},{"$f":"(0.00005*('Conversion 1'!D507^2))+(0.3389*'Conversion 1'!D507)-1.431","v":-1.431},506,{"$f":"'Conversion 1'!B507","v":0},{"$f":"'Conversion 1'!B507/0.4","v":0},{"$f":"'Conversion 1'!B507/0.4","v":0},{"$f":"'Conversion 1'!B507","v":0},{"$f":"'Conversion 1'!B507/0.07","v":0},{"$f":"'Conversion 1'!B507/0.056","v":0},{"$f":"'Conversion 1'!B507/0.1","v":0},{"$f":"'Conversion 1'!B507/0.058","v":0},{"$f":"'Conversion 1'!B507/0.01","v":0},{"$f":"'Conversion 1'!B507/0.02","v":0},{"$f":"'Conversion 1'!B507/0.56","v":0},{"$f":"'Conversion 1'!B507/0.4","v":0}]
[null,{"$f":"0.1423*('Conversion 1'!D508^1.2528)","v":0},{"$f":"(0.00005*('Conversion 1'!D508^2))+(0.3389*'Conversion 1'!D508)-1.431","v":-1.431},507,{"$f":"'Conversion 1'!B508","v":0},{"$f":"'Conversion 1'!B508/0.4","v":0},{"$f":"'Conversion 1'!B508/0.4","v":0},{"$f":"'Conversion 1'!B508","v":0},{"$f":"'Conversion 1'!B508/0.07","v":0},{"$f":"'Conversion 1'!B508/0.056","v":0},{"$f":"'Conversion 1'!B508/0.1","v":0},{"$f":"'Conversion 1'!B508/0.058","v":0},{"$f":"'Conversion 1'!B508/0.01","v":0},{"$f":"'Conversion 1'!B508/0.02","v":0},{"$f":"'Conversion 1'!B508/0.56","v":0},{"$f":"'Conversion 1'!B508/0.4","v":0}]
[null,{"$f":"0.1423*('Conversion 1'!D509^1.2528)","v":0},{"$f":"(0.00005*('Conversion 1'!D509^2))+(0.3389*'Conversion 1'!D509)-1.431","v":-1.431},508,{"$f":"'Conversion 1'!B509","v":0},{"$f":"'Conversion 1'!B509/0.4","v":0},{"$f":"'Conversion 1'!B509/0.4","v":0},{"$f":"'Conversion 1'!B509","v":0},{"$f":"'Conversion 1'!B509/0.07","v":0},{"$f":"'Conversion 1'!B509/0.056","v":0},{"$f":"'Conversion 1'!B509/0.1","v":0},{"$f":"'Conversion 1'!B509/0.058","v":0},{"$f":"'Conversion 1'!B509/0.01","v":0},{"$f":"'Conversion 1'!B509/0.02","v":0},{"$f":"'Conversion 1'!B509/0.56","v":0},{"$f":"'Conversion 1'!B509/0.4","v":0}]
[null,{"$f":"0.1423*('Conversion 1'!D510^1.2528)","v":0},{"$f":"(0.00005*('Conversion 1'!D510^2))+(0.3389*'Conversion 1'!D510)-1.431","v":-1.431},509,{"$f":"'Conversion 1'!B510","v":0},{"$f":"'Conversion 1'!B510/0.4","v":0},{"$f":"'Conversion 1'!B510/0.4","v":0},{"$f":"'Conversion 1'!B510","v":0},{"$f":"'Conversion 1'!B510/0.07","v":0},{"$f":"'Conversion 1'!B510/0.056","v":0},{"$f":"'Conversion 1'!B510/0.1","v":0},{"$f":"'Conversion 1'!B510/0.058","v":0},{"$f":"'Conversion 1'!B510/0.01","v":0},{"$f":"'Conversion 1'!B510/0.02","v":0},{"$f":"'Conversion 1'!B510/0.56","v":0},{"$f":"'Conversion 1'!B510/0.4","v":0}]
[null,{"$f":"0.1423*('Conversion 1'!D511^1.2528)","v":0},{"$f":"(0.00005*('Conversion 1'!D511^2))+(0.3389*'Conversion 1'!D511)-1.431","v":-1.431},510,{"$f":"'Conversion 1'!B511","v":0},{"$f":"'Conversion 1'!B511/0.4","v":0},{"$f":"'Conversion 1'!B511/0.4","v":0},{"$f":"'Conversion 1'!B511","v":0},{"$f":"'Conversion 1'!B511/0.07","v":0},{"$f":"'Conversion 1'!B511/0.056","v":0},{"$f":"'Conversion 1'!B511/0.1","v":0},{"$f":"'Conversion 1'!B511/0.058","v":0},{"$f":"'Conversion 1'!B511/0.01","v":0},{"$f":"'Conversion 1'!B511/0.02","v":0},{"$f":"'Conversion 1'!B511/0.56","v":0},{"$f":"'Conversion 1'!B511/0.4","v":0}]
[null,{"$f":"0.1423*('Conversion 1'!D512^1.2528)","v":0},{"$f":"(0.00005*('Conversion 1'!D512^2))+(0.3389*'Conversion 1'!D512)-1.431","v":-1.431},511,{"$f":"'Conversion 1'!B512","v":0},{"$f":"'Conversion 1'!B512/0.4","v":0},{"$f":"'Conversion 1'!B512/0.4","v":0},{"$f":"'Conversion 1'!B512","v":0},{"$f":"'Conversion 1'!B512/0.07","v":0},{"$f":"'Conversion 1'!B512/0.056","v":0},{"$f":"'Conversion 1'!B512/0.1","v":0},{"$f":"'Conversion 1'!B512/0.058","v":0},{"$f":"'Conversion 1'!B512/0.01","v":0},{"$f":"'Conversion 1'!B512/0.02","v":0},{"$f":"'Conversion 1'!B512/0.56","v":0},{"$f":"'Conversion 1'!B512/0.4","v":0}]
[null,{"$f":"0.1423*('Conversion 1'!D513^1.2528)","v":0},{"$f":"(0.00005*('Conversion 1'!D513^2))+(0.3389*'Conversion 1'!D513)-1.431","v":-1.431},512,{"$f":"'Conversion 1'!B513","v":0},{"$f":"'Conversion 1'!B513/0.4","v":0},{"$f":"'Conversion 1'!B513/0.4","v":0},{"$f":"'Conversion 1'!B513","v":0},{"$f":"'Conversion 1'!B513/0.07","v":0},{"$f":"'Conversion 1'!B513/0.056","v":0},{"$f":"'Conversion 1'!B513/0.1","v":0},{"$f":"'Conversion 1'!B513/0.058","v":0},{"$f":"'Conversion 1'!B513/0.01","v":0},{"$f":"'Conversion 1'!B513/0.02","v":0},{"$f":"'Conversion 1'!B513/0.56","v":0},{"$f":"'Conversion 1'!B513/0.4","v":0}]
[null,{"$f":"0.1423*('Conversion 1'!D514^1.2528)","v":0},{"$f":"(0.00005*('Conversion 1'!D514^2))+(0.3389*'Conversion 1'!D514)-1.431","v":-1.431},513,{"$f":"'Conversion 1'!B514","v":0},{"$f":"'Conversion 1'!B514/0.4","v":0},{"$f":"'Conversion 1'!B514/0.4","v":0},{"$f":"'Conversion 1'!B514","v":0},{"$f":"'Conversion 1'!B514/0.07","v":0},{"$f":"'Conversion 1'!B514/0.056","v":0},{"$f":"'Conversion 1'!B514/0.1","v":0},{"$f":"'Conversion 1'!B514/0.058","v":0},{"$f":"'Conversion 1'!B514/0.01","v":0},{"$f":"'Conversion 1'!B514/0.02","v":0},{"$f":"'Conversion 1'!B514/0.56","v":0},{"$f":"'Conversion 1'!B514/0.4","v":0}]
[null,{"$f":"0.1423*('Conversion 1'!D515^1.2528)","v":0},{"$f":"(0.00005*('Conversion 1'!D515^2))+(0.3389*'Conversion 1'!D515)-1.431","v":-1.431},514,{"$f":"'Conversion 1'!B515","v":0},{"$f":"'Conversion 1'!B515/0.4","v":0},{"$f":"'Conversion 1'!B515/0.4","v":0},{"$f":"'Conversion 1'!B515","v":0},{"$f":"'Conversion 1'!B515/0.07","v":0},{"$f":"'Conversion 1'!B515/0.056","v":0},{"$f":"'Conversion 1'!B515/0.1","v":0},{"$f":"'Conversion 1'!B515/0.058","v":0},{"$f":"'Conversion 1'!B515/0.01","v":0},{"$f":"'Conversion 1'!B515/0.02","v":0},{"$f":"'Conversion 1'!B515/0.56","v":0},{"$f":"'Conversion 1'!B515/0.4","v":0}]
[null,{"$f":"0.1423*('Conversion 1'!D516^1.2528)","v":0},{"$f":"(0.00005*('Conversion 1'!D516^2))+(0.3389*'Conversion 1'!D516)-1.431","v":-1.431},515,{"$f":"'Conversion 1'!B516","v":0},{"$f":"'Conversion 1'!B516/0.4","v":0},{"$f":"'Conversion 1'!B516/0.4","v":0},{"$f":"'Conversion 1'!B516","v":0},{"$f":"'Conversion 1'!B516/0.07","v":0},{"$f":"'Conversion 1'!B516/0.056","v":0},{"$f":"'Conversion 1'!B516/0.1","v":0},{"$f":"'Conversion 1'!B516/0.058","v":0},{"$f":"'Conversion 1'!B516/0.01","v":0},{"$f":"'Conversion 1'!B516/0.02","v":0},{"$f":"'Conversion 1'!B516/0.56","v":0},{"$f":"'Conversion 1'!B516/0.4","v":0}]
[null,{"$f":"0.1423*('Conversion 1'!D517^1.2528)","v":0},{"$f":"(0.00005*('Conversion 1'!D517^2))+(0.3389*'Conversion 1'!D517)-1.431","v":-1.431},516,{"$f":"'Conversion 1'!B517","v":0},{"$f":"'Conversion 1'!B517/0.4","v":0},{"$f":"'Conversion 1'!B517/0.4","v":0},{"$f":"'Conversion 1'!B517","v":0},{"$f":"'Conversion 1'!B517/0.07","v":0},{"$f":"'Conversion 1'!B517/0.056","v":0},{"$f":"'Conversion 1'!B517/0.1","v":0},{"$f":"'Conversion 1'!B517/0.058","v":0},{"$f":"'Conversion 1'!B517/0.01","v":0},{"$f":"'Conversion 1'!B517/0.02","v":0},{"$f":"'Conversion 1'!B517/0.56","v":0},{"$f":"'Conversion 1'!B517/0.4","v":0}]
[null,{"$f":"0.1423*('Conversion 1'!D518^1.2528)","v":0},{"$f":"(0.00005*('Conversion 1'!D518^2))+(0.3389*'Conversion 1'!D518)-1.431","v":-1.431},517,{"$f":"'Conversion 1'!B518","v":0},{"$f":"'Conversion 1'!B518/0.4","v":0},{"$f":"'Conversion 1'!B518/0.4","v":0},{"$f":"'Conversion 1'!B518","v":0},{"$f":"'Conversion 1'!B518/0.07","v":0},{"$f":"'Conversion 1'!B518/0.056","v":0},{"$f":"'Conversion 1'!B518/0.1","v":0},{"$f":"'Conversion 1'!B518/0.058","v":0},{"$f":"'Conversion 1'!B518/0.01","v":0},{"$f":"'Conversion 1'!B518/0.02","v":0},{"$f":"'Conversion 1'!B518/0.56","v":0},{"$f":"'Conversion 1'!B518/0.4","v":0}]
[null,{"$f":"0.1423*('Conversion 1'!D519^1.2528)","v":0},{"$f":"(0.00005*('Conversion 1'!D519^2))+(0.3389*'Conversion 1'!D519)-1.431","v":-1.431},518,{"$f":"'Conversion 1'!B519","v":0},{"$f":"'Conversion 1'!B519/0.4","v":0},{"$f":"'Conversion 1'!B519/0.4","v":0},{"$f":"'Conversion 1'!B519","v":0},{"$f":"'Conversion 1'!B519/0.07","v":0},{"$f":"'Conversion 1'!B519/0.056","v":0},{"$f":"'Conversion 1'!B519/0.1","v":0},{"$f":"'Conversion 1'!B519/0.058","v":0},{"$f":"'Conversion 1'!B519/0.01","v":0},{"$f":"'Conversion 1'!B519/0.02","v":0},{"$f":"'Conversion 1'!B519/0.56","v":0},{"$f":"'Conversion 1'!B519/0.4","v":0}]
[null,{"$f":"0.1423*('Conversion 1'!D520^1.2528)","v":0},{"$f":"(0.00005*('Conversion 1'!D520^2))+(0.3389*'Conversion 1'!D520)-1.431","v":-1.431},519,{"$f":"'Conversion 1'!B520","v":0},{"$f":"'Conversion 1'!B520/0.4","v":0},{"$f":"'Conversion 1'!B520/0.4","v":0},{"$f":"'Conversion 1'!B520","v":0},{"$f":"'Conversion 1'!B520/0.07","v":0},{"$f":"'Conversion 1'!B520/0.056","v":0},{"$f":"'Conversion 1'!B520/0.1","v":0},{"$f":"'Conversion 1'!B520/0.058","v":0},{"$f":"'Conversion 1'!B520/0.01","v":0},{"$f":"'Conversion 1'!B520/0.02","v":0},{"$f":"'Conversion 1'!B520/0.56","v":0},{"$f":"'Conversion 1'!B520/0.4","v":0}]
[null,{"$f":"0.1423*('Conversion 1'!D521^1.2528)","v":0},{"$f":"(0.00005*('Conversion 1'!D521^2))+(0.3389*'Conversion 1'!D521)-1.431","v":-1.431},520,{"$f":"'Conversion 1'!B521","v":0},{"$f":"'Conversion 1'!B521/0.4","v":0},{"$f":"'Conversion 1'!B521/0.4","v":0},{"$f":"'Conversion 1'!B521","v":0},{"$f":"'Conversion 1'!B521/0.07","v":0},{"$f":"'Conversion 1'!B521/0.056","v":0},{"$f":"'Conversion 1'!B521/0.1","v":0},{"$f":"'Conversion 1'!B521/0.058","v":0},{"$f":"'Conversion 1'!B521/0.01","v":0},{"$f":"'Conversion 1'!B521/0.02","v":0},{"$f":"'Conversion 1'!B521/0.56","v":0},{"$f":"'Conversion 1'!B521/0.4","v":0}]
[null,{"$f":"0.1423*('Conversion 1'!D522^1.2528)","v":0},{"$f":"(0.00005*('Conversion 1'!D522^2))+(0.3389*'Conversion 1'!D522)-1.431","v":-1.431},521,{"$f":"'Conversion 1'!B522","v":0},{"$f":"'Conversion 1'!B522/0.4","v":0},{"$f":"'Conversion 1'!B522/0.4","v":0},{"$f":"'Conversion 1'!B522","v":0},{"$f":"'Conversion 1'!B522/0.07","v":0},{"$f":"'Conversion 1'!B522/0.056","v":0},{"$f":"'Conversion 1'!B522/0.1","v":0},{"$f":"'Conversion 1'!B522/0.058","v":0},{"$f":"'Conversion 1'!B522/0.01","v":0},{"$f":"'Conversion 1'!B522/0.02","v":0},{"$f":"'Conversion 1'!B522/0.56","v":0},{"$f":"'Conversion 1'!B522/0.4","v":0}]
[null,{"$f":"0.1423*('Conversion 1'!D523^1.2528)","v":0},{"$f":"(0.00005*('Conversion 1'!D523^2))+(0.3389*'Conversion 1'!D523)-1.431","v":-1.431},522,{"$f":"'Conversion 1'!B523","v":0},{"$f":"'Conversion 1'!B523/0.4","v":0},{"$f":"'Conversion 1'!B523/0.4","v":0},{"$f":"'Conversion 1'!B523","v":0},{"$f":"'Conversion 1'!B523/0.07","v":0},{"$f":"'Conversion 1'!B523/0.056","v":0},{"$f":"'Conversion 1'!B523/0.1","v":0},{"$f":"'Conversion 1'!B523/0.058","v":0},{"$f":"'Conversion 1'!B523/0.01","v":0},{"$f":"'Conversion 1'!B523/0.02","v":0},{"$f":"'Conversion 1'!B523/0.56","v":0},{"$f":"'Conversion 1'!B523/0.4","v":0}]
[null,{"$f":"0.1423*('Conversion 1'!D524^1.2528)","v":0},{"$f":"(0.00005*('Conversion 1'!D524^2))+(0.3389*'Conversion 1'!D524)-1.431","v":-1.431},523,{"$f":"'Conversion 1'!B524","v":0},{"$f":"'Conversion 1'!B524/0.4","v":0},{"$f":"'Conversion 1'!B524/0.4","v":0},{"$f":"'Conversion 1'!B524","v":0},{"$f":"'Conversion 1'!B524/0.07","v":0},{"$f":"'Conversion 1'!B524/0.056","v":0},{"$f":"'Conversion 1'!B524/0.1","v":0},{"$f":"'Conversion 1'!B524/0.058","v":0},{"$f":"'Conversion 1'!B524/0.01","v":0},{"$f":"'Conversion 1'!B524/0.02","v":0},{"$f":"'Conversion 1'!B524/0.56","v":0},{"$f":"'Conversion 1'!B524/0.4","v":0}]
[null,{"$f":"0.1423*('Conversion 1'!D525^1.2528)","v":0},{"$f":"(0.00005*('Conversion 1'!D525^2))+(0.3389*'Conversion 1'!D525)-1.431","v":-1.431},524,{"$f":"'Conversion 1'!B525","v":0},{"$f":"'Conversion 1'!B525/0.4","v":0},{"$f":"'Conversion 1'!B525/0.4","v":0},{"$f":"'Conversion 1'!B525","v":0},{"$f":"'Conversion 1'!B525/0.07","v":0},{"$f":"'Conversion 1'!B525/0.056","v":0},{"$f":"'Conversion 1'!B525/0.1","v":0},{"$f":"'Conversion 1'!B525/0.058","v":0},{"$f":"'Conversion 1'!B525/0.01","v":0},{"$f":"'Conversion 1'!B525/0.02","v":0},{"$f":"'Conversion 1'!B525/0.56","v":0},{"$f":"'Conversion 1'!B525/0.4","v":0}]
[null,{"$f":"0.1423*('Conversion 1'!D526^1.2528)","v":0},{"$f":"(0.00005*('Conversion 1'!D526^2))+(0.3389*'Conversion 1'!D526)-1.431","v":-1.431},525,{"$f":"'Conversion 1'!B526","v":0},{"$f":"'Conversion 1'!B526/0.4","v":0},{"$f":"'Conversion 1'!B526/0.4","v":0},{"$f":"'Conversion 1'!B526","v":0},{"$f":"'Conversion 1'!B526/0.07","v":0},{"$f":"'Conversion 1'!B526/0.056","v":0},{"$f":"'Conversion 1'!B526/0.1","v":0},{"$f":"'Conversion 1'!B526/0.058","v":0},{"$f":"'Conversion 1'!B526/0.01","v":0},{"$f":"'Conversion 1'!B526/0.02","v":0},{"$f":"'Conversion 1'!B526/0.56","v":0},{"$f":"'Conversion 1'!B526/0.4","v":0}]
[null,{"$f":"0.1423*('Conversion 1'!D527^1.2528)","v":0},{"$f":"(0.00005*('Conversion 1'!D527^2))+(0.3389*'Conversion 1'!D527)-1.431","v":-1.431},526,{"$f":"'Conversion 1'!B527","v":0},{"$f":"'Conversion 1'!B527/0.4","v":0},{"$f":"'Conversion 1'!B527/0.4","v":0},{"$f":"'Conversion 1'!B527","v":0},{"$f":"'Conversion 1'!B527/0.07","v":0},{"$f":"'Conversion 1'!B527/0.056","v":0},{"$f":"'Conversion 1'!B527/0.1","v":0},{"$f":"'Conversion 1'!B527/0.058","v":0},{"$f":"'Conversion 1'!B527/0.01","v":0},{"$f":"'Conversion 1'!B527/0.02","v":0},{"$f":"'Conversion 1'!B527/0.56","v":0},{"$f":"'Conversion 1'!B527/0.4","v":0}]
[null,{"$f":"0.1423*('Conversion 1'!D528^1.2528)","v":0},{"$f":"(0.00005*('Conversion 1'!D528^2))+(0.3389*'Conversion 1'!D528)-1.431","v":-1.431},527,{"$f":"'Conversion 1'!B528","v":0},{"$f":"'Conversion 1'!B528/0.4","v":0},{"$f":"'Conversion 1'!B528/0.4","v":0},{"$f":"'Conversion 1'!B528","v":0},{"$f":"'Conversion 1'!B528/0.07","v":0},{"$f":"'Conversion 1'!B528/0.056","v":0},{"$f":"'Conversion 1'!B528/0.1","v":0},{"$f":"'Conversion 1'!B528/0.058","v":0},{"$f":"'Conversion 1'!B528/0.01","v":0},{"$f":"'Conversion 1'!B528/0.02","v":0},{"$f":"'Conversion 1'!B528/0.56","v":0},{"$f":"'Conversion 1'!B528/0.4","v":0}]
[null,{"$f":"0.1423*('Conversion 1'!D529^1.2528)","v":0},{"$f":"(0.00005*('Conversion 1'!D529^2))+(0.3389*'Conversion 1'!D529)-1.431","v":-1.431},528,{"$f":"'Conversion 1'!B529","v":0},{"$f":"'Conversion 1'!B529/0.4","v":0},{"$f":"'Conversion 1'!B529/0.4","v":0},{"$f":"'Conversion 1'!B529","v":0},{"$f":"'Conversion 1'!B529/0.07","v":0},{"$f":"'Conversion 1'!B529/0.056","v":0},{"$f":"'Conversion 1'!B529/0.1","v":0},{"$f":"'Conversion 1'!B529/0.058","v":0},{"$f":"'Conversion 1'!B529/0.01","v":0},{"$f":"'Conversion 1'!B529/0.02","v":0},{"$f":"'Conversion 1'!B529/0.56","v":0},{"$f":"'Conversion 1'!B529/0.4","v":0}]
[null,{"$f":"0.1423*('Conversion 1'!D530^1.2528)","v":0},{"$f":"(0.00005*('Conversion 1'!D530^2))+(0.3389*'Conversion 1'!D530)-1.431","v":-1.431},529,{"$f":"'Conversion 1'!B530","v":0},{"$f":"'Conversion 1'!B530/0.4","v":0},{"$f":"'Conversion 1'!B530/0.4","v":0},{"$f":"'Conversion 1'!B530","v":0},{"$f":"'Conversion 1'!B530/0.07","v":0},{"$f":"'Conversion 1'!B530/0.056","v":0},{"$f":"'Conversion 1'!B530/0.1","v":0},{"$f":"'Conversion 1'!B530/0.058","v":0},{"$f":"'Conversion 1'!B530/0.01","v":0},{"$f":"'Conversion 1'!B530/0.02","v":0},{"$f":"'Conversion 1'!B530/0.56","v":0},{"$f":"'Conversion 1'!B530/0.4","v":0}]
[null,{"$f":"0.1423*('Conversion 1'!D531^1.2528)","v":0},{"$f":"(0.00005*('Conversion 1'!D531^2))+(0.3389*'Conversion 1'!D531)-1.431","v":-1.431},530,{"$f":"'Conversion 1'!B531","v":0},{"$f":"'Conversion 1'!B531/0.4","v":0},{"$f":"'Conversion 1'!B531/0.4","v":0},{"$f":"'Conversion 1'!B531","v":0},{"$f":"'Conversion 1'!B531/0.07","v":0},{"$f":"'Conversion 1'!B531/0.056","v":0},{"$f":"'Conversion 1'!B531/0.1","v":0},{"$f":"'Conversion 1'!B531/0.058","v":0},{"$f":"'Conversion 1'!B531/0.01","v":0},{"$f":"'Conversion 1'!B531/0.02","v":0},{"$f":"'Conversion 1'!B531/0.56","v":0},{"$f":"'Conversion 1'!B531/0.4","v":0}]
[null,{"$f":"0.1423*('Conversion 1'!D532^1.2528)","v":0},{"$f":"(0.00005*('Conversion 1'!D532^2))+(0.3389*'Conversion 1'!D532)-1.431","v":-1.431},531,{"$f":"'Conversion 1'!B532","v":0},{"$f":"'Conversion 1'!B532/0.4","v":0},{"$f":"'Conversion 1'!B532/0.4","v":0},{"$f":"'Conversion 1'!B532","v":0},{"$f":"'Conversion 1'!B532/0.07","v":0},{"$f":"'Conversion 1'!B532/0.056","v":0},{"$f":"'Conversion 1'!B532/0.1","v":0},{"$f":"'Conversion 1'!B532/0.058","v":0},{"$f":"'Conversion 1'!B532/0.01","v":0},{"$f":"'Conversion 1'!B532/0.02","v":0},{"$f":"'Conversion 1'!B532/0.56","v":0},{"$f":"'Conversion 1'!B532/0.4","v":0}]
[null,{"$f":"0.1423*('Conversion 1'!D533^1.2528)","v":0},{"$f":"(0.00005*('Conversion 1'!D533^2))+(0.3389*'Conversion 1'!D533)-1.431","v":-1.431},532,{"$f":"'Conversion 1'!B533","v":0},{"$f":"'Conversion 1'!B533/0.4","v":0},{"$f":"'Conversion 1'!B533/0.4","v":0},{"$f":"'Conversion 1'!B533","v":0},{"$f":"'Conversion 1'!B533/0.07","v":0},{"$f":"'Conversion 1'!B533/0.056","v":0},{"$f":"'Conversion 1'!B533/0.1","v":0},{"$f":"'Conversion 1'!B533/0.058","v":0},{"$f":"'Conversion 1'!B533/0.01","v":0},{"$f":"'Conversion 1'!B533/0.02","v":0},{"$f":"'Conversion 1'!B533/0.56","v":0},{"$f":"'Conversion 1'!B533/0.4","v":0}]
[null,{"$f":"0.1423*('Conversion 1'!D534^1.2528)","v":0},{"$f":"(0.00005*('Conversion 1'!D534^2))+(0.3389*'Conversion 1'!D534)-1.431","v":-1.431},533,{"$f":"'Conversion 1'!B534","v":0},{"$f":"'Conversion 1'!B534/0.4","v":0},{"$f":"'Conversion 1'!B534/0.4","v":0},{"$f":"'Conversion 1'!B534","v":0},{"$f":"'Conversion 1'!B534/0.07","v":0},{"$f":"'Conversion 1'!B534/0.056","v":0},{"$f":"'Conversion 1'!B534/0.1","v":0},{"$f":"'Conversion 1'!B534/0.058","v":0},{"$f":"'Conversion 1'!B534/0.01","v":0},{"$f":"'Conversion 1'!B534/0.02","v":0},{"$f":"'Conversion 1'!B534/0.56","v":0},{"$f":"'Conversion 1'!B534/0.4","v":0}]
[null,{"$f":"0.1423*('Conversion 1'!D535^1.2528)","v":0},{"$f":"(0.00005*('Conversion 1'!D535^2))+(0.3389*'Conversion 1'!D535)-1.431","v":-1.431},534,{"$f":"'Conversion 1'!B535","v":0},{"$f":"'Conversion 1'!B535/0.4","v":0},{"$f":"'Conversion 1'!B535/0.4","v":0},{"$f":"'Conversion 1'!B535","v":0},{"$f":"'Conversion 1'!B535/0.07","v":0},{"$f":"'Conversion 1'!B535/0.056","v":0},{"$f":"'Conversion 1'!B535/0.1","v":0},{"$f":"'Conversion 1'!B535/0.058","v":0},{"$f":"'Conversion 1'!B535/0.01","v":0},{"$f":"'Conversion 1'!B535/0.02","v":0},{"$f":"'Conversion 1'!B535/0.56","v":0},{"$f":"'Conversion 1'!B535/0.4","v":0}]
[null,{"$f":"0.1423*('Conversion 1'!D536^1.2528)","v":0},{"$f":"(0.00005*('Conversion 1'!D536^2))+(0.3389*'Conversion 1'!D536)-1.431","v":-1.431},535,{"$f":"'Conversion 1'!B536","v":0},{"$f":"'Conversion 1'!B536/0.4","v":0},{"$f":"'Conversion 1'!B536/0.4","v":0},{"$f":"'Conversion 1'!B536","v":0},{"$f":"'Conversion 1'!B536/0.07","v":0},{"$f":"'Conversion 1'!B536/0.056","v":0},{"$f":"'Conversion 1'!B536/0.1","v":0},{"$f":"'Conversion 1'!B536/0.058","v":0},{"$f":"'Conversion 1'!B536/0.01","v":0},{"$f":"'Conversion 1'!B536/0.02","v":0},{"$f":"'Conversion 1'!B536/0.56","v":0},{"$f":"'Conversion 1'!B536/0.4","v":0}]
[null,{"$f":"0.1423*('Conversion 1'!D537^1.2528)","v":0},{"$f":"(0.00005*('Conversion 1'!D537^2))+(0.3389*'Conversion 1'!D537)-1.431","v":-1.431},536,{"$f":"'Conversion 1'!B537","v":0},{"$f":"'Conversion 1'!B537/0.4","v":0},{"$f":"'Conversion 1'!B537/0.4","v":0},{"$f":"'Conversion 1'!B537","v":0},{"$f":"'Conversion 1'!B537/0.07","v":0},{"$f":"'Conversion 1'!B537/0.056","v":0},{"$f":"'Conversion 1'!B537/0.1","v":0},{"$f":"'Conversion 1'!B537/0.058","v":0},{"$f":"'Conversion 1'!B537/0.01","v":0},{"$f":"'Conversion 1'!B537/0.02","v":0},{"$f":"'Conversion 1'!B537/0.56","v":0},{"$f":"'Conversion 1'!B537/0.4","v":0}]
[null,{"$f":"0.1423*('Conversion 1'!D538^1.2528)","v":0},{"$f":"(0.00005*('Conversion 1'!D538^2))+(0.3389*'Conversion 1'!D538)-1.431","v":-1.431},537,{"$f":"'Conversion 1'!B538","v":0},{"$f":"'Conversion 1'!B538/0.4","v":0},{"$f":"'Conversion 1'!B538/0.4","v":0},{"$f":"'Conversion 1'!B538","v":0},{"$f":"'Conversion 1'!B538/0.07","v":0},{"$f":"'Conversion 1'!B538/0.056","v":0},{"$f":"'Conversion 1'!B538/0.1","v":0},{"$f":"'Conversion 1'!B538/0.058","v":0},{"$f":"'Conversion 1'!B538/0.01","v":0},{"$f":"'Conversion 1'!B538/0.02","v":0},{"$f":"'Conversion 1'!B538/0.56","v":0},{"$f":"'Conversion 1'!B538/0.4","v":0}]
[null,{"$f":"0.1423*('Conversion 1'!D539^1.2528)","v":0},{"$f":"(0.00005*('Conversion 1'!D539^2))+(0.3389*'Conversion 1'!D539)-1.431","v":-1.431},538,{"$f":"'Conversion 1'!B539","v":0},{"$f":"'Conversion 1'!B539/0.4","v":0},{"$f":"'Conversion 1'!B539/0.4","v":0},{"$f":"'Conversion 1'!B539","v":0},{"$f":"'Conversion 1'!B539/0.07","v":0},{"$f":"'Conversion 1'!B539/0.056","v":0},{"$f":"'Conversion 1'!B539/0.1","v":0},{"$f":"'Conversion 1'!B539/0.058","v":0},{"$f":"'Conversion 1'!B539/0.01","v":0},{"$f":"'Conversion 1'!B539/0.02","v":0},{"$f":"'Conversion 1'!B539/0.56","v":0},{"$f":"'Conversion 1'!B539/0.4","v":0}]
[null,{"$f":"0.1423*('Conversion 1'!D540^1.2528)","v":0},{"$f":"(0.00005*('Conversion 1'!D540^2))+(0.3389*'Conversion 1'!D540)-1.431","v":-1.431},539,{"$f":"'Conversion 1'!B540","v":0},{"$f":"'Conversion 1'!B540/0.4","v":0},{"$f":"'Conversion 1'!B540/0.4","v":0},{"$f":"'Conversion 1'!B540","v":0},{"$f":"'Conversion 1'!B540/0.07","v":0},{"$f":"'Conversion 1'!B540/0.056","v":0},{"$f":"'Conversion 1'!B540/0.1","v":0},{"$f":"'Conversion 1'!B540/0.058","v":0},{"$f":"'Conversion 1'!B540/0.01","v":0},{"$f":"'Conversion 1'!B540/0.02","v":0},{"$f":"'Conversion 1'!B540/0.56","v":0},{"$f":"'Conversion 1'!B540/0.4","v":0}]
[null,{"$f":"0.1423*('Conversion 1'!D541^1.2528)","v":0},{"$f":"(0.00005*('Conversion 1'!D541^2))+(0.3389*'Conversion 1'!D541)-1.431","v":-1.431},540,{"$f":"'Conversion 1'!B541","v":0},{"$f":"'Conversion 1'!B541/0.4","v":0},{"$f":"'Conversion 1'!B541/0.4","v":0},{"$f":"'Conversion 1'!B541","v":0},{"$f":"'Conversion 1'!B541/0.07","v":0},{"$f":"'Conversion 1'!B541/0.056","v":0},{"$f":"'Conversion 1'!B541/0.1","v":0},{"$f":"'Conversion 1'!B541/0.058","v":0},{"$f":"'Conversion 1'!B541/0.01","v":0},{"$f":"'Conversion 1'!B541/0.02","v":0},{"$f":"'Conversion 1'!B541/0.56","v":0},{"$f":"'Conversion 1'!B541/0.4","v":0}]
[null,{"$f":"0.1423*('Conversion 1'!D542^1.2528)","v":0},{"$f":"(0.00005*('Conversion 1'!D542^2))+(0.3389*'Conversion 1'!D542)-1.431","v":-1.431},541,{"$f":"'Conversion 1'!B542","v":0},{"$f":"'Conversion 1'!B542/0.4","v":0},{"$f":"'Conversion 1'!B542/0.4","v":0},{"$f":"'Conversion 1'!B542","v":0},{"$f":"'Conversion 1'!B542/0.07","v":0},{"$f":"'Conversion 1'!B542/0.056","v":0},{"$f":"'Conversion 1'!B542/0.1","v":0},{"$f":"'Conversion 1'!B542/0.058","v":0},{"$f":"'Conversion 1'!B542/0.01","v":0},{"$f":"'Conversion 1'!B542/0.02","v":0},{"$f":"'Conversion 1'!B542/0.56","v":0},{"$f":"'Conversion 1'!B542/0.4","v":0}]
[null,{"$f":"0.1423*('Conversion 1'!D543^1.2528)","v":0},{"$f":"(0.00005*('Conversion 1'!D543^2))+(0.3389*'Conversion 1'!D543)-1.431","v":-1.431},542,{"$f":"'Conversion 1'!B543","v":0},{"$f":"'Conversion 1'!B543/0.4","v":0},{"$f":"'Conversion 1'!B543/0.4","v":0},{"$f":"'Conversion 1'!B543","v":0},{"$f":"'Conversion 1'!B543/0.07","v":0},{"$f":"'Conversion 1'!B543/0.056","v":0},{"$f":"'Conversion 1'!B543/0.1","v":0},{"$f":"'Conversion 1'!B543/0.058","v":0},{"$f":"'Conversion 1'!B543/0.01","v":0},{"$f":"'Conversion 1'!B543/0.02","v":0},{"$f":"'Conversion 1'!B543/0.56","v":0},{"$f":"'Conversion 1'!B543/0.4","v":0}]
[null,{"$f":"0.1423*('Conversion 1'!D544^1.2528)","v":0},{"$f":"(0.00005*('Conversion 1'!D544^2))+(0.3389*'Conversion 1'!D544)-1.431","v":-1.431},543,{"$f":"'Conversion 1'!B544","v":0},{"$f":"'Conversion 1'!B544/0.4","v":0},{"$f":"'Conversion 1'!B544/0.4","v":0},{"$f":"'Conversion 1'!B544","v":0},{"$f":"'Conversion 1'!B544/0.07","v":0},{"$f":"'Conversion 1'!B544/0.056","v":0},{"$f":"'Conversion 1'!B544/0.1","v":0},{"$f":"'Conversion 1'!B544/0.058","v":0},{"$f":"'Conversion 1'!B544/0.01","v":0},{"$f":"'Conversion 1'!B544/0.02","v":0},{"$f":"'Conversion 1'!B544/0.56","v":0},{"$f":"'Conversion 1'!B544/0.4","v":0}]
[null,{"$f":"0.1423*('Conversion 1'!D545^1.2528)","v":0},{"$f":"(0.00005*('Conversion 1'!D545^2))+(0.3389*'Conversion 1'!D545)-1.431","v":-1.431},544,{"$f":"'Conversion 1'!B545","v":0},{"$f":"'Conversion 1'!B545/0.4","v":0},{"$f":"'Conversion 1'!B545/0.4","v":0},{"$f":"'Conversion 1'!B545","v":0},{"$f":"'Conversion 1'!B545/0.07","v":0},{"$f":"'Conversion 1'!B545/0.056","v":0},{"$f":"'Conversion 1'!B545/0.1","v":0},{"$f":"'Conversion 1'!B545/0.058","v":0},{"$f":"'Conversion 1'!B545/0.01","v":0},{"$f":"'Conversion 1'!B545/0.02","v":0},{"$f":"'Conversion 1'!B545/0.56","v":0},{"$f":"'Conversion 1'!B545/0.4","v":0}]
[null,{"$f":"0.1423*('Conversion 1'!D546^1.2528)","v":0},{"$f":"(0.00005*('Conversion 1'!D546^2))+(0.3389*'Conversion 1'!D546)-1.431","v":-1.431},545,{"$f":"'Conversion 1'!B546","v":0},{"$f":"'Conversion 1'!B546/0.4","v":0},{"$f":"'Conversion 1'!B546/0.4","v":0},{"$f":"'Conversion 1'!B546","v":0},{"$f":"'Conversion 1'!B546/0.07","v":0},{"$f":"'Conversion 1'!B546/0.056","v":0},{"$f":"'Conversion 1'!B546/0.1","v":0},{"$f":"'Conversion 1'!B546/0.058","v":0},{"$f":"'Conversion 1'!B546/0.01","v":0},{"$f":"'Conversion 1'!B546/0.02","v":0},{"$f":"'Conversion 1'!B546/0.56","v":0},{"$f":"'Conversion 1'!B546/0.4","v":0}]
[null,{"$f":"0.1423*('Conversion 1'!D547^1.2528)","v":0},{"$f":"(0.00005*('Conversion 1'!D547^2))+(0.3389*'Conversion 1'!D547)-1.431","v":-1.431},546,{"$f":"'Conversion 1'!B547","v":0},{"$f":"'Conversion 1'!B547/0.4","v":0},{"$f":"'Conversion 1'!B547/0.4","v":0},{"$f":"'Conversion 1'!B547","v":0},{"$f":"'Conversion 1'!B547/0.07","v":0},{"$f":"'Conversion 1'!B547/0.056","v":0},{"$f":"'Conversion 1'!B547/0.1","v":0},{"$f":"'Conversion 1'!B547/0.058","v":0},{"$f":"'Conversion 1'!B547/0.01","v":0},{"$f":"'Conversion 1'!B547/0.02","v":0},{"$f":"'Conversion 1'!B547/0.56","v":0},{"$f":"'Conversion 1'!B547/0.4","v":0}]
[null,{"$f":"0.1423*('Conversion 1'!D548^1.2528)","v":0},{"$f":"(0.00005*('Conversion 1'!D548^2))+(0.3389*'Conversion 1'!D548)-1.431","v":-1.431},547,{"$f":"'Conversion 1'!B548","v":0},{"$f":"'Conversion 1'!B548/0.4","v":0},{"$f":"'Conversion 1'!B548/0.4","v":0},{"$f":"'Conversion 1'!B548","v":0},{"$f":"'Conversion 1'!B548/0.07","v":0},{"$f":"'Conversion 1'!B548/0.056","v":0},{"$f":"'Conversion 1'!B548/0.1","v":0},{"$f":"'Conversion 1'!B548/0.058","v":0},{"$f":"'Conversion 1'!B548/0.01","v":0},{"$f":"'Conversion 1'!B548/0.02","v":0},{"$f":"'Conversion 1'!B548/0.56","v":0},{"$f":"'Conversion 1'!B548/0.4","v":0}]
[null,{"$f":"0.1423*('Conversion 1'!D549^1.2528)","v":0},{"$f":"(0.00005*('Conversion 1'!D549^2))+(0.3389*'Conversion 1'!D549)-1.431","v":-1.431},548,{"$f":"'Conversion 1'!B549","v":0},{"$f":"'Conversion 1'!B549/0.4","v":0},{"$f":"'Conversion 1'!B549/0.4","v":0},{"$f":"'Conversion 1'!B549","v":0},{"$f":"'Conversion 1'!B549/0.07","v":0},{"$f":"'Conversion 1'!B549/0.056","v":0},{"$f":"'Conversion 1'!B549/0.1","v":0},{"$f":"'Conversion 1'!B549/0.058","v":0},{"$f":"'Conversion 1'!B549/0.01","v":0},{"$f":"'Conversion 1'!B549/0.02","v":0},{"$f":"'Conversion 1'!B549/0.56","v":0},{"$f":"'Conversion 1'!B549/0.4","v":0}]
[null,{"$f":"0.1423*('Conversion 1'!D550^1.2528)","v":0},{"$f":"(0.00005*('Conversion 1'!D550^2))+(0.3389*'Conversion 1'!D550)-1.431","v":-1.431},549,{"$f":"'Conversion 1'!B550","v":0},{"$f":"'Conversion 1'!B550/0.4","v":0},{"$f":"'Conversion 1'!B550/0.4","v":0},{"$f":"'Conversion 1'!B550","v":0},{"$f":"'Conversion 1'!B550/0.07","v":0},{"$f":"'Conversion 1'!B550/0.056","v":0},{"$f":"'Conversion 1'!B550/0.1","v":0},{"$f":"'Conversion 1'!B550/0.058","v":0},{"$f":"'Conversion 1'!B550/0.01","v":0},{"$f":"'Conversion 1'!B550/0.02","v":0},{"$f":"'Conversion 1'!B550/0.56","v":0},{"$f":"'Conversion 1'!B550/0.4","v":0}]
[null,{"$f":"0.1423*('Conversion 1'!D551^1.2528)","v":0},{"$f":"(0.00005*('Conversion 1'!D551^2))+(0.3389*'Conversion 1'!D551)-1.431","v":-1.431},550,{"$f":"'Conversion 1'!B551","v":0},{"$f":"'Conversion 1'!B551/0.4","v":0},{"$f":"'Conversion 1'!B551/0.4","v":0},{"$f":"'Conversion 1'!B551","v":0},{"$f":"'Conversion 1'!B551/0.07","v":0},{"$f":"'Conversion 1'!B551/0.056","v":0},{"$f":"'Conversion 1'!B551/0.1","v":0},{"$f":"'Conversion 1'!B551/0.058","v":0},{"$f":"'Conversion 1'!B551/0.01","v":0},{"$f":"'Conversion 1'!B551/0.02","v":0},{"$f":"'Conversion 1'!B551/0.56","v":0},{"$f":"'Conversion 1'!B551/0.4","v":0}]
[null,{"$f":"0.1423*('Conversion 1'!D552^1.2528)","v":0},{"$f":"(0.00005*('Conversion 1'!D552^2))+(0.3389*'Conversion 1'!D552)-1.431","v":-1.431},551,{"$f":"'Conversion 1'!B552","v":0},{"$f":"'Conversion 1'!B552/0.4","v":0},{"$f":"'Conversion 1'!B552/0.4","v":0},{"$f":"'Conversion 1'!B552","v":0},{"$f":"'Conversion 1'!B552/0.07","v":0},{"$f":"'Conversion 1'!B552/0.056","v":0},{"$f":"'Conversion 1'!B552/0.1","v":0},{"$f":"'Conversion 1'!B552/0.058","v":0},{"$f":"'Conversion 1'!B552/0.01","v":0},{"$f":"'Conversion 1'!B552/0.02","v":0},{"$f":"'Conversion 1'!B552/0.56","v":0},{"$f":"'Conversion 1'!B552/0.4","v":0}]
[null,{"$f":"0.1423*('Conversion 1'!D553^1.2528)","v":0},{"$f":"(0.00005*('Conversion 1'!D553^2))+(0.3389*'Conversion 1'!D553)-1.431","v":-1.431},552,{"$f":"'Conversion 1'!B553","v":0},{"$f":"'Conversion 1'!B553/0.4","v":0},{"$f":"'Conversion 1'!B553/0.4","v":0},{"$f":"'Conversion 1'!B553","v":0},{"$f":"'Conversion 1'!B553/0.07","v":0},{"$f":"'Conversion 1'!B553/0.056","v":0},{"$f":"'Conversion 1'!B553/0.1","v":0},{"$f":"'Conversion 1'!B553/0.058","v":0},{"$f":"'Conversion 1'!B553/0.01","v":0},{"$f":"'Conversion 1'!B553/0.02","v":0},{"$f":"'Conversion 1'!B553/0.56","v":0},{"$f":"'Conversion 1'!B553/0.4","v":0}]
[null,{"$f":"0.1423*('Conversion 1'!D554^1.2528)","v":0},{"$f":"(0.00005*('Conversion 1'!D554^2))+(0.3389*'Conversion 1'!D554)-1.431","v":-1.431},553,{"$f":"'Conversion 1'!B554","v":0},{"$f":"'Conversion 1'!B554/0.4","v":0},{"$f":"'Conversion 1'!B554/0.4","v":0},{"$f":"'Conversion 1'!B554","v":0},{"$f":"'Conversion 1'!B554/0.07","v":0},{"$f":"'Conversion 1'!B554/0.056","v":0},{"$f":"'Conversion 1'!B554/0.1","v":0},{"$f":"'Conversion 1'!B554/0.058","v":0},{"$f":"'Conversion 1'!B554/0.01","v":0},{"$f":"'Conversion 1'!B554/0.02","v":0},{"$f":"'Conversion 1'!B554/0.56","v":0},{"$f":"'Conversion 1'!B554/0.4","v":0}]
[null,{"$f":"0.1423*('Conversion 1'!D555^1.2528)","v":0},{"$f":"(0.00005*('Conversion 1'!D555^2))+(0.3389*'Conversion 1'!D555)-1.431","v":-1.431},554,{"$f":"'Conversion 1'!B555","v":0},{"$f":"'Conversion 1'!B555/0.4","v":0},{"$f":"'Conversion 1'!B555/0.4","v":0},{"$f":"'Conversion 1'!B555","v":0},{"$f":"'Conversion 1'!B555/0.07","v":0},{"$f":"'Conversion 1'!B555/0.056","v":0},{"$f":"'Conversion 1'!B555/0.1","v":0},{"$f":"'Conversion 1'!B555/0.058","v":0},{"$f":"'Conversion 1'!B555/0.01","v":0},{"$f":"'Conversion 1'!B555/0.02","v":0},{"$f":"'Conversion 1'!B555/0.56","v":0},{"$f":"'Conversion 1'!B555/0.4","v":0}]
[null,{"$f":"0.1423*('Conversion 1'!D556^1.2528)","v":0},{"$f":"(0.00005*('Conversion 1'!D556^2))+(0.3389*'Conversion 1'!D556)-1.431","v":-1.431},555,{"$f":"'Conversion 1'!B556","v":0},{"$f":"'Conversion 1'!B556/0.4","v":0},{"$f":"'Conversion 1'!B556/0.4","v":0},{"$f":"'Conversion 1'!B556","v":0},{"$f":"'Conversion 1'!B556/0.07","v":0},{"$f":"'Conversion 1'!B556/0.056","v":0},{"$f":"'Conversion 1'!B556/0.1","v":0},{"$f":"'Conversion 1'!B556/0.058","v":0},{"$f":"'Conversion 1'!B556/0.01","v":0},{"$f":"'Conversion 1'!B556/0.02","v":0},{"$f":"'Conversion 1'!B556/0.56","v":0},{"$f":"'Conversion 1'!B556/0.4","v":0}]
[null,{"$f":"0.1423*('Conversion 1'!D557^1.2528)","v":0},{"$f":"(0.00005*('Conversion 1'!D557^2))+(0.3389*'Conversion 1'!D557)-1.431","v":-1.431},556,{"$f":"'Conversion 1'!B557","v":0},{"$f":"'Conversion 1'!B557/0.4","v":0},{"$f":"'Conversion 1'!B557/0.4","v":0},{"$f":"'Conversion 1'!B557","v":0},{"$f":"'Conversion 1'!B557/0.07","v":0},{"$f":"'Conversion 1'!B557/0.056","v":0},{"$f":"'Conversion 1'!B557/0.1","v":0},{"$f":"'Conversion 1'!B557/0.058","v":0},{"$f":"'Conversion 1'!B557/0.01","v":0},{"$f":"'Conversion 1'!B557/0.02","v":0},{"$f":"'Conversion 1'!B557/0.56","v":0},{"$f":"'Conversion 1'!B557/0.4","v":0}]
[null,{"$f":"0.1423*('Conversion 1'!D558^1.2528)","v":0},{"$f":"(0.00005*('Conversion 1'!D558^2))+(0.3389*'Conversion 1'!D558)-1.431","v":-1.431},557,{"$f":"'Conversion 1'!B558","v":0},{"$f":"'Conversion 1'!B558/0.4","v":0},{"$f":"'Conversion 1'!B558/0.4","v":0},{"$f":"'Conversion 1'!B558","v":0},{"$f":"'Conversion 1'!B558/0.07","v":0},{"$f":"'Conversion 1'!B558/0.056","v":0},{"$f":"'Conversion 1'!B558/0.1","v":0},{"$f":"'Conversion 1'!B558/0.058","v":0},{"$f":"'Conversion 1'!B558/0.01","v":0},{"$f":"'Conversion 1'!B558/0.02","v":0},{"$f":"'Conversion 1'!B558/0.56","v":0},{"$f":"'Conversion 1'!B558/0.4","v":0}]
[null,{"$f":"0.1423*('Conversion 1'!D559^1.2528)","v":0},{"$f":"(0.00005*('Conversion 1'!D559^2))+(0.3389*'Conversion 1'!D559)-1.431","v":-1.431},558,{"$f":"'Conversion 1'!B559","v":0},{"$f":"'Conversion 1'!B559/0.4","v":0},{"$f":"'Conversion 1'!B559/0.4","v":0},{"$f":"'Conversion 1'!B559","v":0},{"$f":"'Conversion 1'!B559/0.07","v":0},{"$f":"'Conversion 1'!B559/0.056","v":0},{"$f":"'Conversion 1'!B559/0.1","v":0},{"$f":"'Conversion 1'!B559/0.058","v":0},{"$f":"'Conversion 1'!B559/0.01","v":0},{"$f":"'Conversion 1'!B559/0.02","v":0},{"$f":"'Conversion 1'!B559/0.56","v":0},{"$f":"'Conversion 1'!B559/0.4","v":0}]
[null,{"$f":"0.1423*('Conversion 1'!D560^1.2528)","v":0},{"$f":"(0.00005*('Conversion 1'!D560^2))+(0.3389*'Conversion 1'!D560)-1.431","v":-1.431},559,{"$f":"'Conversion 1'!B560","v":0},{"$f":"'Conversion 1'!B560/0.4","v":0},{"$f":"'Conversion 1'!B560/0.4","v":0},{"$f":"'Conversion 1'!B560","v":0},{"$f":"'Conversion 1'!B560/0.07","v":0},{"$f":"'Conversion 1'!B560/0.056","v":0},{"$f":"'Conversion 1'!B560/0.1","v":0},{"$f":"'Conversion 1'!B560/0.058","v":0},{"$f":"'Conversion 1'!B560/0.01","v":0},{"$f":"'Conversion 1'!B560/0.02","v":0},{"$f":"'Conversion 1'!B560/0.56","v":0},{"$f":"'Conversion 1'!B560/0.4","v":0}]
[null,{"$f":"0.1423*('Conversion 1'!D561^1.2528)","v":0},{"$f":"(0.00005*('Conversion 1'!D561^2))+(0.3389*'Conversion 1'!D561)-1.431","v":-1.431},560,{"$f":"'Conversion 1'!B561","v":0},{"$f":"'Conversion 1'!B561/0.4","v":0},{"$f":"'Conversion 1'!B561/0.4","v":0},{"$f":"'Conversion 1'!B561","v":0},{"$f":"'Conversion 1'!B561/0.07","v":0},{"$f":"'Conversion 1'!B561/0.056","v":0},{"$f":"'Conversion 1'!B561/0.1","v":0},{"$f":"'Conversion 1'!B561/0.058","v":0},{"$f":"'Conversion 1'!B561/0.01","v":0},{"$f":"'Conversion 1'!B561/0.02","v":0},{"$f":"'Conversion 1'!B561/0.56","v":0},{"$f":"'Conversion 1'!B561/0.4","v":0}]
[null,{"$f":"0.1423*('Conversion 1'!D562^1.2528)","v":0},{"$f":"(0.00005*('Conversion 1'!D562^2))+(0.3389*'Conversion 1'!D562)-1.431","v":-1.431},561,{"$f":"'Conversion 1'!B562","v":0},{"$f":"'Conversion 1'!B562/0.4","v":0},{"$f":"'Conversion 1'!B562/0.4","v":0},{"$f":"'Conversion 1'!B562","v":0},{"$f":"'Conversion 1'!B562/0.07","v":0},{"$f":"'Conversion 1'!B562/0.056","v":0},{"$f":"'Conversion 1'!B562/0.1","v":0},{"$f":"'Conversion 1'!B562/0.058","v":0},{"$f":"'Conversion 1'!B562/0.01","v":0},{"$f":"'Conversion 1'!B562/0.02","v":0},{"$f":"'Conversion 1'!B562/0.56","v":0},{"$f":"'Conversion 1'!B562/0.4","v":0}]
[null,{"$f":"0.1423*('Conversion 1'!D563^1.2528)","v":0},{"$f":"(0.00005*('Conversion 1'!D563^2))+(0.3389*'Conversion 1'!D563)-1.431","v":-1.431},562,{"$f":"'Conversion 1'!B563","v":0},{"$f":"'Conversion 1'!B563/0.4","v":0},{"$f":"'Conversion 1'!B563/0.4","v":0},{"$f":"'Conversion 1'!B563","v":0},{"$f":"'Conversion 1'!B563/0.07","v":0},{"$f":"'Conversion 1'!B563/0.056","v":0},{"$f":"'Conversion 1'!B563/0.1","v":0},{"$f":"'Conversion 1'!B563/0.058","v":0},{"$f":"'Conversion 1'!B563/0.01","v":0},{"$f":"'Conversion 1'!B563/0.02","v":0},{"$f":"'Conversion 1'!B563/0.56","v":0},{"$f":"'Conversion 1'!B563/0.4","v":0}]
[null,{"$f":"0.1423*('Conversion 1'!D564^1.2528)","v":0},{"$f":"(0.00005*('Conversion 1'!D564^2))+(0.3389*'Conversion 1'!D564)-1.431","v":-1.431},563,{"$f":"'Conversion 1'!B564","v":0},{"$f":"'Conversion 1'!B564/0.4","v":0},{"$f":"'Conversion 1'!B564/0.4","v":0},{"$f":"'Conversion 1'!B564","v":0},{"$f":"'Conversion 1'!B564/0.07","v":0},{"$f":"'Conversion 1'!B564/0.056","v":0},{"$f":"'Conversion 1'!B564/0.1","v":0},{"$f":"'Conversion 1'!B564/0.058","v":0},{"$f":"'Conversion 1'!B564/0.01","v":0},{"$f":"'Conversion 1'!B564/0.02","v":0},{"$f":"'Conversion 1'!B564/0.56","v":0},{"$f":"'Conversion 1'!B564/0.4","v":0}]
[null,{"$f":"0.1423*('Conversion 1'!D565^1.2528)","v":0},{"$f":"(0.00005*('Conversion 1'!D565^2))+(0.3389*'Conversion 1'!D565)-1.431","v":-1.431},564,{"$f":"'Conversion 1'!B565","v":0},{"$f":"'Conversion 1'!B565/0.4","v":0},{"$f":"'Conversion 1'!B565/0.4","v":0},{"$f":"'Conversion 1'!B565","v":0},{"$f":"'Conversion 1'!B565/0.07","v":0},{"$f":"'Conversion 1'!B565/0.056","v":0},{"$f":"'Conversion 1'!B565/0.1","v":0},{"$f":"'Conversion 1'!B565/0.058","v":0},{"$f":"'Conversion 1'!B565/0.01","v":0},{"$f":"'Conversion 1'!B565/0.02","v":0},{"$f":"'Conversion 1'!B565/0.56","v":0},{"$f":"'Conversion 1'!B565/0.4","v":0}]
[null,{"$f":"0.1423*('Conversion 1'!D566^1.2528)","v":0},{"$f":"(0.00005*('Conversion 1'!D566^2))+(0.3389*'Conversion 1'!D566)-1.431","v":-1.431},565,{"$f":"'Conversion 1'!B566","v":0},{"$f":"'Conversion 1'!B566/0.4","v":0},{"$f":"'Conversion 1'!B566/0.4","v":0},{"$f":"'Conversion 1'!B566","v":0},{"$f":"'Conversion 1'!B566/0.07","v":0},{"$f":"'Conversion 1'!B566/0.056","v":0},{"$f":"'Conversion 1'!B566/0.1","v":0},{"$f":"'Conversion 1'!B566/0.058","v":0},{"$f":"'Conversion 1'!B566/0.01","v":0},{"$f":"'Conversion 1'!B566/0.02","v":0},{"$f":"'Conversion 1'!B566/0.56","v":0},{"$f":"'Conversion 1'!B566/0.4","v":0}]
[null,{"$f":"0.1423*('Conversion 1'!D567^1.2528)","v":0},{"$f":"(0.00005*('Conversion 1'!D567^2))+(0.3389*'Conversion 1'!D567)-1.431","v":-1.431},566,{"$f":"'Conversion 1'!B567","v":0},{"$f":"'Conversion 1'!B567/0.4","v":0},{"$f":"'Conversion 1'!B567/0.4","v":0},{"$f":"'Conversion 1'!B567","v":0},{"$f":"'Conversion 1'!B567/0.07","v":0},{"$f":"'Conversion 1'!B567/0.056","v":0},{"$f":"'Conversion 1'!B567/0.1","v":0},{"$f":"'Conversion 1'!B567/0.058","v":0},{"$f":"'Conversion 1'!B567/0.01","v":0},{"$f":"'Conversion 1'!B567/0.02","v":0},{"$f":"'Conversion 1'!B567/0.56","v":0},{"$f":"'Conversion 1'!B567/0.4","v":0}]
[null,{"$f":"0.1423*('Conversion 1'!D568^1.2528)","v":0},{"$f":"(0.00005*('Conversion 1'!D568^2))+(0.3389*'Conversion 1'!D568)-1.431","v":-1.431},567,{"$f":"'Conversion 1'!B568","v":0},{"$f":"'Conversion 1'!B568/0.4","v":0},{"$f":"'Conversion 1'!B568/0.4","v":0},{"$f":"'Conversion 1'!B568","v":0},{"$f":"'Conversion 1'!B568/0.07","v":0},{"$f":"'Conversion 1'!B568/0.056","v":0},{"$f":"'Conversion 1'!B568/0.1","v":0},{"$f":"'Conversion 1'!B568/0.058","v":0},{"$f":"'Conversion 1'!B568/0.01","v":0},{"$f":"'Conversion 1'!B568/0.02","v":0},{"$f":"'Conversion 1'!B568/0.56","v":0},{"$f":"'Conversion 1'!B568/0.4","v":0}]
[null,{"$f":"0.1423*('Conversion 1'!D569^1.2528)","v":0},{"$f":"(0.00005*('Conversion 1'!D569^2))+(0.3389*'Conversion 1'!D569)-1.431","v":-1.431},568,{"$f":"'Conversion 1'!B569","v":0},{"$f":"'Conversion 1'!B569/0.4","v":0},{"$f":"'Conversion 1'!B569/0.4","v":0},{"$f":"'Conversion 1'!B569","v":0},{"$f":"'Conversion 1'!B569/0.07","v":0},{"$f":"'Conversion 1'!B569/0.056","v":0},{"$f":"'Conversion 1'!B569/0.1","v":0},{"$f":"'Conversion 1'!B569/0.058","v":0},{"$f":"'Conversion 1'!B569/0.01","v":0},{"$f":"'Conversion 1'!B569/0.02","v":0},{"$f":"'Conversion 1'!B569/0.56","v":0},{"$f":"'Conversion 1'!B569/0.4","v":0}]
[null,{"$f":"0.1423*('Conversion 1'!D570^1.2528)","v":0},{"$f":"(0.00005*('Conversion 1'!D570^2))+(0.3389*'Conversion 1'!D570)-1.431","v":-1.431},569,{"$f":"'Conversion 1'!B570","v":0},{"$f":"'Conversion 1'!B570/0.4","v":0},{"$f":"'Conversion 1'!B570/0.4","v":0},{"$f":"'Conversion 1'!B570","v":0},{"$f":"'Conversion 1'!B570/0.07","v":0},{"$f":"'Conversion 1'!B570/0.056","v":0},{"$f":"'Conversion 1'!B570/0.1","v":0},{"$f":"'Conversion 1'!B570/0.058","v":0},{"$f":"'Conversion 1'!B570/0.01","v":0},{"$f":"'Conversion 1'!B570/0.02","v":0},{"$f":"'Conversion 1'!B570/0.56","v":0},{"$f":"'Conversion 1'!B570/0.4","v":0}]
[null,{"$f":"0.1423*('Conversion 1'!D571^1.2528)","v":0},{"$f":"(0.00005*('Conversion 1'!D571^2))+(0.3389*'Conversion 1'!D571)-1.431","v":-1.431},570,{"$f":"'Conversion 1'!B571","v":0},{"$f":"'Conversion 1'!B571/0.4","v":0},{"$f":"'Conversion 1'!B571/0.4","v":0},{"$f":"'Conversion 1'!B571","v":0},{"$f":"'Conversion 1'!B571/0.07","v":0},{"$f":"'Conversion 1'!B571/0.056","v":0},{"$f":"'Conversion 1'!B571/0.1","v":0},{"$f":"'Conversion 1'!B571/0.058","v":0},{"$f":"'Conversion 1'!B571/0.01","v":0},{"$f":"'Conversion 1'!B571/0.02","v":0},{"$f":"'Conversion 1'!B571/0.56","v":0},{"$f":"'Conversion 1'!B571/0.4","v":0}]
[null,{"$f":"0.1423*('Conversion 1'!D572^1.2528)","v":0},{"$f":"(0.00005*('Conversion 1'!D572^2))+(0.3389*'Conversion 1'!D572)-1.431","v":-1.431},571,{"$f":"'Conversion 1'!B572","v":0},{"$f":"'Conversion 1'!B572/0.4","v":0},{"$f":"'Conversion 1'!B572/0.4","v":0},{"$f":"'Conversion 1'!B572","v":0},{"$f":"'Conversion 1'!B572/0.07","v":0},{"$f":"'Conversion 1'!B572/0.056","v":0},{"$f":"'Conversion 1'!B572/0.1","v":0},{"$f":"'Conversion 1'!B572/0.058","v":0},{"$f":"'Conversion 1'!B572/0.01","v":0},{"$f":"'Conversion 1'!B572/0.02","v":0},{"$f":"'Conversion 1'!B572/0.56","v":0},{"$f":"'Conversion 1'!B572/0.4","v":0}]
[null,{"$f":"0.1423*('Conversion 1'!D573^1.2528)","v":0},{"$f":"(0.00005*('Conversion 1'!D573^2))+(0.3389*'Conversion 1'!D573)-1.431","v":-1.431},572,{"$f":"'Conversion 1'!B573","v":0},{"$f":"'Conversion 1'!B573/0.4","v":0},{"$f":"'Conversion 1'!B573/0.4","v":0},{"$f":"'Conversion 1'!B573","v":0},{"$f":"'Conversion 1'!B573/0.07","v":0},{"$f":"'Conversion 1'!B573/0.056","v":0},{"$f":"'Conversion 1'!B573/0.1","v":0},{"$f":"'Conversion 1'!B573/0.058","v":0},{"$f":"'Conversion 1'!B573/0.01","v":0},{"$f":"'Conversion 1'!B573/0.02","v":0},{"$f":"'Conversion 1'!B573/0.56","v":0},{"$f":"'Conversion 1'!B573/0.4","v":0}]
[null,{"$f":"0.1423*('Conversion 1'!D574^1.2528)","v":0},{"$f":"(0.00005*('Conversion 1'!D574^2))+(0.3389*'Conversion 1'!D574)-1.431","v":-1.431},573,{"$f":"'Conversion 1'!B574","v":0},{"$f":"'Conversion 1'!B574/0.4","v":0},{"$f":"'Conversion 1'!B574/0.4","v":0},{"$f":"'Conversion 1'!B574","v":0},{"$f":"'Conversion 1'!B574/0.07","v":0},{"$f":"'Conversion 1'!B574/0.056","v":0},{"$f":"'Conversion 1'!B574/0.1","v":0},{"$f":"'Conversion 1'!B574/0.058","v":0},{"$f":"'Conversion 1'!B574/0.01","v":0},{"$f":"'Conversion 1'!B574/0.02","v":0},{"$f":"'Conversion 1'!B574/0.56","v":0},{"$f":"'Conversion 1'!B574/0.4","v":0}]
[null,{"$f":"0.1423*('Conversion 1'!D575^1.2528)","v":0},{"$f":"(0.00005*('Conversion 1'!D575^2))+(0.3389*'Conversion 1'!D575)-1.431","v":-1.431},574,{"$f":"'Conversion 1'!B575","v":0},{"$f":"'Conversion 1'!B575/0.4","v":0},{"$f":"'Conversion 1'!B575/0.4","v":0},{"$f":"'Conversion 1'!B575","v":0},{"$f":"'Conversion 1'!B575/0.07","v":0},{"$f":"'Conversion 1'!B575/0.056","v":0},{"$f":"'Conversion 1'!B575/0.1","v":0},{"$f":"'Conversion 1'!B575/0.058","v":0},{"$f":"'Conversion 1'!B575/0.01","v":0},{"$f":"'Conversion 1'!B575/0.02","v":0},{"$f":"'Conversion 1'!B575/0.56","v":0},{"$f":"'Conversion 1'!B575/0.4","v":0}]
[null,{"$f":"0.1423*('Conversion 1'!D576^1.2528)","v":0},{"$f":"(0.00005*('Conversion 1'!D576^2))+(0.3389*'Conversion 1'!D576)-1.431","v":-1.431},575,{"$f":"'Conversion 1'!B576","v":0},{"$f":"'Conversion 1'!B576/0.4","v":0},{"$f":"'Conversion 1'!B576/0.4","v":0},{"$f":"'Conversion 1'!B576","v":0},{"$f":"'Conversion 1'!B576/0.07","v":0},{"$f":"'Conversion 1'!B576/0.056","v":0},{"$f":"'Conversion 1'!B576/0.1","v":0},{"$f":"'Conversion 1'!B576/0.058","v":0},{"$f":"'Conversion 1'!B576/0.01","v":0},{"$f":"'Conversion 1'!B576/0.02","v":0},{"$f":"'Conversion 1'!B576/0.56","v":0},{"$f":"'Conversion 1'!B576/0.4","v":0}]
[null,{"$f":"0.1423*('Conversion 1'!D577^1.2528)","v":0},{"$f":"(0.00005*('Conversion 1'!D577^2))+(0.3389*'Conversion 1'!D577)-1.431","v":-1.431},576,{"$f":"'Conversion 1'!B577","v":0},{"$f":"'Conversion 1'!B577/0.4","v":0},{"$f":"'Conversion 1'!B577/0.4","v":0},{"$f":"'Conversion 1'!B577","v":0},{"$f":"'Conversion 1'!B577/0.07","v":0},{"$f":"'Conversion 1'!B577/0.056","v":0},{"$f":"'Conversion 1'!B577/0.1","v":0},{"$f":"'Conversion 1'!B577/0.058","v":0},{"$f":"'Conversion 1'!B577/0.01","v":0},{"$f":"'Conversion 1'!B577/0.02","v":0},{"$f":"'Conversion 1'!B577/0.56","v":0},{"$f":"'Conversion 1'!B577/0.4","v":0}]
[null,{"$f":"0.1423*('Conversion 1'!D578^1.2528)","v":0},{"$f":"(0.00005*('Conversion 1'!D578^2))+(0.3389*'Conversion 1'!D578)-1.431","v":-1.431},577,{"$f":"'Conversion 1'!B578","v":0},{"$f":"'Conversion 1'!B578/0.4","v":0},{"$f":"'Conversion 1'!B578/0.4","v":0},{"$f":"'Conversion 1'!B578","v":0},{"$f":"'Conversion 1'!B578/0.07","v":0},{"$f":"'Conversion 1'!B578/0.056","v":0},{"$f":"'Conversion 1'!B578/0.1","v":0},{"$f":"'Conversion 1'!B578/0.058","v":0},{"$f":"'Conversion 1'!B578/0.01","v":0},{"$f":"'Conversion 1'!B578/0.02","v":0},{"$f":"'Conversion 1'!B578/0.56","v":0},{"$f":"'Conversion 1'!B578/0.4","v":0}]
[null,{"$f":"0.1423*('Conversion 1'!D579^1.2528)","v":0},{"$f":"(0.00005*('Conversion 1'!D579^2))+(0.3389*'Conversion 1'!D579)-1.431","v":-1.431},578,{"$f":"'Conversion 1'!B579","v":0},{"$f":"'Conversion 1'!B579/0.4","v":0},{"$f":"'Conversion 1'!B579/0.4","v":0},{"$f":"'Conversion 1'!B579","v":0},{"$f":"'Conversion 1'!B579/0.07","v":0},{"$f":"'Conversion 1'!B579/0.056","v":0},{"$f":"'Conversion 1'!B579/0.1","v":0},{"$f":"'Conversion 1'!B579/0.058","v":0},{"$f":"'Conversion 1'!B579/0.01","v":0},{"$f":"'Conversion 1'!B579/0.02","v":0},{"$f":"'Conversion 1'!B579/0.56","v":0},{"$f":"'Conversion 1'!B579/0.4","v":0}]
[null,{"$f":"0.1423*('Conversion 1'!D580^1.2528)","v":0},{"$f":"(0.00005*('Conversion 1'!D580^2))+(0.3389*'Conversion 1'!D580)-1.431","v":-1.431},579,{"$f":"'Conversion 1'!B580","v":0},{"$f":"'Conversion 1'!B580/0.4","v":0},{"$f":"'Conversion 1'!B580/0.4","v":0},{"$f":"'Conversion 1'!B580","v":0},{"$f":"'Conversion 1'!B580/0.07","v":0},{"$f":"'Conversion 1'!B580/0.056","v":0},{"$f":"'Conversion 1'!B580/0.1","v":0},{"$f":"'Conversion 1'!B580/0.058","v":0},{"$f":"'Conversion 1'!B580/0.01","v":0},{"$f":"'Conversion 1'!B580/0.02","v":0},{"$f":"'Conversion 1'!B580/0.56","v":0},{"$f":"'Conversion 1'!B580/0.4","v":0}]
[null,{"$f":"0.1423*('Conversion 1'!D581^1.2528)","v":0},{"$f":"(0.00005*('Conversion 1'!D581^2))+(0.3389*'Conversion 1'!D581)-1.431","v":-1.431},580,{"$f":"'Conversion 1'!B581","v":0},{"$f":"'Conversion 1'!B581/0.4","v":0},{"$f":"'Conversion 1'!B581/0.4","v":0},{"$f":"'Conversion 1'!B581","v":0},{"$f":"'Conversion 1'!B581/0.07","v":0},{"$f":"'Conversion 1'!B581/0.056","v":0},{"$f":"'Conversion 1'!B581/0.1","v":0},{"$f":"'Conversion 1'!B581/0.058","v":0},{"$f":"'Conversion 1'!B581/0.01","v":0},{"$f":"'Conversion 1'!B581/0.02","v":0},{"$f":"'Conversion 1'!B581/0.56","v":0},{"$f":"'Conversion 1'!B581/0.4","v":0}]
[null,{"$f":"0.1423*('Conversion 1'!D582^1.2528)","v":0},{"$f":"(0.00005*('Conversion 1'!D582^2))+(0.3389*'Conversion 1'!D582)-1.431","v":-1.431},581,{"$f":"'Conversion 1'!B582","v":0},{"$f":"'Conversion 1'!B582/0.4","v":0},{"$f":"'Conversion 1'!B582/0.4","v":0},{"$f":"'Conversion 1'!B582","v":0},{"$f":"'Conversion 1'!B582/0.07","v":0},{"$f":"'Conversion 1'!B582/0.056","v":0},{"$f":"'Conversion 1'!B582/0.1","v":0},{"$f":"'Conversion 1'!B582/0.058","v":0},{"$f":"'Conversion 1'!B582/0.01","v":0},{"$f":"'Conversion 1'!B582/0.02","v":0},{"$f":"'Conversion 1'!B582/0.56","v":0},{"$f":"'Conversion 1'!B582/0.4","v":0}]
[null,{"$f":"0.1423*('Conversion 1'!D583^1.2528)","v":0},{"$f":"(0.00005*('Conversion 1'!D583^2))+(0.3389*'Conversion 1'!D583)-1.431","v":-1.431},582,{"$f":"'Conversion 1'!B583","v":0},{"$f":"'Conversion 1'!B583/0.4","v":0},{"$f":"'Conversion 1'!B583/0.4","v":0},{"$f":"'Conversion 1'!B583","v":0},{"$f":"'Conversion 1'!B583/0.07","v":0},{"$f":"'Conversion 1'!B583/0.056","v":0},{"$f":"'Conversion 1'!B583/0.1","v":0},{"$f":"'Conversion 1'!B583/0.058","v":0},{"$f":"'Conversion 1'!B583/0.01","v":0},{"$f":"'Conversion 1'!B583/0.02","v":0},{"$f":"'Conversion 1'!B583/0.56","v":0},{"$f":"'Conversion 1'!B583/0.4","v":0}]
[null,{"$f":"0.1423*('Conversion 1'!D584^1.2528)","v":0},{"$f":"(0.00005*('Conversion 1'!D584^2))+(0.3389*'Conversion 1'!D584)-1.431","v":-1.431},583,{"$f":"'Conversion 1'!B584","v":0},{"$f":"'Conversion 1'!B584/0.4","v":0},{"$f":"'Conversion 1'!B584/0.4","v":0},{"$f":"'Conversion 1'!B584","v":0},{"$f":"'Conversion 1'!B584/0.07","v":0},{"$f":"'Conversion 1'!B584/0.056","v":0},{"$f":"'Conversion 1'!B584/0.1","v":0},{"$f":"'Conversion 1'!B584/0.058","v":0},{"$f":"'Conversion 1'!B584/0.01","v":0},{"$f":"'Conversion 1'!B584/0.02","v":0},{"$f":"'Conversion 1'!B584/0.56","v":0},{"$f":"'Conversion 1'!B584/0.4","v":0}]
[null,{"$f":"0.1423*('Conversion 1'!D585^1.2528)","v":0},{"$f":"(0.00005*('Conversion 1'!D585^2))+(0.3389*'Conversion 1'!D585)-1.431","v":-1.431},584,{"$f":"'Conversion 1'!B585","v":0},{"$f":"'Conversion 1'!B585/0.4","v":0},{"$f":"'Conversion 1'!B585/0.4","v":0},{"$f":"'Conversion 1'!B585","v":0},{"$f":"'Conversion 1'!B585/0.07","v":0},{"$f":"'Conversion 1'!B585/0.056","v":0},{"$f":"'Conversion 1'!B585/0.1","v":0},{"$f":"'Conversion 1'!B585/0.058","v":0},{"$f":"'Conversion 1'!B585/0.01","v":0},{"$f":"'Conversion 1'!B585/0.02","v":0},{"$f":"'Conversion 1'!B585/0.56","v":0},{"$f":"'Conversion 1'!B585/0.4","v":0}]
[null,{"$f":"0.1423*('Conversion 1'!D586^1.2528)","v":0},{"$f":"(0.00005*('Conversion 1'!D586^2))+(0.3389*'Conversion 1'!D586)-1.431","v":-1.431},585,{"$f":"'Conversion 1'!B586","v":0},{"$f":"'Conversion 1'!B586/0.4","v":0},{"$f":"'Conversion 1'!B586/0.4","v":0},{"$f":"'Conversion 1'!B586","v":0},{"$f":"'Conversion 1'!B586/0.07","v":0},{"$f":"'Conversion 1'!B586/0.056","v":0},{"$f":"'Conversion 1'!B586/0.1","v":0},{"$f":"'Conversion 1'!B586/0.058","v":0},{"$f":"'Conversion 1'!B586/0.01","v":0},{"$f":"'Conversion 1'!B586/0.02","v":0},{"$f":"'Conversion 1'!B586/0.56","v":0},{"$f":"'Conversion 1'!B586/0.4","v":0}]
[null,{"$f":"0.1423*('Conversion 1'!D587^1.2528)","v":0},{"$f":"(0.00005*('Conversion 1'!D587^2))+(0.3389*'Conversion 1'!D587)-1.431","v":-1.431},586,{"$f":"'Conversion 1'!B587","v":0},{"$f":"'Conversion 1'!B587/0.4","v":0},{"$f":"'Conversion 1'!B587/0.4","v":0},{"$f":"'Conversion 1'!B587","v":0},{"$f":"'Conversion 1'!B587/0.07","v":0},{"$f":"'Conversion 1'!B587/0.056","v":0},{"$f":"'Conversion 1'!B587/0.1","v":0},{"$f":"'Conversion 1'!B587/0.058","v":0},{"$f":"'Conversion 1'!B587/0.01","v":0},{"$f":"'Conversion 1'!B587/0.02","v":0},{"$f":"'Conversion 1'!B587/0.56","v":0},{"$f":"'Conversion 1'!B587/0.4","v":0}]
[null,{"$f":"0.1423*('Conversion 1'!D588^1.2528)","v":0},{"$f":"(0.00005*('Conversion 1'!D588^2))+(0.3389*'Conversion 1'!D588)-1.431","v":-1.431},587,{"$f":"'Conversion 1'!B588","v":0},{"$f":"'Conversion 1'!B588/0.4","v":0},{"$f":"'Conversion 1'!B588/0.4","v":0},{"$f":"'Conversion 1'!B588","v":0},{"$f":"'Conversion 1'!B588/0.07","v":0},{"$f":"'Conversion 1'!B588/0.056","v":0},{"$f":"'Conversion 1'!B588/0.1","v":0},{"$f":"'Conversion 1'!B588/0.058","v":0},{"$f":"'Conversion 1'!B588/0.01","v":0},{"$f":"'Conversion 1'!B588/0.02","v":0},{"$f":"'Conversion 1'!B588/0.56","v":0},{"$f":"'Conversion 1'!B588/0.4","v":0}]
[null,{"$f":"0.1423*('Conversion 1'!D589^1.2528)","v":0},{"$f":"(0.00005*('Conversion 1'!D589^2))+(0.3389*'Conversion 1'!D589)-1.431","v":-1.431},588,{"$f":"'Conversion 1'!B589","v":0},{"$f":"'Conversion 1'!B589/0.4","v":0},{"$f":"'Conversion 1'!B589/0.4","v":0},{"$f":"'Conversion 1'!B589","v":0},{"$f":"'Conversion 1'!B589/0.07","v":0},{"$f":"'Conversion 1'!B589/0.056","v":0},{"$f":"'Conversion 1'!B589/0.1","v":0},{"$f":"'Conversion 1'!B589/0.058","v":0},{"$f":"'Conversion 1'!B589/0.01","v":0},{"$f":"'Conversion 1'!B589/0.02","v":0},{"$f":"'Conversion 1'!B589/0.56","v":0},{"$f":"'Conversion 1'!B589/0.4","v":0}]
[null,{"$f":"0.1423*('Conversion 1'!D590^1.2528)","v":0},{"$f":"(0.00005*('Conversion 1'!D590^2))+(0.3389*'Conversion 1'!D590)-1.431","v":-1.431},589,{"$f":"'Conversion 1'!B590","v":0},{"$f":"'Conversion 1'!B590/0.4","v":0},{"$f":"'Conversion 1'!B590/0.4","v":0},{"$f":"'Conversion 1'!B590","v":0},{"$f":"'Conversion 1'!B590/0.07","v":0},{"$f":"'Conversion 1'!B590/0.056","v":0},{"$f":"'Conversion 1'!B590/0.1","v":0},{"$f":"'Conversion 1'!B590/0.058","v":0},{"$f":"'Conversion 1'!B590/0.01","v":0},{"$f":"'Conversion 1'!B590/0.02","v":0},{"$f":"'Conversion 1'!B590/0.56","v":0},{"$f":"'Conversion 1'!B590/0.4","v":0}]
[null,{"$f":"0.1423*('Conversion 1'!D591^1.2528)","v":0},{"$f":"(0.00005*('Conversion 1'!D591^2))+(0.3389*'Conversion 1'!D591)-1.431","v":-1.431},590,{"$f":"'Conversion 1'!B591","v":0},{"$f":"'Conversion 1'!B591/0.4","v":0},{"$f":"'Conversion 1'!B591/0.4","v":0},{"$f":"'Conversion 1'!B591","v":0},{"$f":"'Conversion 1'!B591/0.07","v":0},{"$f":"'Conversion 1'!B591/0.056","v":0},{"$f":"'Conversion 1'!B591/0.1","v":0},{"$f":"'Conversion 1'!B591/0.058","v":0},{"$f":"'Conversion 1'!B591/0.01","v":0},{"$f":"'Conversion 1'!B591/0.02","v":0},{"$f":"'Conversion 1'!B591/0.56","v":0},{"$f":"'Conversion 1'!B591/0.4","v":0}]
[null,{"$f":"0.1423*('Conversion 1'!D592^1.2528)","v":0},{"$f":"(0.00005*('Conversion 1'!D592^2))+(0.3389*'Conversion 1'!D592)-1.431","v":-1.431},591,{"$f":"'Conversion 1'!B592","v":0},{"$f":"'Conversion 1'!B592/0.4","v":0},{"$f":"'Conversion 1'!B592/0.4","v":0},{"$f":"'Conversion 1'!B592","v":0},{"$f":"'Conversion 1'!B592/0.07","v":0},{"$f":"'Conversion 1'!B592/0.056","v":0},{"$f":"'Conversion 1'!B592/0.1","v":0},{"$f":"'Conversion 1'!B592/0.058","v":0},{"$f":"'Conversion 1'!B592/0.01","v":0},{"$f":"'Conversion 1'!B592/0.02","v":0},{"$f":"'Conversion 1'!B592/0.56","v":0},{"$f":"'Conversion 1'!B592/0.4","v":0}]
[null,{"$f":"0.1423*('Conversion 1'!D593^1.2528)","v":0},{"$f":"(0.00005*('Conversion 1'!D593^2))+(0.3389*'Conversion 1'!D593)-1.431","v":-1.431},592,{"$f":"'Conversion 1'!B593","v":0},{"$f":"'Conversion 1'!B593/0.4","v":0},{"$f":"'Conversion 1'!B593/0.4","v":0},{"$f":"'Conversion 1'!B593","v":0},{"$f":"'Conversion 1'!B593/0.07","v":0},{"$f":"'Conversion 1'!B593/0.056","v":0},{"$f":"'Conversion 1'!B593/0.1","v":0},{"$f":"'Conversion 1'!B593/0.058","v":0},{"$f":"'Conversion 1'!B593/0.01","v":0},{"$f":"'Conversion 1'!B593/0.02","v":0},{"$f":"'Conversion 1'!B593/0.56","v":0},{"$f":"'Conversion 1'!B593/0.4","v":0}]
[null,{"$f":"0.1423*('Conversion 1'!D594^1.2528)","v":0},{"$f":"(0.00005*('Conversion 1'!D594^2))+(0.3389*'Conversion 1'!D594)-1.431","v":-1.431},593,{"$f":"'Conversion 1'!B594","v":0},{"$f":"'Conversion 1'!B594/0.4","v":0},{"$f":"'Conversion 1'!B594/0.4","v":0},{"$f":"'Conversion 1'!B594","v":0},{"$f":"'Conversion 1'!B594/0.07","v":0},{"$f":"'Conversion 1'!B594/0.056","v":0},{"$f":"'Conversion 1'!B594/0.1","v":0},{"$f":"'Conversion 1'!B594/0.058","v":0},{"$f":"'Conversion 1'!B594/0.01","v":0},{"$f":"'Conversion 1'!B594/0.02","v":0},{"$f":"'Conversion 1'!B594/0.56","v":0},{"$f":"'Conversion 1'!B594/0.4","v":0}]
[null,{"$f":"0.1423*('Conversion 1'!D595^1.2528)","v":0},{"$f":"(0.00005*('Conversion 1'!D595^2))+(0.3389*'Conversion 1'!D595)-1.431","v":-1.431},594,{"$f":"'Conversion 1'!B595","v":0},{"$f":"'Conversion 1'!B595/0.4","v":0},{"$f":"'Conversion 1'!B595/0.4","v":0},{"$f":"'Conversion 1'!B595","v":0},{"$f":"'Conversion 1'!B595/0.07","v":0},{"$f":"'Conversion 1'!B595/0.056","v":0},{"$f":"'Conversion 1'!B595/0.1","v":0},{"$f":"'Conversion 1'!B595/0.058","v":0},{"$f":"'Conversion 1'!B595/0.01","v":0},{"$f":"'Conversion 1'!B595/0.02","v":0},{"$f":"'Conversion 1'!B595/0.56","v":0},{"$f":"'Conversion 1'!B595/0.4","v":0}]
[null,{"$f":"0.1423*('Conversion 1'!D596^1.2528)","v":0},{"$f":"(0.00005*('Conversion 1'!D596^2))+(0.3389*'Conversion 1'!D596)-1.431","v":-1.431},595,{"$f":"'Conversion 1'!B596","v":0},{"$f":"'Conversion 1'!B596/0.4","v":0},{"$f":"'Conversion 1'!B596/0.4","v":0},{"$f":"'Conversion 1'!B596","v":0},{"$f":"'Conversion 1'!B596/0.07","v":0},{"$f":"'Conversion 1'!B596/0.056","v":0},{"$f":"'Conversion 1'!B596/0.1","v":0},{"$f":"'Conversion 1'!B596/0.058","v":0},{"$f":"'Conversion 1'!B596/0.01","v":0},{"$f":"'Conversion 1'!B596/0.02","v":0},{"$f":"'Conversion 1'!B596/0.56","v":0},{"$f":"'Conversion 1'!B596/0.4","v":0}]
[null,{"$f":"0.1423*('Conversion 1'!D597^1.2528)","v":0},{"$f":"(0.00005*('Conversion 1'!D597^2))+(0.3389*'Conversion 1'!D597)-1.431","v":-1.431},596,{"$f":"'Conversion 1'!B597","v":0},{"$f":"'Conversion 1'!B597/0.4","v":0},{"$f":"'Conversion 1'!B597/0.4","v":0},{"$f":"'Conversion 1'!B597","v":0},{"$f":"'Conversion 1'!B597/0.07","v":0},{"$f":"'Conversion 1'!B597/0.056","v":0},{"$f":"'Conversion 1'!B597/0.1","v":0},{"$f":"'Conversion 1'!B597/0.058","v":0},{"$f":"'Conversion 1'!B597/0.01","v":0},{"$f":"'Conversion 1'!B597/0.02","v":0},{"$f":"'Conversion 1'!B597/0.56","v":0},{"$f":"'Conversion 1'!B597/0.4","v":0}]
[null,{"$f":"0.1423*('Conversion 1'!D598^1.2528)","v":0},{"$f":"(0.00005*('Conversion 1'!D598^2))+(0.3389*'Conversion 1'!D598)-1.431","v":-1.431},597,{"$f":"'Conversion 1'!B598","v":0},{"$f":"'Conversion 1'!B598/0.4","v":0},{"$f":"'Conversion 1'!B598/0.4","v":0},{"$f":"'Conversion 1'!B598","v":0},{"$f":"'Conversion 1'!B598/0.07","v":0},{"$f":"'Conversion 1'!B598/0.056","v":0},{"$f":"'Conversion 1'!B598/0.1","v":0},{"$f":"'Conversion 1'!B598/0.058","v":0},{"$f":"'Conversion 1'!B598/0.01","v":0},{"$f":"'Conversion 1'!B598/0.02","v":0},{"$f":"'Conversion 1'!B598/0.56","v":0},{"$f":"'Conversion 1'!B598/0.4","v":0}]
[null,{"$f":"0.1423*('Conversion 1'!D599^1.2528)","v":0},{"$f":"(0.00005*('Conversion 1'!D599^2))+(0.3389*'Conversion 1'!D599)-1.431","v":-1.431},598,{"$f":"'Conversion 1'!B599","v":0},{"$f":"'Conversion 1'!B599/0.4","v":0},{"$f":"'Conversion 1'!B599/0.4","v":0},{"$f":"'Conversion 1'!B599","v":0},{"$f":"'Conversion 1'!B599/0.07","v":0},{"$f":"'Conversion 1'!B599/0.056","v":0},{"$f":"'Conversion 1'!B599/0.1","v":0},{"$f":"'Conversion 1'!B599/0.058","v":0},{"$f":"'Conversion 1'!B599/0.01","v":0},{"$f":"'Conversion 1'!B599/0.02","v":0},{"$f":"'Conversion 1'!B599/0.56","v":0},{"$f":"'Conversion 1'!B599/0.4","v":0}]
[null,{"$f":"0.1423*('Conversion 1'!D600^1.2528)","v":0},{"$f":"(0.00005*('Conversion 1'!D600^2))+(0.3389*'Conversion 1'!D600)-1.431","v":-1.431},599,{"$f":"'Conversion 1'!B600","v":0},{"$f":"'Conversion 1'!B600/0.4","v":0},{"$f":"'Conversion 1'!B600/0.4","v":0},{"$f":"'Conversion 1'!B600","v":0},{"$f":"'Conversion 1'!B600/0.07","v":0},{"$f":"'Conversion 1'!B600/0.056","v":0},{"$f":"'Conversion 1'!B600/0.1","v":0},{"$f":"'Conversion 1'!B600/0.058","v":0},{"$f":"'Conversion 1'!B600/0.01","v":0},{"$f":"'Conversion 1'!B600/0.02","v":0},{"$f":"'Conversion 1'!B600/0.56","v":0},{"$f":"'Conversion 1'!B600/0.4","v":0}]
[null,{"$f":"0.1423*('Conversion 1'!D601^1.2528)","v":0},{"$f":"(0.00005*('Conversion 1'!D601^2))+(0.3389*'Conversion 1'!D601)-1.431","v":-1.431},600,{"$f":"'Conversion 1'!B601","v":0},{"$f":"'Conversion 1'!B601/0.4","v":0},{"$f":"'Conversion 1'!B601/0.4","v":0},{"$f":"'Conversion 1'!B601","v":0},{"$f":"'Conversion 1'!B601/0.07","v":0},{"$f":"'Conversion 1'!B601/0.056","v":0},{"$f":"'Conversion 1'!B601/0.1","v":0},{"$f":"'Conversion 1'!B601/0.058","v":0},{"$f":"'Conversion 1'!B601/0.01","v":0},{"$f":"'Conversion 1'!B601/0.02","v":0},{"$f":"'Conversion 1'!B601/0.56","v":0},{"$f":"'Conversion 1'!B601/0.4","v":0}]
[null,{"$f":"0.1423*('Conversion 1'!D602^1.2528)","v":0},{"$f":"(0.00005*('Conversion 1'!D602^2))+(0.3389*'Conversion 1'!D602)-1.431","v":-1.431},601,{"$f":"'Conversion 1'!B602","v":0},{"$f":"'Conversion 1'!B602/0.4","v":0},{"$f":"'Conversion 1'!B602/0.4","v":0},{"$f":"'Conversion 1'!B602","v":0},{"$f":"'Conversion 1'!B602/0.07","v":0},{"$f":"'Conversion 1'!B602/0.056","v":0},{"$f":"'Conversion 1'!B602/0.1","v":0},{"$f":"'Conversion 1'!B602/0.058","v":0},{"$f":"'Conversion 1'!B602/0.01","v":0},{"$f":"'Conversion 1'!B602/0.02","v":0},{"$f":"'Conversion 1'!B602/0.56","v":0},{"$f":"'Conversion 1'!B602/0.4","v":0}]
[null,{"$f":"0.1423*('Conversion 1'!D603^1.2528)","v":0},{"$f":"(0.00005*('Conversion 1'!D603^2))+(0.3389*'Conversion 1'!D603)-1.431","v":-1.431},602,{"$f":"'Conversion 1'!B603","v":0},{"$f":"'Conversion 1'!B603/0.4","v":0},{"$f":"'Conversion 1'!B603/0.4","v":0},{"$f":"'Conversion 1'!B603","v":0},{"$f":"'Conversion 1'!B603/0.07","v":0},{"$f":"'Conversion 1'!B603/0.056","v":0},{"$f":"'Conversion 1'!B603/0.1","v":0},{"$f":"'Conversion 1'!B603/0.058","v":0},{"$f":"'Conversion 1'!B603/0.01","v":0},{"$f":"'Conversion 1'!B603/0.02","v":0},{"$f":"'Conversion 1'!B603/0.56","v":0},{"$f":"'Conversion 1'!B603/0.4","v":0}]
[null,{"$f":"0.1423*('Conversion 1'!D604^1.2528)","v":0},{"$f":"(0.00005*('Conversion 1'!D604^2))+(0.3389*'Conversion 1'!D604)-1.431","v":-1.431},603,{"$f":"'Conversion 1'!B604","v":0},{"$f":"'Conversion 1'!B604/0.4","v":0},{"$f":"'Conversion 1'!B604/0.4","v":0},{"$f":"'Conversion 1'!B604","v":0},{"$f":"'Conversion 1'!B604/0.07","v":0},{"$f":"'Conversion 1'!B604/0.056","v":0},{"$f":"'Conversion 1'!B604/0.1","v":0},{"$f":"'Conversion 1'!B604/0.058","v":0},{"$f":"'Conversion 1'!B604/0.01","v":0},{"$f":"'Conversion 1'!B604/0.02","v":0},{"$f":"'Conversion 1'!B604/0.56","v":0},{"$f":"'Conversion 1'!B604/0.4","v":0}]
[null,{"$f":"0.1423*('Conversion 1'!D605^1.2528)","v":0},{"$f":"(0.00005*('Conversion 1'!D605^2))+(0.3389*'Conversion 1'!D605)-1.431","v":-1.431},604,{"$f":"'Conversion 1'!B605","v":0},{"$f":"'Conversion 1'!B605/0.4","v":0},{"$f":"'Conversion 1'!B605/0.4","v":0},{"$f":"'Conversion 1'!B605","v":0},{"$f":"'Conversion 1'!B605/0.07","v":0},{"$f":"'Conversion 1'!B605/0.056","v":0},{"$f":"'Conversion 1'!B605/0.1","v":0},{"$f":"'Conversion 1'!B605/0.058","v":0},{"$f":"'Conversion 1'!B605/0.01","v":0},{"$f":"'Conversion 1'!B605/0.02","v":0},{"$f":"'Conversion 1'!B605/0.56","v":0},{"$f":"'Conversion 1'!B605/0.4","v":0}]
[null,{"$f":"0.1423*('Conversion 1'!D606^1.2528)","v":0},{"$f":"(0.00005*('Conversion 1'!D606^2))+(0.3389*'Conversion 1'!D606)-1.431","v":-1.431},605,{"$f":"'Conversion 1'!B606","v":0},{"$f":"'Conversion 1'!B606/0.4","v":0},{"$f":"'Conversion 1'!B606/0.4","v":0},{"$f":"'Conversion 1'!B606","v":0},{"$f":"'Conversion 1'!B606/0.07","v":0},{"$f":"'Conversion 1'!B606/0.056","v":0},{"$f":"'Conversion 1'!B606/0.1","v":0},{"$f":"'Conversion 1'!B606/0.058","v":0},{"$f":"'Conversion 1'!B606/0.01","v":0},{"$f":"'Conversion 1'!B606/0.02","v":0},{"$f":"'Conversion 1'!B606/0.56","v":0},{"$f":"'Conversion 1'!B606/0.4","v":0}]
[null,{"$f":"0.1423*('Conversion 1'!D607^1.2528)","v":0},{"$f":"(0.00005*('Conversion 1'!D607^2))+(0.3389*'Conversion 1'!D607)-1.431","v":-1.431},606,{"$f":"'Conversion 1'!B607","v":0},{"$f":"'Conversion 1'!B607/0.4","v":0},{"$f":"'Conversion 1'!B607/0.4","v":0},{"$f":"'Conversion 1'!B607","v":0},{"$f":"'Conversion 1'!B607/0.07","v":0},{"$f":"'Conversion 1'!B607/0.056","v":0},{"$f":"'Conversion 1'!B607/0.1","v":0},{"$f":"'Conversion 1'!B607/0.058","v":0},{"$f":"'Conversion 1'!B607/0.01","v":0},{"$f":"'Conversion 1'!B607/0.02","v":0},{"$f":"'Conversion 1'!B607/0.56","v":0},{"$f":"'Conversion 1'!B607/0.4","v":0}]
[null,{"$f":"0.1423*('Conversion 1'!D608^1.2528)","v":0},{"$f":"(0.00005*('Conversion 1'!D608^2))+(0.3389*'Conversion 1'!D608)-1.431","v":-1.431},607,{"$f":"'Conversion 1'!B608","v":0},{"$f":"'Conversion 1'!B608/0.4","v":0},{"$f":"'Conversion 1'!B608/0.4","v":0},{"$f":"'Conversion 1'!B608","v":0},{"$f":"'Conversion 1'!B608/0.07","v":0},{"$f":"'Conversion 1'!B608/0.056","v":0},{"$f":"'Conversion 1'!B608/0.1","v":0},{"$f":"'Conversion 1'!B608/0.058","v":0},{"$f":"'Conversion 1'!B608/0.01","v":0},{"$f":"'Conversion 1'!B608/0.02","v":0},{"$f":"'Conversion 1'!B608/0.56","v":0},{"$f":"'Conversion 1'!B608/0.4","v":0}]
[null,{"$f":"0.1423*('Conversion 1'!D609^1.2528)","v":0},{"$f":"(0.00005*('Conversion 1'!D609^2))+(0.3389*'Conversion 1'!D609)-1.431","v":-1.431},608,{"$f":"'Conversion 1'!B609","v":0},{"$f":"'Conversion 1'!B609/0.4","v":0},{"$f":"'Conversion 1'!B609/0.4","v":0},{"$f":"'Conversion 1'!B609","v":0},{"$f":"'Conversion 1'!B609/0.07","v":0},{"$f":"'Conversion 1'!B609/0.056","v":0},{"$f":"'Conversion 1'!B609/0.1","v":0},{"$f":"'Conversion 1'!B609/0.058","v":0},{"$f":"'Conversion 1'!B609/0.01","v":0},{"$f":"'Conversion 1'!B609/0.02","v":0},{"$f":"'Conversion 1'!B609/0.56","v":0},{"$f":"'Conversion 1'!B609/0.4","v":0}]
[null,{"$f":"0.1423*('Conversion 1'!D610^1.2528)","v":0},{"$f":"(0.00005*('Conversion 1'!D610^2))+(0.3389*'Conversion 1'!D610)-1.431","v":-1.431},609,{"$f":"'Conversion 1'!B610","v":0},{"$f":"'Conversion 1'!B610/0.4","v":0},{"$f":"'Conversion 1'!B610/0.4","v":0},{"$f":"'Conversion 1'!B610","v":0},{"$f":"'Conversion 1'!B610/0.07","v":0},{"$f":"'Conversion 1'!B610/0.056","v":0},{"$f":"'Conversion 1'!B610/0.1","v":0},{"$f":"'Conversion 1'!B610/0.058","v":0},{"$f":"'Conversion 1'!B610/0.01","v":0},{"$f":"'Conversion 1'!B610/0.02","v":0},{"$f":"'Conversion 1'!B610/0.56","v":0},{"$f":"'Conversion 1'!B610/0.4","v":0}]
[null,{"$f":"0.1423*('Conversion 1'!D611^1.2528)","v":0},{"$f":"(0.00005*('Conversion 1'!D611^2))+(0.3389*'Conversion 1'!D611)-1.431","v":-1.431},610,{"$f":"'Conversion 1'!B611","v":0},{"$f":"'Conversion 1'!B611/0.4","v":0},{"$f":"'Conversion 1'!B611/0.4","v":0},{"$f":"'Conversion 1'!B611","v":0},{"$f":"'Conversion 1'!B611/0.07","v":0},{"$f":"'Conversion 1'!B611/0.056","v":0},{"$f":"'Conversion 1'!B611/0.1","v":0},{"$f":"'Conversion 1'!B611/0.058","v":0},{"$f":"'Conversion 1'!B611/0.01","v":0},{"$f":"'Conversion 1'!B611/0.02","v":0},{"$f":"'Conversion 1'!B611/0.56","v":0},{"$f":"'Conversion 1'!B611/0.4","v":0}]
[null,{"$f":"0.1423*('Conversion 1'!D612^1.2528)","v":0},{"$f":"(0.00005*('Conversion 1'!D612^2))+(0.3389*'Conversion 1'!D612)-1.431","v":-1.431},611,{"$f":"'Conversion 1'!B612","v":0},{"$f":"'Conversion 1'!B612/0.4","v":0},{"$f":"'Conversion 1'!B612/0.4","v":0},{"$f":"'Conversion 1'!B612","v":0},{"$f":"'Conversion 1'!B612/0.07","v":0},{"$f":"'Conversion 1'!B612/0.056","v":0},{"$f":"'Conversion 1'!B612/0.1","v":0},{"$f":"'Conversion 1'!B612/0.058","v":0},{"$f":"'Conversion 1'!B612/0.01","v":0},{"$f":"'Conversion 1'!B612/0.02","v":0},{"$f":"'Conversion 1'!B612/0.56","v":0},{"$f":"'Conversion 1'!B612/0.4","v":0}]
[null,{"$f":"0.1423*('Conversion 1'!D613^1.2528)","v":0},{"$f":"(0.00005*('Conversion 1'!D613^2))+(0.3389*'Conversion 1'!D613)-1.431","v":-1.431},612,{"$f":"'Conversion 1'!B613","v":0},{"$f":"'Conversion 1'!B613/0.4","v":0},{"$f":"'Conversion 1'!B613/0.4","v":0},{"$f":"'Conversion 1'!B613","v":0},{"$f":"'Conversion 1'!B613/0.07","v":0},{"$f":"'Conversion 1'!B613/0.056","v":0},{"$f":"'Conversion 1'!B613/0.1","v":0},{"$f":"'Conversion 1'!B613/0.058","v":0},{"$f":"'Conversion 1'!B613/0.01","v":0},{"$f":"'Conversion 1'!B613/0.02","v":0},{"$f":"'Conversion 1'!B613/0.56","v":0},{"$f":"'Conversion 1'!B613/0.4","v":0}]
[null,{"$f":"0.1423*('Conversion 1'!D614^1.2528)","v":0},{"$f":"(0.00005*('Conversion 1'!D614^2))+(0.3389*'Conversion 1'!D614)-1.431","v":-1.431},613,{"$f":"'Conversion 1'!B614","v":0},{"$f":"'Conversion 1'!B614/0.4","v":0},{"$f":"'Conversion 1'!B614/0.4","v":0},{"$f":"'Conversion 1'!B614","v":0},{"$f":"'Conversion 1'!B614/0.07","v":0},{"$f":"'Conversion 1'!B614/0.056","v":0},{"$f":"'Conversion 1'!B614/0.1","v":0},{"$f":"'Conversion 1'!B614/0.058","v":0},{"$f":"'Conversion 1'!B614/0.01","v":0},{"$f":"'Conversion 1'!B614/0.02","v":0},{"$f":"'Conversion 1'!B614/0.56","v":0},{"$f":"'Conversion 1'!B614/0.4","v":0}]
[null,{"$f":"0.1423*('Conversion 1'!D615^1.2528)","v":0},{"$f":"(0.00005*('Conversion 1'!D615^2))+(0.3389*'Conversion 1'!D615)-1.431","v":-1.431},614,{"$f":"'Conversion 1'!B615","v":0},{"$f":"'Conversion 1'!B615/0.4","v":0},{"$f":"'Conversion 1'!B615/0.4","v":0},{"$f":"'Conversion 1'!B615","v":0},{"$f":"'Conversion 1'!B615/0.07","v":0},{"$f":"'Conversion 1'!B615/0.056","v":0},{"$f":"'Conversion 1'!B615/0.1","v":0},{"$f":"'Conversion 1'!B615/0.058","v":0},{"$f":"'Conversion 1'!B615/0.01","v":0},{"$f":"'Conversion 1'!B615/0.02","v":0},{"$f":"'Conversion 1'!B615/0.56","v":0},{"$f":"'Conversion 1'!B615/0.4","v":0}]
[null,{"$f":"0.1423*('Conversion 1'!D616^1.2528)","v":0},{"$f":"(0.00005*('Conversion 1'!D616^2))+(0.3389*'Conversion 1'!D616)-1.431","v":-1.431},615,{"$f":"'Conversion 1'!B616","v":0},{"$f":"'Conversion 1'!B616/0.4","v":0},{"$f":"'Conversion 1'!B616/0.4","v":0},{"$f":"'Conversion 1'!B616","v":0},{"$f":"'Conversion 1'!B616/0.07","v":0},{"$f":"'Conversion 1'!B616/0.056","v":0},{"$f":"'Conversion 1'!B616/0.1","v":0},{"$f":"'Conversion 1'!B616/0.058","v":0},{"$f":"'Conversion 1'!B616/0.01","v":0},{"$f":"'Conversion 1'!B616/0.02","v":0},{"$f":"'Conversion 1'!B616/0.56","v":0},{"$f":"'Conversion 1'!B616/0.4","v":0}]
[null,{"$f":"0.1423*('Conversion 1'!D617^1.2528)","v":0},{"$f":"(0.00005*('Conversion 1'!D617^2))+(0.3389*'Conversion 1'!D617)-1.431","v":-1.431},616,{"$f":"'Conversion 1'!B617","v":0},{"$f":"'Conversion 1'!B617/0.4","v":0},{"$f":"'Conversion 1'!B617/0.4","v":0},{"$f":"'Conversion 1'!B617","v":0},{"$f":"'Conversion 1'!B617/0.07","v":0},{"$f":"'Conversion 1'!B617/0.056","v":0},{"$f":"'Conversion 1'!B617/0.1","v":0},{"$f":"'Conversion 1'!B617/0.058","v":0},{"$f":"'Conversion 1'!B617/0.01","v":0},{"$f":"'Conversion 1'!B617/0.02","v":0},{"$f":"'Conversion 1'!B617/0.56","v":0},{"$f":"'Conversion 1'!B617/0.4","v":0}]
[null,{"$f":"0.1423*('Conversion 1'!D618^1.2528)","v":0},{"$f":"(0.00005*('Conversion 1'!D618^2))+(0.3389*'Conversion 1'!D618)-1.431","v":-1.431},617,{"$f":"'Conversion 1'!B618","v":0},{"$f":"'Conversion 1'!B618/0.4","v":0},{"$f":"'Conversion 1'!B618/0.4","v":0},{"$f":"'Conversion 1'!B618","v":0},{"$f":"'Conversion 1'!B618/0.07","v":0},{"$f":"'Conversion 1'!B618/0.056","v":0},{"$f":"'Conversion 1'!B618/0.1","v":0},{"$f":"'Conversion 1'!B618/0.058","v":0},{"$f":"'Conversion 1'!B618/0.01","v":0},{"$f":"'Conversion 1'!B618/0.02","v":0},{"$f":"'Conversion 1'!B618/0.56","v":0},{"$f":"'Conversion 1'!B618/0.4","v":0}]
[null,{"$f":"0.1423*('Conversion 1'!D619^1.2528)","v":0},{"$f":"(0.00005*('Conversion 1'!D619^2))+(0.3389*'Conversion 1'!D619)-1.431","v":-1.431},618,{"$f":"'Conversion 1'!B619","v":0},{"$f":"'Conversion 1'!B619/0.4","v":0},{"$f":"'Conversion 1'!B619/0.4","v":0},{"$f":"'Conversion 1'!B619","v":0},{"$f":"'Conversion 1'!B619/0.07","v":0},{"$f":"'Conversion 1'!B619/0.056","v":0},{"$f":"'Conversion 1'!B619/0.1","v":0},{"$f":"'Conversion 1'!B619/0.058","v":0},{"$f":"'Conversion 1'!B619/0.01","v":0},{"$f":"'Conversion 1'!B619/0.02","v":0},{"$f":"'Conversion 1'!B619/0.56","v":0},{"$f":"'Conversion 1'!B619/0.4","v":0}]
[null,{"$f":"0.1423*('Conversion 1'!D620^1.2528)","v":0},{"$f":"(0.00005*('Conversion 1'!D620^2))+(0.3389*'Conversion 1'!D620)-1.431","v":-1.431},619,{"$f":"'Conversion 1'!B620","v":0},{"$f":"'Conversion 1'!B620/0.4","v":0},{"$f":"'Conversion 1'!B620/0.4","v":0},{"$f":"'Conversion 1'!B620","v":0},{"$f":"'Conversion 1'!B620/0.07","v":0},{"$f":"'Conversion 1'!B620/0.056","v":0},{"$f":"'Conversion 1'!B620/0.1","v":0},{"$f":"'Conversion 1'!B620/0.058","v":0},{"$f":"'Conversion 1'!B620/0.01","v":0},{"$f":"'Conversion 1'!B620/0.02","v":0},{"$f":"'Conversion 1'!B620/0.56","v":0},{"$f":"'Conversion 1'!B620/0.4","v":0}]
[null,{"$f":"0.1423*('Conversion 1'!D621^1.2528)","v":0},{"$f":"(0.00005*('Conversion 1'!D621^2))+(0.3389*'Conversion 1'!D621)-1.431","v":-1.431},620,{"$f":"'Conversion 1'!B621","v":0},{"$f":"'Conversion 1'!B621/0.4","v":0},{"$f":"'Conversion 1'!B621/0.4","v":0},{"$f":"'Conversion 1'!B621","v":0},{"$f":"'Conversion 1'!B621/0.07","v":0},{"$f":"'Conversion 1'!B621/0.056","v":0},{"$f":"'Conversion 1'!B621/0.1","v":0},{"$f":"'Conversion 1'!B621/0.058","v":0},{"$f":"'Conversion 1'!B621/0.01","v":0},{"$f":"'Conversion 1'!B621/0.02","v":0},{"$f":"'Conversion 1'!B621/0.56","v":0},{"$f":"'Conversion 1'!B621/0.4","v":0}]
[null,{"$f":"0.1423*('Conversion 1'!D622^1.2528)","v":0},{"$f":"(0.00005*('Conversion 1'!D622^2))+(0.3389*'Conversion 1'!D622)-1.431","v":-1.431},621,{"$f":"'Conversion 1'!B622","v":0},{"$f":"'Conversion 1'!B622/0.4","v":0},{"$f":"'Conversion 1'!B622/0.4","v":0},{"$f":"'Conversion 1'!B622","v":0},{"$f":"'Conversion 1'!B622/0.07","v":0},{"$f":"'Conversion 1'!B622/0.056","v":0},{"$f":"'Conversion 1'!B622/0.1","v":0},{"$f":"'Conversion 1'!B622/0.058","v":0},{"$f":"'Conversion 1'!B622/0.01","v":0},{"$f":"'Conversion 1'!B622/0.02","v":0},{"$f":"'Conversion 1'!B622/0.56","v":0},{"$f":"'Conversion 1'!B622/0.4","v":0}]
[null,{"$f":"0.1423*('Conversion 1'!D623^1.2528)","v":0},{"$f":"(0.00005*('Conversion 1'!D623^2))+(0.3389*'Conversion 1'!D623)-1.431","v":-1.431},622,{"$f":"'Conversion 1'!B623","v":0},{"$f":"'Conversion 1'!B623/0.4","v":0},{"$f":"'Conversion 1'!B623/0.4","v":0},{"$f":"'Conversion 1'!B623","v":0},{"$f":"'Conversion 1'!B623/0.07","v":0},{"$f":"'Conversion 1'!B623/0.056","v":0},{"$f":"'Conversion 1'!B623/0.1","v":0},{"$f":"'Conversion 1'!B623/0.058","v":0},{"$f":"'Conversion 1'!B623/0.01","v":0},{"$f":"'Conversion 1'!B623/0.02","v":0},{"$f":"'Conversion 1'!B623/0.56","v":0},{"$f":"'Conversion 1'!B623/0.4","v":0}]
[null,{"$f":"0.1423*('Conversion 1'!D624^1.2528)","v":0},{"$f":"(0.00005*('Conversion 1'!D624^2))+(0.3389*'Conversion 1'!D624)-1.431","v":-1.431},623,{"$f":"'Conversion 1'!B624","v":0},{"$f":"'Conversion 1'!B624/0.4","v":0},{"$f":"'Conversion 1'!B624/0.4","v":0},{"$f":"'Conversion 1'!B624","v":0},{"$f":"'Conversion 1'!B624/0.07","v":0},{"$f":"'Conversion 1'!B624/0.056","v":0},{"$f":"'Conversion 1'!B624/0.1","v":0},{"$f":"'Conversion 1'!B624/0.058","v":0},{"$f":"'Conversion 1'!B624/0.01","v":0},{"$f":"'Conversion 1'!B624/0.02","v":0},{"$f":"'Conversion 1'!B624/0.56","v":0},{"$f":"'Conversion 1'!B624/0.4","v":0}]
[null,{"$f":"0.1423*('Conversion 1'!D625^1.2528)","v":0},{"$f":"(0.00005*('Conversion 1'!D625^2))+(0.3389*'Conversion 1'!D625)-1.431","v":-1.431},624,{"$f":"'Conversion 1'!B625","v":0},{"$f":"'Conversion 1'!B625/0.4","v":0},{"$f":"'Conversion 1'!B625/0.4","v":0},{"$f":"'Conversion 1'!B625","v":0},{"$f":"'Conversion 1'!B625/0.07","v":0},{"$f":"'Conversion 1'!B625/0.056","v":0},{"$f":"'Conversion 1'!B625/0.1","v":0},{"$f":"'Conversion 1'!B625/0.058","v":0},{"$f":"'Conversion 1'!B625/0.01","v":0},{"$f":"'Conversion 1'!B625/0.02","v":0},{"$f":"'Conversion 1'!B625/0.56","v":0},{"$f":"'Conversion 1'!B625/0.4","v":0}]
[null,{"$f":"0.1423*('Conversion 1'!D626^1.2528)","v":0},{"$f":"(0.00005*('Conversion 1'!D626^2))+(0.3389*'Conversion 1'!D626)-1.431","v":-1.431},625,{"$f":"'Conversion 1'!B626","v":0},{"$f":"'Conversion 1'!B626/0.4","v":0},{"$f":"'Conversion 1'!B626/0.4","v":0},{"$f":"'Conversion 1'!B626","v":0},{"$f":"'Conversion 1'!B626/0.07","v":0},{"$f":"'Conversion 1'!B626/0.056","v":0},{"$f":"'Conversion 1'!B626/0.1","v":0},{"$f":"'Conversion 1'!B626/0.058","v":0},{"$f":"'Conversion 1'!B626/0.01","v":0},{"$f":"'Conversion 1'!B626/0.02","v":0},{"$f":"'Conversion 1'!B626/0.56","v":0},{"$f":"'Conversion 1'!B626/0.4","v":0}]
[null,{"$f":"0.1423*('Conversion 1'!D627^1.2528)","v":0},{"$f":"(0.00005*('Conversion 1'!D627^2))+(0.3389*'Conversion 1'!D627)-1.431","v":-1.431},626,{"$f":"'Conversion 1'!B627","v":0},{"$f":"'Conversion 1'!B627/0.4","v":0},{"$f":"'Conversion 1'!B627/0.4","v":0},{"$f":"'Conversion 1'!B627","v":0},{"$f":"'Conversion 1'!B627/0.07","v":0},{"$f":"'Conversion 1'!B627/0.056","v":0},{"$f":"'Conversion 1'!B627/0.1","v":0},{"$f":"'Conversion 1'!B627/0.058","v":0},{"$f":"'Conversion 1'!B627/0.01","v":0},{"$f":"'Conversion 1'!B627/0.02","v":0},{"$f":"'Conversion 1'!B627/0.56","v":0},{"$f":"'Conversion 1'!B627/0.4","v":0}]
[null,{"$f":"0.1423*('Conversion 1'!D628^1.2528)","v":0},{"$f":"(0.00005*('Conversion 1'!D628^2))+(0.3389*'Conversion 1'!D628)-1.431","v":-1.431},627,{"$f":"'Conversion 1'!B628","v":0},{"$f":"'Conversion 1'!B628/0.4","v":0},{"$f":"'Conversion 1'!B628/0.4","v":0},{"$f":"'Conversion 1'!B628","v":0},{"$f":"'Conversion 1'!B628/0.07","v":0},{"$f":"'Conversion 1'!B628/0.056","v":0},{"$f":"'Conversion 1'!B628/0.1","v":0},{"$f":"'Conversion 1'!B628/0.058","v":0},{"$f":"'Conversion 1'!B628/0.01","v":0},{"$f":"'Conversion 1'!B628/0.02","v":0},{"$f":"'Conversion 1'!B628/0.56","v":0},{"$f":"'Conversion 1'!B628/0.4","v":0}]
[null,{"$f":"0.1423*('Conversion 1'!D629^1.2528)","v":0},{"$f":"(0.00005*('Conversion 1'!D629^2))+(0.3389*'Conversion 1'!D629)-1.431","v":-1.431},628,{"$f":"'Conversion 1'!B629","v":0},{"$f":"'Conversion 1'!B629/0.4","v":0},{"$f":"'Conversion 1'!B629/0.4","v":0},{"$f":"'Conversion 1'!B629","v":0},{"$f":"'Conversion 1'!B629/0.07","v":0},{"$f":"'Conversion 1'!B629/0.056","v":0},{"$f":"'Conversion 1'!B629/0.1","v":0},{"$f":"'Conversion 1'!B629/0.058","v":0},{"$f":"'Conversion 1'!B629/0.01","v":0},{"$f":"'Conversion 1'!B629/0.02","v":0},{"$f":"'Conversion 1'!B629/0.56","v":0},{"$f":"'Conversion 1'!B629/0.4","v":0}]
[null,{"$f":"0.1423*('Conversion 1'!D630^1.2528)","v":0},{"$f":"(0.00005*('Conversion 1'!D630^2))+(0.3389*'Conversion 1'!D630)-1.431","v":-1.431},629,{"$f":"'Conversion 1'!B630","v":0},{"$f":"'Conversion 1'!B630/0.4","v":0},{"$f":"'Conversion 1'!B630/0.4","v":0},{"$f":"'Conversion 1'!B630","v":0},{"$f":"'Conversion 1'!B630/0.07","v":0},{"$f":"'Conversion 1'!B630/0.056","v":0},{"$f":"'Conversion 1'!B630/0.1","v":0},{"$f":"'Conversion 1'!B630/0.058","v":0},{"$f":"'Conversion 1'!B630/0.01","v":0},{"$f":"'Conversion 1'!B630/0.02","v":0},{"$f":"'Conversion 1'!B630/0.56","v":0},{"$f":"'Conversion 1'!B630/0.4","v":0}]
[null,{"$f":"0.1423*('Conversion 1'!D631^1.2528)","v":0},{"$f":"(0.00005*('Conversion 1'!D631^2))+(0.3389*'Conversion 1'!D631)-1.431","v":-1.431},630,{"$f":"'Conversion 1'!B631","v":0},{"$f":"'Conversion 1'!B631/0.4","v":0},{"$f":"'Conversion 1'!B631/0.4","v":0},{"$f":"'Conversion 1'!B631","v":0},{"$f":"'Conversion 1'!B631/0.07","v":0},{"$f":"'Conversion 1'!B631/0.056","v":0},{"$f":"'Conversion 1'!B631/0.1","v":0},{"$f":"'Conversion 1'!B631/0.058","v":0},{"$f":"'Conversion 1'!B631/0.01","v":0},{"$f":"'Conversion 1'!B631/0.02","v":0},{"$f":"'Conversion 1'!B631/0.56","v":0},{"$f":"'Conversion 1'!B631/0.4","v":0}]
[null,{"$f":"0.1423*('Conversion 1'!D632^1.2528)","v":0},{"$f":"(0.00005*('Conversion 1'!D632^2))+(0.3389*'Conversion 1'!D632)-1.431","v":-1.431},631,{"$f":"'Conversion 1'!B632","v":0},{"$f":"'Conversion 1'!B632/0.4","v":0},{"$f":"'Conversion 1'!B632/0.4","v":0},{"$f":"'Conversion 1'!B632","v":0},{"$f":"'Conversion 1'!B632/0.07","v":0},{"$f":"'Conversion 1'!B632/0.056","v":0},{"$f":"'Conversion 1'!B632/0.1","v":0},{"$f":"'Conversion 1'!B632/0.058","v":0},{"$f":"'Conversion 1'!B632/0.01","v":0},{"$f":"'Conversion 1'!B632/0.02","v":0},{"$f":"'Conversion 1'!B632/0.56","v":0},{"$f":"'Conversion 1'!B632/0.4","v":0}]
[null,{"$f":"0.1423*('Conversion 1'!D633^1.2528)","v":0},{"$f":"(0.00005*('Conversion 1'!D633^2))+(0.3389*'Conversion 1'!D633)-1.431","v":-1.431},632,{"$f":"'Conversion 1'!B633","v":0},{"$f":"'Conversion 1'!B633/0.4","v":0},{"$f":"'Conversion 1'!B633/0.4","v":0},{"$f":"'Conversion 1'!B633","v":0},{"$f":"'Conversion 1'!B633/0.07","v":0},{"$f":"'Conversion 1'!B633/0.056","v":0},{"$f":"'Conversion 1'!B633/0.1","v":0},{"$f":"'Conversion 1'!B633/0.058","v":0},{"$f":"'Conversion 1'!B633/0.01","v":0},{"$f":"'Conversion 1'!B633/0.02","v":0},{"$f":"'Conversion 1'!B633/0.56","v":0},{"$f":"'Conversion 1'!B633/0.4","v":0}]
[null,{"$f":"0.1423*('Conversion 1'!D634^1.2528)","v":0},{"$f":"(0.00005*('Conversion 1'!D634^2))+(0.3389*'Conversion 1'!D634)-1.431","v":-1.431},633,{"$f":"'Conversion 1'!B634","v":0},{"$f":"'Conversion 1'!B634/0.4","v":0},{"$f":"'Conversion 1'!B634/0.4","v":0},{"$f":"'Conversion 1'!B634","v":0},{"$f":"'Conversion 1'!B634/0.07","v":0},{"$f":"'Conversion 1'!B634/0.056","v":0},{"$f":"'Conversion 1'!B634/0.1","v":0},{"$f":"'Conversion 1'!B634/0.058","v":0},{"$f":"'Conversion 1'!B634/0.01","v":0},{"$f":"'Conversion 1'!B634/0.02","v":0},{"$f":"'Conversion 1'!B634/0.56","v":0},{"$f":"'Conversion 1'!B634/0.4","v":0}]
[null,{"$f":"0.1423*('Conversion 1'!D635^1.2528)","v":0},{"$f":"(0.00005*('Conversion 1'!D635^2))+(0.3389*'Conversion 1'!D635)-1.431","v":-1.431},634,{"$f":"'Conversion 1'!B635","v":0},{"$f":"'Conversion 1'!B635/0.4","v":0},{"$f":"'Conversion 1'!B635/0.4","v":0},{"$f":"'Conversion 1'!B635","v":0},{"$f":"'Conversion 1'!B635/0.07","v":0},{"$f":"'Conversion 1'!B635/0.056","v":0},{"$f":"'Conversion 1'!B635/0.1","v":0},{"$f":"'Conversion 1'!B635/0.058","v":0},{"$f":"'Conversion 1'!B635/0.01","v":0},{"$f":"'Conversion 1'!B635/0.02","v":0},{"$f":"'Conversion 1'!B635/0.56","v":0},{"$f":"'Conversion 1'!B635/0.4","v":0}]
[null,{"$f":"0.1423*('Conversion 1'!D636^1.2528)","v":0},{"$f":"(0.00005*('Conversion 1'!D636^2))+(0.3389*'Conversion 1'!D636)-1.431","v":-1.431},635,{"$f":"'Conversion 1'!B636","v":0},{"$f":"'Conversion 1'!B636/0.4","v":0},{"$f":"'Conversion 1'!B636/0.4","v":0},{"$f":"'Conversion 1'!B636","v":0},{"$f":"'Conversion 1'!B636/0.07","v":0},{"$f":"'Conversion 1'!B636/0.056","v":0},{"$f":"'Conversion 1'!B636/0.1","v":0},{"$f":"'Conversion 1'!B636/0.058","v":0},{"$f":"'Conversion 1'!B636/0.01","v":0},{"$f":"'Conversion 1'!B636/0.02","v":0},{"$f":"'Conversion 1'!B636/0.56","v":0},{"$f":"'Conversion 1'!B636/0.4","v":0}]
[null,{"$f":"0.1423*('Conversion 1'!D637^1.2528)","v":0},{"$f":"(0.00005*('Conversion 1'!D637^2))+(0.3389*'Conversion 1'!D637)-1.431","v":-1.431},636,{"$f":"'Conversion 1'!B637","v":0},{"$f":"'Conversion 1'!B637/0.4","v":0},{"$f":"'Conversion 1'!B637/0.4","v":0},{"$f":"'Conversion 1'!B637","v":0},{"$f":"'Conversion 1'!B637/0.07","v":0},{"$f":"'Conversion 1'!B637/0.056","v":0},{"$f":"'Conversion 1'!B637/0.1","v":0},{"$f":"'Conversion 1'!B637/0.058","v":0},{"$f":"'Conversion 1'!B637/0.01","v":0},{"$f":"'Conversion 1'!B637/0.02","v":0},{"$f":"'Conversion 1'!B637/0.56","v":0},{"$f":"'Conversion 1'!B637/0.4","v":0}]
[null,{"$f":"0.1423*('Conversion 1'!D638^1.2528)","v":0},{"$f":"(0.00005*('Conversion 1'!D638^2))+(0.3389*'Conversion 1'!D638)-1.431","v":-1.431},637,{"$f":"'Conversion 1'!B638","v":0},{"$f":"'Conversion 1'!B638/0.4","v":0},{"$f":"'Conversion 1'!B638/0.4","v":0},{"$f":"'Conversion 1'!B638","v":0},{"$f":"'Conversion 1'!B638/0.07","v":0},{"$f":"'Conversion 1'!B638/0.056","v":0},{"$f":"'Conversion 1'!B638/0.1","v":0},{"$f":"'Conversion 1'!B638/0.058","v":0},{"$f":"'Conversion 1'!B638/0.01","v":0},{"$f":"'Conversion 1'!B638/0.02","v":0},{"$f":"'Conversion 1'!B638/0.56","v":0},{"$f":"'Conversion 1'!B638/0.4","v":0}]
[null,{"$f":"0.1423*('Conversion 1'!D639^1.2528)","v":0},{"$f":"(0.00005*('Conversion 1'!D639^2))+(0.3389*'Conversion 1'!D639)-1.431","v":-1.431},638,{"$f":"'Conversion 1'!B639","v":0},{"$f":"'Conversion 1'!B639/0.4","v":0},{"$f":"'Conversion 1'!B639/0.4","v":0},{"$f":"'Conversion 1'!B639","v":0},{"$f":"'Conversion 1'!B639/0.07","v":0},{"$f":"'Conversion 1'!B639/0.056","v":0},{"$f":"'Conversion 1'!B639/0.1","v":0},{"$f":"'Conversion 1'!B639/0.058","v":0},{"$f":"'Conversion 1'!B639/0.01","v":0},{"$f":"'Conversion 1'!B639/0.02","v":0},{"$f":"'Conversion 1'!B639/0.56","v":0},{"$f":"'Conversion 1'!B639/0.4","v":0}]
[null,{"$f":"0.1423*('Conversion 1'!D640^1.2528)","v":0},{"$f":"(0.00005*('Conversion 1'!D640^2))+(0.3389*'Conversion 1'!D640)-1.431","v":-1.431},639,{"$f":"'Conversion 1'!B640","v":0},{"$f":"'Conversion 1'!B640/0.4","v":0},{"$f":"'Conversion 1'!B640/0.4","v":0},{"$f":"'Conversion 1'!B640","v":0},{"$f":"'Conversion 1'!B640/0.07","v":0},{"$f":"'Conversion 1'!B640/0.056","v":0},{"$f":"'Conversion 1'!B640/0.1","v":0},{"$f":"'Conversion 1'!B640/0.058","v":0},{"$f":"'Conversion 1'!B640/0.01","v":0},{"$f":"'Conversion 1'!B640/0.02","v":0},{"$f":"'Conversion 1'!B640/0.56","v":0},{"$f":"'Conversion 1'!B640/0.4","v":0}]
[null,{"$f":"0.1423*('Conversion 1'!D641^1.2528)","v":0},{"$f":"(0.00005*('Conversion 1'!D641^2))+(0.3389*'Conversion 1'!D641)-1.431","v":-1.431},640,{"$f":"'Conversion 1'!B641","v":0},{"$f":"'Conversion 1'!B641/0.4","v":0},{"$f":"'Conversion 1'!B641/0.4","v":0},{"$f":"'Conversion 1'!B641","v":0},{"$f":"'Conversion 1'!B641/0.07","v":0},{"$f":"'Conversion 1'!B641/0.056","v":0},{"$f":"'Conversion 1'!B641/0.1","v":0},{"$f":"'Conversion 1'!B641/0.058","v":0},{"$f":"'Conversion 1'!B641/0.01","v":0},{"$f":"'Conversion 1'!B641/0.02","v":0},{"$f":"'Conversion 1'!B641/0.56","v":0},{"$f":"'Conversion 1'!B641/0.4","v":0}]
[null,{"$f":"0.1423*('Conversion 1'!D642^1.2528)","v":0},{"$f":"(0.00005*('Conversion 1'!D642^2))+(0.3389*'Conversion 1'!D642)-1.431","v":-1.431},641,{"$f":"'Conversion 1'!B642","v":0},{"$f":"'Conversion 1'!B642/0.4","v":0},{"$f":"'Conversion 1'!B642/0.4","v":0},{"$f":"'Conversion 1'!B642","v":0},{"$f":"'Conversion 1'!B642/0.07","v":0},{"$f":"'Conversion 1'!B642/0.056","v":0},{"$f":"'Conversion 1'!B642/0.1","v":0},{"$f":"'Conversion 1'!B642/0.058","v":0},{"$f":"'Conversion 1'!B642/0.01","v":0},{"$f":"'Conversion 1'!B642/0.02","v":0},{"$f":"'Conversion 1'!B642/0.56","v":0},{"$f":"'Conversion 1'!B642/0.4","v":0}]
[null,{"$f":"0.1423*('Conversion 1'!D643^1.2528)","v":0},{"$f":"(0.00005*('Conversion 1'!D643^2))+(0.3389*'Conversion 1'!D643)-1.431","v":-1.431},642,{"$f":"'Conversion 1'!B643","v":0},{"$f":"'Conversion 1'!B643/0.4","v":0},{"$f":"'Conversion 1'!B643/0.4","v":0},{"$f":"'Conversion 1'!B643","v":0},{"$f":"'Conversion 1'!B643/0.07","v":0},{"$f":"'Conversion 1'!B643/0.056","v":0},{"$f":"'Conversion 1'!B643/0.1","v":0},{"$f":"'Conversion 1'!B643/0.058","v":0},{"$f":"'Conversion 1'!B643/0.01","v":0},{"$f":"'Conversion 1'!B643/0.02","v":0},{"$f":"'Conversion 1'!B643/0.56","v":0},{"$f":"'Conversion 1'!B643/0.4","v":0}]
[null,{"$f":"0.1423*('Conversion 1'!D644^1.2528)","v":0},{"$f":"(0.00005*('Conversion 1'!D644^2))+(0.3389*'Conversion 1'!D644)-1.431","v":-1.431},643,{"$f":"'Conversion 1'!B644","v":0},{"$f":"'Conversion 1'!B644/0.4","v":0},{"$f":"'Conversion 1'!B644/0.4","v":0},{"$f":"'Conversion 1'!B644","v":0},{"$f":"'Conversion 1'!B644/0.07","v":0},{"$f":"'Conversion 1'!B644/0.056","v":0},{"$f":"'Conversion 1'!B644/0.1","v":0},{"$f":"'Conversion 1'!B644/0.058","v":0},{"$f":"'Conversion 1'!B644/0.01","v":0},{"$f":"'Conversion 1'!B644/0.02","v":0},{"$f":"'Conversion 1'!B644/0.56","v":0},{"$f":"'Conversion 1'!B644/0.4","v":0}]
[null,{"$f":"0.1423*('Conversion 1'!D645^1.2528)","v":0},{"$f":"(0.00005*('Conversion 1'!D645^2))+(0.3389*'Conversion 1'!D645)-1.431","v":-1.431},644,{"$f":"'Conversion 1'!B645","v":0},{"$f":"'Conversion 1'!B645/0.4","v":0},{"$f":"'Conversion 1'!B645/0.4","v":0},{"$f":"'Conversion 1'!B645","v":0},{"$f":"'Conversion 1'!B645/0.07","v":0},{"$f":"'Conversion 1'!B645/0.056","v":0},{"$f":"'Conversion 1'!B645/0.1","v":0},{"$f":"'Conversion 1'!B645/0.058","v":0},{"$f":"'Conversion 1'!B645/0.01","v":0},{"$f":"'Conversion 1'!B645/0.02","v":0},{"$f":"'Conversion 1'!B645/0.56","v":0},{"$f":"'Conversion 1'!B645/0.4","v":0}]
[null,{"$f":"0.1423*('Conversion 1'!D646^1.2528)","v":0},{"$f":"(0.00005*('Conversion 1'!D646^2))+(0.3389*'Conversion 1'!D646)-1.431","v":-1.431},645,{"$f":"'Conversion 1'!B646","v":0},{"$f":"'Conversion 1'!B646/0.4","v":0},{"$f":"'Conversion 1'!B646/0.4","v":0},{"$f":"'Conversion 1'!B646","v":0},{"$f":"'Conversion 1'!B646/0.07","v":0},{"$f":"'Conversion 1'!B646/0.056","v":0},{"$f":"'Conversion 1'!B646/0.1","v":0},{"$f":"'Conversion 1'!B646/0.058","v":0},{"$f":"'Conversion 1'!B646/0.01","v":0},{"$f":"'Conversion 1'!B646/0.02","v":0},{"$f":"'Conversion 1'!B646/0.56","v":0},{"$f":"'Conversion 1'!B646/0.4","v":0}]
[null,{"$f":"0.1423*('Conversion 1'!D647^1.2528)","v":0},{"$f":"(0.00005*('Conversion 1'!D647^2))+(0.3389*'Conversion 1'!D647)-1.431","v":-1.431},646,{"$f":"'Conversion 1'!B647","v":0},{"$f":"'Conversion 1'!B647/0.4","v":0},{"$f":"'Conversion 1'!B647/0.4","v":0},{"$f":"'Conversion 1'!B647","v":0},{"$f":"'Conversion 1'!B647/0.07","v":0},{"$f":"'Conversion 1'!B647/0.056","v":0},{"$f":"'Conversion 1'!B647/0.1","v":0},{"$f":"'Conversion 1'!B647/0.058","v":0},{"$f":"'Conversion 1'!B647/0.01","v":0},{"$f":"'Conversion 1'!B647/0.02","v":0},{"$f":"'Conversion 1'!B647/0.56","v":0},{"$f":"'Conversion 1'!B647/0.4","v":0}]
[null,{"$f":"0.1423*('Conversion 1'!D648^1.2528)","v":0},{"$f":"(0.00005*('Conversion 1'!D648^2))+(0.3389*'Conversion 1'!D648)-1.431","v":-1.431},647,{"$f":"'Conversion 1'!B648","v":0},{"$f":"'Conversion 1'!B648/0.4","v":0},{"$f":"'Conversion 1'!B648/0.4","v":0},{"$f":"'Conversion 1'!B648","v":0},{"$f":"'Conversion 1'!B648/0.07","v":0},{"$f":"'Conversion 1'!B648/0.056","v":0},{"$f":"'Conversion 1'!B648/0.1","v":0},{"$f":"'Conversion 1'!B648/0.058","v":0},{"$f":"'Conversion 1'!B648/0.01","v":0},{"$f":"'Conversion 1'!B648/0.02","v":0},{"$f":"'Conversion 1'!B648/0.56","v":0},{"$f":"'Conversion 1'!B648/0.4","v":0}]
[null,{"$f":"0.1423*('Conversion 1'!D649^1.2528)","v":0},{"$f":"(0.00005*('Conversion 1'!D649^2))+(0.3389*'Conversion 1'!D649)-1.431","v":-1.431},648,{"$f":"'Conversion 1'!B649","v":0},{"$f":"'Conversion 1'!B649/0.4","v":0},{"$f":"'Conversion 1'!B649/0.4","v":0},{"$f":"'Conversion 1'!B649","v":0},{"$f":"'Conversion 1'!B649/0.07","v":0},{"$f":"'Conversion 1'!B649/0.056","v":0},{"$f":"'Conversion 1'!B649/0.1","v":0},{"$f":"'Conversion 1'!B649/0.058","v":0},{"$f":"'Conversion 1'!B649/0.01","v":0},{"$f":"'Conversion 1'!B649/0.02","v":0},{"$f":"'Conversion 1'!B649/0.56","v":0},{"$f":"'Conversion 1'!B649/0.4","v":0}]
[null,{"$f":"0.1423*('Conversion 1'!D650^1.2528)","v":0},{"$f":"(0.00005*('Conversion 1'!D650^2))+(0.3389*'Conversion 1'!D650)-1.431","v":-1.431},649,{"$f":"'Conversion 1'!B650","v":0},{"$f":"'Conversion 1'!B650/0.4","v":0},{"$f":"'Conversion 1'!B650/0.4","v":0},{"$f":"'Conversion 1'!B650","v":0},{"$f":"'Conversion 1'!B650/0.07","v":0},{"$f":"'Conversion 1'!B650/0.056","v":0},{"$f":"'Conversion 1'!B650/0.1","v":0},{"$f":"'Conversion 1'!B650/0.058","v":0},{"$f":"'Conversion 1'!B650/0.01","v":0},{"$f":"'Conversion 1'!B650/0.02","v":0},{"$f":"'Conversion 1'!B650/0.56","v":0},{"$f":"'Conversion 1'!B650/0.4","v":0}]
[null,{"$f":"0.1423*('Conversion 1'!D651^1.2528)","v":0},{"$f":"(0.00005*('Conversion 1'!D651^2))+(0.3389*'Conversion 1'!D651)-1.431","v":-1.431},650,{"$f":"'Conversion 1'!B651","v":0},{"$f":"'Conversion 1'!B651/0.4","v":0},{"$f":"'Conversion 1'!B651/0.4","v":0},{"$f":"'Conversion 1'!B651","v":0},{"$f":"'Conversion 1'!B651/0.07","v":0},{"$f":"'Conversion 1'!B651/0.056","v":0},{"$f":"'Conversion 1'!B651/0.1","v":0},{"$f":"'Conversion 1'!B651/0.058","v":0},{"$f":"'Conversion 1'!B651/0.01","v":0},{"$f":"'Conversion 1'!B651/0.02","v":0},{"$f":"'Conversion 1'!B651/0.56","v":0},{"$f":"'Conversion 1'!B651/0.4","v":0}]
[null,{"$f":"0.1423*('Conversion 1'!D652^1.2528)","v":0},{"$f":"(0.00005*('Conversion 1'!D652^2))+(0.3389*'Conversion 1'!D652)-1.431","v":-1.431},651,{"$f":"'Conversion 1'!B652","v":0},{"$f":"'Conversion 1'!B652/0.4","v":0},{"$f":"'Conversion 1'!B652/0.4","v":0},{"$f":"'Conversion 1'!B652","v":0},{"$f":"'Conversion 1'!B652/0.07","v":0},{"$f":"'Conversion 1'!B652/0.056","v":0},{"$f":"'Conversion 1'!B652/0.1","v":0},{"$f":"'Conversion 1'!B652/0.058","v":0},{"$f":"'Conversion 1'!B652/0.01","v":0},{"$f":"'Conversion 1'!B652/0.02","v":0},{"$f":"'Conversion 1'!B652/0.56","v":0},{"$f":"'Conversion 1'!B652/0.4","v":0}]
[null,{"$f":"0.1423*('Conversion 1'!D653^1.2528)","v":0},{"$f":"(0.00005*('Conversion 1'!D653^2))+(0.3389*'Conversion 1'!D653)-1.431","v":-1.431},652,{"$f":"'Conversion 1'!B653","v":0},{"$f":"'Conversion 1'!B653/0.4","v":0},{"$f":"'Conversion 1'!B653/0.4","v":0},{"$f":"'Conversion 1'!B653","v":0},{"$f":"'Conversion 1'!B653/0.07","v":0},{"$f":"'Conversion 1'!B653/0.056","v":0},{"$f":"'Conversion 1'!B653/0.1","v":0},{"$f":"'Conversion 1'!B653/0.058","v":0},{"$f":"'Conversion 1'!B653/0.01","v":0},{"$f":"'Conversion 1'!B653/0.02","v":0},{"$f":"'Conversion 1'!B653/0.56","v":0},{"$f":"'Conversion 1'!B653/0.4","v":0}]
[null,{"$f":"0.1423*('Conversion 1'!D654^1.2528)","v":0},{"$f":"(0.00005*('Conversion 1'!D654^2))+(0.3389*'Conversion 1'!D654)-1.431","v":-1.431},653,{"$f":"'Conversion 1'!B654","v":0},{"$f":"'Conversion 1'!B654/0.4","v":0},{"$f":"'Conversion 1'!B654/0.4","v":0},{"$f":"'Conversion 1'!B654","v":0},{"$f":"'Conversion 1'!B654/0.07","v":0},{"$f":"'Conversion 1'!B654/0.056","v":0},{"$f":"'Conversion 1'!B654/0.1","v":0},{"$f":"'Conversion 1'!B654/0.058","v":0},{"$f":"'Conversion 1'!B654/0.01","v":0},{"$f":"'Conversion 1'!B654/0.02","v":0},{"$f":"'Conversion 1'!B654/0.56","v":0},{"$f":"'Conversion 1'!B654/0.4","v":0}]
[null,{"$f":"0.1423*('Conversion 1'!D655^1.2528)","v":0},{"$f":"(0.00005*('Conversion 1'!D655^2))+(0.3389*'Conversion 1'!D655)-1.431","v":-1.431},654,{"$f":"'Conversion 1'!B655","v":0},{"$f":"'Conversion 1'!B655/0.4","v":0},{"$f":"'Conversion 1'!B655/0.4","v":0},{"$f":"'Conversion 1'!B655","v":0},{"$f":"'Conversion 1'!B655/0.07","v":0},{"$f":"'Conversion 1'!B655/0.056","v":0},{"$f":"'Conversion 1'!B655/0.1","v":0},{"$f":"'Conversion 1'!B655/0.058","v":0},{"$f":"'Conversion 1'!B655/0.01","v":0},{"$f":"'Conversion 1'!B655/0.02","v":0},{"$f":"'Conversion 1'!B655/0.56","v":0},{"$f":"'Conversion 1'!B655/0.4","v":0}]
[null,{"$f":"0.1423*('Conversion 1'!D656^1.2528)","v":0},{"$f":"(0.00005*('Conversion 1'!D656^2))+(0.3389*'Conversion 1'!D656)-1.431","v":-1.431},655,{"$f":"'Conversion 1'!B656","v":0},{"$f":"'Conversion 1'!B656/0.4","v":0},{"$f":"'Conversion 1'!B656/0.4","v":0},{"$f":"'Conversion 1'!B656","v":0},{"$f":"'Conversion 1'!B656/0.07","v":0},{"$f":"'Conversion 1'!B656/0.056","v":0},{"$f":"'Conversion 1'!B656/0.1","v":0},{"$f":"'Conversion 1'!B656/0.058","v":0},{"$f":"'Conversion 1'!B656/0.01","v":0},{"$f":"'Conversion 1'!B656/0.02","v":0},{"$f":"'Conversion 1'!B656/0.56","v":0},{"$f":"'Conversion 1'!B656/0.4","v":0}]
[null,{"$f":"0.1423*('Conversion 1'!D657^1.2528)","v":0},{"$f":"(0.00005*('Conversion 1'!D657^2))+(0.3389*'Conversion 1'!D657)-1.431","v":-1.431},656,{"$f":"'Conversion 1'!B657","v":0},{"$f":"'Conversion 1'!B657/0.4","v":0},{"$f":"'Conversion 1'!B657/0.4","v":0},{"$f":"'Conversion 1'!B657","v":0},{"$f":"'Conversion 1'!B657/0.07","v":0},{"$f":"'Conversion 1'!B657/0.056","v":0},{"$f":"'Conversion 1'!B657/0.1","v":0},{"$f":"'Conversion 1'!B657/0.058","v":0},{"$f":"'Conversion 1'!B657/0.01","v":0},{"$f":"'Conversion 1'!B657/0.02","v":0},{"$f":"'Conversion 1'!B657/0.56","v":0},{"$f":"'Conversion 1'!B657/0.4","v":0}]
[null,{"$f":"0.1423*('Conversion 1'!D658^1.2528)","v":0},{"$f":"(0.00005*('Conversion 1'!D658^2))+(0.3389*'Conversion 1'!D658)-1.431","v":-1.431},657,{"$f":"'Conversion 1'!B658","v":0},{"$f":"'Conversion 1'!B658/0.4","v":0},{"$f":"'Conversion 1'!B658/0.4","v":0},{"$f":"'Conversion 1'!B658","v":0},{"$f":"'Conversion 1'!B658/0.07","v":0},{"$f":"'Conversion 1'!B658/0.056","v":0},{"$f":"'Conversion 1'!B658/0.1","v":0},{"$f":"'Conversion 1'!B658/0.058","v":0},{"$f":"'Conversion 1'!B658/0.01","v":0},{"$f":"'Conversion 1'!B658/0.02","v":0},{"$f":"'Conversion 1'!B658/0.56","v":0},{"$f":"'Conversion 1'!B658/0.4","v":0}]
[null,{"$f":"0.1423*('Conversion 1'!D659^1.2528)","v":0},{"$f":"(0.00005*('Conversion 1'!D659^2))+(0.3389*'Conversion 1'!D659)-1.431","v":-1.431},658,{"$f":"'Conversion 1'!B659","v":0},{"$f":"'Conversion 1'!B659/0.4","v":0},{"$f":"'Conversion 1'!B659/0.4","v":0},{"$f":"'Conversion 1'!B659","v":0},{"$f":"'Conversion 1'!B659/0.07","v":0},{"$f":"'Conversion 1'!B659/0.056","v":0},{"$f":"'Conversion 1'!B659/0.1","v":0},{"$f":"'Conversion 1'!B659/0.058","v":0},{"$f":"'Conversion 1'!B659/0.01","v":0},{"$f":"'Conversion 1'!B659/0.02","v":0},{"$f":"'Conversion 1'!B659/0.56","v":0},{"$f":"'Conversion 1'!B659/0.4","v":0}]
[null,{"$f":"0.1423*('Conversion 1'!D660^1.2528)","v":0},{"$f":"(0.00005*('Conversion 1'!D660^2))+(0.3389*'Conversion 1'!D660)-1.431","v":-1.431},659,{"$f":"'Conversion 1'!B660","v":0},{"$f":"'Conversion 1'!B660/0.4","v":0},{"$f":"'Conversion 1'!B660/0.4","v":0},{"$f":"'Conversion 1'!B660","v":0},{"$f":"'Conversion 1'!B660/0.07","v":0},{"$f":"'Conversion 1'!B660/0.056","v":0},{"$f":"'Conversion 1'!B660/0.1","v":0},{"$f":"'Conversion 1'!B660/0.058","v":0},{"$f":"'Conversion 1'!B660/0.01","v":0},{"$f":"'Conversion 1'!B660/0.02","v":0},{"$f":"'Conversion 1'!B660/0.56","v":0},{"$f":"'Conversion 1'!B660/0.4","v":0}]
[null,{"$f":"0.1423*('Conversion 1'!D661^1.2528)","v":0},{"$f":"(0.00005*('Conversion 1'!D661^2))+(0.3389*'Conversion 1'!D661)-1.431","v":-1.431},660,{"$f":"'Conversion 1'!B661","v":0},{"$f":"'Conversion 1'!B661/0.4","v":0},{"$f":"'Conversion 1'!B661/0.4","v":0},{"$f":"'Conversion 1'!B661","v":0},{"$f":"'Conversion 1'!B661/0.07","v":0},{"$f":"'Conversion 1'!B661/0.056","v":0},{"$f":"'Conversion 1'!B661/0.1","v":0},{"$f":"'Conversion 1'!B661/0.058","v":0},{"$f":"'Conversion 1'!B661/0.01","v":0},{"$f":"'Conversion 1'!B661/0.02","v":0},{"$f":"'Conversion 1'!B661/0.56","v":0},{"$f":"'Conversion 1'!B661/0.4","v":0}]
[null,{"$f":"0.1423*('Conversion 1'!D662^1.2528)","v":0},{"$f":"(0.00005*('Conversion 1'!D662^2))+(0.3389*'Conversion 1'!D662)-1.431","v":-1.431},661,{"$f":"'Conversion 1'!B662","v":0},{"$f":"'Conversion 1'!B662/0.4","v":0},{"$f":"'Conversion 1'!B662/0.4","v":0},{"$f":"'Conversion 1'!B662","v":0},{"$f":"'Conversion 1'!B662/0.07","v":0},{"$f":"'Conversion 1'!B662/0.056","v":0},{"$f":"'Conversion 1'!B662/0.1","v":0},{"$f":"'Conversion 1'!B662/0.058","v":0},{"$f":"'Conversion 1'!B662/0.01","v":0},{"$f":"'Conversion 1'!B662/0.02","v":0},{"$f":"'Conversion 1'!B662/0.56","v":0},{"$f":"'Conversion 1'!B662/0.4","v":0}]
[null,{"$f":"0.1423*('Conversion 1'!D663^1.2528)","v":0},{"$f":"(0.00005*('Conversion 1'!D663^2))+(0.3389*'Conversion 1'!D663)-1.431","v":-1.431},662,{"$f":"'Conversion 1'!B663","v":0},{"$f":"'Conversion 1'!B663/0.4","v":0},{"$f":"'Conversion 1'!B663/0.4","v":0},{"$f":"'Conversion 1'!B663","v":0},{"$f":"'Conversion 1'!B663/0.07","v":0},{"$f":"'Conversion 1'!B663/0.056","v":0},{"$f":"'Conversion 1'!B663/0.1","v":0},{"$f":"'Conversion 1'!B663/0.058","v":0},{"$f":"'Conversion 1'!B663/0.01","v":0},{"$f":"'Conversion 1'!B663/0.02","v":0},{"$f":"'Conversion 1'!B663/0.56","v":0},{"$f":"'Conversion 1'!B663/0.4","v":0}]
[null,{"$f":"0.1423*('Conversion 1'!D664^1.2528)","v":0},{"$f":"(0.00005*('Conversion 1'!D664^2))+(0.3389*'Conversion 1'!D664)-1.431","v":-1.431},663,{"$f":"'Conversion 1'!B664","v":0},{"$f":"'Conversion 1'!B664/0.4","v":0},{"$f":"'Conversion 1'!B664/0.4","v":0},{"$f":"'Conversion 1'!B664","v":0},{"$f":"'Conversion 1'!B664/0.07","v":0},{"$f":"'Conversion 1'!B664/0.056","v":0},{"$f":"'Conversion 1'!B664/0.1","v":0},{"$f":"'Conversion 1'!B664/0.058","v":0},{"$f":"'Conversion 1'!B664/0.01","v":0},{"$f":"'Conversion 1'!B664/0.02","v":0},{"$f":"'Conversion 1'!B664/0.56","v":0},{"$f":"'Conversion 1'!B664/0.4","v":0}]
[null,{"$f":"0.1423*('Conversion 1'!D665^1.2528)","v":0},{"$f":"(0.00005*('Conversion 1'!D665^2))+(0.3389*'Conversion 1'!D665)-1.431","v":-1.431},664,{"$f":"'Conversion 1'!B665","v":0},{"$f":"'Conversion 1'!B665/0.4","v":0},{"$f":"'Conversion 1'!B665/0.4","v":0},{"$f":"'Conversion 1'!B665","v":0},{"$f":"'Conversion 1'!B665/0.07","v":0},{"$f":"'Conversion 1'!B665/0.056","v":0},{"$f":"'Conversion 1'!B665/0.1","v":0},{"$f":"'Conversion 1'!B665/0.058","v":0},{"$f":"'Conversion 1'!B665/0.01","v":0},{"$f":"'Conversion 1'!B665/0.02","v":0},{"$f":"'Conversion 1'!B665/0.56","v":0},{"$f":"'Conversion 1'!B665/0.4","v":0}]
[null,{"$f":"0.1423*('Conversion 1'!D666^1.2528)","v":0},{"$f":"(0.00005*('Conversion 1'!D666^2))+(0.3389*'Conversion 1'!D666)-1.431","v":-1.431},665,{"$f":"'Conversion 1'!B666","v":0},{"$f":"'Conversion 1'!B666/0.4","v":0},{"$f":"'Conversion 1'!B666/0.4","v":0},{"$f":"'Conversion 1'!B666","v":0},{"$f":"'Conversion 1'!B666/0.07","v":0},{"$f":"'Conversion 1'!B666/0.056","v":0},{"$f":"'Conversion 1'!B666/0.1","v":0},{"$f":"'Conversion 1'!B666/0.058","v":0},{"$f":"'Conversion 1'!B666/0.01","v":0},{"$f":"'Conversion 1'!B666/0.02","v":0},{"$f":"'Conversion 1'!B666/0.56","v":0},{"$f":"'Conversion 1'!B666/0.4","v":0}]
[null,{"$f":"0.1423*('Conversion 1'!D667^1.2528)","v":0},{"$f":"(0.00005*('Conversion 1'!D667^2))+(0.3389*'Conversion 1'!D667)-1.431","v":-1.431},666,{"$f":"'Conversion 1'!B667","v":0},{"$f":"'Conversion 1'!B667/0.4","v":0},{"$f":"'Conversion 1'!B667/0.4","v":0},{"$f":"'Conversion 1'!B667","v":0},{"$f":"'Conversion 1'!B667/0.07","v":0},{"$f":"'Conversion 1'!B667/0.056","v":0},{"$f":"'Conversion 1'!B667/0.1","v":0},{"$f":"'Conversion 1'!B667/0.058","v":0},{"$f":"'Conversion 1'!B667/0.01","v":0},{"$f":"'Conversion 1'!B667/0.02","v":0},{"$f":"'Conversion 1'!B667/0.56","v":0},{"$f":"'Conversion 1'!B667/0.4","v":0}]
[null,{"$f":"0.1423*('Conversion 1'!D668^1.2528)","v":0},{"$f":"(0.00005*('Conversion 1'!D668^2))+(0.3389*'Conversion 1'!D668)-1.431","v":-1.431},667,{"$f":"'Conversion 1'!B668","v":0},{"$f":"'Conversion 1'!B668/0.4","v":0},{"$f":"'Conversion 1'!B668/0.4","v":0},{"$f":"'Conversion 1'!B668","v":0},{"$f":"'Conversion 1'!B668/0.07","v":0},{"$f":"'Conversion 1'!B668/0.056","v":0},{"$f":"'Conversion 1'!B668/0.1","v":0},{"$f":"'Conversion 1'!B668/0.058","v":0},{"$f":"'Conversion 1'!B668/0.01","v":0},{"$f":"'Conversion 1'!B668/0.02","v":0},{"$f":"'Conversion 1'!B668/0.56","v":0},{"$f":"'Conversion 1'!B668/0.4","v":0}]
[null,{"$f":"0.1423*('Conversion 1'!D669^1.2528)","v":0},{"$f":"(0.00005*('Conversion 1'!D669^2))+(0.3389*'Conversion 1'!D669)-1.431","v":-1.431},668,{"$f":"'Conversion 1'!B669","v":0},{"$f":"'Conversion 1'!B669/0.4","v":0},{"$f":"'Conversion 1'!B669/0.4","v":0},{"$f":"'Conversion 1'!B669","v":0},{"$f":"'Conversion 1'!B669/0.07","v":0},{"$f":"'Conversion 1'!B669/0.056","v":0},{"$f":"'Conversion 1'!B669/0.1","v":0},{"$f":"'Conversion 1'!B669/0.058","v":0},{"$f":"'Conversion 1'!B669/0.01","v":0},{"$f":"'Conversion 1'!B669/0.02","v":0},{"$f":"'Conversion 1'!B669/0.56","v":0},{"$f":"'Conversion 1'!B669/0.4","v":0}]
[null,{"$f":"0.1423*('Conversion 1'!D670^1.2528)","v":0},{"$f":"(0.00005*('Conversion 1'!D670^2))+(0.3389*'Conversion 1'!D670)-1.431","v":-1.431},669,{"$f":"'Conversion 1'!B670","v":0},{"$f":"'Conversion 1'!B670/0.4","v":0},{"$f":"'Conversion 1'!B670/0.4","v":0},{"$f":"'Conversion 1'!B670","v":0},{"$f":"'Conversion 1'!B670/0.07","v":0},{"$f":"'Conversion 1'!B670/0.056","v":0},{"$f":"'Conversion 1'!B670/0.1","v":0},{"$f":"'Conversion 1'!B670/0.058","v":0},{"$f":"'Conversion 1'!B670/0.01","v":0},{"$f":"'Conversion 1'!B670/0.02","v":0},{"$f":"'Conversion 1'!B670/0.56","v":0},{"$f":"'Conversion 1'!B670/0.4","v":0}]
[null,{"$f":"0.1423*('Conversion 1'!D671^1.2528)","v":0},{"$f":"(0.00005*('Conversion 1'!D671^2))+(0.3389*'Conversion 1'!D671)-1.431","v":-1.431},670,{"$f":"'Conversion 1'!B671","v":0},{"$f":"'Conversion 1'!B671/0.4","v":0},{"$f":"'Conversion 1'!B671/0.4","v":0},{"$f":"'Conversion 1'!B671","v":0},{"$f":"'Conversion 1'!B671/0.07","v":0},{"$f":"'Conversion 1'!B671/0.056","v":0},{"$f":"'Conversion 1'!B671/0.1","v":0},{"$f":"'Conversion 1'!B671/0.058","v":0},{"$f":"'Conversion 1'!B671/0.01","v":0},{"$f":"'Conversion 1'!B671/0.02","v":0},{"$f":"'Conversion 1'!B671/0.56","v":0},{"$f":"'Conversion 1'!B671/0.4","v":0}]
[null,{"$f":"0.1423*('Conversion 1'!D672^1.2528)","v":0},{"$f":"(0.00005*('Conversion 1'!D672^2))+(0.3389*'Conversion 1'!D672)-1.431","v":-1.431},671,{"$f":"'Conversion 1'!B672","v":0},{"$f":"'Conversion 1'!B672/0.4","v":0},{"$f":"'Conversion 1'!B672/0.4","v":0},{"$f":"'Conversion 1'!B672","v":0},{"$f":"'Conversion 1'!B672/0.07","v":0},{"$f":"'Conversion 1'!B672/0.056","v":0},{"$f":"'Conversion 1'!B672/0.1","v":0},{"$f":"'Conversion 1'!B672/0.058","v":0},{"$f":"'Conversion 1'!B672/0.01","v":0},{"$f":"'Conversion 1'!B672/0.02","v":0},{"$f":"'Conversion 1'!B672/0.56","v":0},{"$f":"'Conversion 1'!B672/0.4","v":0}]
[null,{"$f":"0.1423*('Conversion 1'!D673^1.2528)","v":0},{"$f":"(0.00005*('Conversion 1'!D673^2))+(0.3389*'Conversion 1'!D673)-1.431","v":-1.431},672,{"$f":"'Conversion 1'!B673","v":0},{"$f":"'Conversion 1'!B673/0.4","v":0},{"$f":"'Conversion 1'!B673/0.4","v":0},{"$f":"'Conversion 1'!B673","v":0},{"$f":"'Conversion 1'!B673/0.07","v":0},{"$f":"'Conversion 1'!B673/0.056","v":0},{"$f":"'Conversion 1'!B673/0.1","v":0},{"$f":"'Conversion 1'!B673/0.058","v":0},{"$f":"'Conversion 1'!B673/0.01","v":0},{"$f":"'Conversion 1'!B673/0.02","v":0},{"$f":"'Conversion 1'!B673/0.56","v":0},{"$f":"'Conversion 1'!B673/0.4","v":0}]
[null,{"$f":"0.1423*('Conversion 1'!D674^1.2528)","v":0},{"$f":"(0.00005*('Conversion 1'!D674^2))+(0.3389*'Conversion 1'!D674)-1.431","v":-1.431},673,{"$f":"'Conversion 1'!B674","v":0},{"$f":"'Conversion 1'!B674/0.4","v":0},{"$f":"'Conversion 1'!B674/0.4","v":0},{"$f":"'Conversion 1'!B674","v":0},{"$f":"'Conversion 1'!B674/0.07","v":0},{"$f":"'Conversion 1'!B674/0.056","v":0},{"$f":"'Conversion 1'!B674/0.1","v":0},{"$f":"'Conversion 1'!B674/0.058","v":0},{"$f":"'Conversion 1'!B674/0.01","v":0},{"$f":"'Conversion 1'!B674/0.02","v":0},{"$f":"'Conversion 1'!B674/0.56","v":0},{"$f":"'Conversion 1'!B674/0.4","v":0}]
[null,{"$f":"0.1423*('Conversion 1'!D675^1.2528)","v":0},{"$f":"(0.00005*('Conversion 1'!D675^2))+(0.3389*'Conversion 1'!D675)-1.431","v":-1.431},674,{"$f":"'Conversion 1'!B675","v":0},{"$f":"'Conversion 1'!B675/0.4","v":0},{"$f":"'Conversion 1'!B675/0.4","v":0},{"$f":"'Conversion 1'!B675","v":0},{"$f":"'Conversion 1'!B675/0.07","v":0},{"$f":"'Conversion 1'!B675/0.056","v":0},{"$f":"'Conversion 1'!B675/0.1","v":0},{"$f":"'Conversion 1'!B675/0.058","v":0},{"$f":"'Conversion 1'!B675/0.01","v":0},{"$f":"'Conversion 1'!B675/0.02","v":0},{"$f":"'Conversion 1'!B675/0.56","v":0},{"$f":"'Conversion 1'!B675/0.4","v":0}]
[null,{"$f":"0.1423*('Conversion 1'!D676^1.2528)","v":0},{"$f":"(0.00005*('Conversion 1'!D676^2))+(0.3389*'Conversion 1'!D676)-1.431","v":-1.431},675,{"$f":"'Conversion 1'!B676","v":0},{"$f":"'Conversion 1'!B676/0.4","v":0},{"$f":"'Conversion 1'!B676/0.4","v":0},{"$f":"'Conversion 1'!B676","v":0},{"$f":"'Conversion 1'!B676/0.07","v":0},{"$f":"'Conversion 1'!B676/0.056","v":0},{"$f":"'Conversion 1'!B676/0.1","v":0},{"$f":"'Conversion 1'!B676/0.058","v":0},{"$f":"'Conversion 1'!B676/0.01","v":0},{"$f":"'Conversion 1'!B676/0.02","v":0},{"$f":"'Conversion 1'!B676/0.56","v":0},{"$f":"'Conversion 1'!B676/0.4","v":0}]
[null,{"$f":"0.1423*('Conversion 1'!D677^1.2528)","v":0},{"$f":"(0.00005*('Conversion 1'!D677^2))+(0.3389*'Conversion 1'!D677)-1.431","v":-1.431},676,{"$f":"'Conversion 1'!B677","v":0},{"$f":"'Conversion 1'!B677/0.4","v":0},{"$f":"'Conversion 1'!B677/0.4","v":0},{"$f":"'Conversion 1'!B677","v":0},{"$f":"'Conversion 1'!B677/0.07","v":0},{"$f":"'Conversion 1'!B677/0.056","v":0},{"$f":"'Conversion 1'!B677/0.1","v":0},{"$f":"'Conversion 1'!B677/0.058","v":0},{"$f":"'Conversion 1'!B677/0.01","v":0},{"$f":"'Conversion 1'!B677/0.02","v":0},{"$f":"'Conversion 1'!B677/0.56","v":0},{"$f":"'Conversion 1'!B677/0.4","v":0}]
[null,{"$f":"0.1423*('Conversion 1'!D678^1.2528)","v":0},{"$f":"(0.00005*('Conversion 1'!D678^2))+(0.3389*'Conversion 1'!D678)-1.431","v":-1.431},677,{"$f":"'Conversion 1'!B678","v":0},{"$f":"'Conversion 1'!B678/0.4","v":0},{"$f":"'Conversion 1'!B678/0.4","v":0},{"$f":"'Conversion 1'!B678","v":0},{"$f":"'Conversion 1'!B678/0.07","v":0},{"$f":"'Conversion 1'!B678/0.056","v":0},{"$f":"'Conversion 1'!B678/0.1","v":0},{"$f":"'Conversion 1'!B678/0.058","v":0},{"$f":"'Conversion 1'!B678/0.01","v":0},{"$f":"'Conversion 1'!B678/0.02","v":0},{"$f":"'Conversion 1'!B678/0.56","v":0},{"$f":"'Conversion 1'!B678/0.4","v":0}]
[null,{"$f":"0.1423*('Conversion 1'!D679^1.2528)","v":0},{"$f":"(0.00005*('Conversion 1'!D679^2))+(0.3389*'Conversion 1'!D679)-1.431","v":-1.431},678,{"$f":"'Conversion 1'!B679","v":0},{"$f":"'Conversion 1'!B679/0.4","v":0},{"$f":"'Conversion 1'!B679/0.4","v":0},{"$f":"'Conversion 1'!B679","v":0},{"$f":"'Conversion 1'!B679/0.07","v":0},{"$f":"'Conversion 1'!B679/0.056","v":0},{"$f":"'Conversion 1'!B679/0.1","v":0},{"$f":"'Conversion 1'!B679/0.058","v":0},{"$f":"'Conversion 1'!B679/0.01","v":0},{"$f":"'Conversion 1'!B679/0.02","v":0},{"$f":"'Conversion 1'!B679/0.56","v":0},{"$f":"'Conversion 1'!B679/0.4","v":0}]
[null,{"$f":"0.1423*('Conversion 1'!D680^1.2528)","v":0},{"$f":"(0.00005*('Conversion 1'!D680^2))+(0.3389*'Conversion 1'!D680)-1.431","v":-1.431},679,{"$f":"'Conversion 1'!B680","v":0},{"$f":"'Conversion 1'!B680/0.4","v":0},{"$f":"'Conversion 1'!B680/0.4","v":0},{"$f":"'Conversion 1'!B680","v":0},{"$f":"'Conversion 1'!B680/0.07","v":0},{"$f":"'Conversion 1'!B680/0.056","v":0},{"$f":"'Conversion 1'!B680/0.1","v":0},{"$f":"'Conversion 1'!B680/0.058","v":0},{"$f":"'Conversion 1'!B680/0.01","v":0},{"$f":"'Conversion 1'!B680/0.02","v":0},{"$f":"'Conversion 1'!B680/0.56","v":0},{"$f":"'Conversion 1'!B680/0.4","v":0}]
[null,{"$f":"0.1423*('Conversion 1'!D681^1.2528)","v":0},{"$f":"(0.00005*('Conversion 1'!D681^2))+(0.3389*'Conversion 1'!D681)-1.431","v":-1.431},680,{"$f":"'Conversion 1'!B681","v":0},{"$f":"'Conversion 1'!B681/0.4","v":0},{"$f":"'Conversion 1'!B681/0.4","v":0},{"$f":"'Conversion 1'!B681","v":0},{"$f":"'Conversion 1'!B681/0.07","v":0},{"$f":"'Conversion 1'!B681/0.056","v":0},{"$f":"'Conversion 1'!B681/0.1","v":0},{"$f":"'Conversion 1'!B681/0.058","v":0},{"$f":"'Conversion 1'!B681/0.01","v":0},{"$f":"'Conversion 1'!B681/0.02","v":0},{"$f":"'Conversion 1'!B681/0.56","v":0},{"$f":"'Conversion 1'!B681/0.4","v":0}]
[null,{"$f":"0.1423*('Conversion 1'!D682^1.2528)","v":0},{"$f":"(0.00005*('Conversion 1'!D682^2))+(0.3389*'Conversion 1'!D682)-1.431","v":-1.431},681,{"$f":"'Conversion 1'!B682","v":0},{"$f":"'Conversion 1'!B682/0.4","v":0},{"$f":"'Conversion 1'!B682/0.4","v":0},{"$f":"'Conversion 1'!B682","v":0},{"$f":"'Conversion 1'!B682/0.07","v":0},{"$f":"'Conversion 1'!B682/0.056","v":0},{"$f":"'Conversion 1'!B682/0.1","v":0},{"$f":"'Conversion 1'!B682/0.058","v":0},{"$f":"'Conversion 1'!B682/0.01","v":0},{"$f":"'Conversion 1'!B682/0.02","v":0},{"$f":"'Conversion 1'!B682/0.56","v":0},{"$f":"'Conversion 1'!B682/0.4","v":0}]
[null,{"$f":"0.1423*('Conversion 1'!D683^1.2528)","v":0},{"$f":"(0.00005*('Conversion 1'!D683^2))+(0.3389*'Conversion 1'!D683)-1.431","v":-1.431},682,{"$f":"'Conversion 1'!B683","v":0},{"$f":"'Conversion 1'!B683/0.4","v":0},{"$f":"'Conversion 1'!B683/0.4","v":0},{"$f":"'Conversion 1'!B683","v":0},{"$f":"'Conversion 1'!B683/0.07","v":0},{"$f":"'Conversion 1'!B683/0.056","v":0},{"$f":"'Conversion 1'!B683/0.1","v":0},{"$f":"'Conversion 1'!B683/0.058","v":0},{"$f":"'Conversion 1'!B683/0.01","v":0},{"$f":"'Conversion 1'!B683/0.02","v":0},{"$f":"'Conversion 1'!B683/0.56","v":0},{"$f":"'Conversion 1'!B683/0.4","v":0}]
[null,{"$f":"0.1423*('Conversion 1'!D684^1.2528)","v":0},{"$f":"(0.00005*('Conversion 1'!D684^2))+(0.3389*'Conversion 1'!D684)-1.431","v":-1.431},683,{"$f":"'Conversion 1'!B684","v":0},{"$f":"'Conversion 1'!B684/0.4","v":0},{"$f":"'Conversion 1'!B684/0.4","v":0},{"$f":"'Conversion 1'!B684","v":0},{"$f":"'Conversion 1'!B684/0.07","v":0},{"$f":"'Conversion 1'!B684/0.056","v":0},{"$f":"'Conversion 1'!B684/0.1","v":0},{"$f":"'Conversion 1'!B684/0.058","v":0},{"$f":"'Conversion 1'!B684/0.01","v":0},{"$f":"'Conversion 1'!B684/0.02","v":0},{"$f":"'Conversion 1'!B684/0.56","v":0},{"$f":"'Conversion 1'!B684/0.4","v":0}]
[null,{"$f":"0.1423*('Conversion 1'!D685^1.2528)","v":0},{"$f":"(0.00005*('Conversion 1'!D685^2))+(0.3389*'Conversion 1'!D685)-1.431","v":-1.431},684,{"$f":"'Conversion 1'!B685","v":0},{"$f":"'Conversion 1'!B685/0.4","v":0},{"$f":"'Conversion 1'!B685/0.4","v":0},{"$f":"'Conversion 1'!B685","v":0},{"$f":"'Conversion 1'!B685/0.07","v":0},{"$f":"'Conversion 1'!B685/0.056","v":0},{"$f":"'Conversion 1'!B685/0.1","v":0},{"$f":"'Conversion 1'!B685/0.058","v":0},{"$f":"'Conversion 1'!B685/0.01","v":0},{"$f":"'Conversion 1'!B685/0.02","v":0},{"$f":"'Conversion 1'!B685/0.56","v":0},{"$f":"'Conversion 1'!B685/0.4","v":0}]
[null,{"$f":"0.1423*('Conversion 1'!D686^1.2528)","v":0},{"$f":"(0.00005*('Conversion 1'!D686^2))+(0.3389*'Conversion 1'!D686)-1.431","v":-1.431},685,{"$f":"'Conversion 1'!B686","v":0},{"$f":"'Conversion 1'!B686/0.4","v":0},{"$f":"'Conversion 1'!B686/0.4","v":0},{"$f":"'Conversion 1'!B686","v":0},{"$f":"'Conversion 1'!B686/0.07","v":0},{"$f":"'Conversion 1'!B686/0.056","v":0},{"$f":"'Conversion 1'!B686/0.1","v":0},{"$f":"'Conversion 1'!B686/0.058","v":0},{"$f":"'Conversion 1'!B686/0.01","v":0},{"$f":"'Conversion 1'!B686/0.02","v":0},{"$f":"'Conversion 1'!B686/0.56","v":0},{"$f":"'Conversion 1'!B686/0.4","v":0}]
[null,{"$f":"0.1423*('Conversion 1'!D687^1.2528)","v":0},{"$f":"(0.00005*('Conversion 1'!D687^2))+(0.3389*'Conversion 1'!D687)-1.431","v":-1.431},686,{"$f":"'Conversion 1'!B687","v":0},{"$f":"'Conversion 1'!B687/0.4","v":0},{"$f":"'Conversion 1'!B687/0.4","v":0},{"$f":"'Conversion 1'!B687","v":0},{"$f":"'Conversion 1'!B687/0.07","v":0},{"$f":"'Conversion 1'!B687/0.056","v":0},{"$f":"'Conversion 1'!B687/0.1","v":0},{"$f":"'Conversion 1'!B687/0.058","v":0},{"$f":"'Conversion 1'!B687/0.01","v":0},{"$f":"'Conversion 1'!B687/0.02","v":0},{"$f":"'Conversion 1'!B687/0.56","v":0},{"$f":"'Conversion 1'!B687/0.4","v":0}]
[null,{"$f":"0.1423*('Conversion 1'!D688^1.2528)","v":0},{"$f":"(0.00005*('Conversion 1'!D688^2))+(0.3389*'Conversion 1'!D688)-1.431","v":-1.431},687,{"$f":"'Conversion 1'!B688","v":0},{"$f":"'Conversion 1'!B688/0.4","v":0},{"$f":"'Conversion 1'!B688/0.4","v":0},{"$f":"'Conversion 1'!B688","v":0},{"$f":"'Conversion 1'!B688/0.07","v":0},{"$f":"'Conversion 1'!B688/0.056","v":0},{"$f":"'Conversion 1'!B688/0.1","v":0},{"$f":"'Conversion 1'!B688/0.058","v":0},{"$f":"'Conversion 1'!B688/0.01","v":0},{"$f":"'Conversion 1'!B688/0.02","v":0},{"$f":"'Conversion 1'!B688/0.56","v":0},{"$f":"'Conversion 1'!B688/0.4","v":0}]
[null,{"$f":"0.1423*('Conversion 1'!D689^1.2528)","v":0},{"$f":"(0.00005*('Conversion 1'!D689^2))+(0.3389*'Conversion 1'!D689)-1.431","v":-1.431},688,{"$f":"'Conversion 1'!B689","v":0},{"$f":"'Conversion 1'!B689/0.4","v":0},{"$f":"'Conversion 1'!B689/0.4","v":0},{"$f":"'Conversion 1'!B689","v":0},{"$f":"'Conversion 1'!B689/0.07","v":0},{"$f":"'Conversion 1'!B689/0.056","v":0},{"$f":"'Conversion 1'!B689/0.1","v":0},{"$f":"'Conversion 1'!B689/0.058","v":0},{"$f":"'Conversion 1'!B689/0.01","v":0},{"$f":"'Conversion 1'!B689/0.02","v":0},{"$f":"'Conversion 1'!B689/0.56","v":0},{"$f":"'Conversion 1'!B689/0.4","v":0}]
[null,{"$f":"0.1423*('Conversion 1'!D690^1.2528)","v":0},{"$f":"(0.00005*('Conversion 1'!D690^2))+(0.3389*'Conversion 1'!D690)-1.431","v":-1.431},689,{"$f":"'Conversion 1'!B690","v":0},{"$f":"'Conversion 1'!B690/0.4","v":0},{"$f":"'Conversion 1'!B690/0.4","v":0},{"$f":"'Conversion 1'!B690","v":0},{"$f":"'Conversion 1'!B690/0.07","v":0},{"$f":"'Conversion 1'!B690/0.056","v":0},{"$f":"'Conversion 1'!B690/0.1","v":0},{"$f":"'Conversion 1'!B690/0.058","v":0},{"$f":"'Conversion 1'!B690/0.01","v":0},{"$f":"'Conversion 1'!B690/0.02","v":0},{"$f":"'Conversion 1'!B690/0.56","v":0},{"$f":"'Conversion 1'!B690/0.4","v":0}]
[null,{"$f":"0.1423*('Conversion 1'!D691^1.2528)","v":0},{"$f":"(0.00005*('Conversion 1'!D691^2))+(0.3389*'Conversion 1'!D691)-1.431","v":-1.431},690,{"$f":"'Conversion 1'!B691","v":0},{"$f":"'Conversion 1'!B691/0.4","v":0},{"$f":"'Conversion 1'!B691/0.4","v":0},{"$f":"'Conversion 1'!B691","v":0},{"$f":"'Conversion 1'!B691/0.07","v":0},{"$f":"'Conversion 1'!B691/0.056","v":0},{"$f":"'Conversion 1'!B691/0.1","v":0},{"$f":"'Conversion 1'!B691/0.058","v":0},{"$f":"'Conversion 1'!B691/0.01","v":0},{"$f":"'Conversion 1'!B691/0.02","v":0},{"$f":"'Conversion 1'!B691/0.56","v":0},{"$f":"'Conversion 1'!B691/0.4","v":0}]
[null,{"$f":"0.1423*('Conversion 1'!D692^1.2528)","v":0},{"$f":"(0.00005*('Conversion 1'!D692^2))+(0.3389*'Conversion 1'!D692)-1.431","v":-1.431},691,{"$f":"'Conversion 1'!B692","v":0},{"$f":"'Conversion 1'!B692/0.4","v":0},{"$f":"'Conversion 1'!B692/0.4","v":0},{"$f":"'Conversion 1'!B692","v":0},{"$f":"'Conversion 1'!B692/0.07","v":0},{"$f":"'Conversion 1'!B692/0.056","v":0},{"$f":"'Conversion 1'!B692/0.1","v":0},{"$f":"'Conversion 1'!B692/0.058","v":0},{"$f":"'Conversion 1'!B692/0.01","v":0},{"$f":"'Conversion 1'!B692/0.02","v":0},{"$f":"'Conversion 1'!B692/0.56","v":0},{"$f":"'Conversion 1'!B692/0.4","v":0}]
[null,{"$f":"0.1423*('Conversion 1'!D693^1.2528)","v":0},{"$f":"(0.00005*('Conversion 1'!D693^2))+(0.3389*'Conversion 1'!D693)-1.431","v":-1.431},692,{"$f":"'Conversion 1'!B693","v":0},{"$f":"'Conversion 1'!B693/0.4","v":0},{"$f":"'Conversion 1'!B693/0.4","v":0},{"$f":"'Conversion 1'!B693","v":0},{"$f":"'Conversion 1'!B693/0.07","v":0},{"$f":"'Conversion 1'!B693/0.056","v":0},{"$f":"'Conversion 1'!B693/0.1","v":0},{"$f":"'Conversion 1'!B693/0.058","v":0},{"$f":"'Conversion 1'!B693/0.01","v":0},{"$f":"'Conversion 1'!B693/0.02","v":0},{"$f":"'Conversion 1'!B693/0.56","v":0},{"$f":"'Conversion 1'!B693/0.4","v":0}]
[null,{"$f":"0.1423*('Conversion 1'!D694^1.2528)","v":0},{"$f":"(0.00005*('Conversion 1'!D694^2))+(0.3389*'Conversion 1'!D694)-1.431","v":-1.431},693,{"$f":"'Conversion 1'!B694","v":0},{"$f":"'Conversion 1'!B694/0.4","v":0},{"$f":"'Conversion 1'!B694/0.4","v":0},{"$f":"'Conversion 1'!B694","v":0},{"$f":"'Conversion 1'!B694/0.07","v":0},{"$f":"'Conversion 1'!B694/0.056","v":0},{"$f":"'Conversion 1'!B694/0.1","v":0},{"$f":"'Conversion 1'!B694/0.058","v":0},{"$f":"'Conversion 1'!B694/0.01","v":0},{"$f":"'Conversion 1'!B694/0.02","v":0},{"$f":"'Conversion 1'!B694/0.56","v":0},{"$f":"'Conversion 1'!B694/0.4","v":0}]
[null,{"$f":"0.1423*('Conversion 1'!D695^1.2528)","v":0},{"$f":"(0.00005*('Conversion 1'!D695^2))+(0.3389*'Conversion 1'!D695)-1.431","v":-1.431},694,{"$f":"'Conversion 1'!B695","v":0},{"$f":"'Conversion 1'!B695/0.4","v":0},{"$f":"'Conversion 1'!B695/0.4","v":0},{"$f":"'Conversion 1'!B695","v":0},{"$f":"'Conversion 1'!B695/0.07","v":0},{"$f":"'Conversion 1'!B695/0.056","v":0},{"$f":"'Conversion 1'!B695/0.1","v":0},{"$f":"'Conversion 1'!B695/0.058","v":0},{"$f":"'Conversion 1'!B695/0.01","v":0},{"$f":"'Conversion 1'!B695/0.02","v":0},{"$f":"'Conversion 1'!B695/0.56","v":0},{"$f":"'Conversion 1'!B695/0.4","v":0}]
[null,{"$f":"0.1423*('Conversion 1'!D696^1.2528)","v":0},{"$f":"(0.00005*('Conversion 1'!D696^2))+(0.3389*'Conversion 1'!D696)-1.431","v":-1.431},695,{"$f":"'Conversion 1'!B696","v":0},{"$f":"'Conversion 1'!B696/0.4","v":0},{"$f":"'Conversion 1'!B696/0.4","v":0},{"$f":"'Conversion 1'!B696","v":0},{"$f":"'Conversion 1'!B696/0.07","v":0},{"$f":"'Conversion 1'!B696/0.056","v":0},{"$f":"'Conversion 1'!B696/0.1","v":0},{"$f":"'Conversion 1'!B696/0.058","v":0},{"$f":"'Conversion 1'!B696/0.01","v":0},{"$f":"'Conversion 1'!B696/0.02","v":0},{"$f":"'Conversion 1'!B696/0.56","v":0},{"$f":"'Conversion 1'!B696/0.4","v":0}]
[null,{"$f":"0.1423*('Conversion 1'!D697^1.2528)","v":0},{"$f":"(0.00005*('Conversion 1'!D697^2))+(0.3389*'Conversion 1'!D697)-1.431","v":-1.431},696,{"$f":"'Conversion 1'!B697","v":0},{"$f":"'Conversion 1'!B697/0.4","v":0},{"$f":"'Conversion 1'!B697/0.4","v":0},{"$f":"'Conversion 1'!B697","v":0},{"$f":"'Conversion 1'!B697/0.07","v":0},{"$f":"'Conversion 1'!B697/0.056","v":0},{"$f":"'Conversion 1'!B697/0.1","v":0},{"$f":"'Conversion 1'!B697/0.058","v":0},{"$f":"'Conversion 1'!B697/0.01","v":0},{"$f":"'Conversion 1'!B697/0.02","v":0},{"$f":"'Conversion 1'!B697/0.56","v":0},{"$f":"'Conversion 1'!B697/0.4","v":0}]
[null,{"$f":"0.1423*('Conversion 1'!D698^1.2528)","v":0},{"$f":"(0.00005*('Conversion 1'!D698^2))+(0.3389*'Conversion 1'!D698)-1.431","v":-1.431},697,{"$f":"'Conversion 1'!B698","v":0},{"$f":"'Conversion 1'!B698/0.4","v":0},{"$f":"'Conversion 1'!B698/0.4","v":0},{"$f":"'Conversion 1'!B698","v":0},{"$f":"'Conversion 1'!B698/0.07","v":0},{"$f":"'Conversion 1'!B698/0.056","v":0},{"$f":"'Conversion 1'!B698/0.1","v":0},{"$f":"'Conversion 1'!B698/0.058","v":0},{"$f":"'Conversion 1'!B698/0.01","v":0},{"$f":"'Conversion 1'!B698/0.02","v":0},{"$f":"'Conversion 1'!B698/0.56","v":0},{"$f":"'Conversion 1'!B698/0.4","v":0}]
[null,{"$f":"0.1423*('Conversion 1'!D699^1.2528)","v":0},{"$f":"(0.00005*('Conversion 1'!D699^2))+(0.3389*'Conversion 1'!D699)-1.431","v":-1.431},698,{"$f":"'Conversion 1'!B699","v":0},{"$f":"'Conversion 1'!B699/0.4","v":0},{"$f":"'Conversion 1'!B699/0.4","v":0},{"$f":"'Conversion 1'!B699","v":0},{"$f":"'Conversion 1'!B699/0.07","v":0},{"$f":"'Conversion 1'!B699/0.056","v":0},{"$f":"'Conversion 1'!B699/0.1","v":0},{"$f":"'Conversion 1'!B699/0.058","v":0},{"$f":"'Conversion 1'!B699/0.01","v":0},{"$f":"'Conversion 1'!B699/0.02","v":0},{"$f":"'Conversion 1'!B699/0.56","v":0},{"$f":"'Conversion 1'!B699/0.4","v":0}]
[null,{"$f":"0.1423*('Conversion 1'!D700^1.2528)","v":0},{"$f":"(0.00005*('Conversion 1'!D700^2))+(0.3389*'Conversion 1'!D700)-1.431","v":-1.431},699,{"$f":"'Conversion 1'!B700","v":0},{"$f":"'Conversion 1'!B700/0.4","v":0},{"$f":"'Conversion 1'!B700/0.4","v":0},{"$f":"'Conversion 1'!B700","v":0},{"$f":"'Conversion 1'!B700/0.07","v":0},{"$f":"'Conversion 1'!B700/0.056","v":0},{"$f":"'Conversion 1'!B700/0.1","v":0},{"$f":"'Conversion 1'!B700/0.058","v":0},{"$f":"'Conversion 1'!B700/0.01","v":0},{"$f":"'Conversion 1'!B700/0.02","v":0},{"$f":"'Conversion 1'!B700/0.56","v":0},{"$f":"'Conversion 1'!B700/0.4","v":0}]
[null,{"$f":"0.1423*('Conversion 1'!D701^1.2528)","v":0},{"$f":"(0.00005*('Conversion 1'!D701^2))+(0.3389*'Conversion 1'!D701)-1.431","v":-1.431},700,{"$f":"'Conversion 1'!B701","v":0},{"$f":"'Conversion 1'!B701/0.4","v":0},{"$f":"'Conversion 1'!B701/0.4","v":0},{"$f":"'Conversion 1'!B701","v":0},{"$f":"'Conversion 1'!B701/0.07","v":0},{"$f":"'Conversion 1'!B701/0.056","v":0},{"$f":"'Conversion 1'!B701/0.1","v":0},{"$f":"'Conversion 1'!B701/0.058","v":0},{"$f":"'Conversion 1'!B701/0.01","v":0},{"$f":"'Conversion 1'!B701/0.02","v":0},{"$f":"'Conversion 1'!B701/0.56","v":0},{"$f":"'Conversion 1'!B701/0.4","v":0}]
[null,{"$f":"0.1423*('Conversion 1'!D702^1.2528)","v":0},{"$f":"(0.00005*('Conversion 1'!D702^2))+(0.3389*'Conversion 1'!D702)-1.431","v":-1.431},701,{"$f":"'Conversion 1'!B702","v":0},{"$f":"'Conversion 1'!B702/0.4","v":0},{"$f":"'Conversion 1'!B702/0.4","v":0},{"$f":"'Conversion 1'!B702","v":0},{"$f":"'Conversion 1'!B702/0.07","v":0},{"$f":"'Conversion 1'!B702/0.056","v":0},{"$f":"'Conversion 1'!B702/0.1","v":0},{"$f":"'Conversion 1'!B702/0.058","v":0},{"$f":"'Conversion 1'!B702/0.01","v":0},{"$f":"'Conversion 1'!B702/0.02","v":0},{"$f":"'Conversion 1'!B702/0.56","v":0},{"$f":"'Conversion 1'!B702/0.4","v":0}]
[null,{"$f":"0.1423*('Conversion 1'!D703^1.2528)","v":0},{"$f":"(0.00005*('Conversion 1'!D703^2))+(0.3389*'Conversion 1'!D703)-1.431","v":-1.431},702,{"$f":"'Conversion 1'!B703","v":0},{"$f":"'Conversion 1'!B703/0.4","v":0},{"$f":"'Conversion 1'!B703/0.4","v":0},{"$f":"'Conversion 1'!B703","v":0},{"$f":"'Conversion 1'!B703/0.07","v":0},{"$f":"'Conversion 1'!B703/0.056","v":0},{"$f":"'Conversion 1'!B703/0.1","v":0},{"$f":"'Conversion 1'!B703/0.058","v":0},{"$f":"'Conversion 1'!B703/0.01","v":0},{"$f":"'Conversion 1'!B703/0.02","v":0},{"$f":"'Conversion 1'!B703/0.56","v":0},{"$f":"'Conversion 1'!B703/0.4","v":0}]
[null,{"$f":"0.1423*('Conversion 1'!D704^1.2528)","v":0},{"$f":"(0.00005*('Conversion 1'!D704^2))+(0.3389*'Conversion 1'!D704)-1.431","v":-1.431},703,{"$f":"'Conversion 1'!B704","v":0},{"$f":"'Conversion 1'!B704/0.4","v":0},{"$f":"'Conversion 1'!B704/0.4","v":0},{"$f":"'Conversion 1'!B704","v":0},{"$f":"'Conversion 1'!B704/0.07","v":0},{"$f":"'Conversion 1'!B704/0.056","v":0},{"$f":"'Conversion 1'!B704/0.1","v":0},{"$f":"'Conversion 1'!B704/0.058","v":0},{"$f":"'Conversion 1'!B704/0.01","v":0},{"$f":"'Conversion 1'!B704/0.02","v":0},{"$f":"'Conversion 1'!B704/0.56","v":0},{"$f":"'Conversion 1'!B704/0.4","v":0}]
[null,{"$f":"0.1423*('Conversion 1'!D705^1.2528)","v":0},{"$f":"(0.00005*('Conversion 1'!D705^2))+(0.3389*'Conversion 1'!D705)-1.431","v":-1.431},704,{"$f":"'Conversion 1'!B705","v":0},{"$f":"'Conversion 1'!B705/0.4","v":0},{"$f":"'Conversion 1'!B705/0.4","v":0},{"$f":"'Conversion 1'!B705","v":0},{"$f":"'Conversion 1'!B705/0.07","v":0},{"$f":"'Conversion 1'!B705/0.056","v":0},{"$f":"'Conversion 1'!B705/0.1","v":0},{"$f":"'Conversion 1'!B705/0.058","v":0},{"$f":"'Conversion 1'!B705/0.01","v":0},{"$f":"'Conversion 1'!B705/0.02","v":0},{"$f":"'Conversion 1'!B705/0.56","v":0},{"$f":"'Conversion 1'!B705/0.4","v":0}]
[null,{"$f":"0.1423*('Conversion 1'!D706^1.2528)","v":0},{"$f":"(0.00005*('Conversion 1'!D706^2))+(0.3389*'Conversion 1'!D706)-1.431","v":-1.431},705,{"$f":"'Conversion 1'!B706","v":0},{"$f":"'Conversion 1'!B706/0.4","v":0},{"$f":"'Conversion 1'!B706/0.4","v":0},{"$f":"'Conversion 1'!B706","v":0},{"$f":"'Conversion 1'!B706/0.07","v":0},{"$f":"'Conversion 1'!B706/0.056","v":0},{"$f":"'Conversion 1'!B706/0.1","v":0},{"$f":"'Conversion 1'!B706/0.058","v":0},{"$f":"'Conversion 1'!B706/0.01","v":0},{"$f":"'Conversion 1'!B706/0.02","v":0},{"$f":"'Conversion 1'!B706/0.56","v":0},{"$f":"'Conversion 1'!B706/0.4","v":0}]
[null,{"$f":"0.1423*('Conversion 1'!D707^1.2528)","v":0},{"$f":"(0.00005*('Conversion 1'!D707^2))+(0.3389*'Conversion 1'!D707)-1.431","v":-1.431},706,{"$f":"'Conversion 1'!B707","v":0},{"$f":"'Conversion 1'!B707/0.4","v":0},{"$f":"'Conversion 1'!B707/0.4","v":0},{"$f":"'Conversion 1'!B707","v":0},{"$f":"'Conversion 1'!B707/0.07","v":0},{"$f":"'Conversion 1'!B707/0.056","v":0},{"$f":"'Conversion 1'!B707/0.1","v":0},{"$f":"'Conversion 1'!B707/0.058","v":0},{"$f":"'Conversion 1'!B707/0.01","v":0},{"$f":"'Conversion 1'!B707/0.02","v":0},{"$f":"'Conversion 1'!B707/0.56","v":0},{"$f":"'Conversion 1'!B707/0.4","v":0}]
[null,{"$f":"0.1423*('Conversion 1'!D708^1.2528)","v":0},{"$f":"(0.00005*('Conversion 1'!D708^2))+(0.3389*'Conversion 1'!D708)-1.431","v":-1.431},707,{"$f":"'Conversion 1'!B708","v":0},{"$f":"'Conversion 1'!B708/0.4","v":0},{"$f":"'Conversion 1'!B708/0.4","v":0},{"$f":"'Conversion 1'!B708","v":0},{"$f":"'Conversion 1'!B708/0.07","v":0},{"$f":"'Conversion 1'!B708/0.056","v":0},{"$f":"'Conversion 1'!B708/0.1","v":0},{"$f":"'Conversion 1'!B708/0.058","v":0},{"$f":"'Conversion 1'!B708/0.01","v":0},{"$f":"'Conversion 1'!B708/0.02","v":0},{"$f":"'Conversion 1'!B708/0.56","v":0},{"$f":"'Conversion 1'!B708/0.4","v":0}]
[null,{"$f":"0.1423*('Conversion 1'!D709^1.2528)","v":0},{"$f":"(0.00005*('Conversion 1'!D709^2))+(0.3389*'Conversion 1'!D709)-1.431","v":-1.431},708,{"$f":"'Conversion 1'!B709","v":0},{"$f":"'Conversion 1'!B709/0.4","v":0},{"$f":"'Conversion 1'!B709/0.4","v":0},{"$f":"'Conversion 1'!B709","v":0},{"$f":"'Conversion 1'!B709/0.07","v":0},{"$f":"'Conversion 1'!B709/0.056","v":0},{"$f":"'Conversion 1'!B709/0.1","v":0},{"$f":"'Conversion 1'!B709/0.058","v":0},{"$f":"'Conversion 1'!B709/0.01","v":0},{"$f":"'Conversion 1'!B709/0.02","v":0},{"$f":"'Conversion 1'!B709/0.56","v":0},{"$f":"'Conversion 1'!B709/0.4","v":0}]
[null,{"$f":"0.1423*('Conversion 1'!D710^1.2528)","v":0},{"$f":"(0.00005*('Conversion 1'!D710^2))+(0.3389*'Conversion 1'!D710)-1.431","v":-1.431},709,{"$f":"'Conversion 1'!B710","v":0},{"$f":"'Conversion 1'!B710/0.4","v":0},{"$f":"'Conversion 1'!B710/0.4","v":0},{"$f":"'Conversion 1'!B710","v":0},{"$f":"'Conversion 1'!B710/0.07","v":0},{"$f":"'Conversion 1'!B710/0.056","v":0},{"$f":"'Conversion 1'!B710/0.1","v":0},{"$f":"'Conversion 1'!B710/0.058","v":0},{"$f":"'Conversion 1'!B710/0.01","v":0},{"$f":"'Conversion 1'!B710/0.02","v":0},{"$f":"'Conversion 1'!B710/0.56","v":0},{"$f":"'Conversion 1'!B710/0.4","v":0}]
[null,{"$f":"0.1423*('Conversion 1'!D711^1.2528)","v":0},{"$f":"(0.00005*('Conversion 1'!D711^2))+(0.3389*'Conversion 1'!D711)-1.431","v":-1.431},710,{"$f":"'Conversion 1'!B711","v":0},{"$f":"'Conversion 1'!B711/0.4","v":0},{"$f":"'Conversion 1'!B711/0.4","v":0},{"$f":"'Conversion 1'!B711","v":0},{"$f":"'Conversion 1'!B711/0.07","v":0},{"$f":"'Conversion 1'!B711/0.056","v":0},{"$f":"'Conversion 1'!B711/0.1","v":0},{"$f":"'Conversion 1'!B711/0.058","v":0},{"$f":"'Conversion 1'!B711/0.01","v":0},{"$f":"'Conversion 1'!B711/0.02","v":0},{"$f":"'Conversion 1'!B711/0.56","v":0},{"$f":"'Conversion 1'!B711/0.4","v":0}]
[null,{"$f":"0.1423*('Conversion 1'!D712^1.2528)","v":0},{"$f":"(0.00005*('Conversion 1'!D712^2))+(0.3389*'Conversion 1'!D712)-1.431","v":-1.431},711,{"$f":"'Conversion 1'!B712","v":0},{"$f":"'Conversion 1'!B712/0.4","v":0},{"$f":"'Conversion 1'!B712/0.4","v":0},{"$f":"'Conversion 1'!B712","v":0},{"$f":"'Conversion 1'!B712/0.07","v":0},{"$f":"'Conversion 1'!B712/0.056","v":0},{"$f":"'Conversion 1'!B712/0.1","v":0},{"$f":"'Conversion 1'!B712/0.058","v":0},{"$f":"'Conversion 1'!B712/0.01","v":0},{"$f":"'Conversion 1'!B712/0.02","v":0},{"$f":"'Conversion 1'!B712/0.56","v":0},{"$f":"'Conversion 1'!B712/0.4","v":0}]
[null,{"$f":"0.1423*('Conversion 1'!D713^1.2528)","v":0},{"$f":"(0.00005*('Conversion 1'!D713^2))+(0.3389*'Conversion 1'!D713)-1.431","v":-1.431},712,{"$f":"'Conversion 1'!B713","v":0},{"$f":"'Conversion 1'!B713/0.4","v":0},{"$f":"'Conversion 1'!B713/0.4","v":0},{"$f":"'Conversion 1'!B713","v":0},{"$f":"'Conversion 1'!B713/0.07","v":0},{"$f":"'Conversion 1'!B713/0.056","v":0},{"$f":"'Conversion 1'!B713/0.1","v":0},{"$f":"'Conversion 1'!B713/0.058","v":0},{"$f":"'Conversion 1'!B713/0.01","v":0},{"$f":"'Conversion 1'!B713/0.02","v":0},{"$f":"'Conversion 1'!B713/0.56","v":0},{"$f":"'Conversion 1'!B713/0.4","v":0}]
[null,{"$f":"0.1423*('Conversion 1'!D714^1.2528)","v":0},{"$f":"(0.00005*('Conversion 1'!D714^2))+(0.3389*'Conversion 1'!D714)-1.431","v":-1.431},713,{"$f":"'Conversion 1'!B714","v":0},{"$f":"'Conversion 1'!B714/0.4","v":0},{"$f":"'Conversion 1'!B714/0.4","v":0},{"$f":"'Conversion 1'!B714","v":0},{"$f":"'Conversion 1'!B714/0.07","v":0},{"$f":"'Conversion 1'!B714/0.056","v":0},{"$f":"'Conversion 1'!B714/0.1","v":0},{"$f":"'Conversion 1'!B714/0.058","v":0},{"$f":"'Conversion 1'!B714/0.01","v":0},{"$f":"'Conversion 1'!B714/0.02","v":0},{"$f":"'Conversion 1'!B714/0.56","v":0},{"$f":"'Conversion 1'!B714/0.4","v":0}]
[null,{"$f":"0.1423*('Conversion 1'!D715^1.2528)","v":0},{"$f":"(0.00005*('Conversion 1'!D715^2))+(0.3389*'Conversion 1'!D715)-1.431","v":-1.431},714,{"$f":"'Conversion 1'!B715","v":0},{"$f":"'Conversion 1'!B715/0.4","v":0},{"$f":"'Conversion 1'!B715/0.4","v":0},{"$f":"'Conversion 1'!B715","v":0},{"$f":"'Conversion 1'!B715/0.07","v":0},{"$f":"'Conversion 1'!B715/0.056","v":0},{"$f":"'Conversion 1'!B715/0.1","v":0},{"$f":"'Conversion 1'!B715/0.058","v":0},{"$f":"'Conversion 1'!B715/0.01","v":0},{"$f":"'Conversion 1'!B715/0.02","v":0},{"$f":"'Conversion 1'!B715/0.56","v":0},{"$f":"'Conversion 1'!B715/0.4","v":0}]
[null,{"$f":"0.1423*('Conversion 1'!D716^1.2528)","v":0},{"$f":"(0.00005*('Conversion 1'!D716^2))+(0.3389*'Conversion 1'!D716)-1.431","v":-1.431},715,{"$f":"'Conversion 1'!B716","v":0},{"$f":"'Conversion 1'!B716/0.4","v":0},{"$f":"'Conversion 1'!B716/0.4","v":0},{"$f":"'Conversion 1'!B716","v":0},{"$f":"'Conversion 1'!B716/0.07","v":0},{"$f":"'Conversion 1'!B716/0.056","v":0},{"$f":"'Conversion 1'!B716/0.1","v":0},{"$f":"'Conversion 1'!B716/0.058","v":0},{"$f":"'Conversion 1'!B716/0.01","v":0},{"$f":"'Conversion 1'!B716/0.02","v":0},{"$f":"'Conversion 1'!B716/0.56","v":0},{"$f":"'Conversion 1'!B716/0.4","v":0}]
[null,{"$f":"0.1423*('Conversion 1'!D717^1.2528)","v":0},{"$f":"(0.00005*('Conversion 1'!D717^2))+(0.3389*'Conversion 1'!D717)-1.431","v":-1.431},716,{"$f":"'Conversion 1'!B717","v":0},{"$f":"'Conversion 1'!B717/0.4","v":0},{"$f":"'Conversion 1'!B717/0.4","v":0},{"$f":"'Conversion 1'!B717","v":0},{"$f":"'Conversion 1'!B717/0.07","v":0},{"$f":"'Conversion 1'!B717/0.056","v":0},{"$f":"'Conversion 1'!B717/0.1","v":0},{"$f":"'Conversion 1'!B717/0.058","v":0},{"$f":"'Conversion 1'!B717/0.01","v":0},{"$f":"'Conversion 1'!B717/0.02","v":0},{"$f":"'Conversion 1'!B717/0.56","v":0},{"$f":"'Conversion 1'!B717/0.4","v":0}]
[null,{"$f":"0.1423*('Conversion 1'!D718^1.2528)","v":0},{"$f":"(0.00005*('Conversion 1'!D718^2))+(0.3389*'Conversion 1'!D718)-1.431","v":-1.431},717,{"$f":"'Conversion 1'!B718","v":0},{"$f":"'Conversion 1'!B718/0.4","v":0},{"$f":"'Conversion 1'!B718/0.4","v":0},{"$f":"'Conversion 1'!B718","v":0},{"$f":"'Conversion 1'!B718/0.07","v":0},{"$f":"'Conversion 1'!B718/0.056","v":0},{"$f":"'Conversion 1'!B718/0.1","v":0},{"$f":"'Conversion 1'!B718/0.058","v":0},{"$f":"'Conversion 1'!B718/0.01","v":0},{"$f":"'Conversion 1'!B718/0.02","v":0},{"$f":"'Conversion 1'!B718/0.56","v":0},{"$f":"'Conversion 1'!B718/0.4","v":0}]
[null,{"$f":"0.1423*('Conversion 1'!D719^1.2528)","v":0},{"$f":"(0.00005*('Conversion 1'!D719^2))+(0.3389*'Conversion 1'!D719)-1.431","v":-1.431},718,{"$f":"'Conversion 1'!B719","v":0},{"$f":"'Conversion 1'!B719/0.4","v":0},{"$f":"'Conversion 1'!B719/0.4","v":0},{"$f":"'Conversion 1'!B719","v":0},{"$f":"'Conversion 1'!B719/0.07","v":0},{"$f":"'Conversion 1'!B719/0.056","v":0},{"$f":"'Conversion 1'!B719/0.1","v":0},{"$f":"'Conversion 1'!B719/0.058","v":0},{"$f":"'Conversion 1'!B719/0.01","v":0},{"$f":"'Conversion 1'!B719/0.02","v":0},{"$f":"'Conversion 1'!B719/0.56","v":0},{"$f":"'Conversion 1'!B719/0.4","v":0}]
[null,{"$f":"0.1423*('Conversion 1'!D720^1.2528)","v":0},{"$f":"(0.00005*('Conversion 1'!D720^2))+(0.3389*'Conversion 1'!D720)-1.431","v":-1.431},719,{"$f":"'Conversion 1'!B720","v":0},{"$f":"'Conversion 1'!B720/0.4","v":0},{"$f":"'Conversion 1'!B720/0.4","v":0},{"$f":"'Conversion 1'!B720","v":0},{"$f":"'Conversion 1'!B720/0.07","v":0},{"$f":"'Conversion 1'!B720/0.056","v":0},{"$f":"'Conversion 1'!B720/0.1","v":0},{"$f":"'Conversion 1'!B720/0.058","v":0},{"$f":"'Conversion 1'!B720/0.01","v":0},{"$f":"'Conversion 1'!B720/0.02","v":0},{"$f":"'Conversion 1'!B720/0.56","v":0},{"$f":"'Conversion 1'!B720/0.4","v":0}]
[null,{"$f":"0.1423*('Conversion 1'!D721^1.2528)","v":0},{"$f":"(0.00005*('Conversion 1'!D721^2))+(0.3389*'Conversion 1'!D721)-1.431","v":-1.431},720,{"$f":"'Conversion 1'!B721","v":0},{"$f":"'Conversion 1'!B721/0.4","v":0},{"$f":"'Conversion 1'!B721/0.4","v":0},{"$f":"'Conversion 1'!B721","v":0},{"$f":"'Conversion 1'!B721/0.07","v":0},{"$f":"'Conversion 1'!B721/0.056","v":0},{"$f":"'Conversion 1'!B721/0.1","v":0},{"$f":"'Conversion 1'!B721/0.058","v":0},{"$f":"'Conversion 1'!B721/0.01","v":0},{"$f":"'Conversion 1'!B721/0.02","v":0},{"$f":"'Conversion 1'!B721/0.56","v":0},{"$f":"'Conversion 1'!B721/0.4","v":0}]
[null,{"$f":"0.1423*('Conversion 1'!D722^1.2528)","v":0},{"$f":"(0.00005*('Conversion 1'!D722^2))+(0.3389*'Conversion 1'!D722)-1.431","v":-1.431},721,{"$f":"'Conversion 1'!B722","v":0},{"$f":"'Conversion 1'!B722/0.4","v":0},{"$f":"'Conversion 1'!B722/0.4","v":0},{"$f":"'Conversion 1'!B722","v":0},{"$f":"'Conversion 1'!B722/0.07","v":0},{"$f":"'Conversion 1'!B722/0.056","v":0},{"$f":"'Conversion 1'!B722/0.1","v":0},{"$f":"'Conversion 1'!B722/0.058","v":0},{"$f":"'Conversion 1'!B722/0.01","v":0},{"$f":"'Conversion 1'!B722/0.02","v":0},{"$f":"'Conversion 1'!B722/0.56","v":0},{"$f":"'Conversion 1'!B722/0.4","v":0}]
[null,{"$f":"0.1423*('Conversion 1'!D723^1.2528)","v":0},{"$f":"(0.00005*('Conversion 1'!D723^2))+(0.3389*'Conversion 1'!D723)-1.431","v":-1.431},722,{"$f":"'Conversion 1'!B723","v":0},{"$f":"'Conversion 1'!B723/0.4","v":0},{"$f":"'Conversion 1'!B723/0.4","v":0},{"$f":"'Conversion 1'!B723","v":0},{"$f":"'Conversion 1'!B723/0.07","v":0},{"$f":"'Conversion 1'!B723/0.056","v":0},{"$f":"'Conversion 1'!B723/0.1","v":0},{"$f":"'Conversion 1'!B723/0.058","v":0},{"$f":"'Conversion 1'!B723/0.01","v":0},{"$f":"'Conversion 1'!B723/0.02","v":0},{"$f":"'Conversion 1'!B723/0.56","v":0},{"$f":"'Conversion 1'!B723/0.4","v":0}]
[null,{"$f":"0.1423*('Conversion 1'!D724^1.2528)","v":0},{"$f":"(0.00005*('Conversion 1'!D724^2))+(0.3389*'Conversion 1'!D724)-1.431","v":-1.431},723,{"$f":"'Conversion 1'!B724","v":0},{"$f":"'Conversion 1'!B724/0.4","v":0},{"$f":"'Conversion 1'!B724/0.4","v":0},{"$f":"'Conversion 1'!B724","v":0},{"$f":"'Conversion 1'!B724/0.07","v":0},{"$f":"'Conversion 1'!B724/0.056","v":0},{"$f":"'Conversion 1'!B724/0.1","v":0},{"$f":"'Conversion 1'!B724/0.058","v":0},{"$f":"'Conversion 1'!B724/0.01","v":0},{"$f":"'Conversion 1'!B724/0.02","v":0},{"$f":"'Conversion 1'!B724/0.56","v":0},{"$f":"'Conversion 1'!B724/0.4","v":0}]
[null,{"$f":"0.1423*('Conversion 1'!D725^1.2528)","v":0},{"$f":"(0.00005*('Conversion 1'!D725^2))+(0.3389*'Conversion 1'!D725)-1.431","v":-1.431},724,{"$f":"'Conversion 1'!B725","v":0},{"$f":"'Conversion 1'!B725/0.4","v":0},{"$f":"'Conversion 1'!B725/0.4","v":0},{"$f":"'Conversion 1'!B725","v":0},{"$f":"'Conversion 1'!B725/0.07","v":0},{"$f":"'Conversion 1'!B725/0.056","v":0},{"$f":"'Conversion 1'!B725/0.1","v":0},{"$f":"'Conversion 1'!B725/0.058","v":0},{"$f":"'Conversion 1'!B725/0.01","v":0},{"$f":"'Conversion 1'!B725/0.02","v":0},{"$f":"'Conversion 1'!B725/0.56","v":0},{"$f":"'Conversion 1'!B725/0.4","v":0}]
[null,{"$f":"0.1423*('Conversion 1'!D726^1.2528)","v":0},{"$f":"(0.00005*('Conversion 1'!D726^2))+(0.3389*'Conversion 1'!D726)-1.431","v":-1.431},725,{"$f":"'Conversion 1'!B726","v":0},{"$f":"'Conversion 1'!B726/0.4","v":0},{"$f":"'Conversion 1'!B726/0.4","v":0},{"$f":"'Conversion 1'!B726","v":0},{"$f":"'Conversion 1'!B726/0.07","v":0},{"$f":"'Conversion 1'!B726/0.056","v":0},{"$f":"'Conversion 1'!B726/0.1","v":0},{"$f":"'Conversion 1'!B726/0.058","v":0},{"$f":"'Conversion 1'!B726/0.01","v":0},{"$f":"'Conversion 1'!B726/0.02","v":0},{"$f":"'Conversion 1'!B726/0.56","v":0},{"$f":"'Conversion 1'!B726/0.4","v":0}]
[null,{"$f":"0.1423*('Conversion 1'!D727^1.2528)","v":0},{"$f":"(0.00005*('Conversion 1'!D727^2))+(0.3389*'Conversion 1'!D727)-1.431","v":-1.431},726,{"$f":"'Conversion 1'!B727","v":0},{"$f":"'Conversion 1'!B727/0.4","v":0},{"$f":"'Conversion 1'!B727/0.4","v":0},{"$f":"'Conversion 1'!B727","v":0},{"$f":"'Conversion 1'!B727/0.07","v":0},{"$f":"'Conversion 1'!B727/0.056","v":0},{"$f":"'Conversion 1'!B727/0.1","v":0},{"$f":"'Conversion 1'!B727/0.058","v":0},{"$f":"'Conversion 1'!B727/0.01","v":0},{"$f":"'Conversion 1'!B727/0.02","v":0},{"$f":"'Conversion 1'!B727/0.56","v":0},{"$f":"'Conversion 1'!B727/0.4","v":0}]
[null,{"$f":"0.1423*('Conversion 1'!D728^1.2528)","v":0},{"$f":"(0.00005*('Conversion 1'!D728^2))+(0.3389*'Conversion 1'!D728)-1.431","v":-1.431},727,{"$f":"'Conversion 1'!B728","v":0},{"$f":"'Conversion 1'!B728/0.4","v":0},{"$f":"'Conversion 1'!B728/0.4","v":0},{"$f":"'Conversion 1'!B728","v":0},{"$f":"'Conversion 1'!B728/0.07","v":0},{"$f":"'Conversion 1'!B728/0.056","v":0},{"$f":"'Conversion 1'!B728/0.1","v":0},{"$f":"'Conversion 1'!B728/0.058","v":0},{"$f":"'Conversion 1'!B728/0.01","v":0},{"$f":"'Conversion 1'!B728/0.02","v":0},{"$f":"'Conversion 1'!B728/0.56","v":0},{"$f":"'Conversion 1'!B728/0.4","v":0}]
[null,{"$f":"0.1423*('Conversion 1'!D729^1.2528)","v":0},{"$f":"(0.00005*('Conversion 1'!D729^2))+(0.3389*'Conversion 1'!D729)-1.431","v":-1.431},728,{"$f":"'Conversion 1'!B729","v":0},{"$f":"'Conversion 1'!B729/0.4","v":0},{"$f":"'Conversion 1'!B729/0.4","v":0},{"$f":"'Conversion 1'!B729","v":0},{"$f":"'Conversion 1'!B729/0.07","v":0},{"$f":"'Conversion 1'!B729/0.056","v":0},{"$f":"'Conversion 1'!B729/0.1","v":0},{"$f":"'Conversion 1'!B729/0.058","v":0},{"$f":"'Conversion 1'!B729/0.01","v":0},{"$f":"'Conversion 1'!B729/0.02","v":0},{"$f":"'Conversion 1'!B729/0.56","v":0},{"$f":"'Conversion 1'!B729/0.4","v":0}]
[null,{"$f":"0.1423*('Conversion 1'!D730^1.2528)","v":0},{"$f":"(0.00005*('Conversion 1'!D730^2))+(0.3389*'Conversion 1'!D730)-1.431","v":-1.431},729,{"$f":"'Conversion 1'!B730","v":0},{"$f":"'Conversion 1'!B730/0.4","v":0},{"$f":"'Conversion 1'!B730/0.4","v":0},{"$f":"'Conversion 1'!B730","v":0},{"$f":"'Conversion 1'!B730/0.07","v":0},{"$f":"'Conversion 1'!B730/0.056","v":0},{"$f":"'Conversion 1'!B730/0.1","v":0},{"$f":"'Conversion 1'!B730/0.058","v":0},{"$f":"'Conversion 1'!B730/0.01","v":0},{"$f":"'Conversion 1'!B730/0.02","v":0},{"$f":"'Conversion 1'!B730/0.56","v":0},{"$f":"'Conversion 1'!B730/0.4","v":0}]
[null,{"$f":"0.1423*('Conversion 1'!D731^1.2528)","v":0},{"$f":"(0.00005*('Conversion 1'!D731^2))+(0.3389*'Conversion 1'!D731)-1.431","v":-1.431},730,{"$f":"'Conversion 1'!B731","v":0},{"$f":"'Conversion 1'!B731/0.4","v":0},{"$f":"'Conversion 1'!B731/0.4","v":0},{"$f":"'Conversion 1'!B731","v":0},{"$f":"'Conversion 1'!B731/0.07","v":0},{"$f":"'Conversion 1'!B731/0.056","v":0},{"$f":"'Conversion 1'!B731/0.1","v":0},{"$f":"'Conversion 1'!B731/0.058","v":0},{"$f":"'Conversion 1'!B731/0.01","v":0},{"$f":"'Conversion 1'!B731/0.02","v":0},{"$f":"'Conversion 1'!B731/0.56","v":0},{"$f":"'Conversion 1'!B731/0.4","v":0}]
[null,{"$f":"0.1423*('Conversion 1'!D732^1.2528)","v":0},{"$f":"(0.00005*('Conversion 1'!D732^2))+(0.3389*'Conversion 1'!D732)-1.431","v":-1.431},731,{"$f":"'Conversion 1'!B732","v":0},{"$f":"'Conversion 1'!B732/0.4","v":0},{"$f":"'Conversion 1'!B732/0.4","v":0},{"$f":"'Conversion 1'!B732","v":0},{"$f":"'Conversion 1'!B732/0.07","v":0},{"$f":"'Conversion 1'!B732/0.056","v":0},{"$f":"'Conversion 1'!B732/0.1","v":0},{"$f":"'Conversion 1'!B732/0.058","v":0},{"$f":"'Conversion 1'!B732/0.01","v":0},{"$f":"'Conversion 1'!B732/0.02","v":0},{"$f":"'Conversion 1'!B732/0.56","v":0},{"$f":"'Conversion 1'!B732/0.4","v":0}]
[null,{"$f":"0.1423*('Conversion 1'!D733^1.2528)","v":0},{"$f":"(0.00005*('Conversion 1'!D733^2))+(0.3389*'Conversion 1'!D733)-1.431","v":-1.431},732,{"$f":"'Conversion 1'!B733","v":0},{"$f":"'Conversion 1'!B733/0.4","v":0},{"$f":"'Conversion 1'!B733/0.4","v":0},{"$f":"'Conversion 1'!B733","v":0},{"$f":"'Conversion 1'!B733/0.07","v":0},{"$f":"'Conversion 1'!B733/0.056","v":0},{"$f":"'Conversion 1'!B733/0.1","v":0},{"$f":"'Conversion 1'!B733/0.058","v":0},{"$f":"'Conversion 1'!B733/0.01","v":0},{"$f":"'Conversion 1'!B733/0.02","v":0},{"$f":"'Conversion 1'!B733/0.56","v":0},{"$f":"'Conversion 1'!B733/0.4","v":0}]
[null,{"$f":"0.1423*('Conversion 1'!D734^1.2528)","v":0},{"$f":"(0.00005*('Conversion 1'!D734^2))+(0.3389*'Conversion 1'!D734)-1.431","v":-1.431},733,{"$f":"'Conversion 1'!B734","v":0},{"$f":"'Conversion 1'!B734/0.4","v":0},{"$f":"'Conversion 1'!B734/0.4","v":0},{"$f":"'Conversion 1'!B734","v":0},{"$f":"'Conversion 1'!B734/0.07","v":0},{"$f":"'Conversion 1'!B734/0.056","v":0},{"$f":"'Conversion 1'!B734/0.1","v":0},{"$f":"'Conversion 1'!B734/0.058","v":0},{"$f":"'Conversion 1'!B734/0.01","v":0},{"$f":"'Conversion 1'!B734/0.02","v":0},{"$f":"'Conversion 1'!B734/0.56","v":0},{"$f":"'Conversion 1'!B734/0.4","v":0}]
[null,{"$f":"0.1423*('Conversion 1'!D735^1.2528)","v":0},{"$f":"(0.00005*('Conversion 1'!D735^2))+(0.3389*'Conversion 1'!D735)-1.431","v":-1.431},734,{"$f":"'Conversion 1'!B735","v":0},{"$f":"'Conversion 1'!B735/0.4","v":0},{"$f":"'Conversion 1'!B735/0.4","v":0},{"$f":"'Conversion 1'!B735","v":0},{"$f":"'Conversion 1'!B735/0.07","v":0},{"$f":"'Conversion 1'!B735/0.056","v":0},{"$f":"'Conversion 1'!B735/0.1","v":0},{"$f":"'Conversion 1'!B735/0.058","v":0},{"$f":"'Conversion 1'!B735/0.01","v":0},{"$f":"'Conversion 1'!B735/0.02","v":0},{"$f":"'Conversion 1'!B735/0.56","v":0},{"$f":"'Conversion 1'!B735/0.4","v":0}]
[null,{"$f":"0.1423*('Conversion 1'!D736^1.2528)","v":0},{"$f":"(0.00005*('Conversion 1'!D736^2))+(0.3389*'Conversion 1'!D736)-1.431","v":-1.431},735,{"$f":"'Conversion 1'!B736","v":0},{"$f":"'Conversion 1'!B736/0.4","v":0},{"$f":"'Conversion 1'!B736/0.4","v":0},{"$f":"'Conversion 1'!B736","v":0},{"$f":"'Conversion 1'!B736/0.07","v":0},{"$f":"'Conversion 1'!B736/0.056","v":0},{"$f":"'Conversion 1'!B736/0.1","v":0},{"$f":"'Conversion 1'!B736/0.058","v":0},{"$f":"'Conversion 1'!B736/0.01","v":0},{"$f":"'Conversion 1'!B736/0.02","v":0},{"$f":"'Conversion 1'!B736/0.56","v":0},{"$f":"'Conversion 1'!B736/0.4","v":0}]
[null,{"$f":"0.1423*('Conversion 1'!D737^1.2528)","v":0},{"$f":"(0.00005*('Conversion 1'!D737^2))+(0.3389*'Conversion 1'!D737)-1.431","v":-1.431},736,{"$f":"'Conversion 1'!B737","v":0},{"$f":"'Conversion 1'!B737/0.4","v":0},{"$f":"'Conversion 1'!B737/0.4","v":0},{"$f":"'Conversion 1'!B737","v":0},{"$f":"'Conversion 1'!B737/0.07","v":0},{"$f":"'Conversion 1'!B737/0.056","v":0},{"$f":"'Conversion 1'!B737/0.1","v":0},{"$f":"'Conversion 1'!B737/0.058","v":0},{"$f":"'Conversion 1'!B737/0.01","v":0},{"$f":"'Conversion 1'!B737/0.02","v":0},{"$f":"'Conversion 1'!B737/0.56","v":0},{"$f":"'Conversion 1'!B737/0.4","v":0}]
[null,{"$f":"0.1423*('Conversion 1'!D738^1.2528)","v":0},{"$f":"(0.00005*('Conversion 1'!D738^2))+(0.3389*'Conversion 1'!D738)-1.431","v":-1.431},737,{"$f":"'Conversion 1'!B738","v":0},{"$f":"'Conversion 1'!B738/0.4","v":0},{"$f":"'Conversion 1'!B738/0.4","v":0},{"$f":"'Conversion 1'!B738","v":0},{"$f":"'Conversion 1'!B738/0.07","v":0},{"$f":"'Conversion 1'!B738/0.056","v":0},{"$f":"'Conversion 1'!B738/0.1","v":0},{"$f":"'Conversion 1'!B738/0.058","v":0},{"$f":"'Conversion 1'!B738/0.01","v":0},{"$f":"'Conversion 1'!B738/0.02","v":0},{"$f":"'Conversion 1'!B738/0.56","v":0},{"$f":"'Conversion 1'!B738/0.4","v":0}]
[null,{"$f":"0.1423*('Conversion 1'!D739^1.2528)","v":0},{"$f":"(0.00005*('Conversion 1'!D739^2))+(0.3389*'Conversion 1'!D739)-1.431","v":-1.431},738,{"$f":"'Conversion 1'!B739","v":0},{"$f":"'Conversion 1'!B739/0.4","v":0},{"$f":"'Conversion 1'!B739/0.4","v":0},{"$f":"'Conversion 1'!B739","v":0},{"$f":"'Conversion 1'!B739/0.07","v":0},{"$f":"'Conversion 1'!B739/0.056","v":0},{"$f":"'Conversion 1'!B739/0.1","v":0},{"$f":"'Conversion 1'!B739/0.058","v":0},{"$f":"'Conversion 1'!B739/0.01","v":0},{"$f":"'Conversion 1'!B739/0.02","v":0},{"$f":"'Conversion 1'!B739/0.56","v":0},{"$f":"'Conversion 1'!B739/0.4","v":0}]
[null,{"$f":"0.1423*('Conversion 1'!D740^1.2528)","v":0},{"$f":"(0.00005*('Conversion 1'!D740^2))+(0.3389*'Conversion 1'!D740)-1.431","v":-1.431},739,{"$f":"'Conversion 1'!B740","v":0},{"$f":"'Conversion 1'!B740/0.4","v":0},{"$f":"'Conversion 1'!B740/0.4","v":0},{"$f":"'Conversion 1'!B740","v":0},{"$f":"'Conversion 1'!B740/0.07","v":0},{"$f":"'Conversion 1'!B740/0.056","v":0},{"$f":"'Conversion 1'!B740/0.1","v":0},{"$f":"'Conversion 1'!B740/0.058","v":0},{"$f":"'Conversion 1'!B740/0.01","v":0},{"$f":"'Conversion 1'!B740/0.02","v":0},{"$f":"'Conversion 1'!B740/0.56","v":0},{"$f":"'Conversion 1'!B740/0.4","v":0}]
[null,{"$f":"0.1423*('Conversion 1'!D741^1.2528)","v":0},{"$f":"(0.00005*('Conversion 1'!D741^2))+(0.3389*'Conversion 1'!D741)-1.431","v":-1.431},740,{"$f":"'Conversion 1'!B741","v":0},{"$f":"'Conversion 1'!B741/0.4","v":0},{"$f":"'Conversion 1'!B741/0.4","v":0},{"$f":"'Conversion 1'!B741","v":0},{"$f":"'Conversion 1'!B741/0.07","v":0},{"$f":"'Conversion 1'!B741/0.056","v":0},{"$f":"'Conversion 1'!B741/0.1","v":0},{"$f":"'Conversion 1'!B741/0.058","v":0},{"$f":"'Conversion 1'!B741/0.01","v":0},{"$f":"'Conversion 1'!B741/0.02","v":0},{"$f":"'Conversion 1'!B741/0.56","v":0},{"$f":"'Conversion 1'!B741/0.4","v":0}]
[null,{"$f":"0.1423*('Conversion 1'!D742^1.2528)","v":0},{"$f":"(0.00005*('Conversion 1'!D742^2))+(0.3389*'Conversion 1'!D742)-1.431","v":-1.431},741,{"$f":"'Conversion 1'!B742","v":0},{"$f":"'Conversion 1'!B742/0.4","v":0},{"$f":"'Conversion 1'!B742/0.4","v":0},{"$f":"'Conversion 1'!B742","v":0},{"$f":"'Conversion 1'!B742/0.07","v":0},{"$f":"'Conversion 1'!B742/0.056","v":0},{"$f":"'Conversion 1'!B742/0.1","v":0},{"$f":"'Conversion 1'!B742/0.058","v":0},{"$f":"'Conversion 1'!B742/0.01","v":0},{"$f":"'Conversion 1'!B742/0.02","v":0},{"$f":"'Conversion 1'!B742/0.56","v":0},{"$f":"'Conversion 1'!B742/0.4","v":0}]
[null,{"$f":"0.1423*('Conversion 1'!D743^1.2528)","v":0},{"$f":"(0.00005*('Conversion 1'!D743^2))+(0.3389*'Conversion 1'!D743)-1.431","v":-1.431},742,{"$f":"'Conversion 1'!B743","v":0},{"$f":"'Conversion 1'!B743/0.4","v":0},{"$f":"'Conversion 1'!B743/0.4","v":0},{"$f":"'Conversion 1'!B743","v":0},{"$f":"'Conversion 1'!B743/0.07","v":0},{"$f":"'Conversion 1'!B743/0.056","v":0},{"$f":"'Conversion 1'!B743/0.1","v":0},{"$f":"'Conversion 1'!B743/0.058","v":0},{"$f":"'Conversion 1'!B743/0.01","v":0},{"$f":"'Conversion 1'!B743/0.02","v":0},{"$f":"'Conversion 1'!B743/0.56","v":0},{"$f":"'Conversion 1'!B743/0.4","v":0}]
[null,{"$f":"0.1423*('Conversion 1'!D744^1.2528)","v":0},{"$f":"(0.00005*('Conversion 1'!D744^2))+(0.3389*'Conversion 1'!D744)-1.431","v":-1.431},743,{"$f":"'Conversion 1'!B744","v":0},{"$f":"'Conversion 1'!B744/0.4","v":0},{"$f":"'Conversion 1'!B744/0.4","v":0},{"$f":"'Conversion 1'!B744","v":0},{"$f":"'Conversion 1'!B744/0.07","v":0},{"$f":"'Conversion 1'!B744/0.056","v":0},{"$f":"'Conversion 1'!B744/0.1","v":0},{"$f":"'Conversion 1'!B744/0.058","v":0},{"$f":"'Conversion 1'!B744/0.01","v":0},{"$f":"'Conversion 1'!B744/0.02","v":0},{"$f":"'Conversion 1'!B744/0.56","v":0},{"$f":"'Conversion 1'!B744/0.4","v":0}]
[null,{"$f":"0.1423*('Conversion 1'!D745^1.2528)","v":0},{"$f":"(0.00005*('Conversion 1'!D745^2))+(0.3389*'Conversion 1'!D745)-1.431","v":-1.431},744,{"$f":"'Conversion 1'!B745","v":0},{"$f":"'Conversion 1'!B745/0.4","v":0},{"$f":"'Conversion 1'!B745/0.4","v":0},{"$f":"'Conversion 1'!B745","v":0},{"$f":"'Conversion 1'!B745/0.07","v":0},{"$f":"'Conversion 1'!B745/0.056","v":0},{"$f":"'Conversion 1'!B745/0.1","v":0},{"$f":"'Conversion 1'!B745/0.058","v":0},{"$f":"'Conversion 1'!B745/0.01","v":0},{"$f":"'Conversion 1'!B745/0.02","v":0},{"$f":"'Conversion 1'!B745/0.56","v":0},{"$f":"'Conversion 1'!B745/0.4","v":0}]
[null,{"$f":"0.1423*('Conversion 1'!D746^1.2528)","v":0},{"$f":"(0.00005*('Conversion 1'!D746^2))+(0.3389*'Conversion 1'!D746)-1.431","v":-1.431},745,{"$f":"'Conversion 1'!B746","v":0},{"$f":"'Conversion 1'!B746/0.4","v":0},{"$f":"'Conversion 1'!B746/0.4","v":0},{"$f":"'Conversion 1'!B746","v":0},{"$f":"'Conversion 1'!B746/0.07","v":0},{"$f":"'Conversion 1'!B746/0.056","v":0},{"$f":"'Conversion 1'!B746/0.1","v":0},{"$f":"'Conversion 1'!B746/0.058","v":0},{"$f":"'Conversion 1'!B746/0.01","v":0},{"$f":"'Conversion 1'!B746/0.02","v":0},{"$f":"'Conversion 1'!B746/0.56","v":0},{"$f":"'Conversion 1'!B746/0.4","v":0}]
[null,{"$f":"0.1423*('Conversion 1'!D747^1.2528)","v":0},{"$f":"(0.00005*('Conversion 1'!D747^2))+(0.3389*'Conversion 1'!D747)-1.431","v":-1.431},746,{"$f":"'Conversion 1'!B747","v":0},{"$f":"'Conversion 1'!B747/0.4","v":0},{"$f":"'Conversion 1'!B747/0.4","v":0},{"$f":"'Conversion 1'!B747","v":0},{"$f":"'Conversion 1'!B747/0.07","v":0},{"$f":"'Conversion 1'!B747/0.056","v":0},{"$f":"'Conversion 1'!B747/0.1","v":0},{"$f":"'Conversion 1'!B747/0.058","v":0},{"$f":"'Conversion 1'!B747/0.01","v":0},{"$f":"'Conversion 1'!B747/0.02","v":0},{"$f":"'Conversion 1'!B747/0.56","v":0},{"$f":"'Conversion 1'!B747/0.4","v":0}]
[null,{"$f":"0.1423*('Conversion 1'!D748^1.2528)","v":0},{"$f":"(0.00005*('Conversion 1'!D748^2))+(0.3389*'Conversion 1'!D748)-1.431","v":-1.431},747,{"$f":"'Conversion 1'!B748","v":0},{"$f":"'Conversion 1'!B748/0.4","v":0},{"$f":"'Conversion 1'!B748/0.4","v":0},{"$f":"'Conversion 1'!B748","v":0},{"$f":"'Conversion 1'!B748/0.07","v":0},{"$f":"'Conversion 1'!B748/0.056","v":0},{"$f":"'Conversion 1'!B748/0.1","v":0},{"$f":"'Conversion 1'!B748/0.058","v":0},{"$f":"'Conversion 1'!B748/0.01","v":0},{"$f":"'Conversion 1'!B748/0.02","v":0},{"$f":"'Conversion 1'!B748/0.56","v":0},{"$f":"'Conversion 1'!B748/0.4","v":0}]
[null,{"$f":"0.1423*('Conversion 1'!D749^1.2528)","v":0},{"$f":"(0.00005*('Conversion 1'!D749^2))+(0.3389*'Conversion 1'!D749)-1.431","v":-1.431},748,{"$f":"'Conversion 1'!B749","v":0},{"$f":"'Conversion 1'!B749/0.4","v":0},{"$f":"'Conversion 1'!B749/0.4","v":0},{"$f":"'Conversion 1'!B749","v":0},{"$f":"'Conversion 1'!B749/0.07","v":0},{"$f":"'Conversion 1'!B749/0.056","v":0},{"$f":"'Conversion 1'!B749/0.1","v":0},{"$f":"'Conversion 1'!B749/0.058","v":0},{"$f":"'Conversion 1'!B749/0.01","v":0},{"$f":"'Conversion 1'!B749/0.02","v":0},{"$f":"'Conversion 1'!B749/0.56","v":0},{"$f":"'Conversion 1'!B749/0.4","v":0}]
[null,{"$f":"0.1423*('Conversion 1'!D750^1.2528)","v":0},{"$f":"(0.00005*('Conversion 1'!D750^2))+(0.3389*'Conversion 1'!D750)-1.431","v":-1.431},749,{"$f":"'Conversion 1'!B750","v":0},{"$f":"'Conversion 1'!B750/0.4","v":0},{"$f":"'Conversion 1'!B750/0.4","v":0},{"$f":"'Conversion 1'!B750","v":0},{"$f":"'Conversion 1'!B750/0.07","v":0},{"$f":"'Conversion 1'!B750/0.056","v":0},{"$f":"'Conversion 1'!B750/0.1","v":0},{"$f":"'Conversion 1'!B750/0.058","v":0},{"$f":"'Conversion 1'!B750/0.01","v":0},{"$f":"'Conversion 1'!B750/0.02","v":0},{"$f":"'Conversion 1'!B750/0.56","v":0},{"$f":"'Conversion 1'!B750/0.4","v":0}]
[null,{"$f":"0.1423*('Conversion 1'!D751^1.2528)","v":0},{"$f":"(0.00005*('Conversion 1'!D751^2))+(0.3389*'Conversion 1'!D751)-1.431","v":-1.431},750,{"$f":"'Conversion 1'!B751","v":0},{"$f":"'Conversion 1'!B751/0.4","v":0},{"$f":"'Conversion 1'!B751/0.4","v":0},{"$f":"'Conversion 1'!B751","v":0},{"$f":"'Conversion 1'!B751/0.07","v":0},{"$f":"'Conversion 1'!B751/0.056","v":0},{"$f":"'Conversion 1'!B751/0.1","v":0},{"$f":"'Conversion 1'!B751/0.058","v":0},{"$f":"'Conversion 1'!B751/0.01","v":0},{"$f":"'Conversion 1'!B751/0.02","v":0},{"$f":"'Conversion 1'!B751/0.56","v":0},{"$f":"'Conversion 1'!B751/0.4","v":0}]
[null,{"$f":"0.1423*('Conversion 1'!D752^1.2528)","v":0},{"$f":"(0.00005*('Conversion 1'!D752^2))+(0.3389*'Conversion 1'!D752)-1.431","v":-1.431},751,{"$f":"'Conversion 1'!B752","v":0},{"$f":"'Conversion 1'!B752/0.4","v":0},{"$f":"'Conversion 1'!B752/0.4","v":0},{"$f":"'Conversion 1'!B752","v":0},{"$f":"'Conversion 1'!B752/0.07","v":0},{"$f":"'Conversion 1'!B752/0.056","v":0},{"$f":"'Conversion 1'!B752/0.1","v":0},{"$f":"'Conversion 1'!B752/0.058","v":0},{"$f":"'Conversion 1'!B752/0.01","v":0},{"$f":"'Conversion 1'!B752/0.02","v":0},{"$f":"'Conversion 1'!B752/0.56","v":0},{"$f":"'Conversion 1'!B752/0.4","v":0}]
[null,{"$f":"0.1423*('Conversion 1'!D753^1.2528)","v":0},{"$f":"(0.00005*('Conversion 1'!D753^2))+(0.3389*'Conversion 1'!D753)-1.431","v":-1.431},752,{"$f":"'Conversion 1'!B753","v":0},{"$f":"'Conversion 1'!B753/0.4","v":0},{"$f":"'Conversion 1'!B753/0.4","v":0},{"$f":"'Conversion 1'!B753","v":0},{"$f":"'Conversion 1'!B753/0.07","v":0},{"$f":"'Conversion 1'!B753/0.056","v":0},{"$f":"'Conversion 1'!B753/0.1","v":0},{"$f":"'Conversion 1'!B753/0.058","v":0},{"$f":"'Conversion 1'!B753/0.01","v":0},{"$f":"'Conversion 1'!B753/0.02","v":0},{"$f":"'Conversion 1'!B753/0.56","v":0},{"$f":"'Conversion 1'!B753/0.4","v":0}]
[null,{"$f":"0.1423*('Conversion 1'!D754^1.2528)","v":0},{"$f":"(0.00005*('Conversion 1'!D754^2))+(0.3389*'Conversion 1'!D754)-1.431","v":-1.431},753,{"$f":"'Conversion 1'!B754","v":0},{"$f":"'Conversion 1'!B754/0.4","v":0},{"$f":"'Conversion 1'!B754/0.4","v":0},{"$f":"'Conversion 1'!B754","v":0},{"$f":"'Conversion 1'!B754/0.07","v":0},{"$f":"'Conversion 1'!B754/0.056","v":0},{"$f":"'Conversion 1'!B754/0.1","v":0},{"$f":"'Conversion 1'!B754/0.058","v":0},{"$f":"'Conversion 1'!B754/0.01","v":0},{"$f":"'Conversion 1'!B754/0.02","v":0},{"$f":"'Conversion 1'!B754/0.56","v":0},{"$f":"'Conversion 1'!B754/0.4","v":0}]
[null,{"$f":"0.1423*('Conversion 1'!D755^1.2528)","v":0},{"$f":"(0.00005*('Conversion 1'!D755^2))+(0.3389*'Conversion 1'!D755)-1.431","v":-1.431},754,{"$f":"'Conversion 1'!B755","v":0},{"$f":"'Conversion 1'!B755/0.4","v":0},{"$f":"'Conversion 1'!B755/0.4","v":0},{"$f":"'Conversion 1'!B755","v":0},{"$f":"'Conversion 1'!B755/0.07","v":0},{"$f":"'Conversion 1'!B755/0.056","v":0},{"$f":"'Conversion 1'!B755/0.1","v":0},{"$f":"'Conversion 1'!B755/0.058","v":0},{"$f":"'Conversion 1'!B755/0.01","v":0},{"$f":"'Conversion 1'!B755/0.02","v":0},{"$f":"'Conversion 1'!B755/0.56","v":0},{"$f":"'Conversion 1'!B755/0.4","v":0}]
[null,{"$f":"0.1423*('Conversion 1'!D756^1.2528)","v":0},{"$f":"(0.00005*('Conversion 1'!D756^2))+(0.3389*'Conversion 1'!D756)-1.431","v":-1.431},755,{"$f":"'Conversion 1'!B756","v":0},{"$f":"'Conversion 1'!B756/0.4","v":0},{"$f":"'Conversion 1'!B756/0.4","v":0},{"$f":"'Conversion 1'!B756","v":0},{"$f":"'Conversion 1'!B756/0.07","v":0},{"$f":"'Conversion 1'!B756/0.056","v":0},{"$f":"'Conversion 1'!B756/0.1","v":0},{"$f":"'Conversion 1'!B756/0.058","v":0},{"$f":"'Conversion 1'!B756/0.01","v":0},{"$f":"'Conversion 1'!B756/0.02","v":0},{"$f":"'Conversion 1'!B756/0.56","v":0},{"$f":"'Conversion 1'!B756/0.4","v":0}]
[null,{"$f":"0.1423*('Conversion 1'!D757^1.2528)","v":0},{"$f":"(0.00005*('Conversion 1'!D757^2))+(0.3389*'Conversion 1'!D757)-1.431","v":-1.431},756,{"$f":"'Conversion 1'!B757","v":0},{"$f":"'Conversion 1'!B757/0.4","v":0},{"$f":"'Conversion 1'!B757/0.4","v":0},{"$f":"'Conversion 1'!B757","v":0},{"$f":"'Conversion 1'!B757/0.07","v":0},{"$f":"'Conversion 1'!B757/0.056","v":0},{"$f":"'Conversion 1'!B757/0.1","v":0},{"$f":"'Conversion 1'!B757/0.058","v":0},{"$f":"'Conversion 1'!B757/0.01","v":0},{"$f":"'Conversion 1'!B757/0.02","v":0},{"$f":"'Conversion 1'!B757/0.56","v":0},{"$f":"'Conversion 1'!B757/0.4","v":0}]
[null,{"$f":"0.1423*('Conversion 1'!D758^1.2528)","v":0},{"$f":"(0.00005*('Conversion 1'!D758^2))+(0.3389*'Conversion 1'!D758)-1.431","v":-1.431},757,{"$f":"'Conversion 1'!B758","v":0},{"$f":"'Conversion 1'!B758/0.4","v":0},{"$f":"'Conversion 1'!B758/0.4","v":0},{"$f":"'Conversion 1'!B758","v":0},{"$f":"'Conversion 1'!B758/0.07","v":0},{"$f":"'Conversion 1'!B758/0.056","v":0},{"$f":"'Conversion 1'!B758/0.1","v":0},{"$f":"'Conversion 1'!B758/0.058","v":0},{"$f":"'Conversion 1'!B758/0.01","v":0},{"$f":"'Conversion 1'!B758/0.02","v":0},{"$f":"'Conversion 1'!B758/0.56","v":0},{"$f":"'Conversion 1'!B758/0.4","v":0}]
[null,{"$f":"0.1423*('Conversion 1'!D759^1.2528)","v":0},{"$f":"(0.00005*('Conversion 1'!D759^2))+(0.3389*'Conversion 1'!D759)-1.431","v":-1.431},758,{"$f":"'Conversion 1'!B759","v":0},{"$f":"'Conversion 1'!B759/0.4","v":0},{"$f":"'Conversion 1'!B759/0.4","v":0},{"$f":"'Conversion 1'!B759","v":0},{"$f":"'Conversion 1'!B759/0.07","v":0},{"$f":"'Conversion 1'!B759/0.056","v":0},{"$f":"'Conversion 1'!B759/0.1","v":0},{"$f":"'Conversion 1'!B759/0.058","v":0},{"$f":"'Conversion 1'!B759/0.01","v":0},{"$f":"'Conversion 1'!B759/0.02","v":0},{"$f":"'Conversion 1'!B759/0.56","v":0},{"$f":"'Conversion 1'!B759/0.4","v":0}]
[null,{"$f":"0.1423*('Conversion 1'!D760^1.2528)","v":0},{"$f":"(0.00005*('Conversion 1'!D760^2))+(0.3389*'Conversion 1'!D760)-1.431","v":-1.431},759,{"$f":"'Conversion 1'!B760","v":0},{"$f":"'Conversion 1'!B760/0.4","v":0},{"$f":"'Conversion 1'!B760/0.4","v":0},{"$f":"'Conversion 1'!B760","v":0},{"$f":"'Conversion 1'!B760/0.07","v":0},{"$f":"'Conversion 1'!B760/0.056","v":0},{"$f":"'Conversion 1'!B760/0.1","v":0},{"$f":"'Conversion 1'!B760/0.058","v":0},{"$f":"'Conversion 1'!B760/0.01","v":0},{"$f":"'Conversion 1'!B760/0.02","v":0},{"$f":"'Conversion 1'!B760/0.56","v":0},{"$f":"'Conversion 1'!B760/0.4","v":0}]
[null,{"$f":"0.1423*('Conversion 1'!D761^1.2528)","v":0},{"$f":"(0.00005*('Conversion 1'!D761^2))+(0.3389*'Conversion 1'!D761)-1.431","v":-1.431},760,{"$f":"'Conversion 1'!B761","v":0},{"$f":"'Conversion 1'!B761/0.4","v":0},{"$f":"'Conversion 1'!B761/0.4","v":0},{"$f":"'Conversion 1'!B761","v":0},{"$f":"'Conversion 1'!B761/0.07","v":0},{"$f":"'Conversion 1'!B761/0.056","v":0},{"$f":"'Conversion 1'!B761/0.1","v":0},{"$f":"'Conversion 1'!B761/0.058","v":0},{"$f":"'Conversion 1'!B761/0.01","v":0},{"$f":"'Conversion 1'!B761/0.02","v":0},{"$f":"'Conversion 1'!B761/0.56","v":0},{"$f":"'Conversion 1'!B761/0.4","v":0}]
[null,{"$f":"0.1423*('Conversion 1'!D762^1.2528)","v":0},{"$f":"(0.00005*('Conversion 1'!D762^2))+(0.3389*'Conversion 1'!D762)-1.431","v":-1.431},761,{"$f":"'Conversion 1'!B762","v":0},{"$f":"'Conversion 1'!B762/0.4","v":0},{"$f":"'Conversion 1'!B762/0.4","v":0},{"$f":"'Conversion 1'!B762","v":0},{"$f":"'Conversion 1'!B762/0.07","v":0},{"$f":"'Conversion 1'!B762/0.056","v":0},{"$f":"'Conversion 1'!B762/0.1","v":0},{"$f":"'Conversion 1'!B762/0.058","v":0},{"$f":"'Conversion 1'!B762/0.01","v":0},{"$f":"'Conversion 1'!B762/0.02","v":0},{"$f":"'Conversion 1'!B762/0.56","v":0},{"$f":"'Conversion 1'!B762/0.4","v":0}]
[null,{"$f":"0.1423*('Conversion 1'!D763^1.2528)","v":0},{"$f":"(0.00005*('Conversion 1'!D763^2))+(0.3389*'Conversion 1'!D763)-1.431","v":-1.431},762,{"$f":"'Conversion 1'!B763","v":0},{"$f":"'Conversion 1'!B763/0.4","v":0},{"$f":"'Conversion 1'!B763/0.4","v":0},{"$f":"'Conversion 1'!B763","v":0},{"$f":"'Conversion 1'!B763/0.07","v":0},{"$f":"'Conversion 1'!B763/0.056","v":0},{"$f":"'Conversion 1'!B763/0.1","v":0},{"$f":"'Conversion 1'!B763/0.058","v":0},{"$f":"'Conversion 1'!B763/0.01","v":0},{"$f":"'Conversion 1'!B763/0.02","v":0},{"$f":"'Conversion 1'!B763/0.56","v":0},{"$f":"'Conversion 1'!B763/0.4","v":0}]
[null,{"$f":"0.1423*('Conversion 1'!D764^1.2528)","v":0},{"$f":"(0.00005*('Conversion 1'!D764^2))+(0.3389*'Conversion 1'!D764)-1.431","v":-1.431},763,{"$f":"'Conversion 1'!B764","v":0},{"$f":"'Conversion 1'!B764/0.4","v":0},{"$f":"'Conversion 1'!B764/0.4","v":0},{"$f":"'Conversion 1'!B764","v":0},{"$f":"'Conversion 1'!B764/0.07","v":0},{"$f":"'Conversion 1'!B764/0.056","v":0},{"$f":"'Conversion 1'!B764/0.1","v":0},{"$f":"'Conversion 1'!B764/0.058","v":0},{"$f":"'Conversion 1'!B764/0.01","v":0},{"$f":"'Conversion 1'!B764/0.02","v":0},{"$f":"'Conversion 1'!B764/0.56","v":0},{"$f":"'Conversion 1'!B764/0.4","v":0}]
[null,{"$f":"0.1423*('Conversion 1'!D765^1.2528)","v":0},{"$f":"(0.00005*('Conversion 1'!D765^2))+(0.3389*'Conversion 1'!D765)-1.431","v":-1.431},764,{"$f":"'Conversion 1'!B765","v":0},{"$f":"'Conversion 1'!B765/0.4","v":0},{"$f":"'Conversion 1'!B765/0.4","v":0},{"$f":"'Conversion 1'!B765","v":0},{"$f":"'Conversion 1'!B765/0.07","v":0},{"$f":"'Conversion 1'!B765/0.056","v":0},{"$f":"'Conversion 1'!B765/0.1","v":0},{"$f":"'Conversion 1'!B765/0.058","v":0},{"$f":"'Conversion 1'!B765/0.01","v":0},{"$f":"'Conversion 1'!B765/0.02","v":0},{"$f":"'Conversion 1'!B765/0.56","v":0},{"$f":"'Conversion 1'!B765/0.4","v":0}]
[null,{"$f":"0.1423*('Conversion 1'!D766^1.2528)","v":0},{"$f":"(0.00005*('Conversion 1'!D766^2))+(0.3389*'Conversion 1'!D766)-1.431","v":-1.431},765,{"$f":"'Conversion 1'!B766","v":0},{"$f":"'Conversion 1'!B766/0.4","v":0},{"$f":"'Conversion 1'!B766/0.4","v":0},{"$f":"'Conversion 1'!B766","v":0},{"$f":"'Conversion 1'!B766/0.07","v":0},{"$f":"'Conversion 1'!B766/0.056","v":0},{"$f":"'Conversion 1'!B766/0.1","v":0},{"$f":"'Conversion 1'!B766/0.058","v":0},{"$f":"'Conversion 1'!B766/0.01","v":0},{"$f":"'Conversion 1'!B766/0.02","v":0},{"$f":"'Conversion 1'!B766/0.56","v":0},{"$f":"'Conversion 1'!B766/0.4","v":0}]
[null,{"$f":"0.1423*('Conversion 1'!D767^1.2528)","v":0},{"$f":"(0.00005*('Conversion 1'!D767^2))+(0.3389*'Conversion 1'!D767)-1.431","v":-1.431},766,{"$f":"'Conversion 1'!B767","v":0},{"$f":"'Conversion 1'!B767/0.4","v":0},{"$f":"'Conversion 1'!B767/0.4","v":0},{"$f":"'Conversion 1'!B767","v":0},{"$f":"'Conversion 1'!B767/0.07","v":0},{"$f":"'Conversion 1'!B767/0.056","v":0},{"$f":"'Conversion 1'!B767/0.1","v":0},{"$f":"'Conversion 1'!B767/0.058","v":0},{"$f":"'Conversion 1'!B767/0.01","v":0},{"$f":"'Conversion 1'!B767/0.02","v":0},{"$f":"'Conversion 1'!B767/0.56","v":0},{"$f":"'Conversion 1'!B767/0.4","v":0}]
[null,{"$f":"0.1423*('Conversion 1'!D768^1.2528)","v":0},{"$f":"(0.00005*('Conversion 1'!D768^2))+(0.3389*'Conversion 1'!D768)-1.431","v":-1.431},767,{"$f":"'Conversion 1'!B768","v":0},{"$f":"'Conversion 1'!B768/0.4","v":0},{"$f":"'Conversion 1'!B768/0.4","v":0},{"$f":"'Conversion 1'!B768","v":0},{"$f":"'Conversion 1'!B768/0.07","v":0},{"$f":"'Conversion 1'!B768/0.056","v":0},{"$f":"'Conversion 1'!B768/0.1","v":0},{"$f":"'Conversion 1'!B768/0.058","v":0},{"$f":"'Conversion 1'!B768/0.01","v":0},{"$f":"'Conversion 1'!B768/0.02","v":0},{"$f":"'Conversion 1'!B768/0.56","v":0},{"$f":"'Conversion 1'!B768/0.4","v":0}]
[null,{"$f":"0.1423*('Conversion 1'!D769^1.2528)","v":0},{"$f":"(0.00005*('Conversion 1'!D769^2))+(0.3389*'Conversion 1'!D769)-1.431","v":-1.431},768,{"$f":"'Conversion 1'!B769","v":0},{"$f":"'Conversion 1'!B769/0.4","v":0},{"$f":"'Conversion 1'!B769/0.4","v":0},{"$f":"'Conversion 1'!B769","v":0},{"$f":"'Conversion 1'!B769/0.07","v":0},{"$f":"'Conversion 1'!B769/0.056","v":0},{"$f":"'Conversion 1'!B769/0.1","v":0},{"$f":"'Conversion 1'!B769/0.058","v":0},{"$f":"'Conversion 1'!B769/0.01","v":0},{"$f":"'Conversion 1'!B769/0.02","v":0},{"$f":"'Conversion 1'!B769/0.56","v":0},{"$f":"'Conversion 1'!B769/0.4","v":0}]
[null,{"$f":"0.1423*('Conversion 1'!D770^1.2528)","v":0},{"$f":"(0.00005*('Conversion 1'!D770^2))+(0.3389*'Conversion 1'!D770)-1.431","v":-1.431},769,{"$f":"'Conversion 1'!B770","v":0},{"$f":"'Conversion 1'!B770/0.4","v":0},{"$f":"'Conversion 1'!B770/0.4","v":0},{"$f":"'Conversion 1'!B770","v":0},{"$f":"'Conversion 1'!B770/0.07","v":0},{"$f":"'Conversion 1'!B770/0.056","v":0},{"$f":"'Conversion 1'!B770/0.1","v":0},{"$f":"'Conversion 1'!B770/0.058","v":0},{"$f":"'Conversion 1'!B770/0.01","v":0},{"$f":"'Conversion 1'!B770/0.02","v":0},{"$f":"'Conversion 1'!B770/0.56","v":0},{"$f":"'Conversion 1'!B770/0.4","v":0}]
[null,{"$f":"0.1423*('Conversion 1'!D771^1.2528)","v":0},{"$f":"(0.00005*('Conversion 1'!D771^2))+(0.3389*'Conversion 1'!D771)-1.431","v":-1.431},770,{"$f":"'Conversion 1'!B771","v":0},{"$f":"'Conversion 1'!B771/0.4","v":0},{"$f":"'Conversion 1'!B771/0.4","v":0},{"$f":"'Conversion 1'!B771","v":0},{"$f":"'Conversion 1'!B771/0.07","v":0},{"$f":"'Conversion 1'!B771/0.056","v":0},{"$f":"'Conversion 1'!B771/0.1","v":0},{"$f":"'Conversion 1'!B771/0.058","v":0},{"$f":"'Conversion 1'!B771/0.01","v":0},{"$f":"'Conversion 1'!B771/0.02","v":0},{"$f":"'Conversion 1'!B771/0.56","v":0},{"$f":"'Conversion 1'!B771/0.4","v":0}]
[null,{"$f":"0.1423*('Conversion 1'!D772^1.2528)","v":0},{"$f":"(0.00005*('Conversion 1'!D772^2))+(0.3389*'Conversion 1'!D772)-1.431","v":-1.431},771,{"$f":"'Conversion 1'!B772","v":0},{"$f":"'Conversion 1'!B772/0.4","v":0},{"$f":"'Conversion 1'!B772/0.4","v":0},{"$f":"'Conversion 1'!B772","v":0},{"$f":"'Conversion 1'!B772/0.07","v":0},{"$f":"'Conversion 1'!B772/0.056","v":0},{"$f":"'Conversion 1'!B772/0.1","v":0},{"$f":"'Conversion 1'!B772/0.058","v":0},{"$f":"'Conversion 1'!B772/0.01","v":0},{"$f":"'Conversion 1'!B772/0.02","v":0},{"$f":"'Conversion 1'!B772/0.56","v":0},{"$f":"'Conversion 1'!B772/0.4","v":0}]
[null,{"$f":"0.1423*('Conversion 1'!D773^1.2528)","v":0},{"$f":"(0.00005*('Conversion 1'!D773^2))+(0.3389*'Conversion 1'!D773)-1.431","v":-1.431},772,{"$f":"'Conversion 1'!B773","v":0},{"$f":"'Conversion 1'!B773/0.4","v":0},{"$f":"'Conversion 1'!B773/0.4","v":0},{"$f":"'Conversion 1'!B773","v":0},{"$f":"'Conversion 1'!B773/0.07","v":0},{"$f":"'Conversion 1'!B773/0.056","v":0},{"$f":"'Conversion 1'!B773/0.1","v":0},{"$f":"'Conversion 1'!B773/0.058","v":0},{"$f":"'Conversion 1'!B773/0.01","v":0},{"$f":"'Conversion 1'!B773/0.02","v":0},{"$f":"'Conversion 1'!B773/0.56","v":0},{"$f":"'Conversion 1'!B773/0.4","v":0}]
[null,{"$f":"0.1423*('Conversion 1'!D774^1.2528)","v":0},{"$f":"(0.00005*('Conversion 1'!D774^2))+(0.3389*'Conversion 1'!D774)-1.431","v":-1.431},773,{"$f":"'Conversion 1'!B774","v":0},{"$f":"'Conversion 1'!B774/0.4","v":0},{"$f":"'Conversion 1'!B774/0.4","v":0},{"$f":"'Conversion 1'!B774","v":0},{"$f":"'Conversion 1'!B774/0.07","v":0},{"$f":"'Conversion 1'!B774/0.056","v":0},{"$f":"'Conversion 1'!B774/0.1","v":0},{"$f":"'Conversion 1'!B774/0.058","v":0},{"$f":"'Conversion 1'!B774/0.01","v":0},{"$f":"'Conversion 1'!B774/0.02","v":0},{"$f":"'Conversion 1'!B774/0.56","v":0},{"$f":"'Conversion 1'!B774/0.4","v":0}]
[null,{"$f":"0.1423*('Conversion 1'!D775^1.2528)","v":0},{"$f":"(0.00005*('Conversion 1'!D775^2))+(0.3389*'Conversion 1'!D775)-1.431","v":-1.431},774,{"$f":"'Conversion 1'!B775","v":0},{"$f":"'Conversion 1'!B775/0.4","v":0},{"$f":"'Conversion 1'!B775/0.4","v":0},{"$f":"'Conversion 1'!B775","v":0},{"$f":"'Conversion 1'!B775/0.07","v":0},{"$f":"'Conversion 1'!B775/0.056","v":0},{"$f":"'Conversion 1'!B775/0.1","v":0},{"$f":"'Conversion 1'!B775/0.058","v":0},{"$f":"'Conversion 1'!B775/0.01","v":0},{"$f":"'Conversion 1'!B775/0.02","v":0},{"$f":"'Conversion 1'!B775/0.56","v":0},{"$f":"'Conversion 1'!B775/0.4","v":0}]
[null,{"$f":"0.1423*('Conversion 1'!D776^1.2528)","v":0},{"$f":"(0.00005*('Conversion 1'!D776^2))+(0.3389*'Conversion 1'!D776)-1.431","v":-1.431},775,{"$f":"'Conversion 1'!B776","v":0},{"$f":"'Conversion 1'!B776/0.4","v":0},{"$f":"'Conversion 1'!B776/0.4","v":0},{"$f":"'Conversion 1'!B776","v":0},{"$f":"'Conversion 1'!B776/0.07","v":0},{"$f":"'Conversion 1'!B776/0.056","v":0},{"$f":"'Conversion 1'!B776/0.1","v":0},{"$f":"'Conversion 1'!B776/0.058","v":0},{"$f":"'Conversion 1'!B776/0.01","v":0},{"$f":"'Conversion 1'!B776/0.02","v":0},{"$f":"'Conversion 1'!B776/0.56","v":0},{"$f":"'Conversion 1'!B776/0.4","v":0}]
[null,{"$f":"0.1423*('Conversion 1'!D777^1.2528)","v":0},{"$f":"(0.00005*('Conversion 1'!D777^2))+(0.3389*'Conversion 1'!D777)-1.431","v":-1.431},776,{"$f":"'Conversion 1'!B777","v":0},{"$f":"'Conversion 1'!B777/0.4","v":0},{"$f":"'Conversion 1'!B777/0.4","v":0},{"$f":"'Conversion 1'!B777","v":0},{"$f":"'Conversion 1'!B777/0.07","v":0},{"$f":"'Conversion 1'!B777/0.056","v":0},{"$f":"'Conversion 1'!B777/0.1","v":0},{"$f":"'Conversion 1'!B777/0.058","v":0},{"$f":"'Conversion 1'!B777/0.01","v":0},{"$f":"'Conversion 1'!B777/0.02","v":0},{"$f":"'Conversion 1'!B777/0.56","v":0},{"$f":"'Conversion 1'!B777/0.4","v":0}]
[null,{"$f":"0.1423*('Conversion 1'!D778^1.2528)","v":0},{"$f":"(0.00005*('Conversion 1'!D778^2))+(0.3389*'Conversion 1'!D778)-1.431","v":-1.431},777,{"$f":"'Conversion 1'!B778","v":0},{"$f":"'Conversion 1'!B778/0.4","v":0},{"$f":"'Conversion 1'!B778/0.4","v":0},{"$f":"'Conversion 1'!B778","v":0},{"$f":"'Conversion 1'!B778/0.07","v":0},{"$f":"'Conversion 1'!B778/0.056","v":0},{"$f":"'Conversion 1'!B778/0.1","v":0},{"$f":"'Conversion 1'!B778/0.058","v":0},{"$f":"'Conversion 1'!B778/0.01","v":0},{"$f":"'Conversion 1'!B778/0.02","v":0},{"$f":"'Conversion 1'!B778/0.56","v":0},{"$f":"'Conversion 1'!B778/0.4","v":0}]
[null,{"$f":"0.1423*('Conversion 1'!D779^1.2528)","v":0},{"$f":"(0.00005*('Conversion 1'!D779^2))+(0.3389*'Conversion 1'!D779)-1.431","v":-1.431},778,{"$f":"'Conversion 1'!B779","v":0},{"$f":"'Conversion 1'!B779/0.4","v":0},{"$f":"'Conversion 1'!B779/0.4","v":0},{"$f":"'Conversion 1'!B779","v":0},{"$f":"'Conversion 1'!B779/0.07","v":0},{"$f":"'Conversion 1'!B779/0.056","v":0},{"$f":"'Conversion 1'!B779/0.1","v":0},{"$f":"'Conversion 1'!B779/0.058","v":0},{"$f":"'Conversion 1'!B779/0.01","v":0},{"$f":"'Conversion 1'!B779/0.02","v":0},{"$f":"'Conversion 1'!B779/0.56","v":0},{"$f":"'Conversion 1'!B779/0.4","v":0}]
[null,{"$f":"0.1423*('Conversion 1'!D780^1.2528)","v":0},{"$f":"(0.00005*('Conversion 1'!D780^2))+(0.3389*'Conversion 1'!D780)-1.431","v":-1.431},779,{"$f":"'Conversion 1'!B780","v":0},{"$f":"'Conversion 1'!B780/0.4","v":0},{"$f":"'Conversion 1'!B780/0.4","v":0},{"$f":"'Conversion 1'!B780","v":0},{"$f":"'Conversion 1'!B780/0.07","v":0},{"$f":"'Conversion 1'!B780/0.056","v":0},{"$f":"'Conversion 1'!B780/0.1","v":0},{"$f":"'Conversion 1'!B780/0.058","v":0},{"$f":"'Conversion 1'!B780/0.01","v":0},{"$f":"'Conversion 1'!B780/0.02","v":0},{"$f":"'Conversion 1'!B780/0.56","v":0},{"$f":"'Conversion 1'!B780/0.4","v":0}]
[null,{"$f":"0.1423*('Conversion 1'!D781^1.2528)","v":0},{"$f":"(0.00005*('Conversion 1'!D781^2))+(0.3389*'Conversion 1'!D781)-1.431","v":-1.431},780,{"$f":"'Conversion 1'!B781","v":0},{"$f":"'Conversion 1'!B781/0.4","v":0},{"$f":"'Conversion 1'!B781/0.4","v":0},{"$f":"'Conversion 1'!B781","v":0},{"$f":"'Conversion 1'!B781/0.07","v":0},{"$f":"'Conversion 1'!B781/0.056","v":0},{"$f":"'Conversion 1'!B781/0.1","v":0},{"$f":"'Conversion 1'!B781/0.058","v":0},{"$f":"'Conversion 1'!B781/0.01","v":0},{"$f":"'Conversion 1'!B781/0.02","v":0},{"$f":"'Conversion 1'!B781/0.56","v":0},{"$f":"'Conversion 1'!B781/0.4","v":0}]
[null,{"$f":"0.1423*('Conversion 1'!D782^1.2528)","v":0},{"$f":"(0.00005*('Conversion 1'!D782^2))+(0.3389*'Conversion 1'!D782)-1.431","v":-1.431},781,{"$f":"'Conversion 1'!B782","v":0},{"$f":"'Conversion 1'!B782/0.4","v":0},{"$f":"'Conversion 1'!B782/0.4","v":0},{"$f":"'Conversion 1'!B782","v":0},{"$f":"'Conversion 1'!B782/0.07","v":0},{"$f":"'Conversion 1'!B782/0.056","v":0},{"$f":"'Conversion 1'!B782/0.1","v":0},{"$f":"'Conversion 1'!B782/0.058","v":0},{"$f":"'Conversion 1'!B782/0.01","v":0},{"$f":"'Conversion 1'!B782/0.02","v":0},{"$f":"'Conversion 1'!B782/0.56","v":0},{"$f":"'Conversion 1'!B782/0.4","v":0}]
[null,{"$f":"0.1423*('Conversion 1'!D783^1.2528)","v":0},{"$f":"(0.00005*('Conversion 1'!D783^2))+(0.3389*'Conversion 1'!D783)-1.431","v":-1.431},782,{"$f":"'Conversion 1'!B783","v":0},{"$f":"'Conversion 1'!B783/0.4","v":0},{"$f":"'Conversion 1'!B783/0.4","v":0},{"$f":"'Conversion 1'!B783","v":0},{"$f":"'Conversion 1'!B783/0.07","v":0},{"$f":"'Conversion 1'!B783/0.056","v":0},{"$f":"'Conversion 1'!B783/0.1","v":0},{"$f":"'Conversion 1'!B783/0.058","v":0},{"$f":"'Conversion 1'!B783/0.01","v":0},{"$f":"'Conversion 1'!B783/0.02","v":0},{"$f":"'Conversion 1'!B783/0.56","v":0},{"$f":"'Conversion 1'!B783/0.4","v":0}]
[null,{"$f":"0.1423*('Conversion 1'!D784^1.2528)","v":0},{"$f":"(0.00005*('Conversion 1'!D784^2))+(0.3389*'Conversion 1'!D784)-1.431","v":-1.431},783,{"$f":"'Conversion 1'!B784","v":0},{"$f":"'Conversion 1'!B784/0.4","v":0},{"$f":"'Conversion 1'!B784/0.4","v":0},{"$f":"'Conversion 1'!B784","v":0},{"$f":"'Conversion 1'!B784/0.07","v":0},{"$f":"'Conversion 1'!B784/0.056","v":0},{"$f":"'Conversion 1'!B784/0.1","v":0},{"$f":"'Conversion 1'!B784/0.058","v":0},{"$f":"'Conversion 1'!B784/0.01","v":0},{"$f":"'Conversion 1'!B784/0.02","v":0},{"$f":"'Conversion 1'!B784/0.56","v":0},{"$f":"'Conversion 1'!B784/0.4","v":0}]
[null,{"$f":"0.1423*('Conversion 1'!D785^1.2528)","v":0},{"$f":"(0.00005*('Conversion 1'!D785^2))+(0.3389*'Conversion 1'!D785)-1.431","v":-1.431},784,{"$f":"'Conversion 1'!B785","v":0},{"$f":"'Conversion 1'!B785/0.4","v":0},{"$f":"'Conversion 1'!B785/0.4","v":0},{"$f":"'Conversion 1'!B785","v":0},{"$f":"'Conversion 1'!B785/0.07","v":0},{"$f":"'Conversion 1'!B785/0.056","v":0},{"$f":"'Conversion 1'!B785/0.1","v":0},{"$f":"'Conversion 1'!B785/0.058","v":0},{"$f":"'Conversion 1'!B785/0.01","v":0},{"$f":"'Conversion 1'!B785/0.02","v":0},{"$f":"'Conversion 1'!B785/0.56","v":0},{"$f":"'Conversion 1'!B785/0.4","v":0}]
[null,{"$f":"0.1423*('Conversion 1'!D786^1.2528)","v":0},{"$f":"(0.00005*('Conversion 1'!D786^2))+(0.3389*'Conversion 1'!D786)-1.431","v":-1.431},785,{"$f":"'Conversion 1'!B786","v":0},{"$f":"'Conversion 1'!B786/0.4","v":0},{"$f":"'Conversion 1'!B786/0.4","v":0},{"$f":"'Conversion 1'!B786","v":0},{"$f":"'Conversion 1'!B786/0.07","v":0},{"$f":"'Conversion 1'!B786/0.056","v":0},{"$f":"'Conversion 1'!B786/0.1","v":0},{"$f":"'Conversion 1'!B786/0.058","v":0},{"$f":"'Conversion 1'!B786/0.01","v":0},{"$f":"'Conversion 1'!B786/0.02","v":0},{"$f":"'Conversion 1'!B786/0.56","v":0},{"$f":"'Conversion 1'!B786/0.4","v":0}]
[null,{"$f":"0.1423*('Conversion 1'!D787^1.2528)","v":0},{"$f":"(0.00005*('Conversion 1'!D787^2))+(0.3389*'Conversion 1'!D787)-1.431","v":-1.431},786,{"$f":"'Conversion 1'!B787","v":0},{"$f":"'Conversion 1'!B787/0.4","v":0},{"$f":"'Conversion 1'!B787/0.4","v":0},{"$f":"'Conversion 1'!B787","v":0},{"$f":"'Conversion 1'!B787/0.07","v":0},{"$f":"'Conversion 1'!B787/0.056","v":0},{"$f":"'Conversion 1'!B787/0.1","v":0},{"$f":"'Conversion 1'!B787/0.058","v":0},{"$f":"'Conversion 1'!B787/0.01","v":0},{"$f":"'Conversion 1'!B787/0.02","v":0},{"$f":"'Conversion 1'!B787/0.56","v":0},{"$f":"'Conversion 1'!B787/0.4","v":0}]
[null,{"$f":"0.1423*('Conversion 1'!D788^1.2528)","v":0},{"$f":"(0.00005*('Conversion 1'!D788^2))+(0.3389*'Conversion 1'!D788)-1.431","v":-1.431},787,{"$f":"'Conversion 1'!B788","v":0},{"$f":"'Conversion 1'!B788/0.4","v":0},{"$f":"'Conversion 1'!B788/0.4","v":0},{"$f":"'Conversion 1'!B788","v":0},{"$f":"'Conversion 1'!B788/0.07","v":0},{"$f":"'Conversion 1'!B788/0.056","v":0},{"$f":"'Conversion 1'!B788/0.1","v":0},{"$f":"'Conversion 1'!B788/0.058","v":0},{"$f":"'Conversion 1'!B788/0.01","v":0},{"$f":"'Conversion 1'!B788/0.02","v":0},{"$f":"'Conversion 1'!B788/0.56","v":0},{"$f":"'Conversion 1'!B788/0.4","v":0}]
[null,{"$f":"0.1423*('Conversion 1'!D789^1.2528)","v":0},{"$f":"(0.00005*('Conversion 1'!D789^2))+(0.3389*'Conversion 1'!D789)-1.431","v":-1.431},788,{"$f":"'Conversion 1'!B789","v":0},{"$f":"'Conversion 1'!B789/0.4","v":0},{"$f":"'Conversion 1'!B789/0.4","v":0},{"$f":"'Conversion 1'!B789","v":0},{"$f":"'Conversion 1'!B789/0.07","v":0},{"$f":"'Conversion 1'!B789/0.056","v":0},{"$f":"'Conversion 1'!B789/0.1","v":0},{"$f":"'Conversion 1'!B789/0.058","v":0},{"$f":"'Conversion 1'!B789/0.01","v":0},{"$f":"'Conversion 1'!B789/0.02","v":0},{"$f":"'Conversion 1'!B789/0.56","v":0},{"$f":"'Conversion 1'!B789/0.4","v":0}]
[null,{"$f":"0.1423*('Conversion 1'!D790^1.2528)","v":0},{"$f":"(0.00005*('Conversion 1'!D790^2))+(0.3389*'Conversion 1'!D790)-1.431","v":-1.431},789,{"$f":"'Conversion 1'!B790","v":0},{"$f":"'Conversion 1'!B790/0.4","v":0},{"$f":"'Conversion 1'!B790/0.4","v":0},{"$f":"'Conversion 1'!B790","v":0},{"$f":"'Conversion 1'!B790/0.07","v":0},{"$f":"'Conversion 1'!B790/0.056","v":0},{"$f":"'Conversion 1'!B790/0.1","v":0},{"$f":"'Conversion 1'!B790/0.058","v":0},{"$f":"'Conversion 1'!B790/0.01","v":0},{"$f":"'Conversion 1'!B790/0.02","v":0},{"$f":"'Conversion 1'!B790/0.56","v":0},{"$f":"'Conversion 1'!B790/0.4","v":0}]
[null,{"$f":"0.1423*('Conversion 1'!D791^1.2528)","v":0},{"$f":"(0.00005*('Conversion 1'!D791^2))+(0.3389*'Conversion 1'!D791)-1.431","v":-1.431},790,{"$f":"'Conversion 1'!B791","v":0},{"$f":"'Conversion 1'!B791/0.4","v":0},{"$f":"'Conversion 1'!B791/0.4","v":0},{"$f":"'Conversion 1'!B791","v":0},{"$f":"'Conversion 1'!B791/0.07","v":0},{"$f":"'Conversion 1'!B791/0.056","v":0},{"$f":"'Conversion 1'!B791/0.1","v":0},{"$f":"'Conversion 1'!B791/0.058","v":0},{"$f":"'Conversion 1'!B791/0.01","v":0},{"$f":"'Conversion 1'!B791/0.02","v":0},{"$f":"'Conversion 1'!B791/0.56","v":0},{"$f":"'Conversion 1'!B791/0.4","v":0}]
[null,{"$f":"0.1423*('Conversion 1'!D792^1.2528)","v":0},{"$f":"(0.00005*('Conversion 1'!D792^2))+(0.3389*'Conversion 1'!D792)-1.431","v":-1.431},791,{"$f":"'Conversion 1'!B792","v":0},{"$f":"'Conversion 1'!B792/0.4","v":0},{"$f":"'Conversion 1'!B792/0.4","v":0},{"$f":"'Conversion 1'!B792","v":0},{"$f":"'Conversion 1'!B792/0.07","v":0},{"$f":"'Conversion 1'!B792/0.056","v":0},{"$f":"'Conversion 1'!B792/0.1","v":0},{"$f":"'Conversion 1'!B792/0.058","v":0},{"$f":"'Conversion 1'!B792/0.01","v":0},{"$f":"'Conversion 1'!B792/0.02","v":0},{"$f":"'Conversion 1'!B792/0.56","v":0},{"$f":"'Conversion 1'!B792/0.4","v":0}]
[null,{"$f":"0.1423*('Conversion 1'!D793^1.2528)","v":0},{"$f":"(0.00005*('Conversion 1'!D793^2))+(0.3389*'Conversion 1'!D793)-1.431","v":-1.431},792,{"$f":"'Conversion 1'!B793","v":0},{"$f":"'Conversion 1'!B793/0.4","v":0},{"$f":"'Conversion 1'!B793/0.4","v":0},{"$f":"'Conversion 1'!B793","v":0},{"$f":"'Conversion 1'!B793/0.07","v":0},{"$f":"'Conversion 1'!B793/0.056","v":0},{"$f":"'Conversion 1'!B793/0.1","v":0},{"$f":"'Conversion 1'!B793/0.058","v":0},{"$f":"'Conversion 1'!B793/0.01","v":0},{"$f":"'Conversion 1'!B793/0.02","v":0},{"$f":"'Conversion 1'!B793/0.56","v":0},{"$f":"'Conversion 1'!B793/0.4","v":0}]
[null,{"$f":"0.1423*('Conversion 1'!D794^1.2528)","v":0},{"$f":"(0.00005*('Conversion 1'!D794^2))+(0.3389*'Conversion 1'!D794)-1.431","v":-1.431},793,{"$f":"'Conversion 1'!B794","v":0},{"$f":"'Conversion 1'!B794/0.4","v":0},{"$f":"'Conversion 1'!B794/0.4","v":0},{"$f":"'Conversion 1'!B794","v":0},{"$f":"'Conversion 1'!B794/0.07","v":0},{"$f":"'Conversion 1'!B794/0.056","v":0},{"$f":"'Conversion 1'!B794/0.1","v":0},{"$f":"'Conversion 1'!B794/0.058","v":0},{"$f":"'Conversion 1'!B794/0.01","v":0},{"$f":"'Conversion 1'!B794/0.02","v":0},{"$f":"'Conversion 1'!B794/0.56","v":0},{"$f":"'Conversion 1'!B794/0.4","v":0}]
[null,{"$f":"0.1423*('Conversion 1'!D795^1.2528)","v":0},{"$f":"(0.00005*('Conversion 1'!D795^2))+(0.3389*'Conversion 1'!D795)-1.431","v":-1.431},794,{"$f":"'Conversion 1'!B795","v":0},{"$f":"'Conversion 1'!B795/0.4","v":0},{"$f":"'Conversion 1'!B795/0.4","v":0},{"$f":"'Conversion 1'!B795","v":0},{"$f":"'Conversion 1'!B795/0.07","v":0},{"$f":"'Conversion 1'!B795/0.056","v":0},{"$f":"'Conversion 1'!B795/0.1","v":0},{"$f":"'Conversion 1'!B795/0.058","v":0},{"$f":"'Conversion 1'!B795/0.01","v":0},{"$f":"'Conversion 1'!B795/0.02","v":0},{"$f":"'Conversion 1'!B795/0.56","v":0},{"$f":"'Conversion 1'!B795/0.4","v":0}]
[null,{"$f":"0.1423*('Conversion 1'!D796^1.2528)","v":0},{"$f":"(0.00005*('Conversion 1'!D796^2))+(0.3389*'Conversion 1'!D796)-1.431","v":-1.431},795,{"$f":"'Conversion 1'!B796","v":0},{"$f":"'Conversion 1'!B796/0.4","v":0},{"$f":"'Conversion 1'!B796/0.4","v":0},{"$f":"'Conversion 1'!B796","v":0},{"$f":"'Conversion 1'!B796/0.07","v":0},{"$f":"'Conversion 1'!B796/0.056","v":0},{"$f":"'Conversion 1'!B796/0.1","v":0},{"$f":"'Conversion 1'!B796/0.058","v":0},{"$f":"'Conversion 1'!B796/0.01","v":0},{"$f":"'Conversion 1'!B796/0.02","v":0},{"$f":"'Conversion 1'!B796/0.56","v":0},{"$f":"'Conversion 1'!B796/0.4","v":0}]
[null,{"$f":"0.1423*('Conversion 1'!D797^1.2528)","v":0},{"$f":"(0.00005*('Conversion 1'!D797^2))+(0.3389*'Conversion 1'!D797)-1.431","v":-1.431},796,{"$f":"'Conversion 1'!B797","v":0},{"$f":"'Conversion 1'!B797/0.4","v":0},{"$f":"'Conversion 1'!B797/0.4","v":0},{"$f":"'Conversion 1'!B797","v":0},{"$f":"'Conversion 1'!B797/0.07","v":0},{"$f":"'Conversion 1'!B797/0.056","v":0},{"$f":"'Conversion 1'!B797/0.1","v":0},{"$f":"'Conversion 1'!B797/0.058","v":0},{"$f":"'Conversion 1'!B797/0.01","v":0},{"$f":"'Conversion 1'!B797/0.02","v":0},{"$f":"'Conversion 1'!B797/0.56","v":0},{"$f":"'Conversion 1'!B797/0.4","v":0}]
[null,{"$f":"0.1423*('Conversion 1'!D798^1.2528)","v":0},{"$f":"(0.00005*('Conversion 1'!D798^2))+(0.3389*'Conversion 1'!D798)-1.431","v":-1.431},797,{"$f":"'Conversion 1'!B798","v":0},{"$f":"'Conversion 1'!B798/0.4","v":0},{"$f":"'Conversion 1'!B798/0.4","v":0},{"$f":"'Conversion 1'!B798","v":0},{"$f":"'Conversion 1'!B798/0.07","v":0},{"$f":"'Conversion 1'!B798/0.056","v":0},{"$f":"'Conversion 1'!B798/0.1","v":0},{"$f":"'Conversion 1'!B798/0.058","v":0},{"$f":"'Conversion 1'!B798/0.01","v":0},{"$f":"'Conversion 1'!B798/0.02","v":0},{"$f":"'Conversion 1'!B798/0.56","v":0},{"$f":"'Conversion 1'!B798/0.4","v":0}]
[null,{"$f":"0.1423*('Conversion 1'!D799^1.2528)","v":0},{"$f":"(0.00005*('Conversion 1'!D799^2))+(0.3389*'Conversion 1'!D799)-1.431","v":-1.431},798,{"$f":"'Conversion 1'!B799","v":0},{"$f":"'Conversion 1'!B799/0.4","v":0},{"$f":"'Conversion 1'!B799/0.4","v":0},{"$f":"'Conversion 1'!B799","v":0},{"$f":"'Conversion 1'!B799/0.07","v":0},{"$f":"'Conversion 1'!B799/0.056","v":0},{"$f":"'Conversion 1'!B799/0.1","v":0},{"$f":"'Conversion 1'!B799/0.058","v":0},{"$f":"'Conversion 1'!B799/0.01","v":0},{"$f":"'Conversion 1'!B799/0.02","v":0},{"$f":"'Conversion 1'!B799/0.56","v":0},{"$f":"'Conversion 1'!B799/0.4","v":0}]
[null,{"$f":"0.1423*('Conversion 1'!D800^1.2528)","v":0},{"$f":"(0.00005*('Conversion 1'!D800^2))+(0.3389*'Conversion 1'!D800)-1.431","v":-1.431},799,{"$f":"'Conversion 1'!B800","v":0},{"$f":"'Conversion 1'!B800/0.4","v":0},{"$f":"'Conversion 1'!B800/0.4","v":0},{"$f":"'Conversion 1'!B800","v":0},{"$f":"'Conversion 1'!B800/0.07","v":0},{"$f":"'Conversion 1'!B800/0.056","v":0},{"$f":"'Conversion 1'!B800/0.1","v":0},{"$f":"'Conversion 1'!B800/0.058","v":0},{"$f":"'Conversion 1'!B800/0.01","v":0},{"$f":"'Conversion 1'!B800/0.02","v":0},{"$f":"'Conversion 1'!B800/0.56","v":0},{"$f":"'Conversion 1'!B800/0.4","v":0}]
[null,{"$f":"0.1423*('Conversion 1'!D801^1.2528)","v":0},{"$f":"(0.00005*('Conversion 1'!D801^2))+(0.3389*'Conversion 1'!D801)-1.431","v":-1.431},800,{"$f":"'Conversion 1'!B801","v":0},{"$f":"'Conversion 1'!B801/0.4","v":0},{"$f":"'Conversion 1'!B801/0.4","v":0},{"$f":"'Conversion 1'!B801","v":0},{"$f":"'Conversion 1'!B801/0.07","v":0},{"$f":"'Conversion 1'!B801/0.056","v":0},{"$f":"'Conversion 1'!B801/0.1","v":0},{"$f":"'Conversion 1'!B801/0.058","v":0},{"$f":"'Conversion 1'!B801/0.01","v":0},{"$f":"'Conversion 1'!B801/0.02","v":0},{"$f":"'Conversion 1'!B801/0.56","v":0},{"$f":"'Conversion 1'!B801/0.4","v":0}]
[null,{"$f":"0.1423*('Conversion 1'!D802^1.2528)","v":0},{"$f":"(0.00005*('Conversion 1'!D802^2))+(0.3389*'Conversion 1'!D802)-1.431","v":-1.431},801,{"$f":"'Conversion 1'!B802","v":0},{"$f":"'Conversion 1'!B802/0.4","v":0},{"$f":"'Conversion 1'!B802/0.4","v":0},{"$f":"'Conversion 1'!B802","v":0},{"$f":"'Conversion 1'!B802/0.07","v":0},{"$f":"'Conversion 1'!B802/0.056","v":0},{"$f":"'Conversion 1'!B802/0.1","v":0},{"$f":"'Conversion 1'!B802/0.058","v":0},{"$f":"'Conversion 1'!B802/0.01","v":0},{"$f":"'Conversion 1'!B802/0.02","v":0},{"$f":"'Conversion 1'!B802/0.56","v":0},{"$f":"'Conversion 1'!B802/0.4","v":0}]
[null,{"$f":"0.1423*('Conversion 1'!D803^1.2528)","v":0},{"$f":"(0.00005*('Conversion 1'!D803^2))+(0.3389*'Conversion 1'!D803)-1.431","v":-1.431},802,{"$f":"'Conversion 1'!B803","v":0},{"$f":"'Conversion 1'!B803/0.4","v":0},{"$f":"'Conversion 1'!B803/0.4","v":0},{"$f":"'Conversion 1'!B803","v":0},{"$f":"'Conversion 1'!B803/0.07","v":0},{"$f":"'Conversion 1'!B803/0.056","v":0},{"$f":"'Conversion 1'!B803/0.1","v":0},{"$f":"'Conversion 1'!B803/0.058","v":0},{"$f":"'Conversion 1'!B803/0.01","v":0},{"$f":"'Conversion 1'!B803/0.02","v":0},{"$f":"'Conversion 1'!B803/0.56","v":0},{"$f":"'Conversion 1'!B803/0.4","v":0}]
[null,{"$f":"0.1423*('Conversion 1'!D804^1.2528)","v":0},{"$f":"(0.00005*('Conversion 1'!D804^2))+(0.3389*'Conversion 1'!D804)-1.431","v":-1.431},803,{"$f":"'Conversion 1'!B804","v":0},{"$f":"'Conversion 1'!B804/0.4","v":0},{"$f":"'Conversion 1'!B804/0.4","v":0},{"$f":"'Conversion 1'!B804","v":0},{"$f":"'Conversion 1'!B804/0.07","v":0},{"$f":"'Conversion 1'!B804/0.056","v":0},{"$f":"'Conversion 1'!B804/0.1","v":0},{"$f":"'Conversion 1'!B804/0.058","v":0},{"$f":"'Conversion 1'!B804/0.01","v":0},{"$f":"'Conversion 1'!B804/0.02","v":0},{"$f":"'Conversion 1'!B804/0.56","v":0},{"$f":"'Conversion 1'!B804/0.4","v":0}]
[null,{"$f":"0.1423*('Conversion 1'!D805^1.2528)","v":0},{"$f":"(0.00005*('Conversion 1'!D805^2))+(0.3389*'Conversion 1'!D805)-1.431","v":-1.431},804,{"$f":"'Conversion 1'!B805","v":0},{"$f":"'Conversion 1'!B805/0.4","v":0},{"$f":"'Conversion 1'!B805/0.4","v":0},{"$f":"'Conversion 1'!B805","v":0},{"$f":"'Conversion 1'!B805/0.07","v":0},{"$f":"'Conversion 1'!B805/0.056","v":0},{"$f":"'Conversion 1'!B805/0.1","v":0},{"$f":"'Conversion 1'!B805/0.058","v":0},{"$f":"'Conversion 1'!B805/0.01","v":0},{"$f":"'Conversion 1'!B805/0.02","v":0},{"$f":"'Conversion 1'!B805/0.56","v":0},{"$f":"'Conversion 1'!B805/0.4","v":0}]
[null,{"$f":"0.1423*('Conversion 1'!D806^1.2528)","v":0},{"$f":"(0.00005*('Conversion 1'!D806^2))+(0.3389*'Conversion 1'!D806)-1.431","v":-1.431},805,{"$f":"'Conversion 1'!B806","v":0},{"$f":"'Conversion 1'!B806/0.4","v":0},{"$f":"'Conversion 1'!B806/0.4","v":0},{"$f":"'Conversion 1'!B806","v":0},{"$f":"'Conversion 1'!B806/0.07","v":0},{"$f":"'Conversion 1'!B806/0.056","v":0},{"$f":"'Conversion 1'!B806/0.1","v":0},{"$f":"'Conversion 1'!B806/0.058","v":0},{"$f":"'Conversion 1'!B806/0.01","v":0},{"$f":"'Conversion 1'!B806/0.02","v":0},{"$f":"'Conversion 1'!B806/0.56","v":0},{"$f":"'Conversion 1'!B806/0.4","v":0}]
[null,{"$f":"0.1423*('Conversion 1'!D807^1.2528)","v":0},{"$f":"(0.00005*('Conversion 1'!D807^2))+(0.3389*'Conversion 1'!D807)-1.431","v":-1.431},806,{"$f":"'Conversion 1'!B807","v":0},{"$f":"'Conversion 1'!B807/0.4","v":0},{"$f":"'Conversion 1'!B807/0.4","v":0},{"$f":"'Conversion 1'!B807","v":0},{"$f":"'Conversion 1'!B807/0.07","v":0},{"$f":"'Conversion 1'!B807/0.056","v":0},{"$f":"'Conversion 1'!B807/0.1","v":0},{"$f":"'Conversion 1'!B807/0.058","v":0},{"$f":"'Conversion 1'!B807/0.01","v":0},{"$f":"'Conversion 1'!B807/0.02","v":0},{"$f":"'Conversion 1'!B807/0.56","v":0},{"$f":"'Conversion 1'!B807/0.4","v":0}]
[null,{"$f":"0.1423*('Conversion 1'!D808^1.2528)","v":0},{"$f":"(0.00005*('Conversion 1'!D808^2))+(0.3389*'Conversion 1'!D808)-1.431","v":-1.431},807,{"$f":"'Conversion 1'!B808","v":0},{"$f":"'Conversion 1'!B808/0.4","v":0},{"$f":"'Conversion 1'!B808/0.4","v":0},{"$f":"'Conversion 1'!B808","v":0},{"$f":"'Conversion 1'!B808/0.07","v":0},{"$f":"'Conversion 1'!B808/0.056","v":0},{"$f":"'Conversion 1'!B808/0.1","v":0},{"$f":"'Conversion 1'!B808/0.058","v":0},{"$f":"'Conversion 1'!B808/0.01","v":0},{"$f":"'Conversion 1'!B808/0.02","v":0},{"$f":"'Conversion 1'!B808/0.56","v":0},{"$f":"'Conversion 1'!B808/0.4","v":0}]
[null,{"$f":"0.1423*('Conversion 1'!D809^1.2528)","v":0},{"$f":"(0.00005*('Conversion 1'!D809^2))+(0.3389*'Conversion 1'!D809)-1.431","v":-1.431},808,{"$f":"'Conversion 1'!B809","v":0},{"$f":"'Conversion 1'!B809/0.4","v":0},{"$f":"'Conversion 1'!B809/0.4","v":0},{"$f":"'Conversion 1'!B809","v":0},{"$f":"'Conversion 1'!B809/0.07","v":0},{"$f":"'Conversion 1'!B809/0.056","v":0},{"$f":"'Conversion 1'!B809/0.1","v":0},{"$f":"'Conversion 1'!B809/0.058","v":0},{"$f":"'Conversion 1'!B809/0.01","v":0},{"$f":"'Conversion 1'!B809/0.02","v":0},{"$f":"'Conversion 1'!B809/0.56","v":0},{"$f":"'Conversion 1'!B809/0.4","v":0}]
[null,{"$f":"0.1423*('Conversion 1'!D810^1.2528)","v":0},{"$f":"(0.00005*('Conversion 1'!D810^2))+(0.3389*'Conversion 1'!D810)-1.431","v":-1.431},809,{"$f":"'Conversion 1'!B810","v":0},{"$f":"'Conversion 1'!B810/0.4","v":0},{"$f":"'Conversion 1'!B810/0.4","v":0},{"$f":"'Conversion 1'!B810","v":0},{"$f":"'Conversion 1'!B810/0.07","v":0},{"$f":"'Conversion 1'!B810/0.056","v":0},{"$f":"'Conversion 1'!B810/0.1","v":0},{"$f":"'Conversion 1'!B810/0.058","v":0},{"$f":"'Conversion 1'!B810/0.01","v":0},{"$f":"'Conversion 1'!B810/0.02","v":0},{"$f":"'Conversion 1'!B810/0.56","v":0},{"$f":"'Conversion 1'!B810/0.4","v":0}]
[null,{"$f":"0.1423*('Conversion 1'!D811^1.2528)","v":0},{"$f":"(0.00005*('Conversion 1'!D811^2))+(0.3389*'Conversion 1'!D811)-1.431","v":-1.431},810,{"$f":"'Conversion 1'!B811","v":0},{"$f":"'Conversion 1'!B811/0.4","v":0},{"$f":"'Conversion 1'!B811/0.4","v":0},{"$f":"'Conversion 1'!B811","v":0},{"$f":"'Conversion 1'!B811/0.07","v":0},{"$f":"'Conversion 1'!B811/0.056","v":0},{"$f":"'Conversion 1'!B811/0.1","v":0},{"$f":"'Conversion 1'!B811/0.058","v":0},{"$f":"'Conversion 1'!B811/0.01","v":0},{"$f":"'Conversion 1'!B811/0.02","v":0},{"$f":"'Conversion 1'!B811/0.56","v":0},{"$f":"'Conversion 1'!B811/0.4","v":0}]
[null,{"$f":"0.1423*('Conversion 1'!D812^1.2528)","v":0},{"$f":"(0.00005*('Conversion 1'!D812^2))+(0.3389*'Conversion 1'!D812)-1.431","v":-1.431},811,{"$f":"'Conversion 1'!B812","v":0},{"$f":"'Conversion 1'!B812/0.4","v":0},{"$f":"'Conversion 1'!B812/0.4","v":0},{"$f":"'Conversion 1'!B812","v":0},{"$f":"'Conversion 1'!B812/0.07","v":0},{"$f":"'Conversion 1'!B812/0.056","v":0},{"$f":"'Conversion 1'!B812/0.1","v":0},{"$f":"'Conversion 1'!B812/0.058","v":0},{"$f":"'Conversion 1'!B812/0.01","v":0},{"$f":"'Conversion 1'!B812/0.02","v":0},{"$f":"'Conversion 1'!B812/0.56","v":0},{"$f":"'Conversion 1'!B812/0.4","v":0}]
[null,{"$f":"0.1423*('Conversion 1'!D813^1.2528)","v":0},{"$f":"(0.00005*('Conversion 1'!D813^2))+(0.3389*'Conversion 1'!D813)-1.431","v":-1.431},812,{"$f":"'Conversion 1'!B813","v":0},{"$f":"'Conversion 1'!B813/0.4","v":0},{"$f":"'Conversion 1'!B813/0.4","v":0},{"$f":"'Conversion 1'!B813","v":0},{"$f":"'Conversion 1'!B813/0.07","v":0},{"$f":"'Conversion 1'!B813/0.056","v":0},{"$f":"'Conversion 1'!B813/0.1","v":0},{"$f":"'Conversion 1'!B813/0.058","v":0},{"$f":"'Conversion 1'!B813/0.01","v":0},{"$f":"'Conversion 1'!B813/0.02","v":0},{"$f":"'Conversion 1'!B813/0.56","v":0},{"$f":"'Conversion 1'!B813/0.4","v":0}]
[null,{"$f":"0.1423*('Conversion 1'!D814^1.2528)","v":0},{"$f":"(0.00005*('Conversion 1'!D814^2))+(0.3389*'Conversion 1'!D814)-1.431","v":-1.431},813,{"$f":"'Conversion 1'!B814","v":0},{"$f":"'Conversion 1'!B814/0.4","v":0},{"$f":"'Conversion 1'!B814/0.4","v":0},{"$f":"'Conversion 1'!B814","v":0},{"$f":"'Conversion 1'!B814/0.07","v":0},{"$f":"'Conversion 1'!B814/0.056","v":0},{"$f":"'Conversion 1'!B814/0.1","v":0},{"$f":"'Conversion 1'!B814/0.058","v":0},{"$f":"'Conversion 1'!B814/0.01","v":0},{"$f":"'Conversion 1'!B814/0.02","v":0},{"$f":"'Conversion 1'!B814/0.56","v":0},{"$f":"'Conversion 1'!B814/0.4","v":0}]
[null,{"$f":"0.1423*('Conversion 1'!D815^1.2528)","v":0},{"$f":"(0.00005*('Conversion 1'!D815^2))+(0.3389*'Conversion 1'!D815)-1.431","v":-1.431},814,{"$f":"'Conversion 1'!B815","v":0},{"$f":"'Conversion 1'!B815/0.4","v":0},{"$f":"'Conversion 1'!B815/0.4","v":0},{"$f":"'Conversion 1'!B815","v":0},{"$f":"'Conversion 1'!B815/0.07","v":0},{"$f":"'Conversion 1'!B815/0.056","v":0},{"$f":"'Conversion 1'!B815/0.1","v":0},{"$f":"'Conversion 1'!B815/0.058","v":0},{"$f":"'Conversion 1'!B815/0.01","v":0},{"$f":"'Conversion 1'!B815/0.02","v":0},{"$f":"'Conversion 1'!B815/0.56","v":0},{"$f":"'Conversion 1'!B815/0.4","v":0}]
[null,{"$f":"0.1423*('Conversion 1'!D816^1.2528)","v":0},{"$f":"(0.00005*('Conversion 1'!D816^2))+(0.3389*'Conversion 1'!D816)-1.431","v":-1.431},815,{"$f":"'Conversion 1'!B816","v":0},{"$f":"'Conversion 1'!B816/0.4","v":0},{"$f":"'Conversion 1'!B816/0.4","v":0},{"$f":"'Conversion 1'!B816","v":0},{"$f":"'Conversion 1'!B816/0.07","v":0},{"$f":"'Conversion 1'!B816/0.056","v":0},{"$f":"'Conversion 1'!B816/0.1","v":0},{"$f":"'Conversion 1'!B816/0.058","v":0},{"$f":"'Conversion 1'!B816/0.01","v":0},{"$f":"'Conversion 1'!B816/0.02","v":0},{"$f":"'Conversion 1'!B816/0.56","v":0},{"$f":"'Conversion 1'!B816/0.4","v":0}]
[null,{"$f":"0.1423*('Conversion 1'!D817^1.2528)","v":0},{"$f":"(0.00005*('Conversion 1'!D817^2))+(0.3389*'Conversion 1'!D817)-1.431","v":-1.431},816,{"$f":"'Conversion 1'!B817","v":0},{"$f":"'Conversion 1'!B817/0.4","v":0},{"$f":"'Conversion 1'!B817/0.4","v":0},{"$f":"'Conversion 1'!B817","v":0},{"$f":"'Conversion 1'!B817/0.07","v":0},{"$f":"'Conversion 1'!B817/0.056","v":0},{"$f":"'Conversion 1'!B817/0.1","v":0},{"$f":"'Conversion 1'!B817/0.058","v":0},{"$f":"'Conversion 1'!B817/0.01","v":0},{"$f":"'Conversion 1'!B817/0.02","v":0},{"$f":"'Conversion 1'!B817/0.56","v":0},{"$f":"'Conversion 1'!B817/0.4","v":0}]
[null,{"$f":"0.1423*('Conversion 1'!D818^1.2528)","v":0},{"$f":"(0.00005*('Conversion 1'!D818^2))+(0.3389*'Conversion 1'!D818)-1.431","v":-1.431},817,{"$f":"'Conversion 1'!B818","v":0},{"$f":"'Conversion 1'!B818/0.4","v":0},{"$f":"'Conversion 1'!B818/0.4","v":0},{"$f":"'Conversion 1'!B818","v":0},{"$f":"'Conversion 1'!B818/0.07","v":0},{"$f":"'Conversion 1'!B818/0.056","v":0},{"$f":"'Conversion 1'!B818/0.1","v":0},{"$f":"'Conversion 1'!B818/0.058","v":0},{"$f":"'Conversion 1'!B818/0.01","v":0},{"$f":"'Conversion 1'!B818/0.02","v":0},{"$f":"'Conversion 1'!B818/0.56","v":0},{"$f":"'Conversion 1'!B818/0.4","v":0}]
[null,{"$f":"0.1423*('Conversion 1'!D819^1.2528)","v":0},{"$f":"(0.00005*('Conversion 1'!D819^2))+(0.3389*'Conversion 1'!D819)-1.431","v":-1.431},818,{"$f":"'Conversion 1'!B819","v":0},{"$f":"'Conversion 1'!B819/0.4","v":0},{"$f":"'Conversion 1'!B819/0.4","v":0},{"$f":"'Conversion 1'!B819","v":0},{"$f":"'Conversion 1'!B819/0.07","v":0},{"$f":"'Conversion 1'!B819/0.056","v":0},{"$f":"'Conversion 1'!B819/0.1","v":0},{"$f":"'Conversion 1'!B819/0.058","v":0},{"$f":"'Conversion 1'!B819/0.01","v":0},{"$f":"'Conversion 1'!B819/0.02","v":0},{"$f":"'Conversion 1'!B819/0.56","v":0},{"$f":"'Conversion 1'!B819/0.4","v":0}]
[null,{"$f":"0.1423*('Conversion 1'!D820^1.2528)","v":0},{"$f":"(0.00005*('Conversion 1'!D820^2))+(0.3389*'Conversion 1'!D820)-1.431","v":-1.431},819,{"$f":"'Conversion 1'!B820","v":0},{"$f":"'Conversion 1'!B820/0.4","v":0},{"$f":"'Conversion 1'!B820/0.4","v":0},{"$f":"'Conversion 1'!B820","v":0},{"$f":"'Conversion 1'!B820/0.07","v":0},{"$f":"'Conversion 1'!B820/0.056","v":0},{"$f":"'Conversion 1'!B820/0.1","v":0},{"$f":"'Conversion 1'!B820/0.058","v":0},{"$f":"'Conversion 1'!B820/0.01","v":0},{"$f":"'Conversion 1'!B820/0.02","v":0},{"$f":"'Conversion 1'!B820/0.56","v":0},{"$f":"'Conversion 1'!B820/0.4","v":0}]
[null,{"$f":"0.1423*('Conversion 1'!D821^1.2528)","v":0},{"$f":"(0.00005*('Conversion 1'!D821^2))+(0.3389*'Conversion 1'!D821)-1.431","v":-1.431},820,{"$f":"'Conversion 1'!B821","v":0},{"$f":"'Conversion 1'!B821/0.4","v":0},{"$f":"'Conversion 1'!B821/0.4","v":0},{"$f":"'Conversion 1'!B821","v":0},{"$f":"'Conversion 1'!B821/0.07","v":0},{"$f":"'Conversion 1'!B821/0.056","v":0},{"$f":"'Conversion 1'!B821/0.1","v":0},{"$f":"'Conversion 1'!B821/0.058","v":0},{"$f":"'Conversion 1'!B821/0.01","v":0},{"$f":"'Conversion 1'!B821/0.02","v":0},{"$f":"'Conversion 1'!B821/0.56","v":0},{"$f":"'Conversion 1'!B821/0.4","v":0}]
[null,{"$f":"0.1423*('Conversion 1'!D822^1.2528)","v":0},{"$f":"(0.00005*('Conversion 1'!D822^2))+(0.3389*'Conversion 1'!D822)-1.431","v":-1.431},821,{"$f":"'Conversion 1'!B822","v":0},{"$f":"'Conversion 1'!B822/0.4","v":0},{"$f":"'Conversion 1'!B822/0.4","v":0},{"$f":"'Conversion 1'!B822","v":0},{"$f":"'Conversion 1'!B822/0.07","v":0},{"$f":"'Conversion 1'!B822/0.056","v":0},{"$f":"'Conversion 1'!B822/0.1","v":0},{"$f":"'Conversion 1'!B822/0.058","v":0},{"$f":"'Conversion 1'!B822/0.01","v":0},{"$f":"'Conversion 1'!B822/0.02","v":0},{"$f":"'Conversion 1'!B822/0.56","v":0},{"$f":"'Conversion 1'!B822/0.4","v":0}]
[null,{"$f":"0.1423*('Conversion 1'!D823^1.2528)","v":0},{"$f":"(0.00005*('Conversion 1'!D823^2))+(0.3389*'Conversion 1'!D823)-1.431","v":-1.431},822,{"$f":"'Conversion 1'!B823","v":0},{"$f":"'Conversion 1'!B823/0.4","v":0},{"$f":"'Conversion 1'!B823/0.4","v":0},{"$f":"'Conversion 1'!B823","v":0},{"$f":"'Conversion 1'!B823/0.07","v":0},{"$f":"'Conversion 1'!B823/0.056","v":0},{"$f":"'Conversion 1'!B823/0.1","v":0},{"$f":"'Conversion 1'!B823/0.058","v":0},{"$f":"'Conversion 1'!B823/0.01","v":0},{"$f":"'Conversion 1'!B823/0.02","v":0},{"$f":"'Conversion 1'!B823/0.56","v":0},{"$f":"'Conversion 1'!B823/0.4","v":0}]
[null,{"$f":"0.1423*('Conversion 1'!D824^1.2528)","v":0},{"$f":"(0.00005*('Conversion 1'!D824^2))+(0.3389*'Conversion 1'!D824)-1.431","v":-1.431},823,{"$f":"'Conversion 1'!B824","v":0},{"$f":"'Conversion 1'!B824/0.4","v":0},{"$f":"'Conversion 1'!B824/0.4","v":0},{"$f":"'Conversion 1'!B824","v":0},{"$f":"'Conversion 1'!B824/0.07","v":0},{"$f":"'Conversion 1'!B824/0.056","v":0},{"$f":"'Conversion 1'!B824/0.1","v":0},{"$f":"'Conversion 1'!B824/0.058","v":0},{"$f":"'Conversion 1'!B824/0.01","v":0},{"$f":"'Conversion 1'!B824/0.02","v":0},{"$f":"'Conversion 1'!B824/0.56","v":0},{"$f":"'Conversion 1'!B824/0.4","v":0}]
[null,{"$f":"0.1423*('Conversion 1'!D825^1.2528)","v":0},{"$f":"(0.00005*('Conversion 1'!D825^2))+(0.3389*'Conversion 1'!D825)-1.431","v":-1.431},824,{"$f":"'Conversion 1'!B825","v":0},{"$f":"'Conversion 1'!B825/0.4","v":0},{"$f":"'Conversion 1'!B825/0.4","v":0},{"$f":"'Conversion 1'!B825","v":0},{"$f":"'Conversion 1'!B825/0.07","v":0},{"$f":"'Conversion 1'!B825/0.056","v":0},{"$f":"'Conversion 1'!B825/0.1","v":0},{"$f":"'Conversion 1'!B825/0.058","v":0},{"$f":"'Conversion 1'!B825/0.01","v":0},{"$f":"'Conversion 1'!B825/0.02","v":0},{"$f":"'Conversion 1'!B825/0.56","v":0},{"$f":"'Conversion 1'!B825/0.4","v":0}]
[null,{"$f":"0.1423*('Conversion 1'!D826^1.2528)","v":0},{"$f":"(0.00005*('Conversion 1'!D826^2))+(0.3389*'Conversion 1'!D826)-1.431","v":-1.431},825,{"$f":"'Conversion 1'!B826","v":0},{"$f":"'Conversion 1'!B826/0.4","v":0},{"$f":"'Conversion 1'!B826/0.4","v":0},{"$f":"'Conversion 1'!B826","v":0},{"$f":"'Conversion 1'!B826/0.07","v":0},{"$f":"'Conversion 1'!B826/0.056","v":0},{"$f":"'Conversion 1'!B826/0.1","v":0},{"$f":"'Conversion 1'!B826/0.058","v":0},{"$f":"'Conversion 1'!B826/0.01","v":0},{"$f":"'Conversion 1'!B826/0.02","v":0},{"$f":"'Conversion 1'!B826/0.56","v":0},{"$f":"'Conversion 1'!B826/0.4","v":0}]
[null,{"$f":"0.1423*('Conversion 1'!D827^1.2528)","v":0},{"$f":"(0.00005*('Conversion 1'!D827^2))+(0.3389*'Conversion 1'!D827)-1.431","v":-1.431},826,{"$f":"'Conversion 1'!B827","v":0},{"$f":"'Conversion 1'!B827/0.4","v":0},{"$f":"'Conversion 1'!B827/0.4","v":0},{"$f":"'Conversion 1'!B827","v":0},{"$f":"'Conversion 1'!B827/0.07","v":0},{"$f":"'Conversion 1'!B827/0.056","v":0},{"$f":"'Conversion 1'!B827/0.1","v":0},{"$f":"'Conversion 1'!B827/0.058","v":0},{"$f":"'Conversion 1'!B827/0.01","v":0},{"$f":"'Conversion 1'!B827/0.02","v":0},{"$f":"'Conversion 1'!B827/0.56","v":0},{"$f":"'Conversion 1'!B827/0.4","v":0}]
[null,{"$f":"0.1423*('Conversion 1'!D828^1.2528)","v":0},{"$f":"(0.00005*('Conversion 1'!D828^2))+(0.3389*'Conversion 1'!D828)-1.431","v":-1.431},827,{"$f":"'Conversion 1'!B828","v":0},{"$f":"'Conversion 1'!B828/0.4","v":0},{"$f":"'Conversion 1'!B828/0.4","v":0},{"$f":"'Conversion 1'!B828","v":0},{"$f":"'Conversion 1'!B828/0.07","v":0},{"$f":"'Conversion 1'!B828/0.056","v":0},{"$f":"'Conversion 1'!B828/0.1","v":0},{"$f":"'Conversion 1'!B828/0.058","v":0},{"$f":"'Conversion 1'!B828/0.01","v":0},{"$f":"'Conversion 1'!B828/0.02","v":0},{"$f":"'Conversion 1'!B828/0.56","v":0},{"$f":"'Conversion 1'!B828/0.4","v":0}]
[null,{"$f":"0.1423*('Conversion 1'!D829^1.2528)","v":0},{"$f":"(0.00005*('Conversion 1'!D829^2))+(0.3389*'Conversion 1'!D829)-1.431","v":-1.431},828,{"$f":"'Conversion 1'!B829","v":0},{"$f":"'Conversion 1'!B829/0.4","v":0},{"$f":"'Conversion 1'!B829/0.4","v":0},{"$f":"'Conversion 1'!B829","v":0},{"$f":"'Conversion 1'!B829/0.07","v":0},{"$f":"'Conversion 1'!B829/0.056","v":0},{"$f":"'Conversion 1'!B829/0.1","v":0},{"$f":"'Conversion 1'!B829/0.058","v":0},{"$f":"'Conversion 1'!B829/0.01","v":0},{"$f":"'Conversion 1'!B829/0.02","v":0},{"$f":"'Conversion 1'!B829/0.56","v":0},{"$f":"'Conversion 1'!B829/0.4","v":0}]
[null,{"$f":"0.1423*('Conversion 1'!D830^1.2528)","v":0},{"$f":"(0.00005*('Conversion 1'!D830^2))+(0.3389*'Conversion 1'!D830)-1.431","v":-1.431},829,{"$f":"'Conversion 1'!B830","v":0},{"$f":"'Conversion 1'!B830/0.4","v":0},{"$f":"'Conversion 1'!B830/0.4","v":0},{"$f":"'Conversion 1'!B830","v":0},{"$f":"'Conversion 1'!B830/0.07","v":0},{"$f":"'Conversion 1'!B830/0.056","v":0},{"$f":"'Conversion 1'!B830/0.1","v":0},{"$f":"'Conversion 1'!B830/0.058","v":0},{"$f":"'Conversion 1'!B830/0.01","v":0},{"$f":"'Conversion 1'!B830/0.02","v":0},{"$f":"'Conversion 1'!B830/0.56","v":0},{"$f":"'Conversion 1'!B830/0.4","v":0}]
[null,{"$f":"0.1423*('Conversion 1'!D831^1.2528)","v":0},{"$f":"(0.00005*('Conversion 1'!D831^2))+(0.3389*'Conversion 1'!D831)-1.431","v":-1.431},830,{"$f":"'Conversion 1'!B831","v":0},{"$f":"'Conversion 1'!B831/0.4","v":0},{"$f":"'Conversion 1'!B831/0.4","v":0},{"$f":"'Conversion 1'!B831","v":0},{"$f":"'Conversion 1'!B831/0.07","v":0},{"$f":"'Conversion 1'!B831/0.056","v":0},{"$f":"'Conversion 1'!B831/0.1","v":0},{"$f":"'Conversion 1'!B831/0.058","v":0},{"$f":"'Conversion 1'!B831/0.01","v":0},{"$f":"'Conversion 1'!B831/0.02","v":0},{"$f":"'Conversion 1'!B831/0.56","v":0},{"$f":"'Conversion 1'!B831/0.4","v":0}]
[null,{"$f":"0.1423*('Conversion 1'!D832^1.2528)","v":0},{"$f":"(0.00005*('Conversion 1'!D832^2))+(0.3389*'Conversion 1'!D832)-1.431","v":-1.431},831,{"$f":"'Conversion 1'!B832","v":0},{"$f":"'Conversion 1'!B832/0.4","v":0},{"$f":"'Conversion 1'!B832/0.4","v":0},{"$f":"'Conversion 1'!B832","v":0},{"$f":"'Conversion 1'!B832/0.07","v":0},{"$f":"'Conversion 1'!B832/0.056","v":0},{"$f":"'Conversion 1'!B832/0.1","v":0},{"$f":"'Conversion 1'!B832/0.058","v":0},{"$f":"'Conversion 1'!B832/0.01","v":0},{"$f":"'Conversion 1'!B832/0.02","v":0},{"$f":"'Conversion 1'!B832/0.56","v":0},{"$f":"'Conversion 1'!B832/0.4","v":0}]
[null,{"$f":"0.1423*('Conversion 1'!D833^1.2528)","v":0},{"$f":"(0.00005*('Conversion 1'!D833^2))+(0.3389*'Conversion 1'!D833)-1.431","v":-1.431},832,{"$f":"'Conversion 1'!B833","v":0},{"$f":"'Conversion 1'!B833/0.4","v":0},{"$f":"'Conversion 1'!B833/0.4","v":0},{"$f":"'Conversion 1'!B833","v":0},{"$f":"'Conversion 1'!B833/0.07","v":0},{"$f":"'Conversion 1'!B833/0.056","v":0},{"$f":"'Conversion 1'!B833/0.1","v":0},{"$f":"'Conversion 1'!B833/0.058","v":0},{"$f":"'Conversion 1'!B833/0.01","v":0},{"$f":"'Conversion 1'!B833/0.02","v":0},{"$f":"'Conversion 1'!B833/0.56","v":0},{"$f":"'Conversion 1'!B833/0.4","v":0}]
[null,{"$f":"0.1423*('Conversion 1'!D834^1.2528)","v":0},{"$f":"(0.00005*('Conversion 1'!D834^2))+(0.3389*'Conversion 1'!D834)-1.431","v":-1.431},833,{"$f":"'Conversion 1'!B834","v":0},{"$f":"'Conversion 1'!B834/0.4","v":0},{"$f":"'Conversion 1'!B834/0.4","v":0},{"$f":"'Conversion 1'!B834","v":0},{"$f":"'Conversion 1'!B834/0.07","v":0},{"$f":"'Conversion 1'!B834/0.056","v":0},{"$f":"'Conversion 1'!B834/0.1","v":0},{"$f":"'Conversion 1'!B834/0.058","v":0},{"$f":"'Conversion 1'!B834/0.01","v":0},{"$f":"'Conversion 1'!B834/0.02","v":0},{"$f":"'Conversion 1'!B834/0.56","v":0},{"$f":"'Conversion 1'!B834/0.4","v":0}]
[null,{"$f":"0.1423*('Conversion 1'!D835^1.2528)","v":0},{"$f":"(0.00005*('Conversion 1'!D835^2))+(0.3389*'Conversion 1'!D835)-1.431","v":-1.431},834,{"$f":"'Conversion 1'!B835","v":0},{"$f":"'Conversion 1'!B835/0.4","v":0},{"$f":"'Conversion 1'!B835/0.4","v":0},{"$f":"'Conversion 1'!B835","v":0},{"$f":"'Conversion 1'!B835/0.07","v":0},{"$f":"'Conversion 1'!B835/0.056","v":0},{"$f":"'Conversion 1'!B835/0.1","v":0},{"$f":"'Conversion 1'!B835/0.058","v":0},{"$f":"'Conversion 1'!B835/0.01","v":0},{"$f":"'Conversion 1'!B835/0.02","v":0},{"$f":"'Conversion 1'!B835/0.56","v":0},{"$f":"'Conversion 1'!B835/0.4","v":0}]
[null,{"$f":"0.1423*('Conversion 1'!D836^1.2528)","v":0},{"$f":"(0.00005*('Conversion 1'!D836^2))+(0.3389*'Conversion 1'!D836)-1.431","v":-1.431},835,{"$f":"'Conversion 1'!B836","v":0},{"$f":"'Conversion 1'!B836/0.4","v":0},{"$f":"'Conversion 1'!B836/0.4","v":0},{"$f":"'Conversion 1'!B836","v":0},{"$f":"'Conversion 1'!B836/0.07","v":0},{"$f":"'Conversion 1'!B836/0.056","v":0},{"$f":"'Conversion 1'!B836/0.1","v":0},{"$f":"'Conversion 1'!B836/0.058","v":0},{"$f":"'Conversion 1'!B836/0.01","v":0},{"$f":"'Conversion 1'!B836/0.02","v":0},{"$f":"'Conversion 1'!B836/0.56","v":0},{"$f":"'Conversion 1'!B836/0.4","v":0}]
[null,{"$f":"0.1423*('Conversion 1'!D837^1.2528)","v":0},{"$f":"(0.00005*('Conversion 1'!D837^2))+(0.3389*'Conversion 1'!D837)-1.431","v":-1.431},836,{"$f":"'Conversion 1'!B837","v":0},{"$f":"'Conversion 1'!B837/0.4","v":0},{"$f":"'Conversion 1'!B837/0.4","v":0},{"$f":"'Conversion 1'!B837","v":0},{"$f":"'Conversion 1'!B837/0.07","v":0},{"$f":"'Conversion 1'!B837/0.056","v":0},{"$f":"'Conversion 1'!B837/0.1","v":0},{"$f":"'Conversion 1'!B837/0.058","v":0},{"$f":"'Conversion 1'!B837/0.01","v":0},{"$f":"'Conversion 1'!B837/0.02","v":0},{"$f":"'Conversion 1'!B837/0.56","v":0},{"$f":"'Conversion 1'!B837/0.4","v":0}]
[null,{"$f":"0.1423*('Conversion 1'!D838^1.2528)","v":0},{"$f":"(0.00005*('Conversion 1'!D838^2))+(0.3389*'Conversion 1'!D838)-1.431","v":-1.431},837,{"$f":"'Conversion 1'!B838","v":0},{"$f":"'Conversion 1'!B838/0.4","v":0},{"$f":"'Conversion 1'!B838/0.4","v":0},{"$f":"'Conversion 1'!B838","v":0},{"$f":"'Conversion 1'!B838/0.07","v":0},{"$f":"'Conversion 1'!B838/0.056","v":0},{"$f":"'Conversion 1'!B838/0.1","v":0},{"$f":"'Conversion 1'!B838/0.058","v":0},{"$f":"'Conversion 1'!B838/0.01","v":0},{"$f":"'Conversion 1'!B838/0.02","v":0},{"$f":"'Conversion 1'!B838/0.56","v":0},{"$f":"'Conversion 1'!B838/0.4","v":0}]
[null,{"$f":"0.1423*('Conversion 1'!D839^1.2528)","v":0},{"$f":"(0.00005*('Conversion 1'!D839^2))+(0.3389*'Conversion 1'!D839)-1.431","v":-1.431},838,{"$f":"'Conversion 1'!B839","v":0},{"$f":"'Conversion 1'!B839/0.4","v":0},{"$f":"'Conversion 1'!B839/0.4","v":0},{"$f":"'Conversion 1'!B839","v":0},{"$f":"'Conversion 1'!B839/0.07","v":0},{"$f":"'Conversion 1'!B839/0.056","v":0},{"$f":"'Conversion 1'!B839/0.1","v":0},{"$f":"'Conversion 1'!B839/0.058","v":0},{"$f":"'Conversion 1'!B839/0.01","v":0},{"$f":"'Conversion 1'!B839/0.02","v":0},{"$f":"'Conversion 1'!B839/0.56","v":0},{"$f":"'Conversion 1'!B839/0.4","v":0}]
[null,{"$f":"0.1423*('Conversion 1'!D840^1.2528)","v":0},{"$f":"(0.00005*('Conversion 1'!D840^2))+(0.3389*'Conversion 1'!D840)-1.431","v":-1.431},839,{"$f":"'Conversion 1'!B840","v":0},{"$f":"'Conversion 1'!B840/0.4","v":0},{"$f":"'Conversion 1'!B840/0.4","v":0},{"$f":"'Conversion 1'!B840","v":0},{"$f":"'Conversion 1'!B840/0.07","v":0},{"$f":"'Conversion 1'!B840/0.056","v":0},{"$f":"'Conversion 1'!B840/0.1","v":0},{"$f":"'Conversion 1'!B840/0.058","v":0},{"$f":"'Conversion 1'!B840/0.01","v":0},{"$f":"'Conversion 1'!B840/0.02","v":0},{"$f":"'Conversion 1'!B840/0.56","v":0},{"$f":"'Conversion 1'!B840/0.4","v":0}]
[null,{"$f":"0.1423*('Conversion 1'!D841^1.2528)","v":0},{"$f":"(0.00005*('Conversion 1'!D841^2))+(0.3389*'Conversion 1'!D841)-1.431","v":-1.431},840,{"$f":"'Conversion 1'!B841","v":0},{"$f":"'Conversion 1'!B841/0.4","v":0},{"$f":"'Conversion 1'!B841/0.4","v":0},{"$f":"'Conversion 1'!B841","v":0},{"$f":"'Conversion 1'!B841/0.07","v":0},{"$f":"'Conversion 1'!B841/0.056","v":0},{"$f":"'Conversion 1'!B841/0.1","v":0},{"$f":"'Conversion 1'!B841/0.058","v":0},{"$f":"'Conversion 1'!B841/0.01","v":0},{"$f":"'Conversion 1'!B841/0.02","v":0},{"$f":"'Conversion 1'!B841/0.56","v":0},{"$f":"'Conversion 1'!B841/0.4","v":0}]
[null,{"$f":"0.1423*('Conversion 1'!D842^1.2528)","v":0},{"$f":"(0.00005*('Conversion 1'!D842^2))+(0.3389*'Conversion 1'!D842)-1.431","v":-1.431},841,{"$f":"'Conversion 1'!B842","v":0},{"$f":"'Conversion 1'!B842/0.4","v":0},{"$f":"'Conversion 1'!B842/0.4","v":0},{"$f":"'Conversion 1'!B842","v":0},{"$f":"'Conversion 1'!B842/0.07","v":0},{"$f":"'Conversion 1'!B842/0.056","v":0},{"$f":"'Conversion 1'!B842/0.1","v":0},{"$f":"'Conversion 1'!B842/0.058","v":0},{"$f":"'Conversion 1'!B842/0.01","v":0},{"$f":"'Conversion 1'!B842/0.02","v":0},{"$f":"'Conversion 1'!B842/0.56","v":0},{"$f":"'Conversion 1'!B842/0.4","v":0}]
[null,{"$f":"0.1423*('Conversion 1'!D843^1.2528)","v":0},{"$f":"(0.00005*('Conversion 1'!D843^2))+(0.3389*'Conversion 1'!D843)-1.431","v":-1.431},842,{"$f":"'Conversion 1'!B843","v":0},{"$f":"'Conversion 1'!B843/0.4","v":0},{"$f":"'Conversion 1'!B843/0.4","v":0},{"$f":"'Conversion 1'!B843","v":0},{"$f":"'Conversion 1'!B843/0.07","v":0},{"$f":"'Conversion 1'!B843/0.056","v":0},{"$f":"'Conversion 1'!B843/0.1","v":0},{"$f":"'Conversion 1'!B843/0.058","v":0},{"$f":"'Conversion 1'!B843/0.01","v":0},{"$f":"'Conversion 1'!B843/0.02","v":0},{"$f":"'Conversion 1'!B843/0.56","v":0},{"$f":"'Conversion 1'!B843/0.4","v":0}]
[null,{"$f":"0.1423*('Conversion 1'!D844^1.2528)","v":0},{"$f":"(0.00005*('Conversion 1'!D844^2))+(0.3389*'Conversion 1'!D844)-1.431","v":-1.431},843,{"$f":"'Conversion 1'!B844","v":0},{"$f":"'Conversion 1'!B844/0.4","v":0},{"$f":"'Conversion 1'!B844/0.4","v":0},{"$f":"'Conversion 1'!B844","v":0},{"$f":"'Conversion 1'!B844/0.07","v":0},{"$f":"'Conversion 1'!B844/0.056","v":0},{"$f":"'Conversion 1'!B844/0.1","v":0},{"$f":"'Conversion 1'!B844/0.058","v":0},{"$f":"'Conversion 1'!B844/0.01","v":0},{"$f":"'Conversion 1'!B844/0.02","v":0},{"$f":"'Conversion 1'!B844/0.56","v":0},{"$f":"'Conversion 1'!B844/0.4","v":0}]
[null,{"$f":"0.1423*('Conversion 1'!D845^1.2528)","v":0},{"$f":"(0.00005*('Conversion 1'!D845^2))+(0.3389*'Conversion 1'!D845)-1.431","v":-1.431},844,{"$f":"'Conversion 1'!B845","v":0},{"$f":"'Conversion 1'!B845/0.4","v":0},{"$f":"'Conversion 1'!B845/0.4","v":0},{"$f":"'Conversion 1'!B845","v":0},{"$f":"'Conversion 1'!B845/0.07","v":0},{"$f":"'Conversion 1'!B845/0.056","v":0},{"$f":"'Conversion 1'!B845/0.1","v":0},{"$f":"'Conversion 1'!B845/0.058","v":0},{"$f":"'Conversion 1'!B845/0.01","v":0},{"$f":"'Conversion 1'!B845/0.02","v":0},{"$f":"'Conversion 1'!B845/0.56","v":0},{"$f":"'Conversion 1'!B845/0.4","v":0}]
[null,{"$f":"0.1423*('Conversion 1'!D846^1.2528)","v":0},{"$f":"(0.00005*('Conversion 1'!D846^2))+(0.3389*'Conversion 1'!D846)-1.431","v":-1.431},845,{"$f":"'Conversion 1'!B846","v":0},{"$f":"'Conversion 1'!B846/0.4","v":0},{"$f":"'Conversion 1'!B846/0.4","v":0},{"$f":"'Conversion 1'!B846","v":0},{"$f":"'Conversion 1'!B846/0.07","v":0},{"$f":"'Conversion 1'!B846/0.056","v":0},{"$f":"'Conversion 1'!B846/0.1","v":0},{"$f":"'Conversion 1'!B846/0.058","v":0},{"$f":"'Conversion 1'!B846/0.01","v":0},{"$f":"'Conversion 1'!B846/0.02","v":0},{"$f":"'Conversion 1'!B846/0.56","v":0},{"$f":"'Conversion 1'!B846/0.4","v":0}]
[null,{"$f":"0.1423*('Conversion 1'!D847^1.2528)","v":0},{"$f":"(0.00005*('Conversion 1'!D847^2))+(0.3389*'Conversion 1'!D847)-1.431","v":-1.431},846,{"$f":"'Conversion 1'!B847","v":0},{"$f":"'Conversion 1'!B847/0.4","v":0},{"$f":"'Conversion 1'!B847/0.4","v":0},{"$f":"'Conversion 1'!B847","v":0},{"$f":"'Conversion 1'!B847/0.07","v":0},{"$f":"'Conversion 1'!B847/0.056","v":0},{"$f":"'Conversion 1'!B847/0.1","v":0},{"$f":"'Conversion 1'!B847/0.058","v":0},{"$f":"'Conversion 1'!B847/0.01","v":0},{"$f":"'Conversion 1'!B847/0.02","v":0},{"$f":"'Conversion 1'!B847/0.56","v":0},{"$f":"'Conversion 1'!B847/0.4","v":0}]
[null,{"$f":"0.1423*('Conversion 1'!D848^1.2528)","v":0},{"$f":"(0.00005*('Conversion 1'!D848^2))+(0.3389*'Conversion 1'!D848)-1.431","v":-1.431},847,{"$f":"'Conversion 1'!B848","v":0},{"$f":"'Conversion 1'!B848/0.4","v":0},{"$f":"'Conversion 1'!B848/0.4","v":0},{"$f":"'Conversion 1'!B848","v":0},{"$f":"'Conversion 1'!B848/0.07","v":0},{"$f":"'Conversion 1'!B848/0.056","v":0},{"$f":"'Conversion 1'!B848/0.1","v":0},{"$f":"'Conversion 1'!B848/0.058","v":0},{"$f":"'Conversion 1'!B848/0.01","v":0},{"$f":"'Conversion 1'!B848/0.02","v":0},{"$f":"'Conversion 1'!B848/0.56","v":0},{"$f":"'Conversion 1'!B848/0.4","v":0}]
[null,{"$f":"0.1423*('Conversion 1'!D849^1.2528)","v":0},{"$f":"(0.00005*('Conversion 1'!D849^2))+(0.3389*'Conversion 1'!D849)-1.431","v":-1.431},848,{"$f":"'Conversion 1'!B849","v":0},{"$f":"'Conversion 1'!B849/0.4","v":0},{"$f":"'Conversion 1'!B849/0.4","v":0},{"$f":"'Conversion 1'!B849","v":0},{"$f":"'Conversion 1'!B849/0.07","v":0},{"$f":"'Conversion 1'!B849/0.056","v":0},{"$f":"'Conversion 1'!B849/0.1","v":0},{"$f":"'Conversion 1'!B849/0.058","v":0},{"$f":"'Conversion 1'!B849/0.01","v":0},{"$f":"'Conversion 1'!B849/0.02","v":0},{"$f":"'Conversion 1'!B849/0.56","v":0},{"$f":"'Conversion 1'!B849/0.4","v":0}]
[null,{"$f":"0.1423*('Conversion 1'!D850^1.2528)","v":0},{"$f":"(0.00005*('Conversion 1'!D850^2))+(0.3389*'Conversion 1'!D850)-1.431","v":-1.431},849,{"$f":"'Conversion 1'!B850","v":0},{"$f":"'Conversion 1'!B850/0.4","v":0},{"$f":"'Conversion 1'!B850/0.4","v":0},{"$f":"'Conversion 1'!B850","v":0},{"$f":"'Conversion 1'!B850/0.07","v":0},{"$f":"'Conversion 1'!B850/0.056","v":0},{"$f":"'Conversion 1'!B850/0.1","v":0},{"$f":"'Conversion 1'!B850/0.058","v":0},{"$f":"'Conversion 1'!B850/0.01","v":0},{"$f":"'Conversion 1'!B850/0.02","v":0},{"$f":"'Conversion 1'!B850/0.56","v":0},{"$f":"'Conversion 1'!B850/0.4","v":0}]
[null,{"$f":"0.1423*('Conversion 1'!D851^1.2528)","v":0},{"$f":"(0.00005*('Conversion 1'!D851^2))+(0.3389*'Conversion 1'!D851)-1.431","v":-1.431},850,{"$f":"'Conversion 1'!B851","v":0},{"$f":"'Conversion 1'!B851/0.4","v":0},{"$f":"'Conversion 1'!B851/0.4","v":0},{"$f":"'Conversion 1'!B851","v":0},{"$f":"'Conversion 1'!B851/0.07","v":0},{"$f":"'Conversion 1'!B851/0.056","v":0},{"$f":"'Conversion 1'!B851/0.1","v":0},{"$f":"'Conversion 1'!B851/0.058","v":0},{"$f":"'Conversion 1'!B851/0.01","v":0},{"$f":"'Conversion 1'!B851/0.02","v":0},{"$f":"'Conversion 1'!B851/0.56","v":0},{"$f":"'Conversion 1'!B851/0.4","v":0}]
[null,{"$f":"0.1423*('Conversion 1'!D852^1.2528)","v":0},{"$f":"(0.00005*('Conversion 1'!D852^2))+(0.3389*'Conversion 1'!D852)-1.431","v":-1.431},851,{"$f":"'Conversion 1'!B852","v":0},{"$f":"'Conversion 1'!B852/0.4","v":0},{"$f":"'Conversion 1'!B852/0.4","v":0},{"$f":"'Conversion 1'!B852","v":0},{"$f":"'Conversion 1'!B852/0.07","v":0},{"$f":"'Conversion 1'!B852/0.056","v":0},{"$f":"'Conversion 1'!B852/0.1","v":0},{"$f":"'Conversion 1'!B852/0.058","v":0},{"$f":"'Conversion 1'!B852/0.01","v":0},{"$f":"'Conversion 1'!B852/0.02","v":0},{"$f":"'Conversion 1'!B852/0.56","v":0},{"$f":"'Conversion 1'!B852/0.4","v":0}]
[null,{"$f":"0.1423*('Conversion 1'!D853^1.2528)","v":0},{"$f":"(0.00005*('Conversion 1'!D853^2))+(0.3389*'Conversion 1'!D853)-1.431","v":-1.431},852,{"$f":"'Conversion 1'!B853","v":0},{"$f":"'Conversion 1'!B853/0.4","v":0},{"$f":"'Conversion 1'!B853/0.4","v":0},{"$f":"'Conversion 1'!B853","v":0},{"$f":"'Conversion 1'!B853/0.07","v":0},{"$f":"'Conversion 1'!B853/0.056","v":0},{"$f":"'Conversion 1'!B853/0.1","v":0},{"$f":"'Conversion 1'!B853/0.058","v":0},{"$f":"'Conversion 1'!B853/0.01","v":0},{"$f":"'Conversion 1'!B853/0.02","v":0},{"$f":"'Conversion 1'!B853/0.56","v":0},{"$f":"'Conversion 1'!B853/0.4","v":0}]
[null,{"$f":"0.1423*('Conversion 1'!D854^1.2528)","v":0},{"$f":"(0.00005*('Conversion 1'!D854^2))+(0.3389*'Conversion 1'!D854)-1.431","v":-1.431},853,{"$f":"'Conversion 1'!B854","v":0},{"$f":"'Conversion 1'!B854/0.4","v":0},{"$f":"'Conversion 1'!B854/0.4","v":0},{"$f":"'Conversion 1'!B854","v":0},{"$f":"'Conversion 1'!B854/0.07","v":0},{"$f":"'Conversion 1'!B854/0.056","v":0},{"$f":"'Conversion 1'!B854/0.1","v":0},{"$f":"'Conversion 1'!B854/0.058","v":0},{"$f":"'Conversion 1'!B854/0.01","v":0},{"$f":"'Conversion 1'!B854/0.02","v":0},{"$f":"'Conversion 1'!B854/0.56","v":0},{"$f":"'Conversion 1'!B854/0.4","v":0}]
[null,{"$f":"0.1423*('Conversion 1'!D855^1.2528)","v":0},{"$f":"(0.00005*('Conversion 1'!D855^2))+(0.3389*'Conversion 1'!D855)-1.431","v":-1.431},854,{"$f":"'Conversion 1'!B855","v":0},{"$f":"'Conversion 1'!B855/0.4","v":0},{"$f":"'Conversion 1'!B855/0.4","v":0},{"$f":"'Conversion 1'!B855","v":0},{"$f":"'Conversion 1'!B855/0.07","v":0},{"$f":"'Conversion 1'!B855/0.056","v":0},{"$f":"'Conversion 1'!B855/0.1","v":0},{"$f":"'Conversion 1'!B855/0.058","v":0},{"$f":"'Conversion 1'!B855/0.01","v":0},{"$f":"'Conversion 1'!B855/0.02","v":0},{"$f":"'Conversion 1'!B855/0.56","v":0},{"$f":"'Conversion 1'!B855/0.4","v":0}]
[null,{"$f":"0.1423*('Conversion 1'!D856^1.2528)","v":0},{"$f":"(0.00005*('Conversion 1'!D856^2))+(0.3389*'Conversion 1'!D856)-1.431","v":-1.431},855,{"$f":"'Conversion 1'!B856","v":0},{"$f":"'Conversion 1'!B856/0.4","v":0},{"$f":"'Conversion 1'!B856/0.4","v":0},{"$f":"'Conversion 1'!B856","v":0},{"$f":"'Conversion 1'!B856/0.07","v":0},{"$f":"'Conversion 1'!B856/0.056","v":0},{"$f":"'Conversion 1'!B856/0.1","v":0},{"$f":"'Conversion 1'!B856/0.058","v":0},{"$f":"'Conversion 1'!B856/0.01","v":0},{"$f":"'Conversion 1'!B856/0.02","v":0},{"$f":"'Conversion 1'!B856/0.56","v":0},{"$f":"'Conversion 1'!B856/0.4","v":0}]
[null,{"$f":"0.1423*('Conversion 1'!D857^1.2528)","v":0},{"$f":"(0.00005*('Conversion 1'!D857^2))+(0.3389*'Conversion 1'!D857)-1.431","v":-1.431},856,{"$f":"'Conversion 1'!B857","v":0},{"$f":"'Conversion 1'!B857/0.4","v":0},{"$f":"'Conversion 1'!B857/0.4","v":0},{"$f":"'Conversion 1'!B857","v":0},{"$f":"'Conversion 1'!B857/0.07","v":0},{"$f":"'Conversion 1'!B857/0.056","v":0},{"$f":"'Conversion 1'!B857/0.1","v":0},{"$f":"'Conversion 1'!B857/0.058","v":0},{"$f":"'Conversion 1'!B857/0.01","v":0},{"$f":"'Conversion 1'!B857/0.02","v":0},{"$f":"'Conversion 1'!B857/0.56","v":0},{"$f":"'Conversion 1'!B857/0.4","v":0}]
[null,{"$f":"0.1423*('Conversion 1'!D858^1.2528)","v":0},{"$f":"(0.00005*('Conversion 1'!D858^2))+(0.3389*'Conversion 1'!D858)-1.431","v":-1.431},857,{"$f":"'Conversion 1'!B858","v":0},{"$f":"'Conversion 1'!B858/0.4","v":0},{"$f":"'Conversion 1'!B858/0.4","v":0},{"$f":"'Conversion 1'!B858","v":0},{"$f":"'Conversion 1'!B858/0.07","v":0},{"$f":"'Conversion 1'!B858/0.056","v":0},{"$f":"'Conversion 1'!B858/0.1","v":0},{"$f":"'Conversion 1'!B858/0.058","v":0},{"$f":"'Conversion 1'!B858/0.01","v":0},{"$f":"'Conversion 1'!B858/0.02","v":0},{"$f":"'Conversion 1'!B858/0.56","v":0},{"$f":"'Conversion 1'!B858/0.4","v":0}]
[null,{"$f":"0.1423*('Conversion 1'!D859^1.2528)","v":0},{"$f":"(0.00005*('Conversion 1'!D859^2))+(0.3389*'Conversion 1'!D859)-1.431","v":-1.431},858,{"$f":"'Conversion 1'!B859","v":0},{"$f":"'Conversion 1'!B859/0.4","v":0},{"$f":"'Conversion 1'!B859/0.4","v":0},{"$f":"'Conversion 1'!B859","v":0},{"$f":"'Conversion 1'!B859/0.07","v":0},{"$f":"'Conversion 1'!B859/0.056","v":0},{"$f":"'Conversion 1'!B859/0.1","v":0},{"$f":"'Conversion 1'!B859/0.058","v":0},{"$f":"'Conversion 1'!B859/0.01","v":0},{"$f":"'Conversion 1'!B859/0.02","v":0},{"$f":"'Conversion 1'!B859/0.56","v":0},{"$f":"'Conversion 1'!B859/0.4","v":0}]
[null,{"$f":"0.1423*('Conversion 1'!D860^1.2528)","v":0},{"$f":"(0.00005*('Conversion 1'!D860^2))+(0.3389*'Conversion 1'!D860)-1.431","v":-1.431},859,{"$f":"'Conversion 1'!B860","v":0},{"$f":"'Conversion 1'!B860/0.4","v":0},{"$f":"'Conversion 1'!B860/0.4","v":0},{"$f":"'Conversion 1'!B860","v":0},{"$f":"'Conversion 1'!B860/0.07","v":0},{"$f":"'Conversion 1'!B860/0.056","v":0},{"$f":"'Conversion 1'!B860/0.1","v":0},{"$f":"'Conversion 1'!B860/0.058","v":0},{"$f":"'Conversion 1'!B860/0.01","v":0},{"$f":"'Conversion 1'!B860/0.02","v":0},{"$f":"'Conversion 1'!B860/0.56","v":0},{"$f":"'Conversion 1'!B860/0.4","v":0}]
[null,{"$f":"0.1423*('Conversion 1'!D861^1.2528)","v":0},{"$f":"(0.00005*('Conversion 1'!D861^2))+(0.3389*'Conversion 1'!D861)-1.431","v":-1.431},860,{"$f":"'Conversion 1'!B861","v":0},{"$f":"'Conversion 1'!B861/0.4","v":0},{"$f":"'Conversion 1'!B861/0.4","v":0},{"$f":"'Conversion 1'!B861","v":0},{"$f":"'Conversion 1'!B861/0.07","v":0},{"$f":"'Conversion 1'!B861/0.056","v":0},{"$f":"'Conversion 1'!B861/0.1","v":0},{"$f":"'Conversion 1'!B861/0.058","v":0},{"$f":"'Conversion 1'!B861/0.01","v":0},{"$f":"'Conversion 1'!B861/0.02","v":0},{"$f":"'Conversion 1'!B861/0.56","v":0},{"$f":"'Conversion 1'!B861/0.4","v":0}]
[null,{"$f":"0.1423*('Conversion 1'!D862^1.2528)","v":0},{"$f":"(0.00005*('Conversion 1'!D862^2))+(0.3389*'Conversion 1'!D862)-1.431","v":-1.431},861,{"$f":"'Conversion 1'!B862","v":0},{"$f":"'Conversion 1'!B862/0.4","v":0},{"$f":"'Conversion 1'!B862/0.4","v":0},{"$f":"'Conversion 1'!B862","v":0},{"$f":"'Conversion 1'!B862/0.07","v":0},{"$f":"'Conversion 1'!B862/0.056","v":0},{"$f":"'Conversion 1'!B862/0.1","v":0},{"$f":"'Conversion 1'!B862/0.058","v":0},{"$f":"'Conversion 1'!B862/0.01","v":0},{"$f":"'Conversion 1'!B862/0.02","v":0},{"$f":"'Conversion 1'!B862/0.56","v":0},{"$f":"'Conversion 1'!B862/0.4","v":0}]
[null,{"$f":"0.1423*('Conversion 1'!D863^1.2528)","v":0},{"$f":"(0.00005*('Conversion 1'!D863^2))+(0.3389*'Conversion 1'!D863)-1.431","v":-1.431},862,{"$f":"'Conversion 1'!B863","v":0},{"$f":"'Conversion 1'!B863/0.4","v":0},{"$f":"'Conversion 1'!B863/0.4","v":0},{"$f":"'Conversion 1'!B863","v":0},{"$f":"'Conversion 1'!B863/0.07","v":0},{"$f":"'Conversion 1'!B863/0.056","v":0},{"$f":"'Conversion 1'!B863/0.1","v":0},{"$f":"'Conversion 1'!B863/0.058","v":0},{"$f":"'Conversion 1'!B863/0.01","v":0},{"$f":"'Conversion 1'!B863/0.02","v":0},{"$f":"'Conversion 1'!B863/0.56","v":0},{"$f":"'Conversion 1'!B863/0.4","v":0}]
[null,{"$f":"0.1423*('Conversion 1'!D864^1.2528)","v":0},{"$f":"(0.00005*('Conversion 1'!D864^2))+(0.3389*'Conversion 1'!D864)-1.431","v":-1.431},863,{"$f":"'Conversion 1'!B864","v":0},{"$f":"'Conversion 1'!B864/0.4","v":0},{"$f":"'Conversion 1'!B864/0.4","v":0},{"$f":"'Conversion 1'!B864","v":0},{"$f":"'Conversion 1'!B864/0.07","v":0},{"$f":"'Conversion 1'!B864/0.056","v":0},{"$f":"'Conversion 1'!B864/0.1","v":0},{"$f":"'Conversion 1'!B864/0.058","v":0},{"$f":"'Conversion 1'!B864/0.01","v":0},{"$f":"'Conversion 1'!B864/0.02","v":0},{"$f":"'Conversion 1'!B864/0.56","v":0},{"$f":"'Conversion 1'!B864/0.4","v":0}]
[null,{"$f":"0.1423*('Conversion 1'!D865^1.2528)","v":0},{"$f":"(0.00005*('Conversion 1'!D865^2))+(0.3389*'Conversion 1'!D865)-1.431","v":-1.431},864,{"$f":"'Conversion 1'!B865","v":0},{"$f":"'Conversion 1'!B865/0.4","v":0},{"$f":"'Conversion 1'!B865/0.4","v":0},{"$f":"'Conversion 1'!B865","v":0},{"$f":"'Conversion 1'!B865/0.07","v":0},{"$f":"'Conversion 1'!B865/0.056","v":0},{"$f":"'Conversion 1'!B865/0.1","v":0},{"$f":"'Conversion 1'!B865/0.058","v":0},{"$f":"'Conversion 1'!B865/0.01","v":0},{"$f":"'Conversion 1'!B865/0.02","v":0},{"$f":"'Conversion 1'!B865/0.56","v":0},{"$f":"'Conversion 1'!B865/0.4","v":0}]
[null,{"$f":"0.1423*('Conversion 1'!D866^1.2528)","v":0},{"$f":"(0.00005*('Conversion 1'!D866^2))+(0.3389*'Conversion 1'!D866)-1.431","v":-1.431},865,{"$f":"'Conversion 1'!B866","v":0},{"$f":"'Conversion 1'!B866/0.4","v":0},{"$f":"'Conversion 1'!B866/0.4","v":0},{"$f":"'Conversion 1'!B866","v":0},{"$f":"'Conversion 1'!B866/0.07","v":0},{"$f":"'Conversion 1'!B866/0.056","v":0},{"$f":"'Conversion 1'!B866/0.1","v":0},{"$f":"'Conversion 1'!B866/0.058","v":0},{"$f":"'Conversion 1'!B866/0.01","v":0},{"$f":"'Conversion 1'!B866/0.02","v":0},{"$f":"'Conversion 1'!B866/0.56","v":0},{"$f":"'Conversion 1'!B866/0.4","v":0}]
[null,{"$f":"0.1423*('Conversion 1'!D867^1.2528)","v":0},{"$f":"(0.00005*('Conversion 1'!D867^2))+(0.3389*'Conversion 1'!D867)-1.431","v":-1.431},866,{"$f":"'Conversion 1'!B867","v":0},{"$f":"'Conversion 1'!B867/0.4","v":0},{"$f":"'Conversion 1'!B867/0.4","v":0},{"$f":"'Conversion 1'!B867","v":0},{"$f":"'Conversion 1'!B867/0.07","v":0},{"$f":"'Conversion 1'!B867/0.056","v":0},{"$f":"'Conversion 1'!B867/0.1","v":0},{"$f":"'Conversion 1'!B867/0.058","v":0},{"$f":"'Conversion 1'!B867/0.01","v":0},{"$f":"'Conversion 1'!B867/0.02","v":0},{"$f":"'Conversion 1'!B867/0.56","v":0},{"$f":"'Conversion 1'!B867/0.4","v":0}]
[null,{"$f":"0.1423*('Conversion 1'!D868^1.2528)","v":0},{"$f":"(0.00005*('Conversion 1'!D868^2))+(0.3389*'Conversion 1'!D868)-1.431","v":-1.431},867,{"$f":"'Conversion 1'!B868","v":0},{"$f":"'Conversion 1'!B868/0.4","v":0},{"$f":"'Conversion 1'!B868/0.4","v":0},{"$f":"'Conversion 1'!B868","v":0},{"$f":"'Conversion 1'!B868/0.07","v":0},{"$f":"'Conversion 1'!B868/0.056","v":0},{"$f":"'Conversion 1'!B868/0.1","v":0},{"$f":"'Conversion 1'!B868/0.058","v":0},{"$f":"'Conversion 1'!B868/0.01","v":0},{"$f":"'Conversion 1'!B868/0.02","v":0},{"$f":"'Conversion 1'!B868/0.56","v":0},{"$f":"'Conversion 1'!B868/0.4","v":0}]
[null,{"$f":"0.1423*('Conversion 1'!D869^1.2528)","v":0},{"$f":"(0.00005*('Conversion 1'!D869^2))+(0.3389*'Conversion 1'!D869)-1.431","v":-1.431},868,{"$f":"'Conversion 1'!B869","v":0},{"$f":"'Conversion 1'!B869/0.4","v":0},{"$f":"'Conversion 1'!B869/0.4","v":0},{"$f":"'Conversion 1'!B869","v":0},{"$f":"'Conversion 1'!B869/0.07","v":0},{"$f":"'Conversion 1'!B869/0.056","v":0},{"$f":"'Conversion 1'!B869/0.1","v":0},{"$f":"'Conversion 1'!B869/0.058","v":0},{"$f":"'Conversion 1'!B869/0.01","v":0},{"$f":"'Conversion 1'!B869/0.02","v":0},{"$f":"'Conversion 1'!B869/0.56","v":0},{"$f":"'Conversion 1'!B869/0.4","v":0}]
[null,{"$f":"0.1423*('Conversion 1'!D870^1.2528)","v":0},{"$f":"(0.00005*('Conversion 1'!D870^2))+(0.3389*'Conversion 1'!D870)-1.431","v":-1.431},869,{"$f":"'Conversion 1'!B870","v":0},{"$f":"'Conversion 1'!B870/0.4","v":0},{"$f":"'Conversion 1'!B870/0.4","v":0},{"$f":"'Conversion 1'!B870","v":0},{"$f":"'Conversion 1'!B870/0.07","v":0},{"$f":"'Conversion 1'!B870/0.056","v":0},{"$f":"'Conversion 1'!B870/0.1","v":0},{"$f":"'Conversion 1'!B870/0.058","v":0},{"$f":"'Conversion 1'!B870/0.01","v":0},{"$f":"'Conversion 1'!B870/0.02","v":0},{"$f":"'Conversion 1'!B870/0.56","v":0},{"$f":"'Conversion 1'!B870/0.4","v":0}]
[null,{"$f":"0.1423*('Conversion 1'!D871^1.2528)","v":0},{"$f":"(0.00005*('Conversion 1'!D871^2))+(0.3389*'Conversion 1'!D871)-1.431","v":-1.431},870,{"$f":"'Conversion 1'!B871","v":0},{"$f":"'Conversion 1'!B871/0.4","v":0},{"$f":"'Conversion 1'!B871/0.4","v":0},{"$f":"'Conversion 1'!B871","v":0},{"$f":"'Conversion 1'!B871/0.07","v":0},{"$f":"'Conversion 1'!B871/0.056","v":0},{"$f":"'Conversion 1'!B871/0.1","v":0},{"$f":"'Conversion 1'!B871/0.058","v":0},{"$f":"'Conversion 1'!B871/0.01","v":0},{"$f":"'Conversion 1'!B871/0.02","v":0},{"$f":"'Conversion 1'!B871/0.56","v":0},{"$f":"'Conversion 1'!B871/0.4","v":0}]
[null,{"$f":"0.1423*('Conversion 1'!D872^1.2528)","v":0},{"$f":"(0.00005*('Conversion 1'!D872^2))+(0.3389*'Conversion 1'!D872)-1.431","v":-1.431},871,{"$f":"'Conversion 1'!B872","v":0},{"$f":"'Conversion 1'!B872/0.4","v":0},{"$f":"'Conversion 1'!B872/0.4","v":0},{"$f":"'Conversion 1'!B872","v":0},{"$f":"'Conversion 1'!B872/0.07","v":0},{"$f":"'Conversion 1'!B872/0.056","v":0},{"$f":"'Conversion 1'!B872/0.1","v":0},{"$f":"'Conversion 1'!B872/0.058","v":0},{"$f":"'Conversion 1'!B872/0.01","v":0},{"$f":"'Conversion 1'!B872/0.02","v":0},{"$f":"'Conversion 1'!B872/0.56","v":0},{"$f":"'Conversion 1'!B872/0.4","v":0}]
[null,{"$f":"0.1423*('Conversion 1'!D873^1.2528)","v":0},{"$f":"(0.00005*('Conversion 1'!D873^2))+(0.3389*'Conversion 1'!D873)-1.431","v":-1.431},872,{"$f":"'Conversion 1'!B873","v":0},{"$f":"'Conversion 1'!B873/0.4","v":0},{"$f":"'Conversion 1'!B873/0.4","v":0},{"$f":"'Conversion 1'!B873","v":0},{"$f":"'Conversion 1'!B873/0.07","v":0},{"$f":"'Conversion 1'!B873/0.056","v":0},{"$f":"'Conversion 1'!B873/0.1","v":0},{"$f":"'Conversion 1'!B873/0.058","v":0},{"$f":"'Conversion 1'!B873/0.01","v":0},{"$f":"'Conversion 1'!B873/0.02","v":0},{"$f":"'Conversion 1'!B873/0.56","v":0},{"$f":"'Conversion 1'!B873/0.4","v":0}]
[null,{"$f":"0.1423*('Conversion 1'!D874^1.2528)","v":0},{"$f":"(0.00005*('Conversion 1'!D874^2))+(0.3389*'Conversion 1'!D874)-1.431","v":-1.431},873,{"$f":"'Conversion 1'!B874","v":0},{"$f":"'Conversion 1'!B874/0.4","v":0},{"$f":"'Conversion 1'!B874/0.4","v":0},{"$f":"'Conversion 1'!B874","v":0},{"$f":"'Conversion 1'!B874/0.07","v":0},{"$f":"'Conversion 1'!B874/0.056","v":0},{"$f":"'Conversion 1'!B874/0.1","v":0},{"$f":"'Conversion 1'!B874/0.058","v":0},{"$f":"'Conversion 1'!B874/0.01","v":0},{"$f":"'Conversion 1'!B874/0.02","v":0},{"$f":"'Conversion 1'!B874/0.56","v":0},{"$f":"'Conversion 1'!B874/0.4","v":0}]
[null,{"$f":"0.1423*('Conversion 1'!D875^1.2528)","v":0},{"$f":"(0.00005*('Conversion 1'!D875^2))+(0.3389*'Conversion 1'!D875)-1.431","v":-1.431},874,{"$f":"'Conversion 1'!B875","v":0},{"$f":"'Conversion 1'!B875/0.4","v":0},{"$f":"'Conversion 1'!B875/0.4","v":0},{"$f":"'Conversion 1'!B875","v":0},{"$f":"'Conversion 1'!B875/0.07","v":0},{"$f":"'Conversion 1'!B875/0.056","v":0},{"$f":"'Conversion 1'!B875/0.1","v":0},{"$f":"'Conversion 1'!B875/0.058","v":0},{"$f":"'Conversion 1'!B875/0.01","v":0},{"$f":"'Conversion 1'!B875/0.02","v":0},{"$f":"'Conversion 1'!B875/0.56","v":0},{"$f":"'Conversion 1'!B875/0.4","v":0}]
[null,{"$f":"0.1423*('Conversion 1'!D876^1.2528)","v":0},{"$f":"(0.00005*('Conversion 1'!D876^2))+(0.3389*'Conversion 1'!D876)-1.431","v":-1.431},875,{"$f":"'Conversion 1'!B876","v":0},{"$f":"'Conversion 1'!B876/0.4","v":0},{"$f":"'Conversion 1'!B876/0.4","v":0},{"$f":"'Conversion 1'!B876","v":0},{"$f":"'Conversion 1'!B876/0.07","v":0},{"$f":"'Conversion 1'!B876/0.056","v":0},{"$f":"'Conversion 1'!B876/0.1","v":0},{"$f":"'Conversion 1'!B876/0.058","v":0},{"$f":"'Conversion 1'!B876/0.01","v":0},{"$f":"'Conversion 1'!B876/0.02","v":0},{"$f":"'Conversion 1'!B876/0.56","v":0},{"$f":"'Conversion 1'!B876/0.4","v":0}]
[null,{"$f":"0.1423*('Conversion 1'!D877^1.2528)","v":0},{"$f":"(0.00005*('Conversion 1'!D877^2))+(0.3389*'Conversion 1'!D877)-1.431","v":-1.431},876,{"$f":"'Conversion 1'!B877","v":0},{"$f":"'Conversion 1'!B877/0.4","v":0},{"$f":"'Conversion 1'!B877/0.4","v":0},{"$f":"'Conversion 1'!B877","v":0},{"$f":"'Conversion 1'!B877/0.07","v":0},{"$f":"'Conversion 1'!B877/0.056","v":0},{"$f":"'Conversion 1'!B877/0.1","v":0},{"$f":"'Conversion 1'!B877/0.058","v":0},{"$f":"'Conversion 1'!B877/0.01","v":0},{"$f":"'Conversion 1'!B877/0.02","v":0},{"$f":"'Conversion 1'!B877/0.56","v":0},{"$f":"'Conversion 1'!B877/0.4","v":0}]
[null,{"$f":"0.1423*('Conversion 1'!D878^1.2528)","v":0},{"$f":"(0.00005*('Conversion 1'!D878^2))+(0.3389*'Conversion 1'!D878)-1.431","v":-1.431},877,{"$f":"'Conversion 1'!B878","v":0},{"$f":"'Conversion 1'!B878/0.4","v":0},{"$f":"'Conversion 1'!B878/0.4","v":0},{"$f":"'Conversion 1'!B878","v":0},{"$f":"'Conversion 1'!B878/0.07","v":0},{"$f":"'Conversion 1'!B878/0.056","v":0},{"$f":"'Conversion 1'!B878/0.1","v":0},{"$f":"'Conversion 1'!B878/0.058","v":0},{"$f":"'Conversion 1'!B878/0.01","v":0},{"$f":"'Conversion 1'!B878/0.02","v":0},{"$f":"'Conversion 1'!B878/0.56","v":0},{"$f":"'Conversion 1'!B878/0.4","v":0}]
[null,{"$f":"0.1423*('Conversion 1'!D879^1.2528)","v":0},{"$f":"(0.00005*('Conversion 1'!D879^2))+(0.3389*'Conversion 1'!D879)-1.431","v":-1.431},878,{"$f":"'Conversion 1'!B879","v":0},{"$f":"'Conversion 1'!B879/0.4","v":0},{"$f":"'Conversion 1'!B879/0.4","v":0},{"$f":"'Conversion 1'!B879","v":0},{"$f":"'Conversion 1'!B879/0.07","v":0},{"$f":"'Conversion 1'!B879/0.056","v":0},{"$f":"'Conversion 1'!B879/0.1","v":0},{"$f":"'Conversion 1'!B879/0.058","v":0},{"$f":"'Conversion 1'!B879/0.01","v":0},{"$f":"'Conversion 1'!B879/0.02","v":0},{"$f":"'Conversion 1'!B879/0.56","v":0},{"$f":"'Conversion 1'!B879/0.4","v":0}]
[null,{"$f":"0.1423*('Conversion 1'!D880^1.2528)","v":0},{"$f":"(0.00005*('Conversion 1'!D880^2))+(0.3389*'Conversion 1'!D880)-1.431","v":-1.431},879,{"$f":"'Conversion 1'!B880","v":0},{"$f":"'Conversion 1'!B880/0.4","v":0},{"$f":"'Conversion 1'!B880/0.4","v":0},{"$f":"'Conversion 1'!B880","v":0},{"$f":"'Conversion 1'!B880/0.07","v":0},{"$f":"'Conversion 1'!B880/0.056","v":0},{"$f":"'Conversion 1'!B880/0.1","v":0},{"$f":"'Conversion 1'!B880/0.058","v":0},{"$f":"'Conversion 1'!B880/0.01","v":0},{"$f":"'Conversion 1'!B880/0.02","v":0},{"$f":"'Conversion 1'!B880/0.56","v":0},{"$f":"'Conversion 1'!B880/0.4","v":0}]
[null,{"$f":"0.1423*('Conversion 1'!D881^1.2528)","v":0},{"$f":"(0.00005*('Conversion 1'!D881^2))+(0.3389*'Conversion 1'!D881)-1.431","v":-1.431},880,{"$f":"'Conversion 1'!B881","v":0},{"$f":"'Conversion 1'!B881/0.4","v":0},{"$f":"'Conversion 1'!B881/0.4","v":0},{"$f":"'Conversion 1'!B881","v":0},{"$f":"'Conversion 1'!B881/0.07","v":0},{"$f":"'Conversion 1'!B881/0.056","v":0},{"$f":"'Conversion 1'!B881/0.1","v":0},{"$f":"'Conversion 1'!B881/0.058","v":0},{"$f":"'Conversion 1'!B881/0.01","v":0},{"$f":"'Conversion 1'!B881/0.02","v":0},{"$f":"'Conversion 1'!B881/0.56","v":0},{"$f":"'Conversion 1'!B881/0.4","v":0}]
[null,{"$f":"0.1423*('Conversion 1'!D882^1.2528)","v":0},{"$f":"(0.00005*('Conversion 1'!D882^2))+(0.3389*'Conversion 1'!D882)-1.431","v":-1.431},881,{"$f":"'Conversion 1'!B882","v":0},{"$f":"'Conversion 1'!B882/0.4","v":0},{"$f":"'Conversion 1'!B882/0.4","v":0},{"$f":"'Conversion 1'!B882","v":0},{"$f":"'Conversion 1'!B882/0.07","v":0},{"$f":"'Conversion 1'!B882/0.056","v":0},{"$f":"'Conversion 1'!B882/0.1","v":0},{"$f":"'Conversion 1'!B882/0.058","v":0},{"$f":"'Conversion 1'!B882/0.01","v":0},{"$f":"'Conversion 1'!B882/0.02","v":0},{"$f":"'Conversion 1'!B882/0.56","v":0},{"$f":"'Conversion 1'!B882/0.4","v":0}]
[null,{"$f":"0.1423*('Conversion 1'!D883^1.2528)","v":0},{"$f":"(0.00005*('Conversion 1'!D883^2))+(0.3389*'Conversion 1'!D883)-1.431","v":-1.431},882,{"$f":"'Conversion 1'!B883","v":0},{"$f":"'Conversion 1'!B883/0.4","v":0},{"$f":"'Conversion 1'!B883/0.4","v":0},{"$f":"'Conversion 1'!B883","v":0},{"$f":"'Conversion 1'!B883/0.07","v":0},{"$f":"'Conversion 1'!B883/0.056","v":0},{"$f":"'Conversion 1'!B883/0.1","v":0},{"$f":"'Conversion 1'!B883/0.058","v":0},{"$f":"'Conversion 1'!B883/0.01","v":0},{"$f":"'Conversion 1'!B883/0.02","v":0},{"$f":"'Conversion 1'!B883/0.56","v":0},{"$f":"'Conversion 1'!B883/0.4","v":0}]
[null,{"$f":"0.1423*('Conversion 1'!D884^1.2528)","v":0},{"$f":"(0.00005*('Conversion 1'!D884^2))+(0.3389*'Conversion 1'!D884)-1.431","v":-1.431},883,{"$f":"'Conversion 1'!B884","v":0},{"$f":"'Conversion 1'!B884/0.4","v":0},{"$f":"'Conversion 1'!B884/0.4","v":0},{"$f":"'Conversion 1'!B884","v":0},{"$f":"'Conversion 1'!B884/0.07","v":0},{"$f":"'Conversion 1'!B884/0.056","v":0},{"$f":"'Conversion 1'!B884/0.1","v":0},{"$f":"'Conversion 1'!B884/0.058","v":0},{"$f":"'Conversion 1'!B884/0.01","v":0},{"$f":"'Conversion 1'!B884/0.02","v":0},{"$f":"'Conversion 1'!B884/0.56","v":0},{"$f":"'Conversion 1'!B884/0.4","v":0}]
[null,{"$f":"0.1423*('Conversion 1'!D885^1.2528)","v":0},{"$f":"(0.00005*('Conversion 1'!D885^2))+(0.3389*'Conversion 1'!D885)-1.431","v":-1.431},884,{"$f":"'Conversion 1'!B885","v":0},{"$f":"'Conversion 1'!B885/0.4","v":0},{"$f":"'Conversion 1'!B885/0.4","v":0},{"$f":"'Conversion 1'!B885","v":0},{"$f":"'Conversion 1'!B885/0.07","v":0},{"$f":"'Conversion 1'!B885/0.056","v":0},{"$f":"'Conversion 1'!B885/0.1","v":0},{"$f":"'Conversion 1'!B885/0.058","v":0},{"$f":"'Conversion 1'!B885/0.01","v":0},{"$f":"'Conversion 1'!B885/0.02","v":0},{"$f":"'Conversion 1'!B885/0.56","v":0},{"$f":"'Conversion 1'!B885/0.4","v":0}]
[null,{"$f":"0.1423*('Conversion 1'!D886^1.2528)","v":0},{"$f":"(0.00005*('Conversion 1'!D886^2))+(0.3389*'Conversion 1'!D886)-1.431","v":-1.431},885,{"$f":"'Conversion 1'!B886","v":0},{"$f":"'Conversion 1'!B886/0.4","v":0},{"$f":"'Conversion 1'!B886/0.4","v":0},{"$f":"'Conversion 1'!B886","v":0},{"$f":"'Conversion 1'!B886/0.07","v":0},{"$f":"'Conversion 1'!B886/0.056","v":0},{"$f":"'Conversion 1'!B886/0.1","v":0},{"$f":"'Conversion 1'!B886/0.058","v":0},{"$f":"'Conversion 1'!B886/0.01","v":0},{"$f":"'Conversion 1'!B886/0.02","v":0},{"$f":"'Conversion 1'!B886/0.56","v":0},{"$f":"'Conversion 1'!B886/0.4","v":0}]
[null,{"$f":"0.1423*('Conversion 1'!D887^1.2528)","v":0},{"$f":"(0.00005*('Conversion 1'!D887^2))+(0.3389*'Conversion 1'!D887)-1.431","v":-1.431},886,{"$f":"'Conversion 1'!B887","v":0},{"$f":"'Conversion 1'!B887/0.4","v":0},{"$f":"'Conversion 1'!B887/0.4","v":0},{"$f":"'Conversion 1'!B887","v":0},{"$f":"'Conversion 1'!B887/0.07","v":0},{"$f":"'Conversion 1'!B887/0.056","v":0},{"$f":"'Conversion 1'!B887/0.1","v":0},{"$f":"'Conversion 1'!B887/0.058","v":0},{"$f":"'Conversion 1'!B887/0.01","v":0},{"$f":"'Conversion 1'!B887/0.02","v":0},{"$f":"'Conversion 1'!B887/0.56","v":0},{"$f":"'Conversion 1'!B887/0.4","v":0}]
[null,{"$f":"0.1423*('Conversion 1'!D888^1.2528)","v":0},{"$f":"(0.00005*('Conversion 1'!D888^2))+(0.3389*'Conversion 1'!D888)-1.431","v":-1.431},887,{"$f":"'Conversion 1'!B888","v":0},{"$f":"'Conversion 1'!B888/0.4","v":0},{"$f":"'Conversion 1'!B888/0.4","v":0},{"$f":"'Conversion 1'!B888","v":0},{"$f":"'Conversion 1'!B888/0.07","v":0},{"$f":"'Conversion 1'!B888/0.056","v":0},{"$f":"'Conversion 1'!B888/0.1","v":0},{"$f":"'Conversion 1'!B888/0.058","v":0},{"$f":"'Conversion 1'!B888/0.01","v":0},{"$f":"'Conversion 1'!B888/0.02","v":0},{"$f":"'Conversion 1'!B888/0.56","v":0},{"$f":"'Conversion 1'!B888/0.4","v":0}]
[null,{"$f":"0.1423*('Conversion 1'!D889^1.2528)","v":0},{"$f":"(0.00005*('Conversion 1'!D889^2))+(0.3389*'Conversion 1'!D889)-1.431","v":-1.431},888,{"$f":"'Conversion 1'!B889","v":0},{"$f":"'Conversion 1'!B889/0.4","v":0},{"$f":"'Conversion 1'!B889/0.4","v":0},{"$f":"'Conversion 1'!B889","v":0},{"$f":"'Conversion 1'!B889/0.07","v":0},{"$f":"'Conversion 1'!B889/0.056","v":0},{"$f":"'Conversion 1'!B889/0.1","v":0},{"$f":"'Conversion 1'!B889/0.058","v":0},{"$f":"'Conversion 1'!B889/0.01","v":0},{"$f":"'Conversion 1'!B889/0.02","v":0},{"$f":"'Conversion 1'!B889/0.56","v":0},{"$f":"'Conversion 1'!B889/0.4","v":0}]
[null,{"$f":"0.1423*('Conversion 1'!D890^1.2528)","v":0},{"$f":"(0.00005*('Conversion 1'!D890^2))+(0.3389*'Conversion 1'!D890)-1.431","v":-1.431},889,{"$f":"'Conversion 1'!B890","v":0},{"$f":"'Conversion 1'!B890/0.4","v":0},{"$f":"'Conversion 1'!B890/0.4","v":0},{"$f":"'Conversion 1'!B890","v":0},{"$f":"'Conversion 1'!B890/0.07","v":0},{"$f":"'Conversion 1'!B890/0.056","v":0},{"$f":"'Conversion 1'!B890/0.1","v":0},{"$f":"'Conversion 1'!B890/0.058","v":0},{"$f":"'Conversion 1'!B890/0.01","v":0},{"$f":"'Conversion 1'!B890/0.02","v":0},{"$f":"'Conversion 1'!B890/0.56","v":0},{"$f":"'Conversion 1'!B890/0.4","v":0}]
[null,{"$f":"0.1423*('Conversion 1'!D891^1.2528)","v":0},{"$f":"(0.00005*('Conversion 1'!D891^2))+(0.3389*'Conversion 1'!D891)-1.431","v":-1.431},890,{"$f":"'Conversion 1'!B891","v":0},{"$f":"'Conversion 1'!B891/0.4","v":0},{"$f":"'Conversion 1'!B891/0.4","v":0},{"$f":"'Conversion 1'!B891","v":0},{"$f":"'Conversion 1'!B891/0.07","v":0},{"$f":"'Conversion 1'!B891/0.056","v":0},{"$f":"'Conversion 1'!B891/0.1","v":0},{"$f":"'Conversion 1'!B891/0.058","v":0},{"$f":"'Conversion 1'!B891/0.01","v":0},{"$f":"'Conversion 1'!B891/0.02","v":0},{"$f":"'Conversion 1'!B891/0.56","v":0},{"$f":"'Conversion 1'!B891/0.4","v":0}]
[null,{"$f":"0.1423*('Conversion 1'!D892^1.2528)","v":0},{"$f":"(0.00005*('Conversion 1'!D892^2))+(0.3389*'Conversion 1'!D892)-1.431","v":-1.431},891,{"$f":"'Conversion 1'!B892","v":0},{"$f":"'Conversion 1'!B892/0.4","v":0},{"$f":"'Conversion 1'!B892/0.4","v":0},{"$f":"'Conversion 1'!B892","v":0},{"$f":"'Conversion 1'!B892/0.07","v":0},{"$f":"'Conversion 1'!B892/0.056","v":0},{"$f":"'Conversion 1'!B892/0.1","v":0},{"$f":"'Conversion 1'!B892/0.058","v":0},{"$f":"'Conversion 1'!B892/0.01","v":0},{"$f":"'Conversion 1'!B892/0.02","v":0},{"$f":"'Conversion 1'!B892/0.56","v":0},{"$f":"'Conversion 1'!B892/0.4","v":0}]
[null,{"$f":"0.1423*('Conversion 1'!D893^1.2528)","v":0},{"$f":"(0.00005*('Conversion 1'!D893^2))+(0.3389*'Conversion 1'!D893)-1.431","v":-1.431},892,{"$f":"'Conversion 1'!B893","v":0},{"$f":"'Conversion 1'!B893/0.4","v":0},{"$f":"'Conversion 1'!B893/0.4","v":0},{"$f":"'Conversion 1'!B893","v":0},{"$f":"'Conversion 1'!B893/0.07","v":0},{"$f":"'Conversion 1'!B893/0.056","v":0},{"$f":"'Conversion 1'!B893/0.1","v":0},{"$f":"'Conversion 1'!B893/0.058","v":0},{"$f":"'Conversion 1'!B893/0.01","v":0},{"$f":"'Conversion 1'!B893/0.02","v":0},{"$f":"'Conversion 1'!B893/0.56","v":0},{"$f":"'Conversion 1'!B893/0.4","v":0}]
[null,{"$f":"0.1423*('Conversion 1'!D894^1.2528)","v":0},{"$f":"(0.00005*('Conversion 1'!D894^2))+(0.3389*'Conversion 1'!D894)-1.431","v":-1.431},893,{"$f":"'Conversion 1'!B894","v":0},{"$f":"'Conversion 1'!B894/0.4","v":0},{"$f":"'Conversion 1'!B894/0.4","v":0},{"$f":"'Conversion 1'!B894","v":0},{"$f":"'Conversion 1'!B894/0.07","v":0},{"$f":"'Conversion 1'!B894/0.056","v":0},{"$f":"'Conversion 1'!B894/0.1","v":0},{"$f":"'Conversion 1'!B894/0.058","v":0},{"$f":"'Conversion 1'!B894/0.01","v":0},{"$f":"'Conversion 1'!B894/0.02","v":0},{"$f":"'Conversion 1'!B894/0.56","v":0},{"$f":"'Conversion 1'!B894/0.4","v":0}]
[null,{"$f":"0.1423*('Conversion 1'!D895^1.2528)","v":0},{"$f":"(0.00005*('Conversion 1'!D895^2))+(0.3389*'Conversion 1'!D895)-1.431","v":-1.431},894,{"$f":"'Conversion 1'!B895","v":0},{"$f":"'Conversion 1'!B895/0.4","v":0},{"$f":"'Conversion 1'!B895/0.4","v":0},{"$f":"'Conversion 1'!B895","v":0},{"$f":"'Conversion 1'!B895/0.07","v":0},{"$f":"'Conversion 1'!B895/0.056","v":0},{"$f":"'Conversion 1'!B895/0.1","v":0},{"$f":"'Conversion 1'!B895/0.058","v":0},{"$f":"'Conversion 1'!B895/0.01","v":0},{"$f":"'Conversion 1'!B895/0.02","v":0},{"$f":"'Conversion 1'!B895/0.56","v":0},{"$f":"'Conversion 1'!B895/0.4","v":0}]
[null,{"$f":"0.1423*('Conversion 1'!D896^1.2528)","v":0},{"$f":"(0.00005*('Conversion 1'!D896^2))+(0.3389*'Conversion 1'!D896)-1.431","v":-1.431},895,{"$f":"'Conversion 1'!B896","v":0},{"$f":"'Conversion 1'!B896/0.4","v":0},{"$f":"'Conversion 1'!B896/0.4","v":0},{"$f":"'Conversion 1'!B896","v":0},{"$f":"'Conversion 1'!B896/0.07","v":0},{"$f":"'Conversion 1'!B896/0.056","v":0},{"$f":"'Conversion 1'!B896/0.1","v":0},{"$f":"'Conversion 1'!B896/0.058","v":0},{"$f":"'Conversion 1'!B896/0.01","v":0},{"$f":"'Conversion 1'!B896/0.02","v":0},{"$f":"'Conversion 1'!B896/0.56","v":0},{"$f":"'Conversion 1'!B896/0.4","v":0}]
[null,{"$f":"0.1423*('Conversion 1'!D897^1.2528)","v":0},{"$f":"(0.00005*('Conversion 1'!D897^2))+(0.3389*'Conversion 1'!D897)-1.431","v":-1.431},896,{"$f":"'Conversion 1'!B897","v":0},{"$f":"'Conversion 1'!B897/0.4","v":0},{"$f":"'Conversion 1'!B897/0.4","v":0},{"$f":"'Conversion 1'!B897","v":0},{"$f":"'Conversion 1'!B897/0.07","v":0},{"$f":"'Conversion 1'!B897/0.056","v":0},{"$f":"'Conversion 1'!B897/0.1","v":0},{"$f":"'Conversion 1'!B897/0.058","v":0},{"$f":"'Conversion 1'!B897/0.01","v":0},{"$f":"'Conversion 1'!B897/0.02","v":0},{"$f":"'Conversion 1'!B897/0.56","v":0},{"$f":"'Conversion 1'!B897/0.4","v":0}]
[null,{"$f":"0.1423*('Conversion 1'!D898^1.2528)","v":0},{"$f":"(0.00005*('Conversion 1'!D898^2))+(0.3389*'Conversion 1'!D898)-1.431","v":-1.431},897,{"$f":"'Conversion 1'!B898","v":0},{"$f":"'Conversion 1'!B898/0.4","v":0},{"$f":"'Conversion 1'!B898/0.4","v":0},{"$f":"'Conversion 1'!B898","v":0},{"$f":"'Conversion 1'!B898/0.07","v":0},{"$f":"'Conversion 1'!B898/0.056","v":0},{"$f":"'Conversion 1'!B898/0.1","v":0},{"$f":"'Conversion 1'!B898/0.058","v":0},{"$f":"'Conversion 1'!B898/0.01","v":0},{"$f":"'Conversion 1'!B898/0.02","v":0},{"$f":"'Conversion 1'!B898/0.56","v":0},{"$f":"'Conversion 1'!B898/0.4","v":0}]
[null,{"$f":"0.1423*('Conversion 1'!D899^1.2528)","v":0},{"$f":"(0.00005*('Conversion 1'!D899^2))+(0.3389*'Conversion 1'!D899)-1.431","v":-1.431},898,{"$f":"'Conversion 1'!B899","v":0},{"$f":"'Conversion 1'!B899/0.4","v":0},{"$f":"'Conversion 1'!B899/0.4","v":0},{"$f":"'Conversion 1'!B899","v":0},{"$f":"'Conversion 1'!B899/0.07","v":0},{"$f":"'Conversion 1'!B899/0.056","v":0},{"$f":"'Conversion 1'!B899/0.1","v":0},{"$f":"'Conversion 1'!B899/0.058","v":0},{"$f":"'Conversion 1'!B899/0.01","v":0},{"$f":"'Conversion 1'!B899/0.02","v":0},{"$f":"'Conversion 1'!B899/0.56","v":0},{"$f":"'Conversion 1'!B899/0.4","v":0}]
[null,{"$f":"0.1423*('Conversion 1'!D900^1.2528)","v":0},{"$f":"(0.00005*('Conversion 1'!D900^2))+(0.3389*'Conversion 1'!D900)-1.431","v":-1.431},899,{"$f":"'Conversion 1'!B900","v":0},{"$f":"'Conversion 1'!B900/0.4","v":0},{"$f":"'Conversion 1'!B900/0.4","v":0},{"$f":"'Conversion 1'!B900","v":0},{"$f":"'Conversion 1'!B900/0.07","v":0},{"$f":"'Conversion 1'!B900/0.056","v":0},{"$f":"'Conversion 1'!B900/0.1","v":0},{"$f":"'Conversion 1'!B900/0.058","v":0},{"$f":"'Conversion 1'!B900/0.01","v":0},{"$f":"'Conversion 1'!B900/0.02","v":0},{"$f":"'Conversion 1'!B900/0.56","v":0},{"$f":"'Conversion 1'!B900/0.4","v":0}]
[null,{"$f":"0.1423*('Conversion 1'!D901^1.2528)","v":0},{"$f":"(0.00005*('Conversion 1'!D901^2))+(0.3389*'Conversion 1'!D901)-1.431","v":-1.431},900,{"$f":"'Conversion 1'!B901","v":0},{"$f":"'Conversion 1'!B901/0.4","v":0},{"$f":"'Conversion 1'!B901/0.4","v":0},{"$f":"'Conversion 1'!B901","v":0},{"$f":"'Conversion 1'!B901/0.07","v":0},{"$f":"'Conversion 1'!B901/0.056","v":0},{"$f":"'Conversion 1'!B901/0.1","v":0},{"$f":"'Conversion 1'!B901/0.058","v":0},{"$f":"'Conversion 1'!B901/0.01","v":0},{"$f":"'Conversion 1'!B901/0.02","v":0},{"$f":"'Conversion 1'!B901/0.56","v":0},{"$f":"'Conversion 1'!B901/0.4","v":0}]
[null,{"$f":"0.1423*('Conversion 1'!D902^1.2528)","v":0},{"$f":"(0.00005*('Conversion 1'!D902^2))+(0.3389*'Conversion 1'!D902)-1.431","v":-1.431},901,{"$f":"'Conversion 1'!B902","v":0},{"$f":"'Conversion 1'!B902/0.4","v":0},{"$f":"'Conversion 1'!B902/0.4","v":0},{"$f":"'Conversion 1'!B902","v":0},{"$f":"'Conversion 1'!B902/0.07","v":0},{"$f":"'Conversion 1'!B902/0.056","v":0},{"$f":"'Conversion 1'!B902/0.1","v":0},{"$f":"'Conversion 1'!B902/0.058","v":0},{"$f":"'Conversion 1'!B902/0.01","v":0},{"$f":"'Conversion 1'!B902/0.02","v":0},{"$f":"'Conversion 1'!B902/0.56","v":0},{"$f":"'Conversion 1'!B902/0.4","v":0}]
[null,{"$f":"0.1423*('Conversion 1'!D903^1.2528)","v":0},{"$f":"(0.00005*('Conversion 1'!D903^2))+(0.3389*'Conversion 1'!D903)-1.431","v":-1.431},902,{"$f":"'Conversion 1'!B903","v":0},{"$f":"'Conversion 1'!B903/0.4","v":0},{"$f":"'Conversion 1'!B903/0.4","v":0},{"$f":"'Conversion 1'!B903","v":0},{"$f":"'Conversion 1'!B903/0.07","v":0},{"$f":"'Conversion 1'!B903/0.056","v":0},{"$f":"'Conversion 1'!B903/0.1","v":0},{"$f":"'Conversion 1'!B903/0.058","v":0},{"$f":"'Conversion 1'!B903/0.01","v":0},{"$f":"'Conversion 1'!B903/0.02","v":0},{"$f":"'Conversion 1'!B903/0.56","v":0},{"$f":"'Conversion 1'!B903/0.4","v":0}]
[null,{"$f":"0.1423*('Conversion 1'!D904^1.2528)","v":0},{"$f":"(0.00005*('Conversion 1'!D904^2))+(0.3389*'Conversion 1'!D904)-1.431","v":-1.431},903,{"$f":"'Conversion 1'!B904","v":0},{"$f":"'Conversion 1'!B904/0.4","v":0},{"$f":"'Conversion 1'!B904/0.4","v":0},{"$f":"'Conversion 1'!B904","v":0},{"$f":"'Conversion 1'!B904/0.07","v":0},{"$f":"'Conversion 1'!B904/0.056","v":0},{"$f":"'Conversion 1'!B904/0.1","v":0},{"$f":"'Conversion 1'!B904/0.058","v":0},{"$f":"'Conversion 1'!B904/0.01","v":0},{"$f":"'Conversion 1'!B904/0.02","v":0},{"$f":"'Conversion 1'!B904/0.56","v":0},{"$f":"'Conversion 1'!B904/0.4","v":0}]
[null,{"$f":"0.1423*('Conversion 1'!D905^1.2528)","v":0},{"$f":"(0.00005*('Conversion 1'!D905^2))+(0.3389*'Conversion 1'!D905)-1.431","v":-1.431},904,{"$f":"'Conversion 1'!B905","v":0},{"$f":"'Conversion 1'!B905/0.4","v":0},{"$f":"'Conversion 1'!B905/0.4","v":0},{"$f":"'Conversion 1'!B905","v":0},{"$f":"'Conversion 1'!B905/0.07","v":0},{"$f":"'Conversion 1'!B905/0.056","v":0},{"$f":"'Conversion 1'!B905/0.1","v":0},{"$f":"'Conversion 1'!B905/0.058","v":0},{"$f":"'Conversion 1'!B905/0.01","v":0},{"$f":"'Conversion 1'!B905/0.02","v":0},{"$f":"'Conversion 1'!B905/0.56","v":0},{"$f":"'Conversion 1'!B905/0.4","v":0}]
[null,{"$f":"0.1423*('Conversion 1'!D906^1.2528)","v":0},{"$f":"(0.00005*('Conversion 1'!D906^2))+(0.3389*'Conversion 1'!D906)-1.431","v":-1.431},905,{"$f":"'Conversion 1'!B906","v":0},{"$f":"'Conversion 1'!B906/0.4","v":0},{"$f":"'Conversion 1'!B906/0.4","v":0},{"$f":"'Conversion 1'!B906","v":0},{"$f":"'Conversion 1'!B906/0.07","v":0},{"$f":"'Conversion 1'!B906/0.056","v":0},{"$f":"'Conversion 1'!B906/0.1","v":0},{"$f":"'Conversion 1'!B906/0.058","v":0},{"$f":"'Conversion 1'!B906/0.01","v":0},{"$f":"'Conversion 1'!B906/0.02","v":0},{"$f":"'Conversion 1'!B906/0.56","v":0},{"$f":"'Conversion 1'!B906/0.4","v":0}]
[null,{"$f":"0.1423*('Conversion 1'!D907^1.2528)","v":0},{"$f":"(0.00005*('Conversion 1'!D907^2))+(0.3389*'Conversion 1'!D907)-1.431","v":-1.431},906,{"$f":"'Conversion 1'!B907","v":0},{"$f":"'Conversion 1'!B907/0.4","v":0},{"$f":"'Conversion 1'!B907/0.4","v":0},{"$f":"'Conversion 1'!B907","v":0},{"$f":"'Conversion 1'!B907/0.07","v":0},{"$f":"'Conversion 1'!B907/0.056","v":0},{"$f":"'Conversion 1'!B907/0.1","v":0},{"$f":"'Conversion 1'!B907/0.058","v":0},{"$f":"'Conversion 1'!B907/0.01","v":0},{"$f":"'Conversion 1'!B907/0.02","v":0},{"$f":"'Conversion 1'!B907/0.56","v":0},{"$f":"'Conversion 1'!B907/0.4","v":0}]
[null,{"$f":"0.1423*('Conversion 1'!D908^1.2528)","v":0},{"$f":"(0.00005*('Conversion 1'!D908^2))+(0.3389*'Conversion 1'!D908)-1.431","v":-1.431},907,{"$f":"'Conversion 1'!B908","v":0},{"$f":"'Conversion 1'!B908/0.4","v":0},{"$f":"'Conversion 1'!B908/0.4","v":0},{"$f":"'Conversion 1'!B908","v":0},{"$f":"'Conversion 1'!B908/0.07","v":0},{"$f":"'Conversion 1'!B908/0.056","v":0},{"$f":"'Conversion 1'!B908/0.1","v":0},{"$f":"'Conversion 1'!B908/0.058","v":0},{"$f":"'Conversion 1'!B908/0.01","v":0},{"$f":"'Conversion 1'!B908/0.02","v":0},{"$f":"'Conversion 1'!B908/0.56","v":0},{"$f":"'Conversion 1'!B908/0.4","v":0}]
[null,{"$f":"0.1423*('Conversion 1'!D909^1.2528)","v":0},{"$f":"(0.00005*('Conversion 1'!D909^2))+(0.3389*'Conversion 1'!D909)-1.431","v":-1.431},908,{"$f":"'Conversion 1'!B909","v":0},{"$f":"'Conversion 1'!B909/0.4","v":0},{"$f":"'Conversion 1'!B909/0.4","v":0},{"$f":"'Conversion 1'!B909","v":0},{"$f":"'Conversion 1'!B909/0.07","v":0},{"$f":"'Conversion 1'!B909/0.056","v":0},{"$f":"'Conversion 1'!B909/0.1","v":0},{"$f":"'Conversion 1'!B909/0.058","v":0},{"$f":"'Conversion 1'!B909/0.01","v":0},{"$f":"'Conversion 1'!B909/0.02","v":0},{"$f":"'Conversion 1'!B909/0.56","v":0},{"$f":"'Conversion 1'!B909/0.4","v":0}]
[null,{"$f":"0.1423*('Conversion 1'!D910^1.2528)","v":0},{"$f":"(0.00005*('Conversion 1'!D910^2))+(0.3389*'Conversion 1'!D910)-1.431","v":-1.431},909,{"$f":"'Conversion 1'!B910","v":0},{"$f":"'Conversion 1'!B910/0.4","v":0},{"$f":"'Conversion 1'!B910/0.4","v":0},{"$f":"'Conversion 1'!B910","v":0},{"$f":"'Conversion 1'!B910/0.07","v":0},{"$f":"'Conversion 1'!B910/0.056","v":0},{"$f":"'Conversion 1'!B910/0.1","v":0},{"$f":"'Conversion 1'!B910/0.058","v":0},{"$f":"'Conversion 1'!B910/0.01","v":0},{"$f":"'Conversion 1'!B910/0.02","v":0},{"$f":"'Conversion 1'!B910/0.56","v":0},{"$f":"'Conversion 1'!B910/0.4","v":0}]
[null,{"$f":"0.1423*('Conversion 1'!D911^1.2528)","v":0},{"$f":"(0.00005*('Conversion 1'!D911^2))+(0.3389*'Conversion 1'!D911)-1.431","v":-1.431},910,{"$f":"'Conversion 1'!B911","v":0},{"$f":"'Conversion 1'!B911/0.4","v":0},{"$f":"'Conversion 1'!B911/0.4","v":0},{"$f":"'Conversion 1'!B911","v":0},{"$f":"'Conversion 1'!B911/0.07","v":0},{"$f":"'Conversion 1'!B911/0.056","v":0},{"$f":"'Conversion 1'!B911/0.1","v":0},{"$f":"'Conversion 1'!B911/0.058","v":0},{"$f":"'Conversion 1'!B911/0.01","v":0},{"$f":"'Conversion 1'!B911/0.02","v":0},{"$f":"'Conversion 1'!B911/0.56","v":0},{"$f":"'Conversion 1'!B911/0.4","v":0}]
[null,{"$f":"0.1423*('Conversion 1'!D912^1.2528)","v":0},{"$f":"(0.00005*('Conversion 1'!D912^2))+(0.3389*'Conversion 1'!D912)-1.431","v":-1.431},911,{"$f":"'Conversion 1'!B912","v":0},{"$f":"'Conversion 1'!B912/0.4","v":0},{"$f":"'Conversion 1'!B912/0.4","v":0},{"$f":"'Conversion 1'!B912","v":0},{"$f":"'Conversion 1'!B912/0.07","v":0},{"$f":"'Conversion 1'!B912/0.056","v":0},{"$f":"'Conversion 1'!B912/0.1","v":0},{"$f":"'Conversion 1'!B912/0.058","v":0},{"$f":"'Conversion 1'!B912/0.01","v":0},{"$f":"'Conversion 1'!B912/0.02","v":0},{"$f":"'Conversion 1'!B912/0.56","v":0},{"$f":"'Conversion 1'!B912/0.4","v":0}]
[null,{"$f":"0.1423*('Conversion 1'!D913^1.2528)","v":0},{"$f":"(0.00005*('Conversion 1'!D913^2))+(0.3389*'Conversion 1'!D913)-1.431","v":-1.431},912,{"$f":"'Conversion 1'!B913","v":0},{"$f":"'Conversion 1'!B913/0.4","v":0},{"$f":"'Conversion 1'!B913/0.4","v":0},{"$f":"'Conversion 1'!B913","v":0},{"$f":"'Conversion 1'!B913/0.07","v":0},{"$f":"'Conversion 1'!B913/0.056","v":0},{"$f":"'Conversion 1'!B913/0.1","v":0},{"$f":"'Conversion 1'!B913/0.058","v":0},{"$f":"'Conversion 1'!B913/0.01","v":0},{"$f":"'Conversion 1'!B913/0.02","v":0},{"$f":"'Conversion 1'!B913/0.56","v":0},{"$f":"'Conversion 1'!B913/0.4","v":0}]
[null,{"$f":"0.1423*('Conversion 1'!D914^1.2528)","v":0},{"$f":"(0.00005*('Conversion 1'!D914^2))+(0.3389*'Conversion 1'!D914)-1.431","v":-1.431},913,{"$f":"'Conversion 1'!B914","v":0},{"$f":"'Conversion 1'!B914/0.4","v":0},{"$f":"'Conversion 1'!B914/0.4","v":0},{"$f":"'Conversion 1'!B914","v":0},{"$f":"'Conversion 1'!B914/0.07","v":0},{"$f":"'Conversion 1'!B914/0.056","v":0},{"$f":"'Conversion 1'!B914/0.1","v":0},{"$f":"'Conversion 1'!B914/0.058","v":0},{"$f":"'Conversion 1'!B914/0.01","v":0},{"$f":"'Conversion 1'!B914/0.02","v":0},{"$f":"'Conversion 1'!B914/0.56","v":0},{"$f":"'Conversion 1'!B914/0.4","v":0}]
[null,{"$f":"0.1423*('Conversion 1'!D915^1.2528)","v":0},{"$f":"(0.00005*('Conversion 1'!D915^2))+(0.3389*'Conversion 1'!D915)-1.431","v":-1.431},914,{"$f":"'Conversion 1'!B915","v":0},{"$f":"'Conversion 1'!B915/0.4","v":0},{"$f":"'Conversion 1'!B915/0.4","v":0},{"$f":"'Conversion 1'!B915","v":0},{"$f":"'Conversion 1'!B915/0.07","v":0},{"$f":"'Conversion 1'!B915/0.056","v":0},{"$f":"'Conversion 1'!B915/0.1","v":0},{"$f":"'Conversion 1'!B915/0.058","v":0},{"$f":"'Conversion 1'!B915/0.01","v":0},{"$f":"'Conversion 1'!B915/0.02","v":0},{"$f":"'Conversion 1'!B915/0.56","v":0},{"$f":"'Conversion 1'!B915/0.4","v":0}]
[null,{"$f":"0.1423*('Conversion 1'!D916^1.2528)","v":0},{"$f":"(0.00005*('Conversion 1'!D916^2))+(0.3389*'Conversion 1'!D916)-1.431","v":-1.431},915,{"$f":"'Conversion 1'!B916","v":0},{"$f":"'Conversion 1'!B916/0.4","v":0},{"$f":"'Conversion 1'!B916/0.4","v":0},{"$f":"'Conversion 1'!B916","v":0},{"$f":"'Conversion 1'!B916/0.07","v":0},{"$f":"'Conversion 1'!B916/0.056","v":0},{"$f":"'Conversion 1'!B916/0.1","v":0},{"$f":"'Conversion 1'!B916/0.058","v":0},{"$f":"'Conversion 1'!B916/0.01","v":0},{"$f":"'Conversion 1'!B916/0.02","v":0},{"$f":"'Conversion 1'!B916/0.56","v":0},{"$f":"'Conversion 1'!B916/0.4","v":0}]
[null,{"$f":"0.1423*('Conversion 1'!D917^1.2528)","v":0},{"$f":"(0.00005*('Conversion 1'!D917^2))+(0.3389*'Conversion 1'!D917)-1.431","v":-1.431},916,{"$f":"'Conversion 1'!B917","v":0},{"$f":"'Conversion 1'!B917/0.4","v":0},{"$f":"'Conversion 1'!B917/0.4","v":0},{"$f":"'Conversion 1'!B917","v":0},{"$f":"'Conversion 1'!B917/0.07","v":0},{"$f":"'Conversion 1'!B917/0.056","v":0},{"$f":"'Conversion 1'!B917/0.1","v":0},{"$f":"'Conversion 1'!B917/0.058","v":0},{"$f":"'Conversion 1'!B917/0.01","v":0},{"$f":"'Conversion 1'!B917/0.02","v":0},{"$f":"'Conversion 1'!B917/0.56","v":0},{"$f":"'Conversion 1'!B917/0.4","v":0}]
[null,{"$f":"0.1423*('Conversion 1'!D918^1.2528)","v":0},{"$f":"(0.00005*('Conversion 1'!D918^2))+(0.3389*'Conversion 1'!D918)-1.431","v":-1.431},917,{"$f":"'Conversion 1'!B918","v":0},{"$f":"'Conversion 1'!B918/0.4","v":0},{"$f":"'Conversion 1'!B918/0.4","v":0},{"$f":"'Conversion 1'!B918","v":0},{"$f":"'Conversion 1'!B918/0.07","v":0},{"$f":"'Conversion 1'!B918/0.056","v":0},{"$f":"'Conversion 1'!B918/0.1","v":0},{"$f":"'Conversion 1'!B918/0.058","v":0},{"$f":"'Conversion 1'!B918/0.01","v":0},{"$f":"'Conversion 1'!B918/0.02","v":0},{"$f":"'Conversion 1'!B918/0.56","v":0},{"$f":"'Conversion 1'!B918/0.4","v":0}]
[null,{"$f":"0.1423*('Conversion 1'!D919^1.2528)","v":0},{"$f":"(0.00005*('Conversion 1'!D919^2))+(0.3389*'Conversion 1'!D919)-1.431","v":-1.431},918,{"$f":"'Conversion 1'!B919","v":0},{"$f":"'Conversion 1'!B919/0.4","v":0},{"$f":"'Conversion 1'!B919/0.4","v":0},{"$f":"'Conversion 1'!B919","v":0},{"$f":"'Conversion 1'!B919/0.07","v":0},{"$f":"'Conversion 1'!B919/0.056","v":0},{"$f":"'Conversion 1'!B919/0.1","v":0},{"$f":"'Conversion 1'!B919/0.058","v":0},{"$f":"'Conversion 1'!B919/0.01","v":0},{"$f":"'Conversion 1'!B919/0.02","v":0},{"$f":"'Conversion 1'!B919/0.56","v":0},{"$f":"'Conversion 1'!B919/0.4","v":0}]
[null,{"$f":"0.1423*('Conversion 1'!D920^1.2528)","v":0},{"$f":"(0.00005*('Conversion 1'!D920^2))+(0.3389*'Conversion 1'!D920)-1.431","v":-1.431},919,{"$f":"'Conversion 1'!B920","v":0},{"$f":"'Conversion 1'!B920/0.4","v":0},{"$f":"'Conversion 1'!B920/0.4","v":0},{"$f":"'Conversion 1'!B920","v":0},{"$f":"'Conversion 1'!B920/0.07","v":0},{"$f":"'Conversion 1'!B920/0.056","v":0},{"$f":"'Conversion 1'!B920/0.1","v":0},{"$f":"'Conversion 1'!B920/0.058","v":0},{"$f":"'Conversion 1'!B920/0.01","v":0},{"$f":"'Conversion 1'!B920/0.02","v":0},{"$f":"'Conversion 1'!B920/0.56","v":0},{"$f":"'Conversion 1'!B920/0.4","v":0}]
[null,{"$f":"0.1423*('Conversion 1'!D921^1.2528)","v":0},{"$f":"(0.00005*('Conversion 1'!D921^2))+(0.3389*'Conversion 1'!D921)-1.431","v":-1.431},920,{"$f":"'Conversion 1'!B921","v":0},{"$f":"'Conversion 1'!B921/0.4","v":0},{"$f":"'Conversion 1'!B921/0.4","v":0},{"$f":"'Conversion 1'!B921","v":0},{"$f":"'Conversion 1'!B921/0.07","v":0},{"$f":"'Conversion 1'!B921/0.056","v":0},{"$f":"'Conversion 1'!B921/0.1","v":0},{"$f":"'Conversion 1'!B921/0.058","v":0},{"$f":"'Conversion 1'!B921/0.01","v":0},{"$f":"'Conversion 1'!B921/0.02","v":0},{"$f":"'Conversion 1'!B921/0.56","v":0},{"$f":"'Conversion 1'!B921/0.4","v":0}]
[null,{"$f":"0.1423*('Conversion 1'!D922^1.2528)","v":0},{"$f":"(0.00005*('Conversion 1'!D922^2))+(0.3389*'Conversion 1'!D922)-1.431","v":-1.431},921,{"$f":"'Conversion 1'!B922","v":0},{"$f":"'Conversion 1'!B922/0.4","v":0},{"$f":"'Conversion 1'!B922/0.4","v":0},{"$f":"'Conversion 1'!B922","v":0},{"$f":"'Conversion 1'!B922/0.07","v":0},{"$f":"'Conversion 1'!B922/0.056","v":0},{"$f":"'Conversion 1'!B922/0.1","v":0},{"$f":"'Conversion 1'!B922/0.058","v":0},{"$f":"'Conversion 1'!B922/0.01","v":0},{"$f":"'Conversion 1'!B922/0.02","v":0},{"$f":"'Conversion 1'!B922/0.56","v":0},{"$f":"'Conversion 1'!B922/0.4","v":0}]
[null,{"$f":"0.1423*('Conversion 1'!D923^1.2528)","v":0},{"$f":"(0.00005*('Conversion 1'!D923^2))+(0.3389*'Conversion 1'!D923)-1.431","v":-1.431},922,{"$f":"'Conversion 1'!B923","v":0},{"$f":"'Conversion 1'!B923/0.4","v":0},{"$f":"'Conversion 1'!B923/0.4","v":0},{"$f":"'Conversion 1'!B923","v":0},{"$f":"'Conversion 1'!B923/0.07","v":0},{"$f":"'Conversion 1'!B923/0.056","v":0},{"$f":"'Conversion 1'!B923/0.1","v":0},{"$f":"'Conversion 1'!B923/0.058","v":0},{"$f":"'Conversion 1'!B923/0.01","v":0},{"$f":"'Conversion 1'!B923/0.02","v":0},{"$f":"'Conversion 1'!B923/0.56","v":0},{"$f":"'Conversion 1'!B923/0.4","v":0}]
[null,{"$f":"0.1423*('Conversion 1'!D924^1.2528)","v":0},{"$f":"(0.00005*('Conversion 1'!D924^2))+(0.3389*'Conversion 1'!D924)-1.431","v":-1.431},923,{"$f":"'Conversion 1'!B924","v":0},{"$f":"'Conversion 1'!B924/0.4","v":0},{"$f":"'Conversion 1'!B924/0.4","v":0},{"$f":"'Conversion 1'!B924","v":0},{"$f":"'Conversion 1'!B924/0.07","v":0},{"$f":"'Conversion 1'!B924/0.056","v":0},{"$f":"'Conversion 1'!B924/0.1","v":0},{"$f":"'Conversion 1'!B924/0.058","v":0},{"$f":"'Conversion 1'!B924/0.01","v":0},{"$f":"'Conversion 1'!B924/0.02","v":0},{"$f":"'Conversion 1'!B924/0.56","v":0},{"$f":"'Conversion 1'!B924/0.4","v":0}]
[null,{"$f":"0.1423*('Conversion 1'!D925^1.2528)","v":0},{"$f":"(0.00005*('Conversion 1'!D925^2))+(0.3389*'Conversion 1'!D925)-1.431","v":-1.431},924,{"$f":"'Conversion 1'!B925","v":0},{"$f":"'Conversion 1'!B925/0.4","v":0},{"$f":"'Conversion 1'!B925/0.4","v":0},{"$f":"'Conversion 1'!B925","v":0},{"$f":"'Conversion 1'!B925/0.07","v":0},{"$f":"'Conversion 1'!B925/0.056","v":0},{"$f":"'Conversion 1'!B925/0.1","v":0},{"$f":"'Conversion 1'!B925/0.058","v":0},{"$f":"'Conversion 1'!B925/0.01","v":0},{"$f":"'Conversion 1'!B925/0.02","v":0},{"$f":"'Conversion 1'!B925/0.56","v":0},{"$f":"'Conversion 1'!B925/0.4","v":0}]
[null,{"$f":"0.1423*('Conversion 1'!D926^1.2528)","v":0},{"$f":"(0.00005*('Conversion 1'!D926^2))+(0.3389*'Conversion 1'!D926)-1.431","v":-1.431},925,{"$f":"'Conversion 1'!B926","v":0},{"$f":"'Conversion 1'!B926/0.4","v":0},{"$f":"'Conversion 1'!B926/0.4","v":0},{"$f":"'Conversion 1'!B926","v":0},{"$f":"'Conversion 1'!B926/0.07","v":0},{"$f":"'Conversion 1'!B926/0.056","v":0},{"$f":"'Conversion 1'!B926/0.1","v":0},{"$f":"'Conversion 1'!B926/0.058","v":0},{"$f":"'Conversion 1'!B926/0.01","v":0},{"$f":"'Conversion 1'!B926/0.02","v":0},{"$f":"'Conversion 1'!B926/0.56","v":0},{"$f":"'Conversion 1'!B926/0.4","v":0}]
[null,{"$f":"0.1423*('Conversion 1'!D927^1.2528)","v":0},{"$f":"(0.00005*('Conversion 1'!D927^2))+(0.3389*'Conversion 1'!D927)-1.431","v":-1.431},926,{"$f":"'Conversion 1'!B927","v":0},{"$f":"'Conversion 1'!B927/0.4","v":0},{"$f":"'Conversion 1'!B927/0.4","v":0},{"$f":"'Conversion 1'!B927","v":0},{"$f":"'Conversion 1'!B927/0.07","v":0},{"$f":"'Conversion 1'!B927/0.056","v":0},{"$f":"'Conversion 1'!B927/0.1","v":0},{"$f":"'Conversion 1'!B927/0.058","v":0},{"$f":"'Conversion 1'!B927/0.01","v":0},{"$f":"'Conversion 1'!B927/0.02","v":0},{"$f":"'Conversion 1'!B927/0.56","v":0},{"$f":"'Conversion 1'!B927/0.4","v":0}]
[null,{"$f":"0.1423*('Conversion 1'!D928^1.2528)","v":0},{"$f":"(0.00005*('Conversion 1'!D928^2))+(0.3389*'Conversion 1'!D928)-1.431","v":-1.431},927,{"$f":"'Conversion 1'!B928","v":0},{"$f":"'Conversion 1'!B928/0.4","v":0},{"$f":"'Conversion 1'!B928/0.4","v":0},{"$f":"'Conversion 1'!B928","v":0},{"$f":"'Conversion 1'!B928/0.07","v":0},{"$f":"'Conversion 1'!B928/0.056","v":0},{"$f":"'Conversion 1'!B928/0.1","v":0},{"$f":"'Conversion 1'!B928/0.058","v":0},{"$f":"'Conversion 1'!B928/0.01","v":0},{"$f":"'Conversion 1'!B928/0.02","v":0},{"$f":"'Conversion 1'!B928/0.56","v":0},{"$f":"'Conversion 1'!B928/0.4","v":0}]
[null,{"$f":"0.1423*('Conversion 1'!D929^1.2528)","v":0},{"$f":"(0.00005*('Conversion 1'!D929^2))+(0.3389*'Conversion 1'!D929)-1.431","v":-1.431},928,{"$f":"'Conversion 1'!B929","v":0},{"$f":"'Conversion 1'!B929/0.4","v":0},{"$f":"'Conversion 1'!B929/0.4","v":0},{"$f":"'Conversion 1'!B929","v":0},{"$f":"'Conversion 1'!B929/0.07","v":0},{"$f":"'Conversion 1'!B929/0.056","v":0},{"$f":"'Conversion 1'!B929/0.1","v":0},{"$f":"'Conversion 1'!B929/0.058","v":0},{"$f":"'Conversion 1'!B929/0.01","v":0},{"$f":"'Conversion 1'!B929/0.02","v":0},{"$f":"'Conversion 1'!B929/0.56","v":0},{"$f":"'Conversion 1'!B929/0.4","v":0}]
[null,{"$f":"0.1423*('Conversion 1'!D930^1.2528)","v":0},{"$f":"(0.00005*('Conversion 1'!D930^2))+(0.3389*'Conversion 1'!D930)-1.431","v":-1.431},929,{"$f":"'Conversion 1'!B930","v":0},{"$f":"'Conversion 1'!B930/0.4","v":0},{"$f":"'Conversion 1'!B930/0.4","v":0},{"$f":"'Conversion 1'!B930","v":0},{"$f":"'Conversion 1'!B930/0.07","v":0},{"$f":"'Conversion 1'!B930/0.056","v":0},{"$f":"'Conversion 1'!B930/0.1","v":0},{"$f":"'Conversion 1'!B930/0.058","v":0},{"$f":"'Conversion 1'!B930/0.01","v":0},{"$f":"'Conversion 1'!B930/0.02","v":0},{"$f":"'Conversion 1'!B930/0.56","v":0},{"$f":"'Conversion 1'!B930/0.4","v":0}]
[null,{"$f":"0.1423*('Conversion 1'!D931^1.2528)","v":0},{"$f":"(0.00005*('Conversion 1'!D931^2))+(0.3389*'Conversion 1'!D931)-1.431","v":-1.431},930,{"$f":"'Conversion 1'!B931","v":0},{"$f":"'Conversion 1'!B931/0.4","v":0},{"$f":"'Conversion 1'!B931/0.4","v":0},{"$f":"'Conversion 1'!B931","v":0},{"$f":"'Conversion 1'!B931/0.07","v":0},{"$f":"'Conversion 1'!B931/0.056","v":0},{"$f":"'Conversion 1'!B931/0.1","v":0},{"$f":"'Conversion 1'!B931/0.058","v":0},{"$f":"'Conversion 1'!B931/0.01","v":0},{"$f":"'Conversion 1'!B931/0.02","v":0},{"$f":"'Conversion 1'!B931/0.56","v":0},{"$f":"'Conversion 1'!B931/0.4","v":0}]
[null,{"$f":"0.1423*('Conversion 1'!D932^1.2528)","v":0},{"$f":"(0.00005*('Conversion 1'!D932^2))+(0.3389*'Conversion 1'!D932)-1.431","v":-1.431},931,{"$f":"'Conversion 1'!B932","v":0},{"$f":"'Conversion 1'!B932/0.4","v":0},{"$f":"'Conversion 1'!B932/0.4","v":0},{"$f":"'Conversion 1'!B932","v":0},{"$f":"'Conversion 1'!B932/0.07","v":0},{"$f":"'Conversion 1'!B932/0.056","v":0},{"$f":"'Conversion 1'!B932/0.1","v":0},{"$f":"'Conversion 1'!B932/0.058","v":0},{"$f":"'Conversion 1'!B932/0.01","v":0},{"$f":"'Conversion 1'!B932/0.02","v":0},{"$f":"'Conversion 1'!B932/0.56","v":0},{"$f":"'Conversion 1'!B932/0.4","v":0}]
[null,{"$f":"0.1423*('Conversion 1'!D933^1.2528)","v":0},{"$f":"(0.00005*('Conversion 1'!D933^2))+(0.3389*'Conversion 1'!D933)-1.431","v":-1.431},932,{"$f":"'Conversion 1'!B933","v":0},{"$f":"'Conversion 1'!B933/0.4","v":0},{"$f":"'Conversion 1'!B933/0.4","v":0},{"$f":"'Conversion 1'!B933","v":0},{"$f":"'Conversion 1'!B933/0.07","v":0},{"$f":"'Conversion 1'!B933/0.056","v":0},{"$f":"'Conversion 1'!B933/0.1","v":0},{"$f":"'Conversion 1'!B933/0.058","v":0},{"$f":"'Conversion 1'!B933/0.01","v":0},{"$f":"'Conversion 1'!B933/0.02","v":0},{"$f":"'Conversion 1'!B933/0.56","v":0},{"$f":"'Conversion 1'!B933/0.4","v":0}]
[null,{"$f":"0.1423*('Conversion 1'!D934^1.2528)","v":0},{"$f":"(0.00005*('Conversion 1'!D934^2))+(0.3389*'Conversion 1'!D934)-1.431","v":-1.431},933,{"$f":"'Conversion 1'!B934","v":0},{"$f":"'Conversion 1'!B934/0.4","v":0},{"$f":"'Conversion 1'!B934/0.4","v":0},{"$f":"'Conversion 1'!B934","v":0},{"$f":"'Conversion 1'!B934/0.07","v":0},{"$f":"'Conversion 1'!B934/0.056","v":0},{"$f":"'Conversion 1'!B934/0.1","v":0},{"$f":"'Conversion 1'!B934/0.058","v":0},{"$f":"'Conversion 1'!B934/0.01","v":0},{"$f":"'Conversion 1'!B934/0.02","v":0},{"$f":"'Conversion 1'!B934/0.56","v":0},{"$f":"'Conversion 1'!B934/0.4","v":0}]
[null,{"$f":"0.1423*('Conversion 1'!D935^1.2528)","v":0},{"$f":"(0.00005*('Conversion 1'!D935^2))+(0.3389*'Conversion 1'!D935)-1.431","v":-1.431},934,{"$f":"'Conversion 1'!B935","v":0},{"$f":"'Conversion 1'!B935/0.4","v":0},{"$f":"'Conversion 1'!B935/0.4","v":0},{"$f":"'Conversion 1'!B935","v":0},{"$f":"'Conversion 1'!B935/0.07","v":0},{"$f":"'Conversion 1'!B935/0.056","v":0},{"$f":"'Conversion 1'!B935/0.1","v":0},{"$f":"'Conversion 1'!B935/0.058","v":0},{"$f":"'Conversion 1'!B935/0.01","v":0},{"$f":"'Conversion 1'!B935/0.02","v":0},{"$f":"'Conversion 1'!B935/0.56","v":0},{"$f":"'Conversion 1'!B935/0.4","v":0}]
[null,{"$f":"0.1423*('Conversion 1'!D936^1.2528)","v":0},{"$f":"(0.00005*('Conversion 1'!D936^2))+(0.3389*'Conversion 1'!D936)-1.431","v":-1.431},935,{"$f":"'Conversion 1'!B936","v":0},{"$f":"'Conversion 1'!B936/0.4","v":0},{"$f":"'Conversion 1'!B936/0.4","v":0},{"$f":"'Conversion 1'!B936","v":0},{"$f":"'Conversion 1'!B936/0.07","v":0},{"$f":"'Conversion 1'!B936/0.056","v":0},{"$f":"'Conversion 1'!B936/0.1","v":0},{"$f":"'Conversion 1'!B936/0.058","v":0},{"$f":"'Conversion 1'!B936/0.01","v":0},{"$f":"'Conversion 1'!B936/0.02","v":0},{"$f":"'Conversion 1'!B936/0.56","v":0},{"$f":"'Conversion 1'!B936/0.4","v":0}]
[null,{"$f":"0.1423*('Conversion 1'!D937^1.2528)","v":0},{"$f":"(0.00005*('Conversion 1'!D937^2))+(0.3389*'Conversion 1'!D937)-1.431","v":-1.431},936,{"$f":"'Conversion 1'!B937","v":0},{"$f":"'Conversion 1'!B937/0.4","v":0},{"$f":"'Conversion 1'!B937/0.4","v":0},{"$f":"'Conversion 1'!B937","v":0},{"$f":"'Conversion 1'!B937/0.07","v":0},{"$f":"'Conversion 1'!B937/0.056","v":0},{"$f":"'Conversion 1'!B937/0.1","v":0},{"$f":"'Conversion 1'!B937/0.058","v":0},{"$f":"'Conversion 1'!B937/0.01","v":0},{"$f":"'Conversion 1'!B937/0.02","v":0},{"$f":"'Conversion 1'!B937/0.56","v":0},{"$f":"'Conversion 1'!B937/0.4","v":0}]
[null,{"$f":"0.1423*('Conversion 1'!D938^1.2528)","v":0},{"$f":"(0.00005*('Conversion 1'!D938^2))+(0.3389*'Conversion 1'!D938)-1.431","v":-1.431},937,{"$f":"'Conversion 1'!B938","v":0},{"$f":"'Conversion 1'!B938/0.4","v":0},{"$f":"'Conversion 1'!B938/0.4","v":0},{"$f":"'Conversion 1'!B938","v":0},{"$f":"'Conversion 1'!B938/0.07","v":0},{"$f":"'Conversion 1'!B938/0.056","v":0},{"$f":"'Conversion 1'!B938/0.1","v":0},{"$f":"'Conversion 1'!B938/0.058","v":0},{"$f":"'Conversion 1'!B938/0.01","v":0},{"$f":"'Conversion 1'!B938/0.02","v":0},{"$f":"'Conversion 1'!B938/0.56","v":0},{"$f":"'Conversion 1'!B938/0.4","v":0}]
[null,{"$f":"0.1423*('Conversion 1'!D939^1.2528)","v":0},{"$f":"(0.00005*('Conversion 1'!D939^2))+(0.3389*'Conversion 1'!D939)-1.431","v":-1.431},938,{"$f":"'Conversion 1'!B939","v":0},{"$f":"'Conversion 1'!B939/0.4","v":0},{"$f":"'Conversion 1'!B939/0.4","v":0},{"$f":"'Conversion 1'!B939","v":0},{"$f":"'Conversion 1'!B939/0.07","v":0},{"$f":"'Conversion 1'!B939/0.056","v":0},{"$f":"'Conversion 1'!B939/0.1","v":0},{"$f":"'Conversion 1'!B939/0.058","v":0},{"$f":"'Conversion 1'!B939/0.01","v":0},{"$f":"'Conversion 1'!B939/0.02","v":0},{"$f":"'Conversion 1'!B939/0.56","v":0},{"$f":"'Conversion 1'!B939/0.4","v":0}]
[null,{"$f":"0.1423*('Conversion 1'!D940^1.2528)","v":0},{"$f":"(0.00005*('Conversion 1'!D940^2))+(0.3389*'Conversion 1'!D940)-1.431","v":-1.431},939,{"$f":"'Conversion 1'!B940","v":0},{"$f":"'Conversion 1'!B940/0.4","v":0},{"$f":"'Conversion 1'!B940/0.4","v":0},{"$f":"'Conversion 1'!B940","v":0},{"$f":"'Conversion 1'!B940/0.07","v":0},{"$f":"'Conversion 1'!B940/0.056","v":0},{"$f":"'Conversion 1'!B940/0.1","v":0},{"$f":"'Conversion 1'!B940/0.058","v":0},{"$f":"'Conversion 1'!B940/0.01","v":0},{"$f":"'Conversion 1'!B940/0.02","v":0},{"$f":"'Conversion 1'!B940/0.56","v":0},{"$f":"'Conversion 1'!B940/0.4","v":0}]
[null,{"$f":"0.1423*('Conversion 1'!D941^1.2528)","v":0},{"$f":"(0.00005*('Conversion 1'!D941^2))+(0.3389*'Conversion 1'!D941)-1.431","v":-1.431},940,{"$f":"'Conversion 1'!B941","v":0},{"$f":"'Conversion 1'!B941/0.4","v":0},{"$f":"'Conversion 1'!B941/0.4","v":0},{"$f":"'Conversion 1'!B941","v":0},{"$f":"'Conversion 1'!B941/0.07","v":0},{"$f":"'Conversion 1'!B941/0.056","v":0},{"$f":"'Conversion 1'!B941/0.1","v":0},{"$f":"'Conversion 1'!B941/0.058","v":0},{"$f":"'Conversion 1'!B941/0.01","v":0},{"$f":"'Conversion 1'!B941/0.02","v":0},{"$f":"'Conversion 1'!B941/0.56","v":0},{"$f":"'Conversion 1'!B941/0.4","v":0}]
[null,{"$f":"0.1423*('Conversion 1'!D942^1.2528)","v":0},{"$f":"(0.00005*('Conversion 1'!D942^2))+(0.3389*'Conversion 1'!D942)-1.431","v":-1.431},941,{"$f":"'Conversion 1'!B942","v":0},{"$f":"'Conversion 1'!B942/0.4","v":0},{"$f":"'Conversion 1'!B942/0.4","v":0},{"$f":"'Conversion 1'!B942","v":0},{"$f":"'Conversion 1'!B942/0.07","v":0},{"$f":"'Conversion 1'!B942/0.056","v":0},{"$f":"'Conversion 1'!B942/0.1","v":0},{"$f":"'Conversion 1'!B942/0.058","v":0},{"$f":"'Conversion 1'!B942/0.01","v":0},{"$f":"'Conversion 1'!B942/0.02","v":0},{"$f":"'Conversion 1'!B942/0.56","v":0},{"$f":"'Conversion 1'!B942/0.4","v":0}]
[null,{"$f":"0.1423*('Conversion 1'!D943^1.2528)","v":0},{"$f":"(0.00005*('Conversion 1'!D943^2))+(0.3389*'Conversion 1'!D943)-1.431","v":-1.431},942,{"$f":"'Conversion 1'!B943","v":0},{"$f":"'Conversion 1'!B943/0.4","v":0},{"$f":"'Conversion 1'!B943/0.4","v":0},{"$f":"'Conversion 1'!B943","v":0},{"$f":"'Conversion 1'!B943/0.07","v":0},{"$f":"'Conversion 1'!B943/0.056","v":0},{"$f":"'Conversion 1'!B943/0.1","v":0},{"$f":"'Conversion 1'!B943/0.058","v":0},{"$f":"'Conversion 1'!B943/0.01","v":0},{"$f":"'Conversion 1'!B943/0.02","v":0},{"$f":"'Conversion 1'!B943/0.56","v":0},{"$f":"'Conversion 1'!B943/0.4","v":0}]
[null,{"$f":"0.1423*('Conversion 1'!D944^1.2528)","v":0},{"$f":"(0.00005*('Conversion 1'!D944^2))+(0.3389*'Conversion 1'!D944)-1.431","v":-1.431},943,{"$f":"'Conversion 1'!B944","v":0},{"$f":"'Conversion 1'!B944/0.4","v":0},{"$f":"'Conversion 1'!B944/0.4","v":0},{"$f":"'Conversion 1'!B944","v":0},{"$f":"'Conversion 1'!B944/0.07","v":0},{"$f":"'Conversion 1'!B944/0.056","v":0},{"$f":"'Conversion 1'!B944/0.1","v":0},{"$f":"'Conversion 1'!B944/0.058","v":0},{"$f":"'Conversion 1'!B944/0.01","v":0},{"$f":"'Conversion 1'!B944/0.02","v":0},{"$f":"'Conversion 1'!B944/0.56","v":0},{"$f":"'Conversion 1'!B944/0.4","v":0}]
[null,{"$f":"0.1423*('Conversion 1'!D945^1.2528)","v":0},{"$f":"(0.00005*('Conversion 1'!D945^2))+(0.3389*'Conversion 1'!D945)-1.431","v":-1.431},944,{"$f":"'Conversion 1'!B945","v":0},{"$f":"'Conversion 1'!B945/0.4","v":0},{"$f":"'Conversion 1'!B945/0.4","v":0},{"$f":"'Conversion 1'!B945","v":0},{"$f":"'Conversion 1'!B945/0.07","v":0},{"$f":"'Conversion 1'!B945/0.056","v":0},{"$f":"'Conversion 1'!B945/0.1","v":0},{"$f":"'Conversion 1'!B945/0.058","v":0},{"$f":"'Conversion 1'!B945/0.01","v":0},{"$f":"'Conversion 1'!B945/0.02","v":0},{"$f":"'Conversion 1'!B945/0.56","v":0},{"$f":"'Conversion 1'!B945/0.4","v":0}]
[null,{"$f":"0.1423*('Conversion 1'!D946^1.2528)","v":0},{"$f":"(0.00005*('Conversion 1'!D946^2))+(0.3389*'Conversion 1'!D946)-1.431","v":-1.431},945,{"$f":"'Conversion 1'!B946","v":0},{"$f":"'Conversion 1'!B946/0.4","v":0},{"$f":"'Conversion 1'!B946/0.4","v":0},{"$f":"'Conversion 1'!B946","v":0},{"$f":"'Conversion 1'!B946/0.07","v":0},{"$f":"'Conversion 1'!B946/0.056","v":0},{"$f":"'Conversion 1'!B946/0.1","v":0},{"$f":"'Conversion 1'!B946/0.058","v":0},{"$f":"'Conversion 1'!B946/0.01","v":0},{"$f":"'Conversion 1'!B946/0.02","v":0},{"$f":"'Conversion 1'!B946/0.56","v":0},{"$f":"'Conversion 1'!B946/0.4","v":0}]
[null,{"$f":"0.1423*('Conversion 1'!D947^1.2528)","v":0},{"$f":"(0.00005*('Conversion 1'!D947^2))+(0.3389*'Conversion 1'!D947)-1.431","v":-1.431},946,{"$f":"'Conversion 1'!B947","v":0},{"$f":"'Conversion 1'!B947/0.4","v":0},{"$f":"'Conversion 1'!B947/0.4","v":0},{"$f":"'Conversion 1'!B947","v":0},{"$f":"'Conversion 1'!B947/0.07","v":0},{"$f":"'Conversion 1'!B947/0.056","v":0},{"$f":"'Conversion 1'!B947/0.1","v":0},{"$f":"'Conversion 1'!B947/0.058","v":0},{"$f":"'Conversion 1'!B947/0.01","v":0},{"$f":"'Conversion 1'!B947/0.02","v":0},{"$f":"'Conversion 1'!B947/0.56","v":0},{"$f":"'Conversion 1'!B947/0.4","v":0}]
[null,{"$f":"0.1423*('Conversion 1'!D948^1.2528)","v":0},{"$f":"(0.00005*('Conversion 1'!D948^2))+(0.3389*'Conversion 1'!D948)-1.431","v":-1.431},947,{"$f":"'Conversion 1'!B948","v":0},{"$f":"'Conversion 1'!B948/0.4","v":0},{"$f":"'Conversion 1'!B948/0.4","v":0},{"$f":"'Conversion 1'!B948","v":0},{"$f":"'Conversion 1'!B948/0.07","v":0},{"$f":"'Conversion 1'!B948/0.056","v":0},{"$f":"'Conversion 1'!B948/0.1","v":0},{"$f":"'Conversion 1'!B948/0.058","v":0},{"$f":"'Conversion 1'!B948/0.01","v":0},{"$f":"'Conversion 1'!B948/0.02","v":0},{"$f":"'Conversion 1'!B948/0.56","v":0},{"$f":"'Conversion 1'!B948/0.4","v":0}]
[null,{"$f":"0.1423*('Conversion 1'!D949^1.2528)","v":0},{"$f":"(0.00005*('Conversion 1'!D949^2))+(0.3389*'Conversion 1'!D949)-1.431","v":-1.431},948,{"$f":"'Conversion 1'!B949","v":0},{"$f":"'Conversion 1'!B949/0.4","v":0},{"$f":"'Conversion 1'!B949/0.4","v":0},{"$f":"'Conversion 1'!B949","v":0},{"$f":"'Conversion 1'!B949/0.07","v":0},{"$f":"'Conversion 1'!B949/0.056","v":0},{"$f":"'Conversion 1'!B949/0.1","v":0},{"$f":"'Conversion 1'!B949/0.058","v":0},{"$f":"'Conversion 1'!B949/0.01","v":0},{"$f":"'Conversion 1'!B949/0.02","v":0},{"$f":"'Conversion 1'!B949/0.56","v":0},{"$f":"'Conversion 1'!B949/0.4","v":0}]
[null,{"$f":"0.1423*('Conversion 1'!D950^1.2528)","v":0},{"$f":"(0.00005*('Conversion 1'!D950^2))+(0.3389*'Conversion 1'!D950)-1.431","v":-1.431},949,{"$f":"'Conversion 1'!B950","v":0},{"$f":"'Conversion 1'!B950/0.4","v":0},{"$f":"'Conversion 1'!B950/0.4","v":0},{"$f":"'Conversion 1'!B950","v":0},{"$f":"'Conversion 1'!B950/0.07","v":0},{"$f":"'Conversion 1'!B950/0.056","v":0},{"$f":"'Conversion 1'!B950/0.1","v":0},{"$f":"'Conversion 1'!B950/0.058","v":0},{"$f":"'Conversion 1'!B950/0.01","v":0},{"$f":"'Conversion 1'!B950/0.02","v":0},{"$f":"'Conversion 1'!B950/0.56","v":0},{"$f":"'Conversion 1'!B950/0.4","v":0}]
[null,{"$f":"0.1423*('Conversion 1'!D951^1.2528)","v":0},{"$f":"(0.00005*('Conversion 1'!D951^2))+(0.3389*'Conversion 1'!D951)-1.431","v":-1.431},950,{"$f":"'Conversion 1'!B951","v":0},{"$f":"'Conversion 1'!B951/0.4","v":0},{"$f":"'Conversion 1'!B951/0.4","v":0},{"$f":"'Conversion 1'!B951","v":0},{"$f":"'Conversion 1'!B951/0.07","v":0},{"$f":"'Conversion 1'!B951/0.056","v":0},{"$f":"'Conversion 1'!B951/0.1","v":0},{"$f":"'Conversion 1'!B951/0.058","v":0},{"$f":"'Conversion 1'!B951/0.01","v":0},{"$f":"'Conversion 1'!B951/0.02","v":0},{"$f":"'Conversion 1'!B951/0.56","v":0},{"$f":"'Conversion 1'!B951/0.4","v":0}]
[null,{"$f":"0.1423*('Conversion 1'!D952^1.2528)","v":0},{"$f":"(0.00005*('Conversion 1'!D952^2))+(0.3389*'Conversion 1'!D952)-1.431","v":-1.431},951,{"$f":"'Conversion 1'!B952","v":0},{"$f":"'Conversion 1'!B952/0.4","v":0},{"$f":"'Conversion 1'!B952/0.4","v":0},{"$f":"'Conversion 1'!B952","v":0},{"$f":"'Conversion 1'!B952/0.07","v":0},{"$f":"'Conversion 1'!B952/0.056","v":0},{"$f":"'Conversion 1'!B952/0.1","v":0},{"$f":"'Conversion 1'!B952/0.058","v":0},{"$f":"'Conversion 1'!B952/0.01","v":0},{"$f":"'Conversion 1'!B952/0.02","v":0},{"$f":"'Conversion 1'!B952/0.56","v":0},{"$f":"'Conversion 1'!B952/0.4","v":0}]
[null,{"$f":"0.1423*('Conversion 1'!D953^1.2528)","v":0},{"$f":"(0.00005*('Conversion 1'!D953^2))+(0.3389*'Conversion 1'!D953)-1.431","v":-1.431},952,{"$f":"'Conversion 1'!B953","v":0},{"$f":"'Conversion 1'!B953/0.4","v":0},{"$f":"'Conversion 1'!B953/0.4","v":0},{"$f":"'Conversion 1'!B953","v":0},{"$f":"'Conversion 1'!B953/0.07","v":0},{"$f":"'Conversion 1'!B953/0.056","v":0},{"$f":"'Conversion 1'!B953/0.1","v":0},{"$f":"'Conversion 1'!B953/0.058","v":0},{"$f":"'Conversion 1'!B953/0.01","v":0},{"$f":"'Conversion 1'!B953/0.02","v":0},{"$f":"'Conversion 1'!B953/0.56","v":0},{"$f":"'Conversion 1'!B953/0.4","v":0}]
[null,{"$f":"0.1423*('Conversion 1'!D954^1.2528)","v":0},{"$f":"(0.00005*('Conversion 1'!D954^2))+(0.3389*'Conversion 1'!D954)-1.431","v":-1.431},953,{"$f":"'Conversion 1'!B954","v":0},{"$f":"'Conversion 1'!B954/0.4","v":0},{"$f":"'Conversion 1'!B954/0.4","v":0},{"$f":"'Conversion 1'!B954","v":0},{"$f":"'Conversion 1'!B954/0.07","v":0},{"$f":"'Conversion 1'!B954/0.056","v":0},{"$f":"'Conversion 1'!B954/0.1","v":0},{"$f":"'Conversion 1'!B954/0.058","v":0},{"$f":"'Conversion 1'!B954/0.01","v":0},{"$f":"'Conversion 1'!B954/0.02","v":0},{"$f":"'Conversion 1'!B954/0.56","v":0},{"$f":"'Conversion 1'!B954/0.4","v":0}]
[null,{"$f":"0.1423*('Conversion 1'!D955^1.2528)","v":0},{"$f":"(0.00005*('Conversion 1'!D955^2))+(0.3389*'Conversion 1'!D955)-1.431","v":-1.431},954,{"$f":"'Conversion 1'!B955","v":0},{"$f":"'Conversion 1'!B955/0.4","v":0},{"$f":"'Conversion 1'!B955/0.4","v":0},{"$f":"'Conversion 1'!B955","v":0},{"$f":"'Conversion 1'!B955/0.07","v":0},{"$f":"'Conversion 1'!B955/0.056","v":0},{"$f":"'Conversion 1'!B955/0.1","v":0},{"$f":"'Conversion 1'!B955/0.058","v":0},{"$f":"'Conversion 1'!B955/0.01","v":0},{"$f":"'Conversion 1'!B955/0.02","v":0},{"$f":"'Conversion 1'!B955/0.56","v":0},{"$f":"'Conversion 1'!B955/0.4","v":0}]
[null,{"$f":"0.1423*('Conversion 1'!D956^1.2528)","v":0},{"$f":"(0.00005*('Conversion 1'!D956^2))+(0.3389*'Conversion 1'!D956)-1.431","v":-1.431},955,{"$f":"'Conversion 1'!B956","v":0},{"$f":"'Conversion 1'!B956/0.4","v":0},{"$f":"'Conversion 1'!B956/0.4","v":0},{"$f":"'Conversion 1'!B956","v":0},{"$f":"'Conversion 1'!B956/0.07","v":0},{"$f":"'Conversion 1'!B956/0.056","v":0},{"$f":"'Conversion 1'!B956/0.1","v":0},{"$f":"'Conversion 1'!B956/0.058","v":0},{"$f":"'Conversion 1'!B956/0.01","v":0},{"$f":"'Conversion 1'!B956/0.02","v":0},{"$f":"'Conversion 1'!B956/0.56","v":0},{"$f":"'Conversion 1'!B956/0.4","v":0}]
[null,{"$f":"0.1423*('Conversion 1'!D957^1.2528)","v":0},{"$f":"(0.00005*('Conversion 1'!D957^2))+(0.3389*'Conversion 1'!D957)-1.431","v":-1.431},956,{"$f":"'Conversion 1'!B957","v":0},{"$f":"'Conversion 1'!B957/0.4","v":0},{"$f":"'Conversion 1'!B957/0.4","v":0},{"$f":"'Conversion 1'!B957","v":0},{"$f":"'Conversion 1'!B957/0.07","v":0},{"$f":"'Conversion 1'!B957/0.056","v":0},{"$f":"'Conversion 1'!B957/0.1","v":0},{"$f":"'Conversion 1'!B957/0.058","v":0},{"$f":"'Conversion 1'!B957/0.01","v":0},{"$f":"'Conversion 1'!B957/0.02","v":0},{"$f":"'Conversion 1'!B957/0.56","v":0},{"$f":"'Conversion 1'!B957/0.4","v":0}]
[null,{"$f":"0.1423*('Conversion 1'!D958^1.2528)","v":0},{"$f":"(0.00005*('Conversion 1'!D958^2))+(0.3389*'Conversion 1'!D958)-1.431","v":-1.431},957,{"$f":"'Conversion 1'!B958","v":0},{"$f":"'Conversion 1'!B958/0.4","v":0},{"$f":"'Conversion 1'!B958/0.4","v":0},{"$f":"'Conversion 1'!B958","v":0},{"$f":"'Conversion 1'!B958/0.07","v":0},{"$f":"'Conversion 1'!B958/0.056","v":0},{"$f":"'Conversion 1'!B958/0.1","v":0},{"$f":"'Conversion 1'!B958/0.058","v":0},{"$f":"'Conversion 1'!B958/0.01","v":0},{"$f":"'Conversion 1'!B958/0.02","v":0},{"$f":"'Conversion 1'!B958/0.56","v":0},{"$f":"'Conversion 1'!B958/0.4","v":0}]
[null,{"$f":"0.1423*('Conversion 1'!D959^1.2528)","v":0},{"$f":"(0.00005*('Conversion 1'!D959^2))+(0.3389*'Conversion 1'!D959)-1.431","v":-1.431},958,{"$f":"'Conversion 1'!B959","v":0},{"$f":"'Conversion 1'!B959/0.4","v":0},{"$f":"'Conversion 1'!B959/0.4","v":0},{"$f":"'Conversion 1'!B959","v":0},{"$f":"'Conversion 1'!B959/0.07","v":0},{"$f":"'Conversion 1'!B959/0.056","v":0},{"$f":"'Conversion 1'!B959/0.1","v":0},{"$f":"'Conversion 1'!B959/0.058","v":0},{"$f":"'Conversion 1'!B959/0.01","v":0},{"$f":"'Conversion 1'!B959/0.02","v":0},{"$f":"'Conversion 1'!B959/0.56","v":0},{"$f":"'Conversion 1'!B959/0.4","v":0}]
[null,{"$f":"0.1423*('Conversion 1'!D960^1.2528)","v":0},{"$f":"(0.00005*('Conversion 1'!D960^2))+(0.3389*'Conversion 1'!D960)-1.431","v":-1.431},959,{"$f":"'Conversion 1'!B960","v":0},{"$f":"'Conversion 1'!B960/0.4","v":0},{"$f":"'Conversion 1'!B960/0.4","v":0},{"$f":"'Conversion 1'!B960","v":0},{"$f":"'Conversion 1'!B960/0.07","v":0},{"$f":"'Conversion 1'!B960/0.056","v":0},{"$f":"'Conversion 1'!B960/0.1","v":0},{"$f":"'Conversion 1'!B960/0.058","v":0},{"$f":"'Conversion 1'!B960/0.01","v":0},{"$f":"'Conversion 1'!B960/0.02","v":0},{"$f":"'Conversion 1'!B960/0.56","v":0},{"$f":"'Conversion 1'!B960/0.4","v":0}]
[null,{"$f":"0.1423*('Conversion 1'!D961^1.2528)","v":0},{"$f":"(0.00005*('Conversion 1'!D961^2))+(0.3389*'Conversion 1'!D961)-1.431","v":-1.431},960,{"$f":"'Conversion 1'!B961","v":0},{"$f":"'Conversion 1'!B961/0.4","v":0},{"$f":"'Conversion 1'!B961/0.4","v":0},{"$f":"'Conversion 1'!B961","v":0},{"$f":"'Conversion 1'!B961/0.07","v":0},{"$f":"'Conversion 1'!B961/0.056","v":0},{"$f":"'Conversion 1'!B961/0.1","v":0},{"$f":"'Conversion 1'!B961/0.058","v":0},{"$f":"'Conversion 1'!B961/0.01","v":0},{"$f":"'Conversion 1'!B961/0.02","v":0},{"$f":"'Conversion 1'!B961/0.56","v":0},{"$f":"'Conversion 1'!B961/0.4","v":0}]
[null,{"$f":"0.1423*('Conversion 1'!D962^1.2528)","v":0},{"$f":"(0.00005*('Conversion 1'!D962^2))+(0.3389*'Conversion 1'!D962)-1.431","v":-1.431},961,{"$f":"'Conversion 1'!B962","v":0},{"$f":"'Conversion 1'!B962/0.4","v":0},{"$f":"'Conversion 1'!B962/0.4","v":0},{"$f":"'Conversion 1'!B962","v":0},{"$f":"'Conversion 1'!B962/0.07","v":0},{"$f":"'Conversion 1'!B962/0.056","v":0},{"$f":"'Conversion 1'!B962/0.1","v":0},{"$f":"'Conversion 1'!B962/0.058","v":0},{"$f":"'Conversion 1'!B962/0.01","v":0},{"$f":"'Conversion 1'!B962/0.02","v":0},{"$f":"'Conversion 1'!B962/0.56","v":0},{"$f":"'Conversion 1'!B962/0.4","v":0}]
[null,{"$f":"0.1423*('Conversion 1'!D963^1.2528)","v":0},{"$f":"(0.00005*('Conversion 1'!D963^2))+(0.3389*'Conversion 1'!D963)-1.431","v":-1.431},962,{"$f":"'Conversion 1'!B963","v":0},{"$f":"'Conversion 1'!B963/0.4","v":0},{"$f":"'Conversion 1'!B963/0.4","v":0},{"$f":"'Conversion 1'!B963","v":0},{"$f":"'Conversion 1'!B963/0.07","v":0},{"$f":"'Conversion 1'!B963/0.056","v":0},{"$f":"'Conversion 1'!B963/0.1","v":0},{"$f":"'Conversion 1'!B963/0.058","v":0},{"$f":"'Conversion 1'!B963/0.01","v":0},{"$f":"'Conversion 1'!B963/0.02","v":0},{"$f":"'Conversion 1'!B963/0.56","v":0},{"$f":"'Conversion 1'!B963/0.4","v":0}]
[null,{"$f":"0.1423*('Conversion 1'!D964^1.2528)","v":0},{"$f":"(0.00005*('Conversion 1'!D964^2))+(0.3389*'Conversion 1'!D964)-1.431","v":-1.431},963,{"$f":"'Conversion 1'!B964","v":0},{"$f":"'Conversion 1'!B964/0.4","v":0},{"$f":"'Conversion 1'!B964/0.4","v":0},{"$f":"'Conversion 1'!B964","v":0},{"$f":"'Conversion 1'!B964/0.07","v":0},{"$f":"'Conversion 1'!B964/0.056","v":0},{"$f":"'Conversion 1'!B964/0.1","v":0},{"$f":"'Conversion 1'!B964/0.058","v":0},{"$f":"'Conversion 1'!B964/0.01","v":0},{"$f":"'Conversion 1'!B964/0.02","v":0},{"$f":"'Conversion 1'!B964/0.56","v":0},{"$f":"'Conversion 1'!B964/0.4","v":0}]
[null,{"$f":"0.1423*('Conversion 1'!D965^1.2528)","v":0},{"$f":"(0.00005*('Conversion 1'!D965^2))+(0.3389*'Conversion 1'!D965)-1.431","v":-1.431},964,{"$f":"'Conversion 1'!B965","v":0},{"$f":"'Conversion 1'!B965/0.4","v":0},{"$f":"'Conversion 1'!B965/0.4","v":0},{"$f":"'Conversion 1'!B965","v":0},{"$f":"'Conversion 1'!B965/0.07","v":0},{"$f":"'Conversion 1'!B965/0.056","v":0},{"$f":"'Conversion 1'!B965/0.1","v":0},{"$f":"'Conversion 1'!B965/0.058","v":0},{"$f":"'Conversion 1'!B965/0.01","v":0},{"$f":"'Conversion 1'!B965/0.02","v":0},{"$f":"'Conversion 1'!B965/0.56","v":0},{"$f":"'Conversion 1'!B965/0.4","v":0}]
[null,{"$f":"0.1423*('Conversion 1'!D966^1.2528)","v":0},{"$f":"(0.00005*('Conversion 1'!D966^2))+(0.3389*'Conversion 1'!D966)-1.431","v":-1.431},965,{"$f":"'Conversion 1'!B966","v":0},{"$f":"'Conversion 1'!B966/0.4","v":0},{"$f":"'Conversion 1'!B966/0.4","v":0},{"$f":"'Conversion 1'!B966","v":0},{"$f":"'Conversion 1'!B966/0.07","v":0},{"$f":"'Conversion 1'!B966/0.056","v":0},{"$f":"'Conversion 1'!B966/0.1","v":0},{"$f":"'Conversion 1'!B966/0.058","v":0},{"$f":"'Conversion 1'!B966/0.01","v":0},{"$f":"'Conversion 1'!B966/0.02","v":0},{"$f":"'Conversion 1'!B966/0.56","v":0},{"$f":"'Conversion 1'!B966/0.4","v":0}]
[null,{"$f":"0.1423*('Conversion 1'!D967^1.2528)","v":0},{"$f":"(0.00005*('Conversion 1'!D967^2))+(0.3389*'Conversion 1'!D967)-1.431","v":-1.431},966,{"$f":"'Conversion 1'!B967","v":0},{"$f":"'Conversion 1'!B967/0.4","v":0},{"$f":"'Conversion 1'!B967/0.4","v":0},{"$f":"'Conversion 1'!B967","v":0},{"$f":"'Conversion 1'!B967/0.07","v":0},{"$f":"'Conversion 1'!B967/0.056","v":0},{"$f":"'Conversion 1'!B967/0.1","v":0},{"$f":"'Conversion 1'!B967/0.058","v":0},{"$f":"'Conversion 1'!B967/0.01","v":0},{"$f":"'Conversion 1'!B967/0.02","v":0},{"$f":"'Conversion 1'!B967/0.56","v":0},{"$f":"'Conversion 1'!B967/0.4","v":0}]
[null,{"$f":"0.1423*('Conversion 1'!D968^1.2528)","v":0},{"$f":"(0.00005*('Conversion 1'!D968^2))+(0.3389*'Conversion 1'!D968)-1.431","v":-1.431},967,{"$f":"'Conversion 1'!B968","v":0},{"$f":"'Conversion 1'!B968/0.4","v":0},{"$f":"'Conversion 1'!B968/0.4","v":0},{"$f":"'Conversion 1'!B968","v":0},{"$f":"'Conversion 1'!B968/0.07","v":0},{"$f":"'Conversion 1'!B968/0.056","v":0},{"$f":"'Conversion 1'!B968/0.1","v":0},{"$f":"'Conversion 1'!B968/0.058","v":0},{"$f":"'Conversion 1'!B968/0.01","v":0},{"$f":"'Conversion 1'!B968/0.02","v":0},{"$f":"'Conversion 1'!B968/0.56","v":0},{"$f":"'Conversion 1'!B968/0.4","v":0}]
[null,{"$f":"0.1423*('Conversion 1'!D969^1.2528)","v":0},{"$f":"(0.00005*('Conversion 1'!D969^2))+(0.3389*'Conversion 1'!D969)-1.431","v":-1.431},968,{"$f":"'Conversion 1'!B969","v":0},{"$f":"'Conversion 1'!B969/0.4","v":0},{"$f":"'Conversion 1'!B969/0.4","v":0},{"$f":"'Conversion 1'!B969","v":0},{"$f":"'Conversion 1'!B969/0.07","v":0},{"$f":"'Conversion 1'!B969/0.056","v":0},{"$f":"'Conversion 1'!B969/0.1","v":0},{"$f":"'Conversion 1'!B969/0.058","v":0},{"$f":"'Conversion 1'!B969/0.01","v":0},{"$f":"'Conversion 1'!B969/0.02","v":0},{"$f":"'Conversion 1'!B969/0.56","v":0},{"$f":"'Conversion 1'!B969/0.4","v":0}]
[null,{"$f":"0.1423*('Conversion 1'!D970^1.2528)","v":0},{"$f":"(0.00005*('Conversion 1'!D970^2))+(0.3389*'Conversion 1'!D970)-1.431","v":-1.431},969,{"$f":"'Conversion 1'!B970","v":0},{"$f":"'Conversion 1'!B970/0.4","v":0},{"$f":"'Conversion 1'!B970/0.4","v":0},{"$f":"'Conversion 1'!B970","v":0},{"$f":"'Conversion 1'!B970/0.07","v":0},{"$f":"'Conversion 1'!B970/0.056","v":0},{"$f":"'Conversion 1'!B970/0.1","v":0},{"$f":"'Conversion 1'!B970/0.058","v":0},{"$f":"'Conversion 1'!B970/0.01","v":0},{"$f":"'Conversion 1'!B970/0.02","v":0},{"$f":"'Conversion 1'!B970/0.56","v":0},{"$f":"'Conversion 1'!B970/0.4","v":0}]
[null,{"$f":"0.1423*('Conversion 1'!D971^1.2528)","v":0},{"$f":"(0.00005*('Conversion 1'!D971^2))+(0.3389*'Conversion 1'!D971)-1.431","v":-1.431},970,{"$f":"'Conversion 1'!B971","v":0},{"$f":"'Conversion 1'!B971/0.4","v":0},{"$f":"'Conversion 1'!B971/0.4","v":0},{"$f":"'Conversion 1'!B971","v":0},{"$f":"'Conversion 1'!B971/0.07","v":0},{"$f":"'Conversion 1'!B971/0.056","v":0},{"$f":"'Conversion 1'!B971/0.1","v":0},{"$f":"'Conversion 1'!B971/0.058","v":0},{"$f":"'Conversion 1'!B971/0.01","v":0},{"$f":"'Conversion 1'!B971/0.02","v":0},{"$f":"'Conversion 1'!B971/0.56","v":0},{"$f":"'Conversion 1'!B971/0.4","v":0}]
[null,{"$f":"0.1423*('Conversion 1'!D972^1.2528)","v":0},{"$f":"(0.00005*('Conversion 1'!D972^2))+(0.3389*'Conversion 1'!D972)-1.431","v":-1.431},971,{"$f":"'Conversion 1'!B972","v":0},{"$f":"'Conversion 1'!B972/0.4","v":0},{"$f":"'Conversion 1'!B972/0.4","v":0},{"$f":"'Conversion 1'!B972","v":0},{"$f":"'Conversion 1'!B972/0.07","v":0},{"$f":"'Conversion 1'!B972/0.056","v":0},{"$f":"'Conversion 1'!B972/0.1","v":0},{"$f":"'Conversion 1'!B972/0.058","v":0},{"$f":"'Conversion 1'!B972/0.01","v":0},{"$f":"'Conversion 1'!B972/0.02","v":0},{"$f":"'Conversion 1'!B972/0.56","v":0},{"$f":"'Conversion 1'!B972/0.4","v":0}]
[null,{"$f":"0.1423*('Conversion 1'!D973^1.2528)","v":0},{"$f":"(0.00005*('Conversion 1'!D973^2))+(0.3389*'Conversion 1'!D973)-1.431","v":-1.431},972,{"$f":"'Conversion 1'!B973","v":0},{"$f":"'Conversion 1'!B973/0.4","v":0},{"$f":"'Conversion 1'!B973/0.4","v":0},{"$f":"'Conversion 1'!B973","v":0},{"$f":"'Conversion 1'!B973/0.07","v":0},{"$f":"'Conversion 1'!B973/0.056","v":0},{"$f":"'Conversion 1'!B973/0.1","v":0},{"$f":"'Conversion 1'!B973/0.058","v":0},{"$f":"'Conversion 1'!B973/0.01","v":0},{"$f":"'Conversion 1'!B973/0.02","v":0},{"$f":"'Conversion 1'!B973/0.56","v":0},{"$f":"'Conversion 1'!B973/0.4","v":0}]
[null,{"$f":"0.1423*('Conversion 1'!D974^1.2528)","v":0},{"$f":"(0.00005*('Conversion 1'!D974^2))+(0.3389*'Conversion 1'!D974)-1.431","v":-1.431},973,{"$f":"'Conversion 1'!B974","v":0},{"$f":"'Conversion 1'!B974/0.4","v":0},{"$f":"'Conversion 1'!B974/0.4","v":0},{"$f":"'Conversion 1'!B974","v":0},{"$f":"'Conversion 1'!B974/0.07","v":0},{"$f":"'Conversion 1'!B974/0.056","v":0},{"$f":"'Conversion 1'!B974/0.1","v":0},{"$f":"'Conversion 1'!B974/0.058","v":0},{"$f":"'Conversion 1'!B974/0.01","v":0},{"$f":"'Conversion 1'!B974/0.02","v":0},{"$f":"'Conversion 1'!B974/0.56","v":0},{"$f":"'Conversion 1'!B974/0.4","v":0}]
[null,{"$f":"0.1423*('Conversion 1'!D975^1.2528)","v":0},{"$f":"(0.00005*('Conversion 1'!D975^2))+(0.3389*'Conversion 1'!D975)-1.431","v":-1.431},974,{"$f":"'Conversion 1'!B975","v":0},{"$f":"'Conversion 1'!B975/0.4","v":0},{"$f":"'Conversion 1'!B975/0.4","v":0},{"$f":"'Conversion 1'!B975","v":0},{"$f":"'Conversion 1'!B975/0.07","v":0},{"$f":"'Conversion 1'!B975/0.056","v":0},{"$f":"'Conversion 1'!B975/0.1","v":0},{"$f":"'Conversion 1'!B975/0.058","v":0},{"$f":"'Conversion 1'!B975/0.01","v":0},{"$f":"'Conversion 1'!B975/0.02","v":0},{"$f":"'Conversion 1'!B975/0.56","v":0},{"$f":"'Conversion 1'!B975/0.4","v":0}]
[null,{"$f":"0.1423*('Conversion 1'!D976^1.2528)","v":0},{"$f":"(0.00005*('Conversion 1'!D976^2))+(0.3389*'Conversion 1'!D976)-1.431","v":-1.431},975,{"$f":"'Conversion 1'!B976","v":0},{"$f":"'Conversion 1'!B976/0.4","v":0},{"$f":"'Conversion 1'!B976/0.4","v":0},{"$f":"'Conversion 1'!B976","v":0},{"$f":"'Conversion 1'!B976/0.07","v":0},{"$f":"'Conversion 1'!B976/0.056","v":0},{"$f":"'Conversion 1'!B976/0.1","v":0},{"$f":"'Conversion 1'!B976/0.058","v":0},{"$f":"'Conversion 1'!B976/0.01","v":0},{"$f":"'Conversion 1'!B976/0.02","v":0},{"$f":"'Conversion 1'!B976/0.56","v":0},{"$f":"'Conversion 1'!B976/0.4","v":0}]
[null,{"$f":"0.1423*('Conversion 1'!D977^1.2528)","v":0},{"$f":"(0.00005*('Conversion 1'!D977^2))+(0.3389*'Conversion 1'!D977)-1.431","v":-1.431},976,{"$f":"'Conversion 1'!B977","v":0},{"$f":"'Conversion 1'!B977/0.4","v":0},{"$f":"'Conversion 1'!B977/0.4","v":0},{"$f":"'Conversion 1'!B977","v":0},{"$f":"'Conversion 1'!B977/0.07","v":0},{"$f":"'Conversion 1'!B977/0.056","v":0},{"$f":"'Conversion 1'!B977/0.1","v":0},{"$f":"'Conversion 1'!B977/0.058","v":0},{"$f":"'Conversion 1'!B977/0.01","v":0},{"$f":"'Conversion 1'!B977/0.02","v":0},{"$f":"'Conversion 1'!B977/0.56","v":0},{"$f":"'Conversion 1'!B977/0.4","v":0}]
[null,{"$f":"0.1423*('Conversion 1'!D978^1.2528)","v":0},{"$f":"(0.00005*('Conversion 1'!D978^2))+(0.3389*'Conversion 1'!D978)-1.431","v":-1.431},977,{"$f":"'Conversion 1'!B978","v":0},{"$f":"'Conversion 1'!B978/0.4","v":0},{"$f":"'Conversion 1'!B978/0.4","v":0},{"$f":"'Conversion 1'!B978","v":0},{"$f":"'Conversion 1'!B978/0.07","v":0},{"$f":"'Conversion 1'!B978/0.056","v":0},{"$f":"'Conversion 1'!B978/0.1","v":0},{"$f":"'Conversion 1'!B978/0.058","v":0},{"$f":"'Conversion 1'!B978/0.01","v":0},{"$f":"'Conversion 1'!B978/0.02","v":0},{"$f":"'Conversion 1'!B978/0.56","v":0},{"$f":"'Conversion 1'!B978/0.4","v":0}]
[null,{"$f":"0.1423*('Conversion 1'!D979^1.2528)","v":0},{"$f":"(0.00005*('Conversion 1'!D979^2))+(0.3389*'Conversion 1'!D979)-1.431","v":-1.431},978,{"$f":"'Conversion 1'!B979","v":0},{"$f":"'Conversion 1'!B979/0.4","v":0},{"$f":"'Conversion 1'!B979/0.4","v":0},{"$f":"'Conversion 1'!B979","v":0},{"$f":"'Conversion 1'!B979/0.07","v":0},{"$f":"'Conversion 1'!B979/0.056","v":0},{"$f":"'Conversion 1'!B979/0.1","v":0},{"$f":"'Conversion 1'!B979/0.058","v":0},{"$f":"'Conversion 1'!B979/0.01","v":0},{"$f":"'Conversion 1'!B979/0.02","v":0},{"$f":"'Conversion 1'!B979/0.56","v":0},{"$f":"'Conversion 1'!B979/0.4","v":0}]
[null,{"$f":"0.1423*('Conversion 1'!D980^1.2528)","v":0},{"$f":"(0.00005*('Conversion 1'!D980^2))+(0.3389*'Conversion 1'!D980)-1.431","v":-1.431},979,{"$f":"'Conversion 1'!B980","v":0},{"$f":"'Conversion 1'!B980/0.4","v":0},{"$f":"'Conversion 1'!B980/0.4","v":0},{"$f":"'Conversion 1'!B980","v":0},{"$f":"'Conversion 1'!B980/0.07","v":0},{"$f":"'Conversion 1'!B980/0.056","v":0},{"$f":"'Conversion 1'!B980/0.1","v":0},{"$f":"'Conversion 1'!B980/0.058","v":0},{"$f":"'Conversion 1'!B980/0.01","v":0},{"$f":"'Conversion 1'!B980/0.02","v":0},{"$f":"'Conversion 1'!B980/0.56","v":0},{"$f":"'Conversion 1'!B980/0.4","v":0}]
[null,{"$f":"0.1423*('Conversion 1'!D981^1.2528)","v":0},{"$f":"(0.00005*('Conversion 1'!D981^2))+(0.3389*'Conversion 1'!D981)-1.431","v":-1.431},980,{"$f":"'Conversion 1'!B981","v":0},{"$f":"'Conversion 1'!B981/0.4","v":0},{"$f":"'Conversion 1'!B981/0.4","v":0},{"$f":"'Conversion 1'!B981","v":0},{"$f":"'Conversion 1'!B981/0.07","v":0},{"$f":"'Conversion 1'!B981/0.056","v":0},{"$f":"'Conversion 1'!B981/0.1","v":0},{"$f":"'Conversion 1'!B981/0.058","v":0},{"$f":"'Conversion 1'!B981/0.01","v":0},{"$f":"'Conversion 1'!B981/0.02","v":0},{"$f":"'Conversion 1'!B981/0.56","v":0},{"$f":"'Conversion 1'!B981/0.4","v":0}]
[null,{"$f":"0.1423*('Conversion 1'!D982^1.2528)","v":0},{"$f":"(0.00005*('Conversion 1'!D982^2))+(0.3389*'Conversion 1'!D982)-1.431","v":-1.431},981,{"$f":"'Conversion 1'!B982","v":0},{"$f":"'Conversion 1'!B982/0.4","v":0},{"$f":"'Conversion 1'!B982/0.4","v":0},{"$f":"'Conversion 1'!B982","v":0},{"$f":"'Conversion 1'!B982/0.07","v":0},{"$f":"'Conversion 1'!B982/0.056","v":0},{"$f":"'Conversion 1'!B982/0.1","v":0},{"$f":"'Conversion 1'!B982/0.058","v":0},{"$f":"'Conversion 1'!B982/0.01","v":0},{"$f":"'Conversion 1'!B982/0.02","v":0},{"$f":"'Conversion 1'!B982/0.56","v":0},{"$f":"'Conversion 1'!B982/0.4","v":0}]
[null,{"$f":"0.1423*('Conversion 1'!D983^1.2528)","v":0},{"$f":"(0.00005*('Conversion 1'!D983^2))+(0.3389*'Conversion 1'!D983)-1.431","v":-1.431},982,{"$f":"'Conversion 1'!B983","v":0},{"$f":"'Conversion 1'!B983/0.4","v":0},{"$f":"'Conversion 1'!B983/0.4","v":0},{"$f":"'Conversion 1'!B983","v":0},{"$f":"'Conversion 1'!B983/0.07","v":0},{"$f":"'Conversion 1'!B983/0.056","v":0},{"$f":"'Conversion 1'!B983/0.1","v":0},{"$f":"'Conversion 1'!B983/0.058","v":0},{"$f":"'Conversion 1'!B983/0.01","v":0},{"$f":"'Conversion 1'!B983/0.02","v":0},{"$f":"'Conversion 1'!B983/0.56","v":0},{"$f":"'Conversion 1'!B983/0.4","v":0}]
[null,{"$f":"0.1423*('Conversion 1'!D984^1.2528)","v":0},{"$f":"(0.00005*('Conversion 1'!D984^2))+(0.3389*'Conversion 1'!D984)-1.431","v":-1.431},983,{"$f":"'Conversion 1'!B984","v":0},{"$f":"'Conversion 1'!B984/0.4","v":0},{"$f":"'Conversion 1'!B984/0.4","v":0},{"$f":"'Conversion 1'!B984","v":0},{"$f":"'Conversion 1'!B984/0.07","v":0},{"$f":"'Conversion 1'!B984/0.056","v":0},{"$f":"'Conversion 1'!B984/0.1","v":0},{"$f":"'Conversion 1'!B984/0.058","v":0},{"$f":"'Conversion 1'!B984/0.01","v":0},{"$f":"'Conversion 1'!B984/0.02","v":0},{"$f":"'Conversion 1'!B984/0.56","v":0},{"$f":"'Conversion 1'!B984/0.4","v":0}]
[null,{"$f":"0.1423*('Conversion 1'!D985^1.2528)","v":0},{"$f":"(0.00005*('Conversion 1'!D985^2))+(0.3389*'Conversion 1'!D985)-1.431","v":-1.431},984,{"$f":"'Conversion 1'!B985","v":0},{"$f":"'Conversion 1'!B985/0.4","v":0},{"$f":"'Conversion 1'!B985/0.4","v":0},{"$f":"'Conversion 1'!B985","v":0},{"$f":"'Conversion 1'!B985/0.07","v":0},{"$f":"'Conversion 1'!B985/0.056","v":0},{"$f":"'Conversion 1'!B985/0.1","v":0},{"$f":"'Conversion 1'!B985/0.058","v":0},{"$f":"'Conversion 1'!B985/0.01","v":0},{"$f":"'Conversion 1'!B985/0.02","v":0},{"$f":"'Conversion 1'!B985/0.56","v":0},{"$f":"'Conversion 1'!B985/0.4","v":0}]
[null,{"$f":"0.1423*('Conversion 1'!D986^1.2528)","v":0},{"$f":"(0.00005*('Conversion 1'!D986^2))+(0.3389*'Conversion 1'!D986)-1.431","v":-1.431},985,{"$f":"'Conversion 1'!B986","v":0},{"$f":"'Conversion 1'!B986/0.4","v":0},{"$f":"'Conversion 1'!B986/0.4","v":0},{"$f":"'Conversion 1'!B986","v":0},{"$f":"'Conversion 1'!B986/0.07","v":0},{"$f":"'Conversion 1'!B986/0.056","v":0},{"$f":"'Conversion 1'!B986/0.1","v":0},{"$f":"'Conversion 1'!B986/0.058","v":0},{"$f":"'Conversion 1'!B986/0.01","v":0},{"$f":"'Conversion 1'!B986/0.02","v":0},{"$f":"'Conversion 1'!B986/0.56","v":0},{"$f":"'Conversion 1'!B986/0.4","v":0}]
[null,{"$f":"0.1423*('Conversion 1'!D987^1.2528)","v":0},{"$f":"(0.00005*('Conversion 1'!D987^2))+(0.3389*'Conversion 1'!D987)-1.431","v":-1.431},986,{"$f":"'Conversion 1'!B987","v":0},{"$f":"'Conversion 1'!B987/0.4","v":0},{"$f":"'Conversion 1'!B987/0.4","v":0},{"$f":"'Conversion 1'!B987","v":0},{"$f":"'Conversion 1'!B987/0.07","v":0},{"$f":"'Conversion 1'!B987/0.056","v":0},{"$f":"'Conversion 1'!B987/0.1","v":0},{"$f":"'Conversion 1'!B987/0.058","v":0},{"$f":"'Conversion 1'!B987/0.01","v":0},{"$f":"'Conversion 1'!B987/0.02","v":0},{"$f":"'Conversion 1'!B987/0.56","v":0},{"$f":"'Conversion 1'!B987/0.4","v":0}]
[null,{"$f":"0.1423*('Conversion 1'!D988^1.2528)","v":0},{"$f":"(0.00005*('Conversion 1'!D988^2))+(0.3389*'Conversion 1'!D988)-1.431","v":-1.431},987,{"$f":"'Conversion 1'!B988","v":0},{"$f":"'Conversion 1'!B988/0.4","v":0},{"$f":"'Conversion 1'!B988/0.4","v":0},{"$f":"'Conversion 1'!B988","v":0},{"$f":"'Conversion 1'!B988/0.07","v":0},{"$f":"'Conversion 1'!B988/0.056","v":0},{"$f":"'Conversion 1'!B988/0.1","v":0},{"$f":"'Conversion 1'!B988/0.058","v":0},{"$f":"'Conversion 1'!B988/0.01","v":0},{"$f":"'Conversion 1'!B988/0.02","v":0},{"$f":"'Conversion 1'!B988/0.56","v":0},{"$f":"'Conversion 1'!B988/0.4","v":0}]
[null,{"$f":"0.1423*('Conversion 1'!D989^1.2528)","v":0},{"$f":"(0.00005*('Conversion 1'!D989^2))+(0.3389*'Conversion 1'!D989)-1.431","v":-1.431},988,{"$f":"'Conversion 1'!B989","v":0},{"$f":"'Conversion 1'!B989/0.4","v":0},{"$f":"'Conversion 1'!B989/0.4","v":0},{"$f":"'Conversion 1'!B989","v":0},{"$f":"'Conversion 1'!B989/0.07","v":0},{"$f":"'Conversion 1'!B989/0.056","v":0},{"$f":"'Conversion 1'!B989/0.1","v":0},{"$f":"'Conversion 1'!B989/0.058","v":0},{"$f":"'Conversion 1'!B989/0.01","v":0},{"$f":"'Conversion 1'!B989/0.02","v":0},{"$f":"'Conversion 1'!B989/0.56","v":0},{"$f":"'Conversion 1'!B989/0.4","v":0}]
[null,{"$f":"0.1423*('Conversion 1'!D990^1.2528)","v":0},{"$f":"(0.00005*('Conversion 1'!D990^2))+(0.3389*'Conversion 1'!D990)-1.431","v":-1.431},989,{"$f":"'Conversion 1'!B990","v":0},{"$f":"'Conversion 1'!B990/0.4","v":0},{"$f":"'Conversion 1'!B990/0.4","v":0},{"$f":"'Conversion 1'!B990","v":0},{"$f":"'Conversion 1'!B990/0.07","v":0},{"$f":"'Conversion 1'!B990/0.056","v":0},{"$f":"'Conversion 1'!B990/0.1","v":0},{"$f":"'Conversion 1'!B990/0.058","v":0},{"$f":"'Conversion 1'!B990/0.01","v":0},{"$f":"'Conversion 1'!B990/0.02","v":0},{"$f":"'Conversion 1'!B990/0.56","v":0},{"$f":"'Conversion 1'!B990/0.4","v":0}]
[null,{"$f":"0.1423*('Conversion 1'!D991^1.2528)","v":0},{"$f":"(0.00005*('Conversion 1'!D991^2))+(0.3389*'Conversion 1'!D991)-1.431","v":-1.431},990,{"$f":"'Conversion 1'!B991","v":0},{"$f":"'Conversion 1'!B991/0.4","v":0},{"$f":"'Conversion 1'!B991/0.4","v":0},{"$f":"'Conversion 1'!B991","v":0},{"$f":"'Conversion 1'!B991/0.07","v":0},{"$f":"'Conversion 1'!B991/0.056","v":0},{"$f":"'Conversion 1'!B991/0.1","v":0},{"$f":"'Conversion 1'!B991/0.058","v":0},{"$f":"'Conversion 1'!B991/0.01","v":0},{"$f":"'Conversion 1'!B991/0.02","v":0},{"$f":"'Conversion 1'!B991/0.56","v":0},{"$f":"'Conversion 1'!B991/0.4","v":0}]
[null,{"$f":"0.1423*('Conversion 1'!D992^1.2528)","v":0},{"$f":"(0.00005*('Conversion 1'!D992^2))+(0.3389*'Conversion 1'!D992)-1.431","v":-1.431},991,{"$f":"'Conversion 1'!B992","v":0},{"$f":"'Conversion 1'!B992/0.4","v":0},{"$f":"'Conversion 1'!B992/0.4","v":0},{"$f":"'Conversion 1'!B992","v":0},{"$f":"'Conversion 1'!B992/0.07","v":0},{"$f":"'Conversion 1'!B992/0.056","v":0},{"$f":"'Conversion 1'!B992/0.1","v":0},{"$f":"'Conversion 1'!B992/0.058","v":0},{"$f":"'Conversion 1'!B992/0.01","v":0},{"$f":"'Conversion 1'!B992/0.02","v":0},{"$f":"'Conversion 1'!B992/0.56","v":0},{"$f":"'Conversion 1'!B992/0.4","v":0}]
[null,{"$f":"0.1423*('Conversion 1'!D993^1.2528)","v":0},{"$f":"(0.00005*('Conversion 1'!D993^2))+(0.3389*'Conversion 1'!D993)-1.431","v":-1.431},992,{"$f":"'Conversion 1'!B993","v":0},{"$f":"'Conversion 1'!B993/0.4","v":0},{"$f":"'Conversion 1'!B993/0.4","v":0},{"$f":"'Conversion 1'!B993","v":0},{"$f":"'Conversion 1'!B993/0.07","v":0},{"$f":"'Conversion 1'!B993/0.056","v":0},{"$f":"'Conversion 1'!B993/0.1","v":0},{"$f":"'Conversion 1'!B993/0.058","v":0},{"$f":"'Conversion 1'!B993/0.01","v":0},{"$f":"'Conversion 1'!B993/0.02","v":0},{"$f":"'Conversion 1'!B993/0.56","v":0},{"$f":"'Conversion 1'!B993/0.4","v":0}]
[null,{"$f":"0.1423*('Conversion 1'!D994^1.2528)","v":0},{"$f":"(0.00005*('Conversion 1'!D994^2))+(0.3389*'Conversion 1'!D994)-1.431","v":-1.431},993,{"$f":"'Conversion 1'!B994","v":0},{"$f":"'Conversion 1'!B994/0.4","v":0},{"$f":"'Conversion 1'!B994/0.4","v":0},{"$f":"'Conversion 1'!B994","v":0},{"$f":"'Conversion 1'!B994/0.07","v":0},{"$f":"'Conversion 1'!B994/0.056","v":0},{"$f":"'Conversion 1'!B994/0.1","v":0},{"$f":"'Conversion 1'!B994/0.058","v":0},{"$f":"'Conversion 1'!B994/0.01","v":0},{"$f":"'Conversion 1'!B994/0.02","v":0},{"$f":"'Conversion 1'!B994/0.56","v":0},{"$f":"'Conversion 1'!B994/0.4","v":0}]
[null,{"$f":"0.1423*('Conversion 1'!D995^1.2528)","v":0},{"$f":"(0.00005*('Conversion 1'!D995^2))+(0.3389*'Conversion 1'!D995)-1.431","v":-1.431},994,{"$f":"'Conversion 1'!B995","v":0},{"$f":"'Conversion 1'!B995/0.4","v":0},{"$f":"'Conversion 1'!B995/0.4","v":0},{"$f":"'Conversion 1'!B995","v":0},{"$f":"'Conversion 1'!B995/0.07","v":0},{"$f":"'Conversion 1'!B995/0.056","v":0},{"$f":"'Conversion 1'!B995/0.1","v":0},{"$f":"'Conversion 1'!B995/0.058","v":0},{"$f":"'Conversion 1'!B995/0.01","v":0},{"$f":"'Conversion 1'!B995/0.02","v":0},{"$f":"'Conversion 1'!B995/0.56","v":0},{"$f":"'Conversion 1'!B995/0.4","v":0}]
[null,{"$f":"0.1423*('Conversion 1'!D996^1.2528)","v":0},{"$f":"(0.00005*('Conversion 1'!D996^2))+(0.3389*'Conversion 1'!D996)-1.431","v":-1.431},995,{"$f":"'Conversion 1'!B996","v":0},{"$f":"'Conversion 1'!B996/0.4","v":0},{"$f":"'Conversion 1'!B996/0.4","v":0},{"$f":"'Conversion 1'!B996","v":0},{"$f":"'Conversion 1'!B996/0.07","v":0},{"$f":"'Conversion 1'!B996/0.056","v":0},{"$f":"'Conversion 1'!B996/0.1","v":0},{"$f":"'Conversion 1'!B996/0.058","v":0},{"$f":"'Conversion 1'!B996/0.01","v":0},{"$f":"'Conversion 1'!B996/0.02","v":0},{"$f":"'Conversion 1'!B996/0.56","v":0},{"$f":"'Conversion 1'!B996/0.4","v":0}]
[null,{"$f":"0.1423*('Conversion 1'!D997^1.2528)","v":0},{"$f":"(0.00005*('Conversion 1'!D997^2))+(0.3389*'Conversion 1'!D997)-1.431","v":-1.431},996,{"$f":"'Conversion 1'!B997","v":0},{"$f":"'Conversion 1'!B997/0.4","v":0},{"$f":"'Conversion 1'!B997/0.4","v":0},{"$f":"'Conversion 1'!B997","v":0},{"$f":"'Conversion 1'!B997/0.07","v":0},{"$f":"'Conversion 1'!B997/0.056","v":0},{"$f":"'Conversion 1'!B997/0.1","v":0},{"$f":"'Conversion 1'!B997/0.058","v":0},{"$f":"'Conversion 1'!B997/0.01","v":0},{"$f":"'Conversion 1'!B997/0.02","v":0},{"$f":"'Conversion 1'!B997/0.56","v":0},{"$f":"'Conversion 1'!B997/0.4","v":0}]
[null,{"$f":"0.1423*('Conversion 1'!D998^1.2528)","v":0},{"$f":"(0.00005*('Conversion 1'!D998^2))+(0.3389*'Conversion 1'!D998)-1.431","v":-1.431},997,{"$f":"'Conversion 1'!B998","v":0},{"$f":"'Conversion 1'!B998/0.4","v":0},{"$f":"'Conversion 1'!B998/0.4","v":0},{"$f":"'Conversion 1'!B998","v":0},{"$f":"'Conversion 1'!B998/0.07","v":0},{"$f":"'Conversion 1'!B998/0.056","v":0},{"$f":"'Conversion 1'!B998/0.1","v":0},{"$f":"'Conversion 1'!B998/0.058","v":0},{"$f":"'Conversion 1'!B998/0.01","v":0},{"$f":"'Conversion 1'!B998/0.02","v":0},{"$f":"'Conversion 1'!B998/0.56","v":0},{"$f":"'Conversion 1'!B998/0.4","v":0}]
[null,{"$f":"0.1423*('Conversion 1'!D999^1.2528)","v":0},{"$f":"(0.00005*('Conversion 1'!D999^2))+(0.3389*'Conversion 1'!D999)-1.431","v":-1.431},998,{"$f":"'Conversion 1'!B999","v":0},{"$f":"'Conversion 1'!B999/0.4","v":0},{"$f":"'Conversion 1'!B999/0.4","v":0},{"$f":"'Conversion 1'!B999","v":0},{"$f":"'Conversion 1'!B999/0.07","v":0},{"$f":"'Conversion 1'!B999/0.056","v":0},{"$f":"'Conversion 1'!B999/0.1","v":0},{"$f":"'Conversion 1'!B999/0.058","v":0},{"$f":"'Conversion 1'!B999/0.01","v":0},{"$f":"'Conversion 1'!B999/0.02","v":0},{"$f":"'Conversion 1'!B999/0.56","v":0},{"$f":"'Conversion 1'!B999/0.4","v":0}]
[null,{"$f":"0.1423*('Conversion 1'!D1000^1.2528)","v":0},{"$f":"(0.00005*('Conversion 1'!D1000^2))+(0.3389*'Conversion 1'!D1000)-1.431","v":-1.431},999,{"$f":"'Conversion 1'!B1000","v":0},{"$f":"'Conversion 1'!B1000/0.4","v":0},{"$f":"'Conversion 1'!B1000/0.4","v":0},{"$f":"'Conversion 1'!B1000","v":0},{"$f":"'Conversion 1'!B1000/0.07","v":0},{"$f":"'Conversion 1'!B1000/0.056","v":0},{"$f":"'Conversion 1'!B1000/0.1","v":0},{"$f":"'Conversion 1'!B1000/0.058","v":0},{"$f":"'Conversion 1'!B1000/0.01","v":0},{"$f":"'Conversion 1'!B1000/0.02","v":0},{"$f":"'Conversion 1'!B1000/0.56","v":0},{"$f":"'Conversion 1'!B1000/0.4","v":0}]
[null,{"$f":"0.1423*('Conversion 1'!D1001^1.2528)","v":0},{"$f":"(0.00005*('Conversion 1'!D1001^2))+(0.3389*'Conversion 1'!D1001)-1.431","v":-1.431},1000,{"$f":"'Conversion 1'!B1001","v":0},{"$f":"'Conversion 1'!B1001/0.4","v":0},{"$f":"'Conversion 1'!B1001/0.4","v":0},{"$f":"'Conversion 1'!B1001","v":0},{"$f":"'Conversion 1'!B1001/0.07","v":0},{"$f":"'Conversion 1'!B1001/0.056","v":0},{"$f":"'Conversion 1'!B1001/0.1","v":0},{"$f":"'Conversion 1'!B1001/0.058","v":0},{"$f":"'Conversion 1'!B1001/0.01","v":0},{"$f":"'Conversion 1'!B1001/0.02","v":0},{"$f":"'Conversion 1'!B1001/0.56","v":0},{"$f":"'Conversion 1'!B1001/0.4","v":0}]
[null,{"$f":"0.1423*('Conversion 1'!D1002^1.2528)","v":0},{"$f":"(0.00005*('Conversion 1'!D1002^2))+(0.3389*'Conversion 1'!D1002)-1.431","v":-1.431},1001,{"$f":"'Conversion 1'!B1002","v":0},{"$f":"'Conversion 1'!B1002/0.4","v":0},{"$f":"'Conversion 1'!B1002/0.4","v":0},{"$f":"'Conversion 1'!B1002","v":0},{"$f":"'Conversion 1'!B1002/0.07","v":0},{"$f":"'Conversion 1'!B1002/0.056","v":0},{"$f":"'Conversion 1'!B1002/0.1","v":0},{"$f":"'Conversion 1'!B1002/0.058","v":0},{"$f":"'Conversion 1'!B1002/0.01","v":0},{"$f":"'Conversion 1'!B1002/0.02","v":0},{"$f":"'Conversion 1'!B1002/0.56","v":0},{"$f":"'Conversion 1'!B1002/0.4","v":0}]
[null,{"$f":"0.1423*('Conversion 1'!D1003^1.2528)","v":0},{"$f":"(0.00005*('Conversion 1'!D1003^2))+(0.3389*'Conversion 1'!D1003)-1.431","v":-1.431},1002,{"$f":"'Conversion 1'!B1003","v":0},{"$f":"'Conversion 1'!B1003/0.4","v":0},{"$f":"'Conversion 1'!B1003/0.4","v":0},{"$f":"'Conversion 1'!B1003","v":0},{"$f":"'Conversion 1'!B1003/0.07","v":0},{"$f":"'Conversion 1'!B1003/0.056","v":0},{"$f":"'Conversion 1'!B1003/0.1","v":0},{"$f":"'Conversion 1'!B1003/0.058","v":0},{"$f":"'Conversion 1'!B1003/0.01","v":0},{"$f":"'Conversion 1'!B1003/0.02","v":0},{"$f":"'Conversion 1'!B1003/0.56","v":0},{"$f":"'Conversion 1'!B1003/0.4","v":0}]
[null,{"$f":"0.1423*('Conversion 1'!D1004^1.2528)","v":0},{"$f":"(0.00005*('Conversion 1'!D1004^2))+(0.3389*'Conversion 1'!D1004)-1.431","v":-1.431},1003,{"$f":"'Conversion 1'!B1004","v":0},{"$f":"'Conversion 1'!B1004/0.4","v":0},{"$f":"'Conversion 1'!B1004/0.4","v":0},{"$f":"'Conversion 1'!B1004","v":0},{"$f":"'Conversion 1'!B1004/0.07","v":0},{"$f":"'Conversion 1'!B1004/0.056","v":0},{"$f":"'Conversion 1'!B1004/0.1","v":0},{"$f":"'Conversion 1'!B1004/0.058","v":0},{"$f":"'Conversion 1'!B1004/0.01","v":0},{"$f":"'Conversion 1'!B1004/0.02","v":0},{"$f":"'Conversion 1'!B1004/0.56","v":0},{"$f":"'Conversion 1'!B1004/0.4","v":0}]
[null,{"$f":"0.1423*('Conversion 1'!D1005^1.2528)","v":0},{"$f":"(0.00005*('Conversion 1'!D1005^2))+(0.3389*'Conversion 1'!D1005)-1.431","v":-1.431},1004,{"$f":"'Conversion 1'!B1005","v":0},{"$f":"'Conversion 1'!B1005/0.4","v":0},{"$f":"'Conversion 1'!B1005/0.4","v":0},{"$f":"'Conversion 1'!B1005","v":0},{"$f":"'Conversion 1'!B1005/0.07","v":0},{"$f":"'Conversion 1'!B1005/0.056","v":0},{"$f":"'Conversion 1'!B1005/0.1","v":0},{"$f":"'Conversion 1'!B1005/0.058","v":0},{"$f":"'Conversion 1'!B1005/0.01","v":0},{"$f":"'Conversion 1'!B1005/0.02","v":0},{"$f":"'Conversion 1'!B1005/0.56","v":0},{"$f":"'Conversion 1'!B1005/0.4","v":0}]

{"sheet":"Conversion 2 ","index":3,"n_rows":18,"n_cols":5,"rows_kept":18,"cut":false,"hidden":false,"merged":[]}
[]
[]
[null,"User input value","User input type","Output in mg/L CaCO3","Output in mg/L Ca"]
[null,0,"mg/L CaCO3",{"$f":"HLOOKUP(C4, 'Formula Sheet2'!$D$1:$O2,'Formula Sheet2'!$C2,FALSE)","v":0},{"$f":"IF('Formula Sheet 1'!B4>10, (0.00005*(D4^2))+(0.3389*D4)-1.431, 0.1423*(D4^1.2528))","v":0}]
[null,0,"mg/L CaCO3",{"$f":"HLOOKUP(C5, 'Formula Sheet2'!$D$1:$O3,'Formula Sheet2'!$C3,FALSE)","v":0},{"$f":"IF('Formula Sheet 1'!B5>10, (0.00005*(D5^2))+(0.3389*D5)-1.431, 0.1423*(D5^1.2528))","v":0}]
[null,0,"mg/L CaCO3",{"$f":"HLOOKUP(C6, 'Formula Sheet2'!$D$1:$O4,'Formula Sheet2'!$C4,FALSE)","v":0},{"$f":"IF('Formula Sheet 1'!B6>10, (0.00005*(D6^2))+(0.3389*D6)-1.431, 0.1423*(D6^1.2528))","v":0}]
[null,0,"mg/L CaCO3",{"$f":"HLOOKUP(C7, 'Formula Sheet2'!$D$1:$O5,'Formula Sheet2'!$C5,FALSE)","v":0},{"$f":"IF('Formula Sheet 1'!B7>10, (0.00005*(D7^2))+(0.3389*D7)-1.431, 0.1423*(D7^1.2528))","v":0}]
[null,0,"mg/L CaCO3",{"$f":"HLOOKUP(C8, 'Formula Sheet2'!$D$1:$O6,'Formula Sheet2'!$C6,FALSE)","v":0},{"$f":"IF('Formula Sheet 1'!B8>10, (0.00005*(D8^2))+(0.3389*D8)-1.431, 0.1423*(D8^1.2528))","v":0}]
[null,0,"mg/L CaCO3",{"$f":"HLOOKUP(C9, 'Formula Sheet2'!$D$1:$O7,'Formula Sheet2'!$C7,FALSE)","v":0},{"$f":"IF('Formula Sheet 1'!B9>10, (0.00005*(D9^2))+(0.3389*D9)-1.431, 0.1423*(D9^1.2528))","v":0}]
[null,0,"mg/L CaCO3",{"$f":"HLOOKUP(C10, 'Formula Sheet2'!$D$1:$O8,'Formula Sheet2'!$C8,FALSE)","v":0},{"$f":"IF('Formula Sheet 1'!B10>10, (0.00005*(D10^2))+(0.3389*D10)-1.431, 0.1423*(D10^1.2528))","v":0}]
[null,0,"mg/L CaCO3",{"$f":"HLOOKUP(C11, 'Formula Sheet2'!$D$1:$O9,'Formula Sheet2'!$C9,FALSE)","v":0},{"$f":"IF('Formula Sheet 1'!B11>10, (0.00005*(D11^2))+(0.3389*D11)-1.431, 0.1423*(D11^1.2528))","v":0}]
[null,0,"mg/L CaCO3",{"$f":"HLOOKUP(C12, 'Formula Sheet2'!$D$1:$O10,'Formula Sheet2'!$C10,FALSE)","v":0},{"$f":"IF('Formula Sheet 1'!B12>10, (0.00005*(D12^2))+(0.3389*D12)-1.431, 0.1423*(D12^1.2528))","v":0}]
[null,0,"mg/L CaCO3",{"$f":"HLOOKUP(C13, 'Formula Sheet2'!$D$1:$O11,'Formula Sheet2'!$C11,FALSE)","v":0},{"$f":"IF('Formula Sheet 1'!B13>10, (0.00005*(D13^2))+(0.3389*D13)-1.431, 0.1423*(D13^1.2528))","v":0}]
[null,0,"mg/L CaCO3",{"$f":"HLOOKUP(C14, 'Formula Sheet2'!$D$1:$O12,'Formula Sheet2'!$C12,FALSE)","v":0},{"$f":"IF('Formula Sheet 1'!B14>10, (0.00005*(D14^2))+(0.3389*D14)-1.431, 0.1423*(D14^1.2528))","v":0}]
[null,0,"mg/L CaCO3",{"$f":"HLOOKUP(C15, 'Formula Sheet2'!$D$1:$O13,'Formula Sheet2'!$C13,FALSE)","v":0},{"$f":"IF('Formula Sheet 1'!B15>10, (0.00005*(D15^2))+(0.3389*D15)-1.431, 0.1423*(D15^1.2528))","v":0}]
[null,0,"mg/L CaCO3",{"$f":"HLOOKUP(C16, 'Formula Sheet2'!$D$1:$O14,'Formula Sheet2'!$C14,FALSE)","v":0},{"$f":"IF('Formula Sheet 1'!B16>10, (0.00005*(D16^2))+(0.3389*D16)-1.431, 0.1423*(D16^1.2528))","v":0}]
[null,0,"mg/L CaCO3",{"$f":"HLOOKUP(C17, 'Formula Sheet2'!$D$1:$O15,'Formula Sheet2'!$C15,FALSE)","v":0},{"$f":"IF('Formula Sheet 1'!B17>10, (0.00005*(D17^2))+(0.3389*D17)-1.431, 0.1423*(D17^1.2528))","v":0}]
[null,0,"mg/L CaCO3",{"$f":"HLOOKUP(C18, 'Formula Sheet2'!$D$1:$O16,'Formula Sheet2'!$C16,FALSE)","v":0},{"$f":"IF('Formula Sheet 1'!B18>10, (0.00005*(D18^2))+(0.3389*D18)-1.431, 0.1423*(D18^1.2528))","v":0}]

{"sheet":"Formula Sheet2","index":4,"n_rows":17,"n_cols":17,"rows_kept":17,"cut":false,"hidden":true,"merged":[]}
["CaCO3 mg/L",null,null,"mg/L CaCO3","mg/L Ca (Ca+Mg)","ppm Ca (Ca +Mg)","ppm CaCO3","English Degree (grain CaCO3/gal)","German Degree (10mg CaO/L)","French Degree (10 mg CaCO3/L)","USA degree (grain CaCO3/gal)","mmol/L","meq/L (or mval/L)","mg CaO/ L","mg Ca2+/L (Ca+Mg)","Output in mg/L Ca","Output in mg/L Ca"]
[{"$f":"'Conversion 2 '!B4","v":0},null,2,{"$f":"A2","v":0},{"$f":"A2/0.4","v":0},{"$f":"A2/0.4","v":0},{"$f":"A2","v":0},{"$f":"A2/0.07","v":0},{"$f":"A2/0.056","v":0},{"$f":"A2/0.1","v":0},{"$f":"A2/0.058","v":0},{"$f":"A2/0.01","v":0},{"$f":"A2/0.02","v":0},{"$f":"A2/0.56","v":0},{"$f":"A2/0.4","v":0},{"$f":"0.1423*(A2^1.2528)","v":0},{"$f":"(0.00005*(A2^2))+(0.3389*A2)-1.431","v":-1.431}]
[{"$f":"'Conversion 2 '!B5","v":0},null,3,0,0,0,0,0,0,0,0,0,0,0,0,0,-1.431]
[{"$f":"'Conversion 2 '!B6","v":0},null,4,0,0,0,0,0,0,0,0,0,0,0,0,0,-1.431]
[{"$f":"'Conversion 2 '!B7","v":0},null,5,0,0,0,0,0,0,0,0,0,0,0,0,0,-1.431]
[{"$f":"'Conversion 2 '!B8","v":0},null,6,0,0,0,0,0,0,0,0,0,0,0,0,0,-1.431]
[{"$f":"'Conversion 2 '!B9","v":0},null,7,0,0,0,0,0,0,0,0,0,0,0,0,0,-1.431]
[{"$f":"'Conversion 2 '!B10","v":0},null,8,0,0,0,0,0,0,0,0,0,0,0,0,0,-1.431]
[{"$f":"'Conversion 2 '!B11","v":0},null,9,0,0,0,0,0,0,0,0,0,0,0,0,0,-1.431]
[{"$f":"'Conversion 2 '!B12","v":0},null,10,0,0,0,0,0,0,0,0,0,0,0,0,0,-1.431]
[{"$f":"'Conversion 2 '!B13","v":0},null,11,0,0,0,0,0,0,0,0,0,0,0,0,0,-1.431]
[{"$f":"'Conversion 2 '!B14","v":0},null,12,0,0,0,0,0,0,0,0,0,0,0,0,0,-1.431]
[{"$f":"'Conversion 2 '!B15","v":0},null,13,0,0,0,0,0,0,0,0,0,0,0,0,0,-1.431]
[{"$f":"'Conversion 2 '!B16","v":0},null,14,0,0,0,0,0,0,0,0,0,0,0,0,0,-1.431]
[{"$f":"'Conversion 2 '!B17","v":0},null,15,0,0,0,0,0,0,0,0,0,0,0,0,0,-1.431]
[{"$f":"'Conversion 2 '!B18","v":0},null,16,0,0,0,0,0,0,0,0,0,0,0,0,0,-1.431]
[{"$f":"'Conversion 2 '!#REF!","v":{"$error":"#REF!"}},null,17,{"$error":"#REF!"},{"$error":"#REF!"},{"$error":"#REF!"},{"$error":"#REF!"},{"$error":"#REF!"},{"$error":"#REF!"},{"$error":"#REF!"},{"$error":"#REF!"},{"$error":"#REF!"},{"$error":"#REF!"},{"$error":"#REF!"},{"$error":"#REF!"},{"$error":"#REF!"},{"$error":"#REF!"}]